{"text_format":"1","workbook":"xlsx","n_sheets":4,"sheets":["Movimentos","CARTÃO1","Plan1","SOBRE"],"not_rendered":{"charts":2,"images":2,"macros":1,"external_links":0,"defined_names":4,"comments":0,"pivot_tables":1},"unopened":[],"bounds":{"document_bytes":16777216,"sheet_cells":100000,"rows_first":2000,"rows_last":500,"rows_between":2000,"halvings":0,"cell_chars":16384,"cell_head_chars":4096},"cells_cut":0,"cells_raw":0,"read":"whole","date_system":"1900"}

{"sheet":"Movimentos","index":0,"n_rows":3346,"n_cols":32,"rows_kept":2250,"cut":true,"hidden":false,"merged":[[3,24,3,25],[6,30,6,31],[6,8,6,9],[6,10,6,11],[6,12,6,13],[6,14,6,15],[6,16,6,17],[6,18,6,19],[6,20,6,21],[6,22,6,23],[6,24,6,25],[6,26,6,27],[6,28,6,29],[3,18,3,19],[4,18,4,19],[3,20,3,21],[3,22,3,23],[4,22,4,23],[3,8,3,9],[3,10,3,11],[3,12,3,13],[3,14,3,15],[3,16,3,17],[4,12,4,13],[4,8,4,9],[4,10,4,11],[2,30,2,31],[5,28,5,29],[2,26,2,27],[2,28,2,29],[5,26,5,27],[4,26,4,27],[4,28,4,29],[5,30,5,31],[4,30,4,31],[3,30,3,31],[3,26,3,27],[3,28,3,29],[2,14,2,15],[5,24,5,25],[4,24,4,25],[4,14,4,15],[4,16,4,17],[2,24,2,25],[2,16,2,17],[2,18,2,19],[2,20,2,21],[2,22,2,23],[5,14,5,15],[5,16,5,17],[5,18,5,19],[5,20,5,21],[5,22,5,23],[4,20,4,21],[5,8,5,9],[5,10,5,11],[5,12,5,13],[0,0,0,5],[2,8,2,9],[2,10,2,11],[2,12,2,13],[2,2,3,2]],"bounds":{"rows_first":1000,"rows_last":250,"rows_between":1000,"halvings":1}}
["Financeiro"]
[null,null,null,null,null,null,null,"NOTAS"]
[null,null,"PROJEÇÕES TEMPORAIS","INFORME ->",{"$f":"MONTH(TODAY())","v":3},{"$f":"TODAY()","v":"2016-03-18"},"rascunho:","MESES",1,null,2,null,3,null,4,null,5,null,6,null,7,null,8,null,9,null,10,null,11,null,12]
[null,null,null,"DADOS ANO","DADOS MÊS","SALDO ACUMULADO DATA","LIVRE","CREDITOS",{"$f":"SUMIF(I$9:I$65534,TRUE,$D$9:$D$65534)","v":2122.1999999999998},null,{"$f":"SUMIF(K$9:K$65534,TRUE,$D$9:$D$65534)","v":4000},null,{"$f":"SUMIF(M$9:M$65534,TRUE,$D$9:$D$65534)","v":0},null,{"$f":"SUMIF(O$9:O$65534,TRUE,$D$9:$D$65534)","v":0},null,{"$f":"SUMIF(Q$9:Q$65534,TRUE,$D$9:$D$65534)","v":0},null,{"$f":"SUMIF(S$9:S$65534,TRUE,$D$9:$D$65534)","v":0},null,{"$f":"SUMIF(U$9:U$65534,TRUE,$D$9:$D$65534)","v":0},null,{"$f":"SUMIF(W$9:W$65534,TRUE,$D$9:$D$65534)","v":0},null,{"$f":"SUMIF(Y$9:Y$65534,TRUE,$D$9:$D$65534)","v":0},null,{"$f":"SUMIF(AA$9:AA$65534,TRUE,$D$9:$D$65534)","v":0},null,{"$f":"SUMIF(AC$9:AC$65534,TRUE,$D$9:$D$65534)","v":0},null,{"$f":"SUMIF(AE$9:AE$65534,TRUE,$D$9:$D$65534)","v":0}]
[null,null,"Saldo",{"$f":"SUM(D9:D65534)","v":2572.09},{"$f":"E6+E7","v":-246.70999999999998},{"$f":"SUMIF(B9:B1048576,\"<=\"&F3,D9:D1048576)","v":3752.2},2,"DEBITOS",{"$f":"SUMIF(J$9:J$65534,TRUE,$D$9:$D$65534)","v":-650},null,{"$f":"SUMIF(L$9:L$65534,TRUE,$D$9:$D$65534)","v":-1720},null,{"$f":"SUMIF(N$9:N$65534,TRUE,$D$9:$D$65534)","v":-246.70999999999998},null,{"$f":"SUMIF(P$9:P$65534,TRUE,$D$9:$D$65534)","v":-216.7},null,{"$f":"SUMIF(R$9:R$65534,TRUE,$D$9:$D$65534)","v":-216.7},null,{"$f":"SUMIF(T$9:T$65534,TRUE,$D$9:$D$65534)","v":-100},null,{"$f":"SUMIF(V$9:V$65534,TRUE,$D$9:$D$65534)","v":-100},null,{"$f":"SUMIF(X$9:X$65534,TRUE,$D$9:$D$65534)","v":-100},null,{"$f":"SUMIF(Z$9:Z$65534,TRUE,$D$9:$D$65534)","v":-100},null,{"$f":"SUMIF(AB$9:AB$65534,TRUE,$D$9:$D$65534)","v":-100},null,{"$f":"SUMIF(AD$9:AD$65534,TRUE,$D$9:$D$65534)","v":0},null,{"$f":"SUMIF(AF$9:AF$65534,TRUE,$D$9:$D$65534)","v":0}]
[null,null,"Creditos",{"$f":"SUMIF(D9:D65534,\">0\",D9:D65534)","v":6122.2},{"$f":"SUMIF(G9:G65534,TRUE,D9:D65534)","v":0},null,2,"SALDO MÊS",{"$f":"I4+I5","v":1472.1999999999998},null,{"$f":"K4+K5","v":2280},null,{"$f":"M4+M5","v":-246.70999999999998},null,{"$f":"O4+O5","v":-216.7},null,{"$f":"Q4+Q5","v":-216.7},null,{"$f":"S4+S5","v":-100},null,{"$f":"U4+U5","v":-100},null,{"$f":"W4+W5","v":-100},null,{"$f":"Y4+Y5","v":-100},null,{"$f":"AA4+AA5","v":-100},null,{"$f":"AC4+AC5","v":0},null,{"$f":"AE4+AE5","v":0}]
[null,null,"Debitos",{"$f":"SUMIF(D9:D65534,\"<0\",D9:D65534)","v":-3550.1099999999997},{"$f":"SUMIF(H9:H65534,TRUE,D9:D65534)","v":-246.70999999999998},null,{"$f":"G5+G6","v":4},"SALDO ACUM",{"$f":"I6","v":1472.1999999999998},null,{"$f":"K$6+I$7","v":3752.2},null,{"$f":"M$6+K$7","v":3505.49},null,{"$f":"O$6+M$7","v":3288.79},null,{"$f":"Q$6+O$7","v":3072.09},null,{"$f":"S$6+Q$7","v":2972.09},null,{"$f":"U$6+S$7","v":2872.09},null,{"$f":"W$6+U$7","v":2772.09},null,{"$f":"Y$6+W$7","v":2672.09},null,{"$f":"AA$6+Y$7","v":2572.09},null,{"$f":"AC$6+AA$7","v":2572.09},null,{"$f":"AE$6+AC$7","v":2572.09}]
["Mês","Data","Descrição","Movimentação","Tipo","Observação","Credito","Debitos","Credito","Debitos","Credito","Debitos","Credito","Debitos","Credito","Debitos","Credito","Debitos","Credito","Debitos","Credito","Debitos","Credito","Debitos","Credito","Debitos","Credito","Debitos","Credito","Debitos"]
[{"$f":"IF(B9=0,\"\",MONTH(B9))","v":1},"2016-01-01","SALDO",{"$f":"1122.43-0.23","v":1122.2},{"$f":"IF(D9=\"\",\"\",IF(D9<0,\"DEBITO\",\"CREDITO\"))","v":"CREDITO"},"MONTANTE INICIAL CONTA",{"$f":"AND(A9=$E$3,D9>0)","v":false},{"$f":"AND(A9=$E$3,D9<0)","v":false},{"$f":"IF($A9=I$3,AND($A9=I$3,$D9>0),0)","v":true},{"$f":"IF($A9=I$3,AND($A9=I$3,$D9<0),0)","v":false},{"$f":"IF($A9=K$3,AND($A9=K$3,$D9>0),0)","v":0},{"$f":"IF($A9=K$3,AND($A9=K$3,$D9<0),0)","v":0},{"$f":"IF($A9=M$3,AND($A9=M$3,$D9>0),0)","v":0},{"$f":"IF($A9=M$3,AND($A9=M$3,$D9<0),0)","v":0},{"$f":"IF($A9=O$3,AND($A9=O$3,$D9>0),0)","v":0},{"$f":"IF($A9=O$3,AND($A9=O$3,$D9<0),0)","v":0},{"$f":"IF($A9=Q$3,AND($A9=Q$3,$D9>0),0)","v":0},{"$f":"IF($A9=Q$3,AND($A9=Q$3,$D9<0),0)","v":0},{"$f":"IF($A9=S$3,AND($A9=S$3,$D9>0),0)","v":0},{"$f":"IF($A9=S$3,AND($A9=S$3,$D9<0),0)","v":0},{"$f":"IF($A9=U$3,AND($A9=U$3,$D9>0),0)","v":0},{"$f":"IF($A9=U$3,AND($A9=U$3,$D9<0),0)","v":0},{"$f":"IF($A9=W$3,AND($A9=W$3,$D9>0),0)","v":0},{"$f":"IF($A9=W$3,AND($A9=W$3,$D9<0),0)","v":0},{"$f":"IF($A9=Y$3,AND($A9=Y$3,$D9>0),0)","v":0},{"$f":"IF($A9=Y$3,AND($A9=Y$3,$D9<0),0)","v":0},{"$f":"IF($A9=AA$3,AND($A9=AA$3,$D9>0),0)","v":0},{"$f":"IF($A9=AA$3,AND($A9=AA$3,$D9<0),0)","v":0},{"$f":"IF($A9=AC$3,AND($A9=AC$3,$D9>0),0)","v":0},{"$f":"IF($A9=AC$3,AND($A9=AC$3,$D9<0),0)","v":0},{"$f":"IF($A9=AE$3,AND($A9=AE$3,$D9>0),0)","v":0},{"$f":"IF($A9=AE$3,AND($A9=AE$3,$D9<0),0)","v":0}]
[{"$f":"IF(B10=0,\"\",MONTH(B10))","v":1},"2016-01-04","FARMACIA",-150,{"$f":"IF(D10=\"\",\"\",IF(D10<0,\"DEBITO\",\"CREDITO\"))","v":"DEBITO"},"GRAF. POR CONT (DIR) ",false,false,false,{"$f":"IF($A10=I$3,AND($A10=I$3,$D10<0),0)","v":true},0,{"$f":"IF($A10=K$3,AND($A10=K$3,$D10<0),0)","v":0},0,{"$f":"IF($A10=M$3,AND($A10=M$3,$D10<0),0)","v":0},0,{"$f":"IF($A10=O$3,AND($A10=O$3,$D10<0),0)","v":0},0,0,{"$f":"IF($A10=S$3,AND($A10=S$3,$D10>0),0)","v":0},{"$f":"IF($A10=S$3,AND($A10=S$3,$D10<0),0)","v":0},{"$f":"IF($A10=U$3,AND($A10=U$3,$D10>0),0)","v":0},{"$f":"IF($A10=U$3,AND($A10=U$3,$D10<0),0)","v":0},0,{"$f":"IF($A10=W$3,AND($A10=W$3,$D10<0),0)","v":0},0,{"$f":"IF($A10=Y$3,AND($A10=Y$3,$D10<0),0)","v":0},0,{"$f":"IF($A10=AA$3,AND($A10=AA$3,$D10<0),0)","v":0},0,{"$f":"IF($A10=AC$3,AND($A10=AC$3,$D10<0),0)","v":0},0,0]
[{"$f":"IF(B11=0,\"\",MONTH(B11))","v":1},"2016-01-07","SALARIO",1000,{"$f":"IF(D11=\"\",\"\",IF(D11<0,\"DEBITO\",\"CREDITO\"))","v":"CREDITO"},"FILTROS DISPONIVEIS",false,false,true,{"$f":"IF($A11=I$3,AND($A11=I$3,$D11<0),0)","v":false},0,{"$f":"IF($A11=K$3,AND($A11=K$3,$D11<0),0)","v":0},0,{"$f":"IF($A11=M$3,AND($A11=M$3,$D11<0),0)","v":0},0,{"$f":"IF($A11=O$3,AND($A11=O$3,$D11<0),0)","v":0},0,0,0,0,0,0,0,{"$f":"IF($A11=W$3,AND($A11=W$3,$D11<0),0)","v":0},0,{"$f":"IF($A11=Y$3,AND($A11=Y$3,$D11<0),0)","v":0},0,{"$f":"IF($A11=AA$3,AND($A11=AA$3,$D11<0),0)","v":0},0,{"$f":"IF($A11=AC$3,AND($A11=AC$3,$D11<0),0)","v":0},0,0]
[{"$f":"IF(B12=0,\"\",MONTH(B12))","v":1},"2016-01-15","ALUGUEL",-400,{"$f":"IF(D12=\"\",\"\",IF(D12<0,\"DEBITO\",\"CREDITO\"))","v":"DEBITO"},"TEXTO DE OBS",false,false,false,{"$f":"IF($A12=I$3,AND($A12=I$3,$D12<0),0)","v":true},0,{"$f":"IF($A12=K$3,AND($A12=K$3,$D12<0),0)","v":0},0,{"$f":"IF($A12=M$3,AND($A12=M$3,$D12<0),0)","v":0},0,{"$f":"IF($A12=O$3,AND($A12=O$3,$D12<0),0)","v":0},0,0,0,0,0,0,0,{"$f":"IF($A12=W$3,AND($A12=W$3,$D12<0),0)","v":0},0,{"$f":"IF($A12=Y$3,AND($A12=Y$3,$D12<0),0)","v":0},0,{"$f":"IF($A12=AA$3,AND($A12=AA$3,$D12<0),0)","v":0},0,{"$f":"IF($A12=AC$3,AND($A12=AC$3,$D12<0),0)","v":0},0,0]
[{"$f":"IF(B13=0,\"\",MONTH(B13))","v":1},"2016-01-23","CARTÃO",{"$f":"-CARTÃO1!G4","v":-100},{"$f":"IF(D13=\"\",\"\",IF(D13<0,\"DEBITO\",\"CREDITO\"))","v":"DEBITO"},"USAR \"-\" PARA DEBITOS",false,false,false,{"$f":"IF($A13=I$3,AND($A13=I$3,$D13<0),0)","v":true},0,{"$f":"IF($A13=K$3,AND($A13=K$3,$D13<0),0)","v":0},0,{"$f":"IF($A13=M$3,AND($A13=M$3,$D13<0),0)","v":0},0,{"$f":"IF($A13=O$3,AND($A13=O$3,$D13<0),0)","v":0},0,0,0,0,0,0,0,{"$f":"IF($A13=W$3,AND($A13=W$3,$D13<0),0)","v":0},0,{"$f":"IF($A13=Y$3,AND($A13=Y$3,$D13<0),0)","v":0},0,{"$f":"IF($A13=AA$3,AND($A13=AA$3,$D13<0),0)","v":0},0,{"$f":"IF($A13=AC$3,AND($A13=AC$3,$D13<0),0)","v":0},0,0]
[{"$f":"IF(B14=0,\"\",MONTH(B14))","v":2},"2016-02-01","FARMACIA",-20,{"$f":"IF(D14=\"\",\"\",IF(D14<0,\"DEBITO\",\"CREDITO\"))","v":"DEBITO"},"ATUALIZAR = GRAFICOS",false,false,0,{"$f":"IF($A14=I$3,AND($A14=I$3,$D14<0),0)","v":0},false,{"$f":"IF($A14=K$3,AND($A14=K$3,$D14<0),0)","v":true},0,{"$f":"IF($A14=M$3,AND($A14=M$3,$D14<0),0)","v":0},0,{"$f":"IF($A14=O$3,AND($A14=O$3,$D14<0),0)","v":0},0,0,0,0,0,0,0,{"$f":"IF($A14=W$3,AND($A14=W$3,$D14<0),0)","v":0},0,{"$f":"IF($A14=Y$3,AND($A14=Y$3,$D14<0),0)","v":0},0,{"$f":"IF($A14=AA$3,AND($A14=AA$3,$D14<0),0)","v":0},0,{"$f":"IF($A14=AC$3,AND($A14=AC$3,$D14<0),0)","v":0},0,0]
[{"$f":"IF(B15=0,\"\",MONTH(B15))","v":2},"2016-02-06","SALARIO",1500,{"$f":"IF(D15=\"\",\"\",IF(D15<0,\"DEBITO\",\"CREDITO\"))","v":"CREDITO"},"ORGANIZAR = LANÇAMENTOS",false,false,0,{"$f":"IF($A15=I$3,AND($A15=I$3,$D15<0),0)","v":0},true,{"$f":"IF($A15=K$3,AND($A15=K$3,$D15<0),0)","v":false},0,{"$f":"IF($A15=M$3,AND($A15=M$3,$D15<0),0)","v":0},0,{"$f":"IF($A15=O$3,AND($A15=O$3,$D15<0),0)","v":0},0,0,0,0,0,0,0,{"$f":"IF($A15=W$3,AND($A15=W$3,$D15<0),0)","v":0},0,{"$f":"IF($A15=Y$3,AND($A15=Y$3,$D15<0),0)","v":0},0,{"$f":"IF($A15=AA$3,AND($A15=AA$3,$D15<0),0)","v":0},0,{"$f":"IF($A15=AC$3,AND($A15=AC$3,$D15<0),0)","v":0},0,0]
[{"$f":"IF(B16=0,\"\",MONTH(B16))","v":2},"2016-02-07","SALARIO",2500,{"$f":"IF(D16=\"\",\"\",IF(D16<0,\"DEBITO\",\"CREDITO\"))","v":"CREDITO"},null,false,false,0,{"$f":"IF($A16=I$3,AND($A16=I$3,$D16<0),0)","v":0},true,{"$f":"IF($A16=K$3,AND($A16=K$3,$D16<0),0)","v":false},0,{"$f":"IF($A16=M$3,AND($A16=M$3,$D16<0),0)","v":0},0,{"$f":"IF($A16=O$3,AND($A16=O$3,$D16<0),0)","v":0},0,0,0,0,0,0,0,{"$f":"IF($A16=W$3,AND($A16=W$3,$D16<0),0)","v":0},0,{"$f":"IF($A16=Y$3,AND($A16=Y$3,$D16<0),0)","v":0},0,{"$f":"IF($A16=AA$3,AND($A16=AA$3,$D16<0),0)","v":0},0,{"$f":"IF($A16=AC$3,AND($A16=AC$3,$D16<0),0)","v":0},0,0]
[{"$f":"IF(B17=0,\"\",MONTH(B17))","v":2},"2016-02-15","ALUGUEL",-400,{"$f":"IF(D17=\"\",\"\",IF(D17<0,\"DEBITO\",\"CREDITO\"))","v":"DEBITO"},"GRAFI. PROJEÇÃO (ESQ)",false,false,0,{"$f":"IF($A17=I$3,AND($A17=I$3,$D17<0),0)","v":0},false,{"$f":"IF($A17=K$3,AND($A17=K$3,$D17<0),0)","v":true},0,{"$f":"IF($A17=M$3,AND($A17=M$3,$D17<0),0)","v":0},0,{"$f":"IF($A17=O$3,AND($A17=O$3,$D17<0),0)","v":0},0,0,0,0,0,0,0,{"$f":"IF($A17=W$3,AND($A17=W$3,$D17<0),0)","v":0},0,{"$f":"IF($A17=Y$3,AND($A17=Y$3,$D17<0),0)","v":0},0,{"$f":"IF($A17=AA$3,AND($A17=AA$3,$D17<0),0)","v":0},0,{"$f":"IF($A17=AC$3,AND($A17=AC$3,$D17<0),0)","v":0},0,0]
[{"$f":"IF(B18=0,\"\",MONTH(B18))","v":2},"2016-02-23","CARTÃO",{"$f":"-CARTÃO1!H4","v":-100},{"$f":"IF(D18=\"\",\"\",IF(D18<0,\"DEBITO\",\"CREDITO\"))","v":"DEBITO"},"INFROME-> por formula ou numero",false,false,0,{"$f":"IF($A18=I$3,AND($A18=I$3,$D18<0),0)","v":0},false,{"$f":"IF($A18=K$3,AND($A18=K$3,$D18<0),0)","v":true},0,{"$f":"IF($A18=M$3,AND($A18=M$3,$D18<0),0)","v":0},0,{"$f":"IF($A18=O$3,AND($A18=O$3,$D18<0),0)","v":0},0,0,0,0,0,0,0,{"$f":"IF($A18=W$3,AND($A18=W$3,$D18<0),0)","v":0},0,{"$f":"IF($A18=Y$3,AND($A18=Y$3,$D18<0),0)","v":0},0,{"$f":"IF($A18=AA$3,AND($A18=AA$3,$D18<0),0)","v":0},0,{"$f":"IF($A18=AC$3,AND($A18=AC$3,$D18<0),0)","v":0},0,0]
[{"$f":"IF(B19=0,\"\",MONTH(B19))","v":2},"2016-02-29","MERCADO",-1200,{"$f":"IF(D19=\"\",\"\",IF(D19<0,\"DEBITO\",\"CREDITO\"))","v":"DEBITO"},"formulas:=MÊS(HOJE()), =HOJE()",false,false,0,{"$f":"IF($A19=I$3,AND($A19=I$3,$D19<0),0)","v":0},false,{"$f":"IF($A19=K$3,AND($A19=K$3,$D19<0),0)","v":true},0,{"$f":"IF($A19=M$3,AND($A19=M$3,$D19<0),0)","v":0},0,{"$f":"IF($A19=O$3,AND($A19=O$3,$D19<0),0)","v":0},0,0,0,0,0,0,0,{"$f":"IF($A19=W$3,AND($A19=W$3,$D19<0),0)","v":0},0,{"$f":"IF($A19=Y$3,AND($A19=Y$3,$D19<0),0)","v":0},0,{"$f":"IF($A19=AA$3,AND($A19=AA$3,$D19<0),0)","v":0},0,{"$f":"IF($A19=AC$3,AND($A19=AC$3,$D19<0),0)","v":0},0,0]
[{"$f":"IF(B20=0,\"\",MONTH(B20))","v":3},"2016-03-23","CARTÃO",{"$f":"-CARTÃO1!I4","v":-246.70999999999998},{"$f":"IF(D20=\"\",\"\",IF(D20<0,\"DEBITO\",\"CREDITO\"))","v":"DEBITO"},null,false,true,0,{"$f":"IF($A20=I$3,AND($A20=I$3,$D20<0),0)","v":0},0,{"$f":"IF($A20=K$3,AND($A20=K$3,$D20<0),0)","v":0},false,{"$f":"IF($A20=M$3,AND($A20=M$3,$D20<0),0)","v":true},0,{"$f":"IF($A20=O$3,AND($A20=O$3,$D20<0),0)","v":0},0,0,0,0,0,0,0,{"$f":"IF($A20=W$3,AND($A20=W$3,$D20<0),0)","v":0},0,{"$f":"IF($A20=Y$3,AND($A20=Y$3,$D20<0),0)","v":0},0,{"$f":"IF($A20=AA$3,AND($A20=AA$3,$D20<0),0)","v":0},0,{"$f":"IF($A20=AC$3,AND($A20=AC$3,$D20<0),0)","v":0},0,0]
[{"$f":"IF(B21=0,\"\",MONTH(B21))","v":4},"2016-04-23","CARTÃO",{"$f":"-CARTÃO1!J4","v":-216.7},{"$f":"IF(D21=\"\",\"\",IF(D21<0,\"DEBITO\",\"CREDITO\"))","v":"DEBITO"},null,false,false,{"$f":"IF($A21=I$3,AND($A21=I$3,$D21>0),0)","v":0},{"$f":"IF($A21=I$3,AND($A21=I$3,$D21<0),0)","v":0},0,{"$f":"IF($A21=K$3,AND($A21=K$3,$D21<0),0)","v":0},0,{"$f":"IF($A21=M$3,AND($A21=M$3,$D21<0),0)","v":0},false,{"$f":"IF($A21=O$3,AND($A21=O$3,$D21<0),0)","v":true},0,0,0,0,0,0,0,{"$f":"IF($A21=W$3,AND($A21=W$3,$D21<0),0)","v":0},0,{"$f":"IF($A21=Y$3,AND($A21=Y$3,$D21<0),0)","v":0},0,{"$f":"IF($A21=AA$3,AND($A21=AA$3,$D21<0),0)","v":0},0,{"$f":"IF($A21=AC$3,AND($A21=AC$3,$D21<0),0)","v":0},0,0]
[{"$f":"IF(B22=0,\"\",MONTH(B22))","v":5},"2016-05-23","CARTÃO",{"$f":"-CARTÃO1!K4","v":-216.7},{"$f":"IF(D22=\"\",\"\",IF(D22<0,\"DEBITO\",\"CREDITO\"))","v":"DEBITO"},null,false,false,{"$f":"IF($A22=I$3,AND($A22=I$3,$D22>0),0)","v":0},{"$f":"IF($A22=I$3,AND($A22=I$3,$D22<0),0)","v":0},0,{"$f":"IF($A22=K$3,AND($A22=K$3,$D22<0),0)","v":0},0,{"$f":"IF($A22=M$3,AND($A22=M$3,$D22<0),0)","v":0},0,{"$f":"IF($A22=O$3,AND($A22=O$3,$D22<0),0)","v":0},false,true,0,0,0,0,0,{"$f":"IF($A22=W$3,AND($A22=W$3,$D22<0),0)","v":0},0,{"$f":"IF($A22=Y$3,AND($A22=Y$3,$D22<0),0)","v":0},0,{"$f":"IF($A22=AA$3,AND($A22=AA$3,$D22<0),0)","v":0},0,{"$f":"IF($A22=AC$3,AND($A22=AC$3,$D22<0),0)","v":0},0,0]
[{"$f":"IF(B23=0,\"\",MONTH(B23))","v":6},"2016-06-23","CARTÃO",{"$f":"-CARTÃO1!L4","v":-100},{"$f":"IF(D23=\"\",\"\",IF(D23<0,\"DEBITO\",\"CREDITO\"))","v":"DEBITO"},null,false,false,{"$f":"IF($A23=I$3,AND($A23=I$3,$D23>0),0)","v":0},{"$f":"IF($A23=I$3,AND($A23=I$3,$D23<0),0)","v":0},0,{"$f":"IF($A23=K$3,AND($A23=K$3,$D23<0),0)","v":0},0,{"$f":"IF($A23=M$3,AND($A23=M$3,$D23<0),0)","v":0},0,{"$f":"IF($A23=O$3,AND($A23=O$3,$D23<0),0)","v":0},0,0,false,true,0,0,0,{"$f":"IF($A23=W$3,AND($A23=W$3,$D23<0),0)","v":0},0,{"$f":"IF($A23=Y$3,AND($A23=Y$3,$D23<0),0)","v":0},0,{"$f":"IF($A23=AA$3,AND($A23=AA$3,$D23<0),0)","v":0},0,{"$f":"IF($A23=AC$3,AND($A23=AC$3,$D23<0),0)","v":0},0,0]
[{"$f":"IF(B24=0,\"\",MONTH(B24))","v":7},"2016-07-23","CARTÃO",{"$f":"-CARTÃO1!M4","v":-100},{"$f":"IF(D24=\"\",\"\",IF(D24<0,\"DEBITO\",\"CREDITO\"))","v":"DEBITO"},null,false,false,{"$f":"IF($A24=I$3,AND($A24=I$3,$D24>0),0)","v":0},{"$f":"IF($A24=I$3,AND($A24=I$3,$D24<0),0)","v":0},0,{"$f":"IF($A24=K$3,AND($A24=K$3,$D24<0),0)","v":0},0,{"$f":"IF($A24=M$3,AND($A24=M$3,$D24<0),0)","v":0},0,{"$f":"IF($A24=O$3,AND($A24=O$3,$D24<0),0)","v":0},0,0,0,0,false,true,0,{"$f":"IF($A24=W$3,AND($A24=W$3,$D24<0),0)","v":0},0,{"$f":"IF($A24=Y$3,AND($A24=Y$3,$D24<0),0)","v":0},0,{"$f":"IF($A24=AA$3,AND($A24=AA$3,$D24<0),0)","v":0},0,{"$f":"IF($A24=AC$3,AND($A24=AC$3,$D24<0),0)","v":0},0,0]
[{"$f":"IF(B25=0,\"\",MONTH(B25))","v":8},"2016-08-23","CARTÃO",{"$f":"-CARTÃO1!N4","v":-100},{"$f":"IF(D25=\"\",\"\",IF(D25<0,\"DEBITO\",\"CREDITO\"))","v":"DEBITO"},null,false,false,{"$f":"IF($A25=I$3,AND($A25=I$3,$D25>0),0)","v":0},{"$f":"IF($A25=I$3,AND($A25=I$3,$D25<0),0)","v":0},{"$f":"IF($A25=K$3,AND($A25=K$3,$D25>0),0)","v":0},{"$f":"IF($A25=K$3,AND($A25=K$3,$D25<0),0)","v":0},{"$f":"IF($A25=M$3,AND($A25=M$3,$D25>0),0)","v":0},{"$f":"IF($A25=M$3,AND($A25=M$3,$D25<0),0)","v":0},{"$f":"IF($A25=O$3,AND($A25=O$3,$D25>0),0)","v":0},{"$f":"IF($A25=O$3,AND($A25=O$3,$D25<0),0)","v":0},{"$f":"IF($A25=Q$3,AND($A25=Q$3,$D25>0),0)","v":0},0,0,0,0,0,{"$f":"IF($A25=W$3,AND($A25=W$3,$D25>0),0)","v":false},{"$f":"IF($A25=W$3,AND($A25=W$3,$D25<0),0)","v":true},{"$f":"IF($A25=Y$3,AND($A25=Y$3,$D25>0),0)","v":0},{"$f":"IF($A25=Y$3,AND($A25=Y$3,$D25<0),0)","v":0},{"$f":"IF($A25=AA$3,AND($A25=AA$3,$D25>0),0)","v":0},{"$f":"IF($A25=AA$3,AND($A25=AA$3,$D25<0),0)","v":0},{"$f":"IF($A25=AC$3,AND($A25=AC$3,$D25>0),0)","v":0},{"$f":"IF($A25=AC$3,AND($A25=AC$3,$D25<0),0)","v":0},{"$f":"IF($A25=AE$3,AND($A25=AE$3,$D25>0),0)","v":0},0]
[{"$f":"IF(B26=0,\"\",MONTH(B26))","v":9},"2016-09-23","CARTÃO",{"$f":"-CARTÃO1!O4","v":-100},{"$f":"IF(D26=\"\",\"\",IF(D26<0,\"DEBITO\",\"CREDITO\"))","v":"DEBITO"},null,false,false,{"$f":"IF($A26=I$3,AND($A26=I$3,$D26>0),0)","v":0},{"$f":"IF($A26=I$3,AND($A26=I$3,$D26<0),0)","v":0},0,{"$f":"IF($A26=K$3,AND($A26=K$3,$D26<0),0)","v":0},0,{"$f":"IF($A26=M$3,AND($A26=M$3,$D26<0),0)","v":0},0,{"$f":"IF($A26=O$3,AND($A26=O$3,$D26<0),0)","v":0},0,0,0,0,0,0,0,{"$f":"IF($A26=W$3,AND($A26=W$3,$D26<0),0)","v":0},false,{"$f":"IF($A26=Y$3,AND($A26=Y$3,$D26<0),0)","v":true},0,{"$f":"IF($A26=AA$3,AND($A26=AA$3,$D26<0),0)","v":0},0,{"$f":"IF($A26=AC$3,AND($A26=AC$3,$D26<0),0)","v":0},0,0]
[{"$f":"IF(B27=0,\"\",MONTH(B27))","v":10},"2016-10-23","CARTÃO",{"$f":"-CARTÃO1!P4","v":-100},{"$f":"IF(D27=\"\",\"\",IF(D27<0,\"DEBITO\",\"CREDITO\"))","v":"DEBITO"},null,false,false,0,{"$f":"IF($A27=I$3,AND($A27=I$3,$D27<0),0)","v":0},0,{"$f":"IF($A27=K$3,AND($A27=K$3,$D27<0),0)","v":0},0,{"$f":"IF($A27=M$3,AND($A27=M$3,$D27<0),0)","v":0},0,{"$f":"IF($A27=O$3,AND($A27=O$3,$D27<0),0)","v":0},0,0,0,0,0,0,0,{"$f":"IF($A27=W$3,AND($A27=W$3,$D27<0),0)","v":0},0,{"$f":"IF($A27=Y$3,AND($A27=Y$3,$D27<0),0)","v":0},false,{"$f":"IF($A27=AA$3,AND($A27=AA$3,$D27<0),0)","v":true},0,{"$f":"IF($A27=AC$3,AND($A27=AC$3,$D27<0),0)","v":0},0,0]
[{"$f":"IF(B28=0,\"\",MONTH(B28))","v":11},"2016-11-23","CARTÃO",{"$f":"-CARTÃO1!Q4","v":0},{"$f":"IF(D28=\"\",\"\",IF(D28<0,\"DEBITO\",\"CREDITO\"))","v":"CREDITO"},null,false,false,0,{"$f":"IF($A28=I$3,AND($A28=I$3,$D28<0),0)","v":0},0,{"$f":"IF($A28=K$3,AND($A28=K$3,$D28<0),0)","v":0},0,{"$f":"IF($A28=M$3,AND($A28=M$3,$D28<0),0)","v":0},0,{"$f":"IF($A28=O$3,AND($A28=O$3,$D28<0),0)","v":0},0,0,0,0,0,0,0,{"$f":"IF($A28=W$3,AND($A28=W$3,$D28<0),0)","v":0},0,{"$f":"IF($A28=Y$3,AND($A28=Y$3,$D28<0),0)","v":0},0,{"$f":"IF($A28=AA$3,AND($A28=AA$3,$D28<0),0)","v":0},false,{"$f":"IF($A28=AC$3,AND($A28=AC$3,$D28<0),0)","v":false},0,0]
[{"$f":"IF(B29=0,\"\",MONTH(B29))","v":12},"2016-12-23","CARTÃO",{"$f":"-CARTÃO1!R4","v":0},{"$f":"IF(D29=\"\",\"\",IF(D29<0,\"DEBITO\",\"CREDITO\"))","v":"CREDITO"},null,false,false,0,{"$f":"IF($A29=I$3,AND($A29=I$3,$D29<0),0)","v":0},0,{"$f":"IF($A29=K$3,AND($A29=K$3,$D29<0),0)","v":0},0,{"$f":"IF($A29=M$3,AND($A29=M$3,$D29<0),0)","v":0},0,{"$f":"IF($A29=O$3,AND($A29=O$3,$D29<0),0)","v":0},0,0,0,0,0,0,0,{"$f":"IF($A29=W$3,AND($A29=W$3,$D29<0),0)","v":0},0,{"$f":"IF($A29=Y$3,AND($A29=Y$3,$D29<0),0)","v":0},0,{"$f":"IF($A29=AA$3,AND($A29=AA$3,$D29<0),0)","v":0},0,{"$f":"IF($A29=AC$3,AND($A29=AC$3,$D29<0),0)","v":0},false,false]
[{"$f":"IF(B30=0,\"\",MONTH(B30))","v":""},null,null,null,{"$f":"IF(D30=\"\",\"\",IF(D30<0,\"DEBITO\",\"CREDITO\"))","v":""},null,false,false,0,{"$f":"IF($A30=I$3,AND($A30=I$3,$D30<0),0)","v":0},0,{"$f":"IF($A30=K$3,AND($A30=K$3,$D30<0),0)","v":0},0,{"$f":"IF($A30=M$3,AND($A30=M$3,$D30<0),0)","v":0},0,{"$f":"IF($A30=O$3,AND($A30=O$3,$D30<0),0)","v":0},0,0,0,0,0,0,0,{"$f":"IF($A30=W$3,AND($A30=W$3,$D30<0),0)","v":0},0,{"$f":"IF($A30=Y$3,AND($A30=Y$3,$D30<0),0)","v":0},0,{"$f":"IF($A30=AA$3,AND($A30=AA$3,$D30<0),0)","v":0},0,{"$f":"IF($A30=AC$3,AND($A30=AC$3,$D30<0),0)","v":0},0,0]
[{"$f":"IF(B31=0,\"\",MONTH(B31))","v":""},null,null,null,{"$f":"IF(D31=\"\",\"\",IF(D31<0,\"DEBITO\",\"CREDITO\"))","v":""},null,false,false,0,{"$f":"IF($A31=I$3,AND($A31=I$3,$D31<0),0)","v":0},0,{"$f":"IF($A31=K$3,AND($A31=K$3,$D31<0),0)","v":0},0,{"$f":"IF($A31=M$3,AND($A31=M$3,$D31<0),0)","v":0},0,{"$f":"IF($A31=O$3,AND($A31=O$3,$D31<0),0)","v":0},0,0,0,0,0,0,0,{"$f":"IF($A31=W$3,AND($A31=W$3,$D31<0),0)","v":0},0,{"$f":"IF($A31=Y$3,AND($A31=Y$3,$D31<0),0)","v":0},0,{"$f":"IF($A31=AA$3,AND($A31=AA$3,$D31<0),0)","v":0},0,{"$f":"IF($A31=AC$3,AND($A31=AC$3,$D31<0),0)","v":0},0,0]
[{"$f":"IF(B32=0,\"\",MONTH(B32))","v":""},null,null,null,{"$f":"IF(D32=\"\",\"\",IF(D32<0,\"DEBITO\",\"CREDITO\"))","v":""},null,false,false,0,{"$f":"IF($A32=I$3,AND($A32=I$3,$D32<0),0)","v":0},0,{"$f":"IF($A32=K$3,AND($A32=K$3,$D32<0),0)","v":0},0,{"$f":"IF($A32=M$3,AND($A32=M$3,$D32<0),0)","v":0},0,{"$f":"IF($A32=O$3,AND($A32=O$3,$D32<0),0)","v":0},0,0,0,0,0,0,0,{"$f":"IF($A32=W$3,AND($A32=W$3,$D32<0),0)","v":0},0,{"$f":"IF($A32=Y$3,AND($A32=Y$3,$D32<0),0)","v":0},0,{"$f":"IF($A32=AA$3,AND($A32=AA$3,$D32<0),0)","v":0},0,{"$f":"IF($A32=AC$3,AND($A32=AC$3,$D32<0),0)","v":0},0,0]
[{"$f":"IF(B33=0,\"\",MONTH(B33))","v":""},null,null,null,{"$f":"IF(D33=\"\",\"\",IF(D33<0,\"DEBITO\",\"CREDITO\"))","v":""},null,false,false,0,{"$f":"IF($A33=I$3,AND($A33=I$3,$D33<0),0)","v":0},0,{"$f":"IF($A33=K$3,AND($A33=K$3,$D33<0),0)","v":0},0,{"$f":"IF($A33=M$3,AND($A33=M$3,$D33<0),0)","v":0},0,{"$f":"IF($A33=O$3,AND($A33=O$3,$D33<0),0)","v":0},0,0,0,0,0,0,0,{"$f":"IF($A33=W$3,AND($A33=W$3,$D33<0),0)","v":0},0,{"$f":"IF($A33=Y$3,AND($A33=Y$3,$D33<0),0)","v":0},0,{"$f":"IF($A33=AA$3,AND($A33=AA$3,$D33<0),0)","v":0},0,{"$f":"IF($A33=AC$3,AND($A33=AC$3,$D33<0),0)","v":0},0,0]
[{"$f":"IF(B34=0,\"\",MONTH(B34))","v":""},null,null,null,{"$f":"IF(D34=\"\",\"\",IF(D34<0,\"DEBITO\",\"CREDITO\"))","v":""},null,false,false,0,{"$f":"IF($A34=I$3,AND($A34=I$3,$D34<0),0)","v":0},0,{"$f":"IF($A34=K$3,AND($A34=K$3,$D34<0),0)","v":0},0,{"$f":"IF($A34=M$3,AND($A34=M$3,$D34<0),0)","v":0},0,{"$f":"IF($A34=O$3,AND($A34=O$3,$D34<0),0)","v":0},0,0,0,0,0,0,0,{"$f":"IF($A34=W$3,AND($A34=W$3,$D34<0),0)","v":0},0,{"$f":"IF($A34=Y$3,AND($A34=Y$3,$D34<0),0)","v":0},0,{"$f":"IF($A34=AA$3,AND($A34=AA$3,$D34<0),0)","v":0},0,{"$f":"IF($A34=AC$3,AND($A34=AC$3,$D34<0),0)","v":0},0,0]
[{"$f":"IF(B35=0,\"\",MONTH(B35))","v":""},null,null,null,{"$f":"IF(D35=\"\",\"\",IF(D35<0,\"DEBITO\",\"CREDITO\"))","v":""},null,false,false,0,{"$f":"IF($A35=I$3,AND($A35=I$3,$D35<0),0)","v":0},0,{"$f":"IF($A35=K$3,AND($A35=K$3,$D35<0),0)","v":0},0,{"$f":"IF($A35=M$3,AND($A35=M$3,$D35<0),0)","v":0},0,{"$f":"IF($A35=O$3,AND($A35=O$3,$D35<0),0)","v":0},0,0,0,0,0,0,0,{"$f":"IF($A35=W$3,AND($A35=W$3,$D35<0),0)","v":0},0,{"$f":"IF($A35=Y$3,AND($A35=Y$3,$D35<0),0)","v":0},0,{"$f":"IF($A35=AA$3,AND($A35=AA$3,$D35<0),0)","v":0},0,{"$f":"IF($A35=AC$3,AND($A35=AC$3,$D35<0),0)","v":0},0,0]
[{"$f":"IF(B36=0,\"\",MONTH(B36))","v":""},null,null,null,{"$f":"IF(D36=\"\",\"\",IF(D36<0,\"DEBITO\",\"CREDITO\"))","v":""},null,false,false,0,{"$f":"IF($A36=I$3,AND($A36=I$3,$D36<0),0)","v":0},0,{"$f":"IF($A36=K$3,AND($A36=K$3,$D36<0),0)","v":0},0,{"$f":"IF($A36=M$3,AND($A36=M$3,$D36<0),0)","v":0},0,{"$f":"IF($A36=O$3,AND($A36=O$3,$D36<0),0)","v":0},0,0,0,0,0,0,0,{"$f":"IF($A36=W$3,AND($A36=W$3,$D36<0),0)","v":0},0,{"$f":"IF($A36=Y$3,AND($A36=Y$3,$D36<0),0)","v":0},0,{"$f":"IF($A36=AA$3,AND($A36=AA$3,$D36<0),0)","v":0},0,{"$f":"IF($A36=AC$3,AND($A36=AC$3,$D36<0),0)","v":0},0,0]
[{"$f":"IF(B37=0,\"\",MONTH(B37))","v":""},null,null,null,{"$f":"IF(D37=\"\",\"\",IF(D37<0,\"DEBITO\",\"CREDITO\"))","v":""},null,false,false,{"$f":"IF($A37=I$3,AND($A37=I$3,$D37>0),0)","v":0},{"$f":"IF($A37=I$3,AND($A37=I$3,$D37<0),0)","v":0},0,{"$f":"IF($A37=K$3,AND($A37=K$3,$D37<0),0)","v":0},0,{"$f":"IF($A37=M$3,AND($A37=M$3,$D37<0),0)","v":0},0,{"$f":"IF($A37=O$3,AND($A37=O$3,$D37<0),0)","v":0},0,0,0,0,0,0,0,{"$f":"IF($A37=W$3,AND($A37=W$3,$D37<0),0)","v":0},0,{"$f":"IF($A37=Y$3,AND($A37=Y$3,$D37<0),0)","v":0},0,{"$f":"IF($A37=AA$3,AND($A37=AA$3,$D37<0),0)","v":0},0,{"$f":"IF($A37=AC$3,AND($A37=AC$3,$D37<0),0)","v":0},0,0]
[{"$f":"IF(B38=0,\"\",MONTH(B38))","v":""},null,null,null,{"$f":"IF(D38=\"\",\"\",IF(D38<0,\"DEBITO\",\"CREDITO\"))","v":""},null,false,false,0,{"$f":"IF($A38=I$3,AND($A38=I$3,$D38<0),0)","v":0},0,{"$f":"IF($A38=K$3,AND($A38=K$3,$D38<0),0)","v":0},0,{"$f":"IF($A38=M$3,AND($A38=M$3,$D38<0),0)","v":0},0,{"$f":"IF($A38=O$3,AND($A38=O$3,$D38<0),0)","v":0},0,0,0,0,0,0,0,{"$f":"IF($A38=W$3,AND($A38=W$3,$D38<0),0)","v":0},0,{"$f":"IF($A38=Y$3,AND($A38=Y$3,$D38<0),0)","v":0},0,{"$f":"IF($A38=AA$3,AND($A38=AA$3,$D38<0),0)","v":0},0,{"$f":"IF($A38=AC$3,AND($A38=AC$3,$D38<0),0)","v":0},0,0]
[{"$f":"IF(B39=0,\"\",MONTH(B39))","v":""},null,null,null,{"$f":"IF(D39=\"\",\"\",IF(D39<0,\"DEBITO\",\"CREDITO\"))","v":""},null,false,false,0,{"$f":"IF($A39=I$3,AND($A39=I$3,$D39<0),0)","v":0},0,{"$f":"IF($A39=K$3,AND($A39=K$3,$D39<0),0)","v":0},0,{"$f":"IF($A39=M$3,AND($A39=M$3,$D39<0),0)","v":0},0,{"$f":"IF($A39=O$3,AND($A39=O$3,$D39<0),0)","v":0},0,0,0,0,0,0,0,{"$f":"IF($A39=W$3,AND($A39=W$3,$D39<0),0)","v":0},0,{"$f":"IF($A39=Y$3,AND($A39=Y$3,$D39<0),0)","v":0},0,{"$f":"IF($A39=AA$3,AND($A39=AA$3,$D39<0),0)","v":0},0,{"$f":"IF($A39=AC$3,AND($A39=AC$3,$D39<0),0)","v":0},0,0]
[{"$f":"IF(B40=0,\"\",MONTH(B40))","v":""},null,null,null,{"$f":"IF(D40=\"\",\"\",IF(D40<0,\"DEBITO\",\"CREDITO\"))","v":""},null,false,false,0,{"$f":"IF($A40=I$3,AND($A40=I$3,$D40<0),0)","v":0},0,{"$f":"IF($A40=K$3,AND($A40=K$3,$D40<0),0)","v":0},0,{"$f":"IF($A40=M$3,AND($A40=M$3,$D40<0),0)","v":0},0,{"$f":"IF($A40=O$3,AND($A40=O$3,$D40<0),0)","v":0},0,0,0,0,0,0,0,{"$f":"IF($A40=W$3,AND($A40=W$3,$D40<0),0)","v":0},0,{"$f":"IF($A40=Y$3,AND($A40=Y$3,$D40<0),0)","v":0},0,{"$f":"IF($A40=AA$3,AND($A40=AA$3,$D40<0),0)","v":0},0,{"$f":"IF($A40=AC$3,AND($A40=AC$3,$D40<0),0)","v":0},0,0]
[{"$f":"IF(B41=0,\"\",MONTH(B41))","v":""},null,null,null,{"$f":"IF(D41=\"\",\"\",IF(D41<0,\"DEBITO\",\"CREDITO\"))","v":""},null,false,false,0,{"$f":"IF($A41=I$3,AND($A41=I$3,$D41<0),0)","v":0},0,{"$f":"IF($A41=K$3,AND($A41=K$3,$D41<0),0)","v":0},0,{"$f":"IF($A41=M$3,AND($A41=M$3,$D41<0),0)","v":0},0,{"$f":"IF($A41=O$3,AND($A41=O$3,$D41<0),0)","v":0},0,0,0,0,0,0,0,{"$f":"IF($A41=W$3,AND($A41=W$3,$D41<0),0)","v":0},0,{"$f":"IF($A41=Y$3,AND($A41=Y$3,$D41<0),0)","v":0},0,{"$f":"IF($A41=AA$3,AND($A41=AA$3,$D41<0),0)","v":0},0,{"$f":"IF($A41=AC$3,AND($A41=AC$3,$D41<0),0)","v":0},0,0]
[{"$f":"IF(B42=0,\"\",MONTH(B42))","v":""},null,null,null,{"$f":"IF(D42=\"\",\"\",IF(D42<0,\"DEBITO\",\"CREDITO\"))","v":""},null,false,false,0,{"$f":"IF($A42=I$3,AND($A42=I$3,$D42<0),0)","v":0},0,{"$f":"IF($A42=K$3,AND($A42=K$3,$D42<0),0)","v":0},0,{"$f":"IF($A42=M$3,AND($A42=M$3,$D42<0),0)","v":0},0,{"$f":"IF($A42=O$3,AND($A42=O$3,$D42<0),0)","v":0},0,0,0,0,0,0,0,{"$f":"IF($A42=W$3,AND($A42=W$3,$D42<0),0)","v":0},0,{"$f":"IF($A42=Y$3,AND($A42=Y$3,$D42<0),0)","v":0},0,{"$f":"IF($A42=AA$3,AND($A42=AA$3,$D42<0),0)","v":0},0,{"$f":"IF($A42=AC$3,AND($A42=AC$3,$D42<0),0)","v":0},0,0]
[{"$f":"IF(B43=0,\"\",MONTH(B43))","v":""},null,null,null,{"$f":"IF(D43=\"\",\"\",IF(D43<0,\"DEBITO\",\"CREDITO\"))","v":""},null,false,false,0,{"$f":"IF($A43=I$3,AND($A43=I$3,$D43<0),0)","v":0},0,{"$f":"IF($A43=K$3,AND($A43=K$3,$D43<0),0)","v":0},0,{"$f":"IF($A43=M$3,AND($A43=M$3,$D43<0),0)","v":0},0,{"$f":"IF($A43=O$3,AND($A43=O$3,$D43<0),0)","v":0},0,0,0,0,0,0,0,{"$f":"IF($A43=W$3,AND($A43=W$3,$D43<0),0)","v":0},0,{"$f":"IF($A43=Y$3,AND($A43=Y$3,$D43<0),0)","v":0},0,{"$f":"IF($A43=AA$3,AND($A43=AA$3,$D43<0),0)","v":0},0,{"$f":"IF($A43=AC$3,AND($A43=AC$3,$D43<0),0)","v":0},0,0]
[{"$f":"IF(B44=0,\"\",MONTH(B44))","v":""},null,null,null,{"$f":"IF(D44=\"\",\"\",IF(D44<0,\"DEBITO\",\"CREDITO\"))","v":""},null,false,false,0,{"$f":"IF($A44=I$3,AND($A44=I$3,$D44<0),0)","v":0},0,{"$f":"IF($A44=K$3,AND($A44=K$3,$D44<0),0)","v":0},0,{"$f":"IF($A44=M$3,AND($A44=M$3,$D44<0),0)","v":0},0,{"$f":"IF($A44=O$3,AND($A44=O$3,$D44<0),0)","v":0},0,0,0,0,0,0,0,{"$f":"IF($A44=W$3,AND($A44=W$3,$D44<0),0)","v":0},0,{"$f":"IF($A44=Y$3,AND($A44=Y$3,$D44<0),0)","v":0},0,{"$f":"IF($A44=AA$3,AND($A44=AA$3,$D44<0),0)","v":0},0,{"$f":"IF($A44=AC$3,AND($A44=AC$3,$D44<0),0)","v":0},0,0]
[{"$f":"IF(B45=0,\"\",MONTH(B45))","v":""},null,null,null,{"$f":"IF(D45=\"\",\"\",IF(D45<0,\"DEBITO\",\"CREDITO\"))","v":""},null,false,false,0,{"$f":"IF($A45=I$3,AND($A45=I$3,$D45<0),0)","v":0},0,{"$f":"IF($A45=K$3,AND($A45=K$3,$D45<0),0)","v":0},0,{"$f":"IF($A45=M$3,AND($A45=M$3,$D45<0),0)","v":0},0,{"$f":"IF($A45=O$3,AND($A45=O$3,$D45<0),0)","v":0},0,0,0,0,0,0,0,{"$f":"IF($A45=W$3,AND($A45=W$3,$D45<0),0)","v":0},0,{"$f":"IF($A45=Y$3,AND($A45=Y$3,$D45<0),0)","v":0},0,{"$f":"IF($A45=AA$3,AND($A45=AA$3,$D45<0),0)","v":0},0,{"$f":"IF($A45=AC$3,AND($A45=AC$3,$D45<0),0)","v":0},0,0]
[{"$f":"IF(B46=0,\"\",MONTH(B46))","v":""},null,null,null,{"$f":"IF(D46=\"\",\"\",IF(D46<0,\"DEBITO\",\"CREDITO\"))","v":""},null,false,false,0,{"$f":"IF($A46=I$3,AND($A46=I$3,$D46<0),0)","v":0},0,{"$f":"IF($A46=K$3,AND($A46=K$3,$D46<0),0)","v":0},0,{"$f":"IF($A46=M$3,AND($A46=M$3,$D46<0),0)","v":0},0,{"$f":"IF($A46=O$3,AND($A46=O$3,$D46<0),0)","v":0},0,0,0,0,0,0,0,{"$f":"IF($A46=W$3,AND($A46=W$3,$D46<0),0)","v":0},0,{"$f":"IF($A46=Y$3,AND($A46=Y$3,$D46<0),0)","v":0},0,{"$f":"IF($A46=AA$3,AND($A46=AA$3,$D46<0),0)","v":0},0,{"$f":"IF($A46=AC$3,AND($A46=AC$3,$D46<0),0)","v":0},0,0]
[{"$f":"IF(B47=0,\"\",MONTH(B47))","v":""},null,null,null,{"$f":"IF(D47=\"\",\"\",IF(D47<0,\"DEBITO\",\"CREDITO\"))","v":""},null,false,false,0,{"$f":"IF($A47=I$3,AND($A47=I$3,$D47<0),0)","v":0},0,{"$f":"IF($A47=K$3,AND($A47=K$3,$D47<0),0)","v":0},0,{"$f":"IF($A47=M$3,AND($A47=M$3,$D47<0),0)","v":0},0,{"$f":"IF($A47=O$3,AND($A47=O$3,$D47<0),0)","v":0},0,0,0,0,0,0,0,{"$f":"IF($A47=W$3,AND($A47=W$3,$D47<0),0)","v":0},0,{"$f":"IF($A47=Y$3,AND($A47=Y$3,$D47<0),0)","v":0},0,{"$f":"IF($A47=AA$3,AND($A47=AA$3,$D47<0),0)","v":0},0,{"$f":"IF($A47=AC$3,AND($A47=AC$3,$D47<0),0)","v":0},0,0]
[{"$f":"IF(B48=0,\"\",MONTH(B48))","v":""},null,null,null,{"$f":"IF(D48=\"\",\"\",IF(D48<0,\"DEBITO\",\"CREDITO\"))","v":""},null,false,false,0,{"$f":"IF($A48=I$3,AND($A48=I$3,$D48<0),0)","v":0},0,{"$f":"IF($A48=K$3,AND($A48=K$3,$D48<0),0)","v":0},0,{"$f":"IF($A48=M$3,AND($A48=M$3,$D48<0),0)","v":0},0,{"$f":"IF($A48=O$3,AND($A48=O$3,$D48<0),0)","v":0},0,0,0,0,0,0,0,{"$f":"IF($A48=W$3,AND($A48=W$3,$D48<0),0)","v":0},0,{"$f":"IF($A48=Y$3,AND($A48=Y$3,$D48<0),0)","v":0},0,{"$f":"IF($A48=AA$3,AND($A48=AA$3,$D48<0),0)","v":0},0,{"$f":"IF($A48=AC$3,AND($A48=AC$3,$D48<0),0)","v":0},0,0]
[{"$f":"IF(B49=0,\"\",MONTH(B49))","v":""},null,null,null,{"$f":"IF(D49=\"\",\"\",IF(D49<0,\"DEBITO\",\"CREDITO\"))","v":""},null,false,false,0,{"$f":"IF($A49=I$3,AND($A49=I$3,$D49<0),0)","v":0},0,{"$f":"IF($A49=K$3,AND($A49=K$3,$D49<0),0)","v":0},0,{"$f":"IF($A49=M$3,AND($A49=M$3,$D49<0),0)","v":0},0,{"$f":"IF($A49=O$3,AND($A49=O$3,$D49<0),0)","v":0},0,0,0,0,0,0,0,{"$f":"IF($A49=W$3,AND($A49=W$3,$D49<0),0)","v":0},0,{"$f":"IF($A49=Y$3,AND($A49=Y$3,$D49<0),0)","v":0},0,{"$f":"IF($A49=AA$3,AND($A49=AA$3,$D49<0),0)","v":0},0,{"$f":"IF($A49=AC$3,AND($A49=AC$3,$D49<0),0)","v":0},0,0]
[{"$f":"IF(B50=0,\"\",MONTH(B50))","v":""},null,null,null,{"$f":"IF(D50=\"\",\"\",IF(D50<0,\"DEBITO\",\"CREDITO\"))","v":""},null,false,false,0,{"$f":"IF($A50=I$3,AND($A50=I$3,$D50<0),0)","v":0},0,{"$f":"IF($A50=K$3,AND($A50=K$3,$D50<0),0)","v":0},0,{"$f":"IF($A50=M$3,AND($A50=M$3,$D50<0),0)","v":0},0,{"$f":"IF($A50=O$3,AND($A50=O$3,$D50<0),0)","v":0},0,0,0,0,0,0,0,{"$f":"IF($A50=W$3,AND($A50=W$3,$D50<0),0)","v":0},0,{"$f":"IF($A50=Y$3,AND($A50=Y$3,$D50<0),0)","v":0},0,{"$f":"IF($A50=AA$3,AND($A50=AA$3,$D50<0),0)","v":0},0,{"$f":"IF($A50=AC$3,AND($A50=AC$3,$D50<0),0)","v":0},0,0]
[{"$f":"IF(B51=0,\"\",MONTH(B51))","v":""},null,null,null,{"$f":"IF(D51=\"\",\"\",IF(D51<0,\"DEBITO\",\"CREDITO\"))","v":""},null,false,false,0,{"$f":"IF($A51=I$3,AND($A51=I$3,$D51<0),0)","v":0},0,{"$f":"IF($A51=K$3,AND($A51=K$3,$D51<0),0)","v":0},0,{"$f":"IF($A51=M$3,AND($A51=M$3,$D51<0),0)","v":0},0,{"$f":"IF($A51=O$3,AND($A51=O$3,$D51<0),0)","v":0},0,0,0,0,0,0,0,{"$f":"IF($A51=W$3,AND($A51=W$3,$D51<0),0)","v":0},0,{"$f":"IF($A51=Y$3,AND($A51=Y$3,$D51<0),0)","v":0},0,{"$f":"IF($A51=AA$3,AND($A51=AA$3,$D51<0),0)","v":0},0,{"$f":"IF($A51=AC$3,AND($A51=AC$3,$D51<0),0)","v":0},0,0]
[{"$f":"IF(B52=0,\"\",MONTH(B52))","v":""},null,null,null,{"$f":"IF(D52=\"\",\"\",IF(D52<0,\"DEBITO\",\"CREDITO\"))","v":""},null,false,false,0,{"$f":"IF($A52=I$3,AND($A52=I$3,$D52<0),0)","v":0},0,{"$f":"IF($A52=K$3,AND($A52=K$3,$D52<0),0)","v":0},0,{"$f":"IF($A52=M$3,AND($A52=M$3,$D52<0),0)","v":0},0,{"$f":"IF($A52=O$3,AND($A52=O$3,$D52<0),0)","v":0},0,0,0,0,0,0,0,{"$f":"IF($A52=W$3,AND($A52=W$3,$D52<0),0)","v":0},0,{"$f":"IF($A52=Y$3,AND($A52=Y$3,$D52<0),0)","v":0},0,{"$f":"IF($A52=AA$3,AND($A52=AA$3,$D52<0),0)","v":0},0,{"$f":"IF($A52=AC$3,AND($A52=AC$3,$D52<0),0)","v":0},0,0]
[{"$f":"IF(B53=0,\"\",MONTH(B53))","v":""},null,null,null,{"$f":"IF(D53=\"\",\"\",IF(D53<0,\"DEBITO\",\"CREDITO\"))","v":""},null,false,false,0,{"$f":"IF($A53=I$3,AND($A53=I$3,$D53<0),0)","v":0},0,{"$f":"IF($A53=K$3,AND($A53=K$3,$D53<0),0)","v":0},0,{"$f":"IF($A53=M$3,AND($A53=M$3,$D53<0),0)","v":0},0,{"$f":"IF($A53=O$3,AND($A53=O$3,$D53<0),0)","v":0},0,0,0,0,0,0,0,{"$f":"IF($A53=W$3,AND($A53=W$3,$D53<0),0)","v":0},0,{"$f":"IF($A53=Y$3,AND($A53=Y$3,$D53<0),0)","v":0},0,{"$f":"IF($A53=AA$3,AND($A53=AA$3,$D53<0),0)","v":0},0,{"$f":"IF($A53=AC$3,AND($A53=AC$3,$D53<0),0)","v":0},0,0]
[{"$f":"IF(B54=0,\"\",MONTH(B54))","v":""},null,null,null,{"$f":"IF(D54=\"\",\"\",IF(D54<0,\"DEBITO\",\"CREDITO\"))","v":""},null,false,false,0,{"$f":"IF($A54=I$3,AND($A54=I$3,$D54<0),0)","v":0},0,{"$f":"IF($A54=K$3,AND($A54=K$3,$D54<0),0)","v":0},0,{"$f":"IF($A54=M$3,AND($A54=M$3,$D54<0),0)","v":0},0,{"$f":"IF($A54=O$3,AND($A54=O$3,$D54<0),0)","v":0},0,0,0,0,0,0,0,{"$f":"IF($A54=W$3,AND($A54=W$3,$D54<0),0)","v":0},0,{"$f":"IF($A54=Y$3,AND($A54=Y$3,$D54<0),0)","v":0},0,{"$f":"IF($A54=AA$3,AND($A54=AA$3,$D54<0),0)","v":0},0,{"$f":"IF($A54=AC$3,AND($A54=AC$3,$D54<0),0)","v":0},0,0]
[{"$f":"IF(B55=0,\"\",MONTH(B55))","v":""},null,null,null,{"$f":"IF(D55=\"\",\"\",IF(D55<0,\"DEBITO\",\"CREDITO\"))","v":""},null,false,false,0,{"$f":"IF($A55=I$3,AND($A55=I$3,$D55<0),0)","v":0},0,{"$f":"IF($A55=K$3,AND($A55=K$3,$D55<0),0)","v":0},0,{"$f":"IF($A55=M$3,AND($A55=M$3,$D55<0),0)","v":0},0,{"$f":"IF($A55=O$3,AND($A55=O$3,$D55<0),0)","v":0},0,0,0,0,0,0,0,{"$f":"IF($A55=W$3,AND($A55=W$3,$D55<0),0)","v":0},0,{"$f":"IF($A55=Y$3,AND($A55=Y$3,$D55<0),0)","v":0},0,{"$f":"IF($A55=AA$3,AND($A55=AA$3,$D55<0),0)","v":0},0,{"$f":"IF($A55=AC$3,AND($A55=AC$3,$D55<0),0)","v":0},0,0]
[{"$f":"IF(B56=0,\"\",MONTH(B56))","v":""},null,null,null,{"$f":"IF(D56=\"\",\"\",IF(D56<0,\"DEBITO\",\"CREDITO\"))","v":""},null,false,false,0,{"$f":"IF($A56=I$3,AND($A56=I$3,$D56<0),0)","v":0},0,{"$f":"IF($A56=K$3,AND($A56=K$3,$D56<0),0)","v":0},0,{"$f":"IF($A56=M$3,AND($A56=M$3,$D56<0),0)","v":0},0,{"$f":"IF($A56=O$3,AND($A56=O$3,$D56<0),0)","v":0},0,0,0,0,0,0,0,{"$f":"IF($A56=W$3,AND($A56=W$3,$D56<0),0)","v":0},0,{"$f":"IF($A56=Y$3,AND($A56=Y$3,$D56<0),0)","v":0},0,{"$f":"IF($A56=AA$3,AND($A56=AA$3,$D56<0),0)","v":0},0,{"$f":"IF($A56=AC$3,AND($A56=AC$3,$D56<0),0)","v":0},0,0]
[{"$f":"IF(B57=0,\"\",MONTH(B57))","v":""},null,null,null,{"$f":"IF(D57=\"\",\"\",IF(D57<0,\"DEBITO\",\"CREDITO\"))","v":""},null,false,false,0,{"$f":"IF($A57=I$3,AND($A57=I$3,$D57<0),0)","v":0},0,{"$f":"IF($A57=K$3,AND($A57=K$3,$D57<0),0)","v":0},0,{"$f":"IF($A57=M$3,AND($A57=M$3,$D57<0),0)","v":0},0,{"$f":"IF($A57=O$3,AND($A57=O$3,$D57<0),0)","v":0},0,0,0,0,0,0,0,{"$f":"IF($A57=W$3,AND($A57=W$3,$D57<0),0)","v":0},0,{"$f":"IF($A57=Y$3,AND($A57=Y$3,$D57<0),0)","v":0},0,{"$f":"IF($A57=AA$3,AND($A57=AA$3,$D57<0),0)","v":0},0,{"$f":"IF($A57=AC$3,AND($A57=AC$3,$D57<0),0)","v":0},0,0]
[{"$f":"IF(B58=0,\"\",MONTH(B58))","v":""},null,null,null,{"$f":"IF(D58=\"\",\"\",IF(D58<0,\"DEBITO\",\"CREDITO\"))","v":""},null,false,false,0,{"$f":"IF($A58=I$3,AND($A58=I$3,$D58<0),0)","v":0},0,{"$f":"IF($A58=K$3,AND($A58=K$3,$D58<0),0)","v":0},0,{"$f":"IF($A58=M$3,AND($A58=M$3,$D58<0),0)","v":0},0,{"$f":"IF($A58=O$3,AND($A58=O$3,$D58<0),0)","v":0},0,0,0,0,0,0,0,{"$f":"IF($A58=W$3,AND($A58=W$3,$D58<0),0)","v":0},0,{"$f":"IF($A58=Y$3,AND($A58=Y$3,$D58<0),0)","v":0},0,{"$f":"IF($A58=AA$3,AND($A58=AA$3,$D58<0),0)","v":0},0,{"$f":"IF($A58=AC$3,AND($A58=AC$3,$D58<0),0)","v":0},0,0]
[{"$f":"IF(B59=0,\"\",MONTH(B59))","v":""},null,null,null,{"$f":"IF(D59=\"\",\"\",IF(D59<0,\"DEBITO\",\"CREDITO\"))","v":""},null,false,false,0,{"$f":"IF($A59=I$3,AND($A59=I$3,$D59<0),0)","v":0},0,{"$f":"IF($A59=K$3,AND($A59=K$3,$D59<0),0)","v":0},0,{"$f":"IF($A59=M$3,AND($A59=M$3,$D59<0),0)","v":0},0,{"$f":"IF($A59=O$3,AND($A59=O$3,$D59<0),0)","v":0},0,0,0,0,0,0,0,{"$f":"IF($A59=W$3,AND($A59=W$3,$D59<0),0)","v":0},0,{"$f":"IF($A59=Y$3,AND($A59=Y$3,$D59<0),0)","v":0},0,{"$f":"IF($A59=AA$3,AND($A59=AA$3,$D59<0),0)","v":0},0,{"$f":"IF($A59=AC$3,AND($A59=AC$3,$D59<0),0)","v":0},0,0]
[{"$f":"IF(B60=0,\"\",MONTH(B60))","v":""},null,null,null,{"$f":"IF(D60=\"\",\"\",IF(D60<0,\"DEBITO\",\"CREDITO\"))","v":""},null,false,false,0,{"$f":"IF($A60=I$3,AND($A60=I$3,$D60<0),0)","v":0},0,{"$f":"IF($A60=K$3,AND($A60=K$3,$D60<0),0)","v":0},0,{"$f":"IF($A60=M$3,AND($A60=M$3,$D60<0),0)","v":0},0,{"$f":"IF($A60=O$3,AND($A60=O$3,$D60<0),0)","v":0},0,0,0,0,0,0,0,{"$f":"IF($A60=W$3,AND($A60=W$3,$D60<0),0)","v":0},0,{"$f":"IF($A60=Y$3,AND($A60=Y$3,$D60<0),0)","v":0},0,{"$f":"IF($A60=AA$3,AND($A60=AA$3,$D60<0),0)","v":0},0,{"$f":"IF($A60=AC$3,AND($A60=AC$3,$D60<0),0)","v":0},0,0]
[{"$f":"IF(B61=0,\"\",MONTH(B61))","v":""},null,null,null,{"$f":"IF(D61=\"\",\"\",IF(D61<0,\"DEBITO\",\"CREDITO\"))","v":""},null,false,false,0,{"$f":"IF($A61=I$3,AND($A61=I$3,$D61<0),0)","v":0},0,{"$f":"IF($A61=K$3,AND($A61=K$3,$D61<0),0)","v":0},0,{"$f":"IF($A61=M$3,AND($A61=M$3,$D61<0),0)","v":0},0,{"$f":"IF($A61=O$3,AND($A61=O$3,$D61<0),0)","v":0},0,0,0,0,0,0,0,{"$f":"IF($A61=W$3,AND($A61=W$3,$D61<0),0)","v":0},0,{"$f":"IF($A61=Y$3,AND($A61=Y$3,$D61<0),0)","v":0},0,{"$f":"IF($A61=AA$3,AND($A61=AA$3,$D61<0),0)","v":0},0,{"$f":"IF($A61=AC$3,AND($A61=AC$3,$D61<0),0)","v":0},0,0]
[{"$f":"IF(B62=0,\"\",MONTH(B62))","v":""},null,null,null,{"$f":"IF(D62=\"\",\"\",IF(D62<0,\"DEBITO\",\"CREDITO\"))","v":""},null,false,false,0,{"$f":"IF($A62=I$3,AND($A62=I$3,$D62<0),0)","v":0},0,{"$f":"IF($A62=K$3,AND($A62=K$3,$D62<0),0)","v":0},0,{"$f":"IF($A62=M$3,AND($A62=M$3,$D62<0),0)","v":0},0,{"$f":"IF($A62=O$3,AND($A62=O$3,$D62<0),0)","v":0},0,0,0,0,0,0,0,{"$f":"IF($A62=W$3,AND($A62=W$3,$D62<0),0)","v":0},0,{"$f":"IF($A62=Y$3,AND($A62=Y$3,$D62<0),0)","v":0},0,{"$f":"IF($A62=AA$3,AND($A62=AA$3,$D62<0),0)","v":0},0,{"$f":"IF($A62=AC$3,AND($A62=AC$3,$D62<0),0)","v":0},0,0]
[{"$f":"IF(B63=0,\"\",MONTH(B63))","v":""},null,null,null,{"$f":"IF(D63=\"\",\"\",IF(D63<0,\"DEBITO\",\"CREDITO\"))","v":""},null,false,false,0,{"$f":"IF($A63=I$3,AND($A63=I$3,$D63<0),0)","v":0},0,{"$f":"IF($A63=K$3,AND($A63=K$3,$D63<0),0)","v":0},0,{"$f":"IF($A63=M$3,AND($A63=M$3,$D63<0),0)","v":0},0,{"$f":"IF($A63=O$3,AND($A63=O$3,$D63<0),0)","v":0},0,0,0,0,0,0,0,{"$f":"IF($A63=W$3,AND($A63=W$3,$D63<0),0)","v":0},0,{"$f":"IF($A63=Y$3,AND($A63=Y$3,$D63<0),0)","v":0},0,{"$f":"IF($A63=AA$3,AND($A63=AA$3,$D63<0),0)","v":0},0,{"$f":"IF($A63=AC$3,AND($A63=AC$3,$D63<0),0)","v":0},0,0]
[{"$f":"IF(B64=0,\"\",MONTH(B64))","v":""},null,null,null,{"$f":"IF(D64=\"\",\"\",IF(D64<0,\"DEBITO\",\"CREDITO\"))","v":""},null,false,false,0,{"$f":"IF($A64=I$3,AND($A64=I$3,$D64<0),0)","v":0},0,{"$f":"IF($A64=K$3,AND($A64=K$3,$D64<0),0)","v":0},0,{"$f":"IF($A64=M$3,AND($A64=M$3,$D64<0),0)","v":0},0,{"$f":"IF($A64=O$3,AND($A64=O$3,$D64<0),0)","v":0},0,0,0,0,0,0,0,{"$f":"IF($A64=W$3,AND($A64=W$3,$D64<0),0)","v":0},0,{"$f":"IF($A64=Y$3,AND($A64=Y$3,$D64<0),0)","v":0},0,{"$f":"IF($A64=AA$3,AND($A64=AA$3,$D64<0),0)","v":0},0,{"$f":"IF($A64=AC$3,AND($A64=AC$3,$D64<0),0)","v":0},0,0]
[{"$f":"IF(B65=0,\"\",MONTH(B65))","v":""},null,null,null,{"$f":"IF(D65=\"\",\"\",IF(D65<0,\"DEBITO\",\"CREDITO\"))","v":""},null,false,false,0,{"$f":"IF($A65=I$3,AND($A65=I$3,$D65<0),0)","v":0},0,{"$f":"IF($A65=K$3,AND($A65=K$3,$D65<0),0)","v":0},0,{"$f":"IF($A65=M$3,AND($A65=M$3,$D65<0),0)","v":0},0,{"$f":"IF($A65=O$3,AND($A65=O$3,$D65<0),0)","v":0},0,0,0,0,0,0,0,{"$f":"IF($A65=W$3,AND($A65=W$3,$D65<0),0)","v":0},0,{"$f":"IF($A65=Y$3,AND($A65=Y$3,$D65<0),0)","v":0},0,{"$f":"IF($A65=AA$3,AND($A65=AA$3,$D65<0),0)","v":0},0,{"$f":"IF($A65=AC$3,AND($A65=AC$3,$D65<0),0)","v":0},0,0]
[{"$f":"IF(B66=0,\"\",MONTH(B66))","v":""},null,null,null,{"$f":"IF(D66=\"\",\"\",IF(D66<0,\"DEBITO\",\"CREDITO\"))","v":""},null,false,false,0,{"$f":"IF($A66=I$3,AND($A66=I$3,$D66<0),0)","v":0},0,{"$f":"IF($A66=K$3,AND($A66=K$3,$D66<0),0)","v":0},0,{"$f":"IF($A66=M$3,AND($A66=M$3,$D66<0),0)","v":0},0,{"$f":"IF($A66=O$3,AND($A66=O$3,$D66<0),0)","v":0},0,0,0,0,0,0,0,{"$f":"IF($A66=W$3,AND($A66=W$3,$D66<0),0)","v":0},0,{"$f":"IF($A66=Y$3,AND($A66=Y$3,$D66<0),0)","v":0},0,{"$f":"IF($A66=AA$3,AND($A66=AA$3,$D66<0),0)","v":0},0,{"$f":"IF($A66=AC$3,AND($A66=AC$3,$D66<0),0)","v":0},0,0]
[{"$f":"IF(B67=0,\"\",MONTH(B67))","v":""},null,null,null,{"$f":"IF(D67=\"\",\"\",IF(D67<0,\"DEBITO\",\"CREDITO\"))","v":""},null,false,false,0,{"$f":"IF($A67=I$3,AND($A67=I$3,$D67<0),0)","v":0},0,{"$f":"IF($A67=K$3,AND($A67=K$3,$D67<0),0)","v":0},0,{"$f":"IF($A67=M$3,AND($A67=M$3,$D67<0),0)","v":0},0,{"$f":"IF($A67=O$3,AND($A67=O$3,$D67<0),0)","v":0},0,0,0,0,0,0,0,{"$f":"IF($A67=W$3,AND($A67=W$3,$D67<0),0)","v":0},0,{"$f":"IF($A67=Y$3,AND($A67=Y$3,$D67<0),0)","v":0},0,{"$f":"IF($A67=AA$3,AND($A67=AA$3,$D67<0),0)","v":0},0,{"$f":"IF($A67=AC$3,AND($A67=AC$3,$D67<0),0)","v":0},0,0]
[{"$f":"IF(B68=0,\"\",MONTH(B68))","v":""},null,null,null,{"$f":"IF(D68=\"\",\"\",IF(D68<0,\"DEBITO\",\"CREDITO\"))","v":""},null,false,false,0,{"$f":"IF($A68=I$3,AND($A68=I$3,$D68<0),0)","v":0},0,{"$f":"IF($A68=K$3,AND($A68=K$3,$D68<0),0)","v":0},0,{"$f":"IF($A68=M$3,AND($A68=M$3,$D68<0),0)","v":0},0,{"$f":"IF($A68=O$3,AND($A68=O$3,$D68<0),0)","v":0},0,0,0,0,0,0,0,{"$f":"IF($A68=W$3,AND($A68=W$3,$D68<0),0)","v":0},0,{"$f":"IF($A68=Y$3,AND($A68=Y$3,$D68<0),0)","v":0},0,{"$f":"IF($A68=AA$3,AND($A68=AA$3,$D68<0),0)","v":0},0,{"$f":"IF($A68=AC$3,AND($A68=AC$3,$D68<0),0)","v":0},0,0]
[{"$f":"IF(B69=0,\"\",MONTH(B69))","v":""},null,null,null,{"$f":"IF(D69=\"\",\"\",IF(D69<0,\"DEBITO\",\"CREDITO\"))","v":""},null,false,false,0,{"$f":"IF($A69=I$3,AND($A69=I$3,$D69<0),0)","v":0},0,{"$f":"IF($A69=K$3,AND($A69=K$3,$D69<0),0)","v":0},0,{"$f":"IF($A69=M$3,AND($A69=M$3,$D69<0),0)","v":0},0,{"$f":"IF($A69=O$3,AND($A69=O$3,$D69<0),0)","v":0},0,0,0,0,0,0,0,{"$f":"IF($A69=W$3,AND($A69=W$3,$D69<0),0)","v":0},0,{"$f":"IF($A69=Y$3,AND($A69=Y$3,$D69<0),0)","v":0},0,{"$f":"IF($A69=AA$3,AND($A69=AA$3,$D69<0),0)","v":0},0,{"$f":"IF($A69=AC$3,AND($A69=AC$3,$D69<0),0)","v":0},0,0]
[{"$f":"IF(B70=0,\"\",MONTH(B70))","v":""},null,null,null,{"$f":"IF(D70=\"\",\"\",IF(D70<0,\"DEBITO\",\"CREDITO\"))","v":""},null,false,false,0,{"$f":"IF($A70=I$3,AND($A70=I$3,$D70<0),0)","v":0},0,{"$f":"IF($A70=K$3,AND($A70=K$3,$D70<0),0)","v":0},0,{"$f":"IF($A70=M$3,AND($A70=M$3,$D70<0),0)","v":0},0,{"$f":"IF($A70=O$3,AND($A70=O$3,$D70<0),0)","v":0},0,0,0,0,0,0,0,{"$f":"IF($A70=W$3,AND($A70=W$3,$D70<0),0)","v":0},0,{"$f":"IF($A70=Y$3,AND($A70=Y$3,$D70<0),0)","v":0},0,{"$f":"IF($A70=AA$3,AND($A70=AA$3,$D70<0),0)","v":0},0,{"$f":"IF($A70=AC$3,AND($A70=AC$3,$D70<0),0)","v":0},0,0]
[{"$f":"IF(B71=0,\"\",MONTH(B71))","v":""},null,null,null,{"$f":"IF(D71=\"\",\"\",IF(D71<0,\"DEBITO\",\"CREDITO\"))","v":""},null,false,false,0,{"$f":"IF($A71=I$3,AND($A71=I$3,$D71<0),0)","v":0},0,{"$f":"IF($A71=K$3,AND($A71=K$3,$D71<0),0)","v":0},0,{"$f":"IF($A71=M$3,AND($A71=M$3,$D71<0),0)","v":0},0,{"$f":"IF($A71=O$3,AND($A71=O$3,$D71<0),0)","v":0},0,0,0,0,0,0,0,{"$f":"IF($A71=W$3,AND($A71=W$3,$D71<0),0)","v":0},0,{"$f":"IF($A71=Y$3,AND($A71=Y$3,$D71<0),0)","v":0},0,{"$f":"IF($A71=AA$3,AND($A71=AA$3,$D71<0),0)","v":0},0,{"$f":"IF($A71=AC$3,AND($A71=AC$3,$D71<0),0)","v":0},0,0]
[{"$f":"IF(B72=0,\"\",MONTH(B72))","v":""},null,null,null,{"$f":"IF(D72=\"\",\"\",IF(D72<0,\"DEBITO\",\"CREDITO\"))","v":""},null,false,false,0,{"$f":"IF($A72=I$3,AND($A72=I$3,$D72<0),0)","v":0},0,{"$f":"IF($A72=K$3,AND($A72=K$3,$D72<0),0)","v":0},0,{"$f":"IF($A72=M$3,AND($A72=M$3,$D72<0),0)","v":0},0,{"$f":"IF($A72=O$3,AND($A72=O$3,$D72<0),0)","v":0},0,0,0,0,0,0,0,{"$f":"IF($A72=W$3,AND($A72=W$3,$D72<0),0)","v":0},0,{"$f":"IF($A72=Y$3,AND($A72=Y$3,$D72<0),0)","v":0},0,{"$f":"IF($A72=AA$3,AND($A72=AA$3,$D72<0),0)","v":0},0,{"$f":"IF($A72=AC$3,AND($A72=AC$3,$D72<0),0)","v":0},0,0]
[{"$f":"IF(B73=0,\"\",MONTH(B73))","v":""},null,null,null,{"$f":"IF(D73=\"\",\"\",IF(D73<0,\"DEBITO\",\"CREDITO\"))","v":""},null,{"$f":"AND(A73=$E$3,D73>0)","v":false},{"$f":"AND(A73=$E$3,D73<0)","v":false},0,{"$f":"IF($A73=I$3,AND($A73=I$3,$D73<0),0)","v":0},0,{"$f":"IF($A73=K$3,AND($A73=K$3,$D73<0),0)","v":0},0,{"$f":"IF($A73=M$3,AND($A73=M$3,$D73<0),0)","v":0},0,{"$f":"IF($A73=O$3,AND($A73=O$3,$D73<0),0)","v":0},0,{"$f":"IF($A73=Q$3,AND($A73=Q$3,$D73<0),0)","v":0},0,0,0,0,0,{"$f":"IF($A73=W$3,AND($A73=W$3,$D73<0),0)","v":0},0,{"$f":"IF($A73=Y$3,AND($A73=Y$3,$D73<0),0)","v":0},0,{"$f":"IF($A73=AA$3,AND($A73=AA$3,$D73<0),0)","v":0},0,{"$f":"IF($A73=AC$3,AND($A73=AC$3,$D73<0),0)","v":0},0,{"$f":"IF($A73=AE$3,AND($A73=AE$3,$D73<0),0)","v":0}]
[{"$f":"IF(B74=0,\"\",MONTH(B74))","v":""},null,null,null,{"$f":"IF(D74=\"\",\"\",IF(D74<0,\"DEBITO\",\"CREDITO\"))","v":""},null,false,false,0,{"$f":"IF($A74=I$3,AND($A74=I$3,$D74<0),0)","v":0},0,{"$f":"IF($A74=K$3,AND($A74=K$3,$D74<0),0)","v":0},0,{"$f":"IF($A74=M$3,AND($A74=M$3,$D74<0),0)","v":0},0,{"$f":"IF($A74=O$3,AND($A74=O$3,$D74<0),0)","v":0},0,0,{"$f":"IF($A74=S$3,AND($A74=S$3,$D74>0),0)","v":0},{"$f":"IF($A74=S$3,AND($A74=S$3,$D74<0),0)","v":0},{"$f":"IF($A74=U$3,AND($A74=U$3,$D74>0),0)","v":0},{"$f":"IF($A74=U$3,AND($A74=U$3,$D74<0),0)","v":0},0,{"$f":"IF($A74=W$3,AND($A74=W$3,$D74<0),0)","v":0},0,{"$f":"IF($A74=Y$3,AND($A74=Y$3,$D74<0),0)","v":0},0,{"$f":"IF($A74=AA$3,AND($A74=AA$3,$D74<0),0)","v":0},0,{"$f":"IF($A74=AC$3,AND($A74=AC$3,$D74<0),0)","v":0},0,0]
[{"$f":"IF(B75=0,\"\",MONTH(B75))","v":""},null,null,null,{"$f":"IF(D75=\"\",\"\",IF(D75<0,\"DEBITO\",\"CREDITO\"))","v":""},null,false,false,{"$f":"IF($A75=I$3,AND($A75=I$3,$D75>0),0)","v":0},{"$f":"IF($A75=I$3,AND($A75=I$3,$D75<0),0)","v":0},0,{"$f":"IF($A75=K$3,AND($A75=K$3,$D75<0),0)","v":0},0,{"$f":"IF($A75=M$3,AND($A75=M$3,$D75<0),0)","v":0},0,{"$f":"IF($A75=O$3,AND($A75=O$3,$D75<0),0)","v":0},0,0,0,0,0,0,0,{"$f":"IF($A75=W$3,AND($A75=W$3,$D75<0),0)","v":0},0,{"$f":"IF($A75=Y$3,AND($A75=Y$3,$D75<0),0)","v":0},0,{"$f":"IF($A75=AA$3,AND($A75=AA$3,$D75<0),0)","v":0},0,{"$f":"IF($A75=AC$3,AND($A75=AC$3,$D75<0),0)","v":0},0,0]
[{"$f":"IF(B76=0,\"\",MONTH(B76))","v":""},null,null,null,{"$f":"IF(D76=\"\",\"\",IF(D76<0,\"DEBITO\",\"CREDITO\"))","v":""},null,false,false,0,{"$f":"IF($A76=I$3,AND($A76=I$3,$D76<0),0)","v":0},0,{"$f":"IF($A76=K$3,AND($A76=K$3,$D76<0),0)","v":0},0,{"$f":"IF($A76=M$3,AND($A76=M$3,$D76<0),0)","v":0},0,{"$f":"IF($A76=O$3,AND($A76=O$3,$D76<0),0)","v":0},0,0,0,0,0,0,0,{"$f":"IF($A76=W$3,AND($A76=W$3,$D76<0),0)","v":0},0,{"$f":"IF($A76=Y$3,AND($A76=Y$3,$D76<0),0)","v":0},0,{"$f":"IF($A76=AA$3,AND($A76=AA$3,$D76<0),0)","v":0},0,{"$f":"IF($A76=AC$3,AND($A76=AC$3,$D76<0),0)","v":0},0,0]
[{"$f":"IF(B77=0,\"\",MONTH(B77))","v":""},null,null,null,{"$f":"IF(D77=\"\",\"\",IF(D77<0,\"DEBITO\",\"CREDITO\"))","v":""},null,false,false,0,{"$f":"IF($A77=I$3,AND($A77=I$3,$D77<0),0)","v":0},0,{"$f":"IF($A77=K$3,AND($A77=K$3,$D77<0),0)","v":0},0,{"$f":"IF($A77=M$3,AND($A77=M$3,$D77<0),0)","v":0},0,{"$f":"IF($A77=O$3,AND($A77=O$3,$D77<0),0)","v":0},0,0,0,0,0,0,0,{"$f":"IF($A77=W$3,AND($A77=W$3,$D77<0),0)","v":0},0,{"$f":"IF($A77=Y$3,AND($A77=Y$3,$D77<0),0)","v":0},0,{"$f":"IF($A77=AA$3,AND($A77=AA$3,$D77<0),0)","v":0},0,{"$f":"IF($A77=AC$3,AND($A77=AC$3,$D77<0),0)","v":0},0,0]
[{"$f":"IF(B78=0,\"\",MONTH(B78))","v":""},null,null,null,{"$f":"IF(D78=\"\",\"\",IF(D78<0,\"DEBITO\",\"CREDITO\"))","v":""},null,false,false,0,{"$f":"IF($A78=I$3,AND($A78=I$3,$D78<0),0)","v":0},0,{"$f":"IF($A78=K$3,AND($A78=K$3,$D78<0),0)","v":0},0,{"$f":"IF($A78=M$3,AND($A78=M$3,$D78<0),0)","v":0},0,{"$f":"IF($A78=O$3,AND($A78=O$3,$D78<0),0)","v":0},0,0,0,0,0,0,0,{"$f":"IF($A78=W$3,AND($A78=W$3,$D78<0),0)","v":0},0,{"$f":"IF($A78=Y$3,AND($A78=Y$3,$D78<0),0)","v":0},0,{"$f":"IF($A78=AA$3,AND($A78=AA$3,$D78<0),0)","v":0},0,{"$f":"IF($A78=AC$3,AND($A78=AC$3,$D78<0),0)","v":0},0,0]
[{"$f":"IF(B79=0,\"\",MONTH(B79))","v":""},null,null,null,{"$f":"IF(D79=\"\",\"\",IF(D79<0,\"DEBITO\",\"CREDITO\"))","v":""},null,false,false,0,{"$f":"IF($A79=I$3,AND($A79=I$3,$D79<0),0)","v":0},0,{"$f":"IF($A79=K$3,AND($A79=K$3,$D79<0),0)","v":0},0,{"$f":"IF($A79=M$3,AND($A79=M$3,$D79<0),0)","v":0},0,{"$f":"IF($A79=O$3,AND($A79=O$3,$D79<0),0)","v":0},0,0,0,0,0,0,0,{"$f":"IF($A79=W$3,AND($A79=W$3,$D79<0),0)","v":0},0,{"$f":"IF($A79=Y$3,AND($A79=Y$3,$D79<0),0)","v":0},0,{"$f":"IF($A79=AA$3,AND($A79=AA$3,$D79<0),0)","v":0},0,{"$f":"IF($A79=AC$3,AND($A79=AC$3,$D79<0),0)","v":0},0,0]
[{"$f":"IF(B80=0,\"\",MONTH(B80))","v":""},null,null,null,{"$f":"IF(D80=\"\",\"\",IF(D80<0,\"DEBITO\",\"CREDITO\"))","v":""},null,false,false,0,{"$f":"IF($A80=I$3,AND($A80=I$3,$D80<0),0)","v":0},0,{"$f":"IF($A80=K$3,AND($A80=K$3,$D80<0),0)","v":0},0,{"$f":"IF($A80=M$3,AND($A80=M$3,$D80<0),0)","v":0},0,{"$f":"IF($A80=O$3,AND($A80=O$3,$D80<0),0)","v":0},0,0,0,0,0,0,0,{"$f":"IF($A80=W$3,AND($A80=W$3,$D80<0),0)","v":0},0,{"$f":"IF($A80=Y$3,AND($A80=Y$3,$D80<0),0)","v":0},0,{"$f":"IF($A80=AA$3,AND($A80=AA$3,$D80<0),0)","v":0},0,{"$f":"IF($A80=AC$3,AND($A80=AC$3,$D80<0),0)","v":0},0,0]
[{"$f":"IF(B81=0,\"\",MONTH(B81))","v":""},null,null,null,{"$f":"IF(D81=\"\",\"\",IF(D81<0,\"DEBITO\",\"CREDITO\"))","v":""},null,false,false,0,{"$f":"IF($A81=I$3,AND($A81=I$3,$D81<0),0)","v":0},0,{"$f":"IF($A81=K$3,AND($A81=K$3,$D81<0),0)","v":0},0,{"$f":"IF($A81=M$3,AND($A81=M$3,$D81<0),0)","v":0},0,{"$f":"IF($A81=O$3,AND($A81=O$3,$D81<0),0)","v":0},0,0,0,0,0,0,0,{"$f":"IF($A81=W$3,AND($A81=W$3,$D81<0),0)","v":0},0,{"$f":"IF($A81=Y$3,AND($A81=Y$3,$D81<0),0)","v":0},0,{"$f":"IF($A81=AA$3,AND($A81=AA$3,$D81<0),0)","v":0},0,{"$f":"IF($A81=AC$3,AND($A81=AC$3,$D81<0),0)","v":0},0,0]
[{"$f":"IF(B82=0,\"\",MONTH(B82))","v":""},null,null,null,{"$f":"IF(D82=\"\",\"\",IF(D82<0,\"DEBITO\",\"CREDITO\"))","v":""},null,false,false,0,{"$f":"IF($A82=I$3,AND($A82=I$3,$D82<0),0)","v":0},0,{"$f":"IF($A82=K$3,AND($A82=K$3,$D82<0),0)","v":0},0,{"$f":"IF($A82=M$3,AND($A82=M$3,$D82<0),0)","v":0},0,{"$f":"IF($A82=O$3,AND($A82=O$3,$D82<0),0)","v":0},0,0,0,0,0,0,0,{"$f":"IF($A82=W$3,AND($A82=W$3,$D82<0),0)","v":0},0,{"$f":"IF($A82=Y$3,AND($A82=Y$3,$D82<0),0)","v":0},0,{"$f":"IF($A82=AA$3,AND($A82=AA$3,$D82<0),0)","v":0},0,{"$f":"IF($A82=AC$3,AND($A82=AC$3,$D82<0),0)","v":0},0,0]
[{"$f":"IF(B83=0,\"\",MONTH(B83))","v":""},null,null,null,{"$f":"IF(D83=\"\",\"\",IF(D83<0,\"DEBITO\",\"CREDITO\"))","v":""},null,false,false,0,{"$f":"IF($A83=I$3,AND($A83=I$3,$D83<0),0)","v":0},0,{"$f":"IF($A83=K$3,AND($A83=K$3,$D83<0),0)","v":0},0,{"$f":"IF($A83=M$3,AND($A83=M$3,$D83<0),0)","v":0},0,{"$f":"IF($A83=O$3,AND($A83=O$3,$D83<0),0)","v":0},0,0,0,0,0,0,0,{"$f":"IF($A83=W$3,AND($A83=W$3,$D83<0),0)","v":0},0,{"$f":"IF($A83=Y$3,AND($A83=Y$3,$D83<0),0)","v":0},0,{"$f":"IF($A83=AA$3,AND($A83=AA$3,$D83<0),0)","v":0},0,{"$f":"IF($A83=AC$3,AND($A83=AC$3,$D83<0),0)","v":0},0,0]
[{"$f":"IF(B84=0,\"\",MONTH(B84))","v":""},null,null,null,{"$f":"IF(D84=\"\",\"\",IF(D84<0,\"DEBITO\",\"CREDITO\"))","v":""},null,false,false,0,{"$f":"IF($A84=I$3,AND($A84=I$3,$D84<0),0)","v":0},0,{"$f":"IF($A84=K$3,AND($A84=K$3,$D84<0),0)","v":0},0,{"$f":"IF($A84=M$3,AND($A84=M$3,$D84<0),0)","v":0},0,{"$f":"IF($A84=O$3,AND($A84=O$3,$D84<0),0)","v":0},0,0,0,0,0,0,0,{"$f":"IF($A84=W$3,AND($A84=W$3,$D84<0),0)","v":0},0,{"$f":"IF($A84=Y$3,AND($A84=Y$3,$D84<0),0)","v":0},0,{"$f":"IF($A84=AA$3,AND($A84=AA$3,$D84<0),0)","v":0},0,{"$f":"IF($A84=AC$3,AND($A84=AC$3,$D84<0),0)","v":0},0,0]
[{"$f":"IF(B85=0,\"\",MONTH(B85))","v":""},null,null,null,{"$f":"IF(D85=\"\",\"\",IF(D85<0,\"DEBITO\",\"CREDITO\"))","v":""},null,false,false,0,{"$f":"IF($A85=I$3,AND($A85=I$3,$D85<0),0)","v":0},0,{"$f":"IF($A85=K$3,AND($A85=K$3,$D85<0),0)","v":0},0,{"$f":"IF($A85=M$3,AND($A85=M$3,$D85<0),0)","v":0},0,{"$f":"IF($A85=O$3,AND($A85=O$3,$D85<0),0)","v":0},0,0,0,0,0,0,0,{"$f":"IF($A85=W$3,AND($A85=W$3,$D85<0),0)","v":0},0,{"$f":"IF($A85=Y$3,AND($A85=Y$3,$D85<0),0)","v":0},0,{"$f":"IF($A85=AA$3,AND($A85=AA$3,$D85<0),0)","v":0},0,{"$f":"IF($A85=AC$3,AND($A85=AC$3,$D85<0),0)","v":0},0,0]
[{"$f":"IF(B86=0,\"\",MONTH(B86))","v":""},null,null,null,{"$f":"IF(D86=\"\",\"\",IF(D86<0,\"DEBITO\",\"CREDITO\"))","v":""},null,false,false,0,{"$f":"IF($A86=I$3,AND($A86=I$3,$D86<0),0)","v":0},0,{"$f":"IF($A86=K$3,AND($A86=K$3,$D86<0),0)","v":0},0,{"$f":"IF($A86=M$3,AND($A86=M$3,$D86<0),0)","v":0},0,{"$f":"IF($A86=O$3,AND($A86=O$3,$D86<0),0)","v":0},0,0,0,0,0,0,0,{"$f":"IF($A86=W$3,AND($A86=W$3,$D86<0),0)","v":0},0,{"$f":"IF($A86=Y$3,AND($A86=Y$3,$D86<0),0)","v":0},0,{"$f":"IF($A86=AA$3,AND($A86=AA$3,$D86<0),0)","v":0},0,{"$f":"IF($A86=AC$3,AND($A86=AC$3,$D86<0),0)","v":0},0,0]
[{"$f":"IF(B87=0,\"\",MONTH(B87))","v":""},null,null,null,{"$f":"IF(D87=\"\",\"\",IF(D87<0,\"DEBITO\",\"CREDITO\"))","v":""},null,false,false,0,{"$f":"IF($A87=I$3,AND($A87=I$3,$D87<0),0)","v":0},0,{"$f":"IF($A87=K$3,AND($A87=K$3,$D87<0),0)","v":0},0,{"$f":"IF($A87=M$3,AND($A87=M$3,$D87<0),0)","v":0},0,{"$f":"IF($A87=O$3,AND($A87=O$3,$D87<0),0)","v":0},0,0,0,0,0,0,0,{"$f":"IF($A87=W$3,AND($A87=W$3,$D87<0),0)","v":0},0,{"$f":"IF($A87=Y$3,AND($A87=Y$3,$D87<0),0)","v":0},0,{"$f":"IF($A87=AA$3,AND($A87=AA$3,$D87<0),0)","v":0},0,{"$f":"IF($A87=AC$3,AND($A87=AC$3,$D87<0),0)","v":0},0,0]
[{"$f":"IF(B88=0,\"\",MONTH(B88))","v":""},null,null,null,{"$f":"IF(D88=\"\",\"\",IF(D88<0,\"DEBITO\",\"CREDITO\"))","v":""},null,false,false,0,{"$f":"IF($A88=I$3,AND($A88=I$3,$D88<0),0)","v":0},0,{"$f":"IF($A88=K$3,AND($A88=K$3,$D88<0),0)","v":0},0,{"$f":"IF($A88=M$3,AND($A88=M$3,$D88<0),0)","v":0},0,{"$f":"IF($A88=O$3,AND($A88=O$3,$D88<0),0)","v":0},0,0,0,0,0,0,0,{"$f":"IF($A88=W$3,AND($A88=W$3,$D88<0),0)","v":0},0,{"$f":"IF($A88=Y$3,AND($A88=Y$3,$D88<0),0)","v":0},0,{"$f":"IF($A88=AA$3,AND($A88=AA$3,$D88<0),0)","v":0},0,{"$f":"IF($A88=AC$3,AND($A88=AC$3,$D88<0),0)","v":0},0,0]
[{"$f":"IF(B89=0,\"\",MONTH(B89))","v":""},null,null,null,{"$f":"IF(D89=\"\",\"\",IF(D89<0,\"DEBITO\",\"CREDITO\"))","v":""},null,false,false,{"$f":"IF($A89=I$3,AND($A89=I$3,$D89>0),0)","v":0},{"$f":"IF($A89=I$3,AND($A89=I$3,$D89<0),0)","v":0},{"$f":"IF($A89=K$3,AND($A89=K$3,$D89>0),0)","v":0},{"$f":"IF($A89=K$3,AND($A89=K$3,$D89<0),0)","v":0},{"$f":"IF($A89=M$3,AND($A89=M$3,$D89>0),0)","v":0},{"$f":"IF($A89=M$3,AND($A89=M$3,$D89<0),0)","v":0},{"$f":"IF($A89=O$3,AND($A89=O$3,$D89>0),0)","v":0},{"$f":"IF($A89=O$3,AND($A89=O$3,$D89<0),0)","v":0},{"$f":"IF($A89=Q$3,AND($A89=Q$3,$D89>0),0)","v":0},0,0,0,0,0,{"$f":"IF($A89=W$3,AND($A89=W$3,$D89>0),0)","v":0},{"$f":"IF($A89=W$3,AND($A89=W$3,$D89<0),0)","v":0},{"$f":"IF($A89=Y$3,AND($A89=Y$3,$D89>0),0)","v":0},{"$f":"IF($A89=Y$3,AND($A89=Y$3,$D89<0),0)","v":0},{"$f":"IF($A89=AA$3,AND($A89=AA$3,$D89>0),0)","v":0},{"$f":"IF($A89=AA$3,AND($A89=AA$3,$D89<0),0)","v":0},{"$f":"IF($A89=AC$3,AND($A89=AC$3,$D89>0),0)","v":0},{"$f":"IF($A89=AC$3,AND($A89=AC$3,$D89<0),0)","v":0},{"$f":"IF($A89=AE$3,AND($A89=AE$3,$D89>0),0)","v":0},0]
[{"$f":"IF(B90=0,\"\",MONTH(B90))","v":""},null,null,null,{"$f":"IF(D90=\"\",\"\",IF(D90<0,\"DEBITO\",\"CREDITO\"))","v":""},null,false,false,0,{"$f":"IF($A90=I$3,AND($A90=I$3,$D90<0),0)","v":0},0,{"$f":"IF($A90=K$3,AND($A90=K$3,$D90<0),0)","v":0},0,{"$f":"IF($A90=M$3,AND($A90=M$3,$D90<0),0)","v":0},0,{"$f":"IF($A90=O$3,AND($A90=O$3,$D90<0),0)","v":0},0,0,0,0,0,0,0,{"$f":"IF($A90=W$3,AND($A90=W$3,$D90<0),0)","v":0},0,{"$f":"IF($A90=Y$3,AND($A90=Y$3,$D90<0),0)","v":0},0,{"$f":"IF($A90=AA$3,AND($A90=AA$3,$D90<0),0)","v":0},0,{"$f":"IF($A90=AC$3,AND($A90=AC$3,$D90<0),0)","v":0},0,0]
[{"$f":"IF(B91=0,\"\",MONTH(B91))","v":""},null,null,null,{"$f":"IF(D91=\"\",\"\",IF(D91<0,\"DEBITO\",\"CREDITO\"))","v":""},null,false,false,0,{"$f":"IF($A91=I$3,AND($A91=I$3,$D91<0),0)","v":0},0,{"$f":"IF($A91=K$3,AND($A91=K$3,$D91<0),0)","v":0},0,{"$f":"IF($A91=M$3,AND($A91=M$3,$D91<0),0)","v":0},0,{"$f":"IF($A91=O$3,AND($A91=O$3,$D91<0),0)","v":0},0,0,0,0,0,0,0,{"$f":"IF($A91=W$3,AND($A91=W$3,$D91<0),0)","v":0},0,{"$f":"IF($A91=Y$3,AND($A91=Y$3,$D91<0),0)","v":0},0,{"$f":"IF($A91=AA$3,AND($A91=AA$3,$D91<0),0)","v":0},0,{"$f":"IF($A91=AC$3,AND($A91=AC$3,$D91<0),0)","v":0},0,0]
[{"$f":"IF(B92=0,\"\",MONTH(B92))","v":""},null,null,null,{"$f":"IF(D92=\"\",\"\",IF(D92<0,\"DEBITO\",\"CREDITO\"))","v":""},null,false,false,0,{"$f":"IF($A92=I$3,AND($A92=I$3,$D92<0),0)","v":0},0,{"$f":"IF($A92=K$3,AND($A92=K$3,$D92<0),0)","v":0},0,{"$f":"IF($A92=M$3,AND($A92=M$3,$D92<0),0)","v":0},0,{"$f":"IF($A92=O$3,AND($A92=O$3,$D92<0),0)","v":0},0,0,0,0,0,0,0,{"$f":"IF($A92=W$3,AND($A92=W$3,$D92<0),0)","v":0},0,{"$f":"IF($A92=Y$3,AND($A92=Y$3,$D92<0),0)","v":0},0,{"$f":"IF($A92=AA$3,AND($A92=AA$3,$D92<0),0)","v":0},0,{"$f":"IF($A92=AC$3,AND($A92=AC$3,$D92<0),0)","v":0},0,0]
[{"$f":"IF(B93=0,\"\",MONTH(B93))","v":""},null,null,null,{"$f":"IF(D93=\"\",\"\",IF(D93<0,\"DEBITO\",\"CREDITO\"))","v":""},null,false,false,0,{"$f":"IF($A93=I$3,AND($A93=I$3,$D93<0),0)","v":0},0,{"$f":"IF($A93=K$3,AND($A93=K$3,$D93<0),0)","v":0},0,{"$f":"IF($A93=M$3,AND($A93=M$3,$D93<0),0)","v":0},0,{"$f":"IF($A93=O$3,AND($A93=O$3,$D93<0),0)","v":0},0,0,0,0,0,0,0,{"$f":"IF($A93=W$3,AND($A93=W$3,$D93<0),0)","v":0},0,{"$f":"IF($A93=Y$3,AND($A93=Y$3,$D93<0),0)","v":0},0,{"$f":"IF($A93=AA$3,AND($A93=AA$3,$D93<0),0)","v":0},0,{"$f":"IF($A93=AC$3,AND($A93=AC$3,$D93<0),0)","v":0},0,0]
[{"$f":"IF(B94=0,\"\",MONTH(B94))","v":""},null,null,null,{"$f":"IF(D94=\"\",\"\",IF(D94<0,\"DEBITO\",\"CREDITO\"))","v":""},null,false,false,0,{"$f":"IF($A94=I$3,AND($A94=I$3,$D94<0),0)","v":0},0,{"$f":"IF($A94=K$3,AND($A94=K$3,$D94<0),0)","v":0},0,{"$f":"IF($A94=M$3,AND($A94=M$3,$D94<0),0)","v":0},0,{"$f":"IF($A94=O$3,AND($A94=O$3,$D94<0),0)","v":0},0,0,0,0,0,0,0,{"$f":"IF($A94=W$3,AND($A94=W$3,$D94<0),0)","v":0},0,{"$f":"IF($A94=Y$3,AND($A94=Y$3,$D94<0),0)","v":0},0,{"$f":"IF($A94=AA$3,AND($A94=AA$3,$D94<0),0)","v":0},0,{"$f":"IF($A94=AC$3,AND($A94=AC$3,$D94<0),0)","v":0},0,0]
[{"$f":"IF(B95=0,\"\",MONTH(B95))","v":""},null,null,null,{"$f":"IF(D95=\"\",\"\",IF(D95<0,\"DEBITO\",\"CREDITO\"))","v":""},null,false,false,0,{"$f":"IF($A95=I$3,AND($A95=I$3,$D95<0),0)","v":0},0,{"$f":"IF($A95=K$3,AND($A95=K$3,$D95<0),0)","v":0},0,{"$f":"IF($A95=M$3,AND($A95=M$3,$D95<0),0)","v":0},0,{"$f":"IF($A95=O$3,AND($A95=O$3,$D95<0),0)","v":0},0,0,0,0,0,0,0,{"$f":"IF($A95=W$3,AND($A95=W$3,$D95<0),0)","v":0},0,{"$f":"IF($A95=Y$3,AND($A95=Y$3,$D95<0),0)","v":0},0,{"$f":"IF($A95=AA$3,AND($A95=AA$3,$D95<0),0)","v":0},0,{"$f":"IF($A95=AC$3,AND($A95=AC$3,$D95<0),0)","v":0},0,0]
[{"$f":"IF(B96=0,\"\",MONTH(B96))","v":""},null,null,null,{"$f":"IF(D96=\"\",\"\",IF(D96<0,\"DEBITO\",\"CREDITO\"))","v":""},null,false,false,0,{"$f":"IF($A96=I$3,AND($A96=I$3,$D96<0),0)","v":0},0,{"$f":"IF($A96=K$3,AND($A96=K$3,$D96<0),0)","v":0},0,{"$f":"IF($A96=M$3,AND($A96=M$3,$D96<0),0)","v":0},0,{"$f":"IF($A96=O$3,AND($A96=O$3,$D96<0),0)","v":0},0,0,0,0,0,0,0,{"$f":"IF($A96=W$3,AND($A96=W$3,$D96<0),0)","v":0},0,{"$f":"IF($A96=Y$3,AND($A96=Y$3,$D96<0),0)","v":0},0,{"$f":"IF($A96=AA$3,AND($A96=AA$3,$D96<0),0)","v":0},0,{"$f":"IF($A96=AC$3,AND($A96=AC$3,$D96<0),0)","v":0},0,0]
[{"$f":"IF(B97=0,\"\",MONTH(B97))","v":""},null,null,null,{"$f":"IF(D97=\"\",\"\",IF(D97<0,\"DEBITO\",\"CREDITO\"))","v":""},null,false,false,0,{"$f":"IF($A97=I$3,AND($A97=I$3,$D97<0),0)","v":0},0,{"$f":"IF($A97=K$3,AND($A97=K$3,$D97<0),0)","v":0},0,{"$f":"IF($A97=M$3,AND($A97=M$3,$D97<0),0)","v":0},0,{"$f":"IF($A97=O$3,AND($A97=O$3,$D97<0),0)","v":0},0,0,0,0,0,0,0,{"$f":"IF($A97=W$3,AND($A97=W$3,$D97<0),0)","v":0},0,{"$f":"IF($A97=Y$3,AND($A97=Y$3,$D97<0),0)","v":0},0,{"$f":"IF($A97=AA$3,AND($A97=AA$3,$D97<0),0)","v":0},0,{"$f":"IF($A97=AC$3,AND($A97=AC$3,$D97<0),0)","v":0},0,0]
[{"$f":"IF(B98=0,\"\",MONTH(B98))","v":""},null,null,null,{"$f":"IF(D98=\"\",\"\",IF(D98<0,\"DEBITO\",\"CREDITO\"))","v":""},null,false,false,0,{"$f":"IF($A98=I$3,AND($A98=I$3,$D98<0),0)","v":0},0,{"$f":"IF($A98=K$3,AND($A98=K$3,$D98<0),0)","v":0},0,{"$f":"IF($A98=M$3,AND($A98=M$3,$D98<0),0)","v":0},0,{"$f":"IF($A98=O$3,AND($A98=O$3,$D98<0),0)","v":0},0,0,0,0,0,0,0,{"$f":"IF($A98=W$3,AND($A98=W$3,$D98<0),0)","v":0},0,{"$f":"IF($A98=Y$3,AND($A98=Y$3,$D98<0),0)","v":0},0,{"$f":"IF($A98=AA$3,AND($A98=AA$3,$D98<0),0)","v":0},0,{"$f":"IF($A98=AC$3,AND($A98=AC$3,$D98<0),0)","v":0},0,0]
[{"$f":"IF(B99=0,\"\",MONTH(B99))","v":""},null,null,null,{"$f":"IF(D99=\"\",\"\",IF(D99<0,\"DEBITO\",\"CREDITO\"))","v":""},null,false,false,0,{"$f":"IF($A99=I$3,AND($A99=I$3,$D99<0),0)","v":0},0,{"$f":"IF($A99=K$3,AND($A99=K$3,$D99<0),0)","v":0},0,{"$f":"IF($A99=M$3,AND($A99=M$3,$D99<0),0)","v":0},0,{"$f":"IF($A99=O$3,AND($A99=O$3,$D99<0),0)","v":0},0,0,0,0,0,0,0,{"$f":"IF($A99=W$3,AND($A99=W$3,$D99<0),0)","v":0},0,{"$f":"IF($A99=Y$3,AND($A99=Y$3,$D99<0),0)","v":0},0,{"$f":"IF($A99=AA$3,AND($A99=AA$3,$D99<0),0)","v":0},0,{"$f":"IF($A99=AC$3,AND($A99=AC$3,$D99<0),0)","v":0},0,0]
[{"$f":"IF(B100=0,\"\",MONTH(B100))","v":""},null,null,null,{"$f":"IF(D100=\"\",\"\",IF(D100<0,\"DEBITO\",\"CREDITO\"))","v":""},null,false,false,0,{"$f":"IF($A100=I$3,AND($A100=I$3,$D100<0),0)","v":0},0,{"$f":"IF($A100=K$3,AND($A100=K$3,$D100<0),0)","v":0},0,{"$f":"IF($A100=M$3,AND($A100=M$3,$D100<0),0)","v":0},0,{"$f":"IF($A100=O$3,AND($A100=O$3,$D100<0),0)","v":0},0,0,0,0,0,0,0,{"$f":"IF($A100=W$3,AND($A100=W$3,$D100<0),0)","v":0},0,{"$f":"IF($A100=Y$3,AND($A100=Y$3,$D100<0),0)","v":0},0,{"$f":"IF($A100=AA$3,AND($A100=AA$3,$D100<0),0)","v":0},0,{"$f":"IF($A100=AC$3,AND($A100=AC$3,$D100<0),0)","v":0},0,0]
[{"$f":"IF(B101=0,\"\",MONTH(B101))","v":""},null,null,null,{"$f":"IF(D101=\"\",\"\",IF(D101<0,\"DEBITO\",\"CREDITO\"))","v":""},null,false,false,0,{"$f":"IF($A101=I$3,AND($A101=I$3,$D101<0),0)","v":0},0,{"$f":"IF($A101=K$3,AND($A101=K$3,$D101<0),0)","v":0},0,{"$f":"IF($A101=M$3,AND($A101=M$3,$D101<0),0)","v":0},0,{"$f":"IF($A101=O$3,AND($A101=O$3,$D101<0),0)","v":0},0,0,0,0,0,0,0,{"$f":"IF($A101=W$3,AND($A101=W$3,$D101<0),0)","v":0},0,{"$f":"IF($A101=Y$3,AND($A101=Y$3,$D101<0),0)","v":0},0,{"$f":"IF($A101=AA$3,AND($A101=AA$3,$D101<0),0)","v":0},0,{"$f":"IF($A101=AC$3,AND($A101=AC$3,$D101<0),0)","v":0},0,0]
[{"$f":"IF(B102=0,\"\",MONTH(B102))","v":""},null,null,null,{"$f":"IF(D102=\"\",\"\",IF(D102<0,\"DEBITO\",\"CREDITO\"))","v":""},null,false,false,0,{"$f":"IF($A102=I$3,AND($A102=I$3,$D102<0),0)","v":0},0,{"$f":"IF($A102=K$3,AND($A102=K$3,$D102<0),0)","v":0},0,{"$f":"IF($A102=M$3,AND($A102=M$3,$D102<0),0)","v":0},0,{"$f":"IF($A102=O$3,AND($A102=O$3,$D102<0),0)","v":0},0,0,0,0,0,0,0,{"$f":"IF($A102=W$3,AND($A102=W$3,$D102<0),0)","v":0},0,{"$f":"IF($A102=Y$3,AND($A102=Y$3,$D102<0),0)","v":0},0,{"$f":"IF($A102=AA$3,AND($A102=AA$3,$D102<0),0)","v":0},0,{"$f":"IF($A102=AC$3,AND($A102=AC$3,$D102<0),0)","v":0},0,0]
[{"$f":"IF(B103=0,\"\",MONTH(B103))","v":""},null,null,null,{"$f":"IF(D103=\"\",\"\",IF(D103<0,\"DEBITO\",\"CREDITO\"))","v":""},null,false,false,0,{"$f":"IF($A103=I$3,AND($A103=I$3,$D103<0),0)","v":0},0,{"$f":"IF($A103=K$3,AND($A103=K$3,$D103<0),0)","v":0},0,{"$f":"IF($A103=M$3,AND($A103=M$3,$D103<0),0)","v":0},0,{"$f":"IF($A103=O$3,AND($A103=O$3,$D103<0),0)","v":0},0,0,0,0,0,0,0,{"$f":"IF($A103=W$3,AND($A103=W$3,$D103<0),0)","v":0},0,{"$f":"IF($A103=Y$3,AND($A103=Y$3,$D103<0),0)","v":0},0,{"$f":"IF($A103=AA$3,AND($A103=AA$3,$D103<0),0)","v":0},0,{"$f":"IF($A103=AC$3,AND($A103=AC$3,$D103<0),0)","v":0},0,0]
[{"$f":"IF(B104=0,\"\",MONTH(B104))","v":""},null,null,null,{"$f":"IF(D104=\"\",\"\",IF(D104<0,\"DEBITO\",\"CREDITO\"))","v":""},null,false,false,0,{"$f":"IF($A104=I$3,AND($A104=I$3,$D104<0),0)","v":0},0,{"$f":"IF($A104=K$3,AND($A104=K$3,$D104<0),0)","v":0},0,{"$f":"IF($A104=M$3,AND($A104=M$3,$D104<0),0)","v":0},0,{"$f":"IF($A104=O$3,AND($A104=O$3,$D104<0),0)","v":0},0,0,0,0,0,0,0,{"$f":"IF($A104=W$3,AND($A104=W$3,$D104<0),0)","v":0},0,{"$f":"IF($A104=Y$3,AND($A104=Y$3,$D104<0),0)","v":0},0,{"$f":"IF($A104=AA$3,AND($A104=AA$3,$D104<0),0)","v":0},0,{"$f":"IF($A104=AC$3,AND($A104=AC$3,$D104<0),0)","v":0},0,0]
[{"$f":"IF(B105=0,\"\",MONTH(B105))","v":""},null,null,null,{"$f":"IF(D105=\"\",\"\",IF(D105<0,\"DEBITO\",\"CREDITO\"))","v":""},null,false,false,0,{"$f":"IF($A105=I$3,AND($A105=I$3,$D105<0),0)","v":0},0,{"$f":"IF($A105=K$3,AND($A105=K$3,$D105<0),0)","v":0},0,{"$f":"IF($A105=M$3,AND($A105=M$3,$D105<0),0)","v":0},0,{"$f":"IF($A105=O$3,AND($A105=O$3,$D105<0),0)","v":0},0,0,0,0,0,0,0,{"$f":"IF($A105=W$3,AND($A105=W$3,$D105<0),0)","v":0},0,{"$f":"IF($A105=Y$3,AND($A105=Y$3,$D105<0),0)","v":0},0,{"$f":"IF($A105=AA$3,AND($A105=AA$3,$D105<0),0)","v":0},0,{"$f":"IF($A105=AC$3,AND($A105=AC$3,$D105<0),0)","v":0},0,0]
[{"$f":"IF(B106=0,\"\",MONTH(B106))","v":""},null,null,null,{"$f":"IF(D106=\"\",\"\",IF(D106<0,\"DEBITO\",\"CREDITO\"))","v":""},null,false,false,0,{"$f":"IF($A106=I$3,AND($A106=I$3,$D106<0),0)","v":0},0,{"$f":"IF($A106=K$3,AND($A106=K$3,$D106<0),0)","v":0},0,{"$f":"IF($A106=M$3,AND($A106=M$3,$D106<0),0)","v":0},0,{"$f":"IF($A106=O$3,AND($A106=O$3,$D106<0),0)","v":0},0,0,0,0,0,0,0,{"$f":"IF($A106=W$3,AND($A106=W$3,$D106<0),0)","v":0},0,{"$f":"IF($A106=Y$3,AND($A106=Y$3,$D106<0),0)","v":0},0,{"$f":"IF($A106=AA$3,AND($A106=AA$3,$D106<0),0)","v":0},0,{"$f":"IF($A106=AC$3,AND($A106=AC$3,$D106<0),0)","v":0},0,0]
[{"$f":"IF(B107=0,\"\",MONTH(B107))","v":""},null,null,null,{"$f":"IF(D107=\"\",\"\",IF(D107<0,\"DEBITO\",\"CREDITO\"))","v":""},null,false,false,0,{"$f":"IF($A107=I$3,AND($A107=I$3,$D107<0),0)","v":0},0,{"$f":"IF($A107=K$3,AND($A107=K$3,$D107<0),0)","v":0},0,{"$f":"IF($A107=M$3,AND($A107=M$3,$D107<0),0)","v":0},0,{"$f":"IF($A107=O$3,AND($A107=O$3,$D107<0),0)","v":0},0,0,0,0,0,0,0,{"$f":"IF($A107=W$3,AND($A107=W$3,$D107<0),0)","v":0},0,{"$f":"IF($A107=Y$3,AND($A107=Y$3,$D107<0),0)","v":0},0,{"$f":"IF($A107=AA$3,AND($A107=AA$3,$D107<0),0)","v":0},0,{"$f":"IF($A107=AC$3,AND($A107=AC$3,$D107<0),0)","v":0},0,0]
[{"$f":"IF(B108=0,\"\",MONTH(B108))","v":""},null,null,null,{"$f":"IF(D108=\"\",\"\",IF(D108<0,\"DEBITO\",\"CREDITO\"))","v":""},null,false,false,0,{"$f":"IF($A108=I$3,AND($A108=I$3,$D108<0),0)","v":0},0,{"$f":"IF($A108=K$3,AND($A108=K$3,$D108<0),0)","v":0},0,{"$f":"IF($A108=M$3,AND($A108=M$3,$D108<0),0)","v":0},0,{"$f":"IF($A108=O$3,AND($A108=O$3,$D108<0),0)","v":0},0,0,0,0,0,0,0,{"$f":"IF($A108=W$3,AND($A108=W$3,$D108<0),0)","v":0},0,{"$f":"IF($A108=Y$3,AND($A108=Y$3,$D108<0),0)","v":0},0,{"$f":"IF($A108=AA$3,AND($A108=AA$3,$D108<0),0)","v":0},0,{"$f":"IF($A108=AC$3,AND($A108=AC$3,$D108<0),0)","v":0},0,0]
[{"$f":"IF(B109=0,\"\",MONTH(B109))","v":""},null,null,null,{"$f":"IF(D109=\"\",\"\",IF(D109<0,\"DEBITO\",\"CREDITO\"))","v":""},null,false,false,0,{"$f":"IF($A109=I$3,AND($A109=I$3,$D109<0),0)","v":0},0,{"$f":"IF($A109=K$3,AND($A109=K$3,$D109<0),0)","v":0},0,{"$f":"IF($A109=M$3,AND($A109=M$3,$D109<0),0)","v":0},0,{"$f":"IF($A109=O$3,AND($A109=O$3,$D109<0),0)","v":0},0,0,0,0,0,0,0,{"$f":"IF($A109=W$3,AND($A109=W$3,$D109<0),0)","v":0},0,{"$f":"IF($A109=Y$3,AND($A109=Y$3,$D109<0),0)","v":0},0,{"$f":"IF($A109=AA$3,AND($A109=AA$3,$D109<0),0)","v":0},0,{"$f":"IF($A109=AC$3,AND($A109=AC$3,$D109<0),0)","v":0},0,0]
[{"$f":"IF(B110=0,\"\",MONTH(B110))","v":""},null,null,null,{"$f":"IF(D110=\"\",\"\",IF(D110<0,\"DEBITO\",\"CREDITO\"))","v":""},null,false,false,0,{"$f":"IF($A110=I$3,AND($A110=I$3,$D110<0),0)","v":0},0,{"$f":"IF($A110=K$3,AND($A110=K$3,$D110<0),0)","v":0},0,{"$f":"IF($A110=M$3,AND($A110=M$3,$D110<0),0)","v":0},0,{"$f":"IF($A110=O$3,AND($A110=O$3,$D110<0),0)","v":0},0,0,0,0,0,0,0,{"$f":"IF($A110=W$3,AND($A110=W$3,$D110<0),0)","v":0},0,{"$f":"IF($A110=Y$3,AND($A110=Y$3,$D110<0),0)","v":0},0,{"$f":"IF($A110=AA$3,AND($A110=AA$3,$D110<0),0)","v":0},0,{"$f":"IF($A110=AC$3,AND($A110=AC$3,$D110<0),0)","v":0},0,0]
[{"$f":"IF(B111=0,\"\",MONTH(B111))","v":""},null,null,null,{"$f":"IF(D111=\"\",\"\",IF(D111<0,\"DEBITO\",\"CREDITO\"))","v":""},null,false,false,0,{"$f":"IF($A111=I$3,AND($A111=I$3,$D111<0),0)","v":0},0,{"$f":"IF($A111=K$3,AND($A111=K$3,$D111<0),0)","v":0},0,{"$f":"IF($A111=M$3,AND($A111=M$3,$D111<0),0)","v":0},0,{"$f":"IF($A111=O$3,AND($A111=O$3,$D111<0),0)","v":0},0,0,0,0,0,0,0,{"$f":"IF($A111=W$3,AND($A111=W$3,$D111<0),0)","v":0},0,{"$f":"IF($A111=Y$3,AND($A111=Y$3,$D111<0),0)","v":0},0,{"$f":"IF($A111=AA$3,AND($A111=AA$3,$D111<0),0)","v":0},0,{"$f":"IF($A111=AC$3,AND($A111=AC$3,$D111<0),0)","v":0},0,0]
[{"$f":"IF(B112=0,\"\",MONTH(B112))","v":""},null,null,null,{"$f":"IF(D112=\"\",\"\",IF(D112<0,\"DEBITO\",\"CREDITO\"))","v":""},null,false,false,0,{"$f":"IF($A112=I$3,AND($A112=I$3,$D112<0),0)","v":0},0,{"$f":"IF($A112=K$3,AND($A112=K$3,$D112<0),0)","v":0},0,{"$f":"IF($A112=M$3,AND($A112=M$3,$D112<0),0)","v":0},0,{"$f":"IF($A112=O$3,AND($A112=O$3,$D112<0),0)","v":0},0,0,0,0,0,0,0,{"$f":"IF($A112=W$3,AND($A112=W$3,$D112<0),0)","v":0},0,{"$f":"IF($A112=Y$3,AND($A112=Y$3,$D112<0),0)","v":0},0,{"$f":"IF($A112=AA$3,AND($A112=AA$3,$D112<0),0)","v":0},0,{"$f":"IF($A112=AC$3,AND($A112=AC$3,$D112<0),0)","v":0},0,0]
[{"$f":"IF(B113=0,\"\",MONTH(B113))","v":""},null,null,null,{"$f":"IF(D113=\"\",\"\",IF(D113<0,\"DEBITO\",\"CREDITO\"))","v":""},null,false,false,0,{"$f":"IF($A113=I$3,AND($A113=I$3,$D113<0),0)","v":0},0,{"$f":"IF($A113=K$3,AND($A113=K$3,$D113<0),0)","v":0},0,{"$f":"IF($A113=M$3,AND($A113=M$3,$D113<0),0)","v":0},0,{"$f":"IF($A113=O$3,AND($A113=O$3,$D113<0),0)","v":0},0,0,0,0,0,0,0,{"$f":"IF($A113=W$3,AND($A113=W$3,$D113<0),0)","v":0},0,{"$f":"IF($A113=Y$3,AND($A113=Y$3,$D113<0),0)","v":0},0,{"$f":"IF($A113=AA$3,AND($A113=AA$3,$D113<0),0)","v":0},0,{"$f":"IF($A113=AC$3,AND($A113=AC$3,$D113<0),0)","v":0},0,0]
[{"$f":"IF(B114=0,\"\",MONTH(B114))","v":""},null,null,null,{"$f":"IF(D114=\"\",\"\",IF(D114<0,\"DEBITO\",\"CREDITO\"))","v":""},null,false,false,0,{"$f":"IF($A114=I$3,AND($A114=I$3,$D114<0),0)","v":0},0,{"$f":"IF($A114=K$3,AND($A114=K$3,$D114<0),0)","v":0},0,{"$f":"IF($A114=M$3,AND($A114=M$3,$D114<0),0)","v":0},0,{"$f":"IF($A114=O$3,AND($A114=O$3,$D114<0),0)","v":0},0,0,0,0,0,0,0,{"$f":"IF($A114=W$3,AND($A114=W$3,$D114<0),0)","v":0},0,{"$f":"IF($A114=Y$3,AND($A114=Y$3,$D114<0),0)","v":0},0,{"$f":"IF($A114=AA$3,AND($A114=AA$3,$D114<0),0)","v":0},0,{"$f":"IF($A114=AC$3,AND($A114=AC$3,$D114<0),0)","v":0},0,0]
[{"$f":"IF(B115=0,\"\",MONTH(B115))","v":""},null,null,null,{"$f":"IF(D115=\"\",\"\",IF(D115<0,\"DEBITO\",\"CREDITO\"))","v":""},null,false,false,0,{"$f":"IF($A115=I$3,AND($A115=I$3,$D115<0),0)","v":0},0,{"$f":"IF($A115=K$3,AND($A115=K$3,$D115<0),0)","v":0},0,{"$f":"IF($A115=M$3,AND($A115=M$3,$D115<0),0)","v":0},0,{"$f":"IF($A115=O$3,AND($A115=O$3,$D115<0),0)","v":0},0,0,0,0,0,0,0,{"$f":"IF($A115=W$3,AND($A115=W$3,$D115<0),0)","v":0},0,{"$f":"IF($A115=Y$3,AND($A115=Y$3,$D115<0),0)","v":0},0,{"$f":"IF($A115=AA$3,AND($A115=AA$3,$D115<0),0)","v":0},0,{"$f":"IF($A115=AC$3,AND($A115=AC$3,$D115<0),0)","v":0},0,0]
[{"$f":"IF(B116=0,\"\",MONTH(B116))","v":""},null,null,null,{"$f":"IF(D116=\"\",\"\",IF(D116<0,\"DEBITO\",\"CREDITO\"))","v":""},null,false,false,0,{"$f":"IF($A116=I$3,AND($A116=I$3,$D116<0),0)","v":0},0,{"$f":"IF($A116=K$3,AND($A116=K$3,$D116<0),0)","v":0},0,{"$f":"IF($A116=M$3,AND($A116=M$3,$D116<0),0)","v":0},0,{"$f":"IF($A116=O$3,AND($A116=O$3,$D116<0),0)","v":0},0,0,0,0,0,0,0,{"$f":"IF($A116=W$3,AND($A116=W$3,$D116<0),0)","v":0},0,{"$f":"IF($A116=Y$3,AND($A116=Y$3,$D116<0),0)","v":0},0,{"$f":"IF($A116=AA$3,AND($A116=AA$3,$D116<0),0)","v":0},0,{"$f":"IF($A116=AC$3,AND($A116=AC$3,$D116<0),0)","v":0},0,0]
[{"$f":"IF(B117=0,\"\",MONTH(B117))","v":""},null,null,null,{"$f":"IF(D117=\"\",\"\",IF(D117<0,\"DEBITO\",\"CREDITO\"))","v":""},null,false,false,0,{"$f":"IF($A117=I$3,AND($A117=I$3,$D117<0),0)","v":0},0,{"$f":"IF($A117=K$3,AND($A117=K$3,$D117<0),0)","v":0},0,{"$f":"IF($A117=M$3,AND($A117=M$3,$D117<0),0)","v":0},0,{"$f":"IF($A117=O$3,AND($A117=O$3,$D117<0),0)","v":0},0,0,0,0,0,0,0,{"$f":"IF($A117=W$3,AND($A117=W$3,$D117<0),0)","v":0},0,{"$f":"IF($A117=Y$3,AND($A117=Y$3,$D117<0),0)","v":0},0,{"$f":"IF($A117=AA$3,AND($A117=AA$3,$D117<0),0)","v":0},0,{"$f":"IF($A117=AC$3,AND($A117=AC$3,$D117<0),0)","v":0},0,0]
[{"$f":"IF(B118=0,\"\",MONTH(B118))","v":""},null,null,null,{"$f":"IF(D118=\"\",\"\",IF(D118<0,\"DEBITO\",\"CREDITO\"))","v":""},null,false,false,0,{"$f":"IF($A118=I$3,AND($A118=I$3,$D118<0),0)","v":0},0,{"$f":"IF($A118=K$3,AND($A118=K$3,$D118<0),0)","v":0},0,{"$f":"IF($A118=M$3,AND($A118=M$3,$D118<0),0)","v":0},0,{"$f":"IF($A118=O$3,AND($A118=O$3,$D118<0),0)","v":0},0,0,0,0,0,0,0,{"$f":"IF($A118=W$3,AND($A118=W$3,$D118<0),0)","v":0},0,{"$f":"IF($A118=Y$3,AND($A118=Y$3,$D118<0),0)","v":0},0,{"$f":"IF($A118=AA$3,AND($A118=AA$3,$D118<0),0)","v":0},0,{"$f":"IF($A118=AC$3,AND($A118=AC$3,$D118<0),0)","v":0},0,0]
[{"$f":"IF(B119=0,\"\",MONTH(B119))","v":""},null,null,null,{"$f":"IF(D119=\"\",\"\",IF(D119<0,\"DEBITO\",\"CREDITO\"))","v":""},null,false,false,0,{"$f":"IF($A119=I$3,AND($A119=I$3,$D119<0),0)","v":0},0,{"$f":"IF($A119=K$3,AND($A119=K$3,$D119<0),0)","v":0},0,{"$f":"IF($A119=M$3,AND($A119=M$3,$D119<0),0)","v":0},0,{"$f":"IF($A119=O$3,AND($A119=O$3,$D119<0),0)","v":0},0,0,0,0,0,0,0,{"$f":"IF($A119=W$3,AND($A119=W$3,$D119<0),0)","v":0},0,{"$f":"IF($A119=Y$3,AND($A119=Y$3,$D119<0),0)","v":0},0,{"$f":"IF($A119=AA$3,AND($A119=AA$3,$D119<0),0)","v":0},0,{"$f":"IF($A119=AC$3,AND($A119=AC$3,$D119<0),0)","v":0},0,0]
[{"$f":"IF(B120=0,\"\",MONTH(B120))","v":""},null,null,null,{"$f":"IF(D120=\"\",\"\",IF(D120<0,\"DEBITO\",\"CREDITO\"))","v":""},null,false,false,0,{"$f":"IF($A120=I$3,AND($A120=I$3,$D120<0),0)","v":0},0,{"$f":"IF($A120=K$3,AND($A120=K$3,$D120<0),0)","v":0},0,{"$f":"IF($A120=M$3,AND($A120=M$3,$D120<0),0)","v":0},0,{"$f":"IF($A120=O$3,AND($A120=O$3,$D120<0),0)","v":0},0,0,0,0,0,0,0,{"$f":"IF($A120=W$3,AND($A120=W$3,$D120<0),0)","v":0},0,{"$f":"IF($A120=Y$3,AND($A120=Y$3,$D120<0),0)","v":0},0,{"$f":"IF($A120=AA$3,AND($A120=AA$3,$D120<0),0)","v":0},0,{"$f":"IF($A120=AC$3,AND($A120=AC$3,$D120<0),0)","v":0},0,0]
[{"$f":"IF(B121=0,\"\",MONTH(B121))","v":""},null,null,null,{"$f":"IF(D121=\"\",\"\",IF(D121<0,\"DEBITO\",\"CREDITO\"))","v":""},null,false,false,0,{"$f":"IF($A121=I$3,AND($A121=I$3,$D121<0),0)","v":0},0,{"$f":"IF($A121=K$3,AND($A121=K$3,$D121<0),0)","v":0},0,{"$f":"IF($A121=M$3,AND($A121=M$3,$D121<0),0)","v":0},0,{"$f":"IF($A121=O$3,AND($A121=O$3,$D121<0),0)","v":0},0,0,0,0,0,0,0,{"$f":"IF($A121=W$3,AND($A121=W$3,$D121<0),0)","v":0},0,{"$f":"IF($A121=Y$3,AND($A121=Y$3,$D121<0),0)","v":0},0,{"$f":"IF($A121=AA$3,AND($A121=AA$3,$D121<0),0)","v":0},0,{"$f":"IF($A121=AC$3,AND($A121=AC$3,$D121<0),0)","v":0},0,0]
[{"$f":"IF(B122=0,\"\",MONTH(B122))","v":""},null,null,null,{"$f":"IF(D122=\"\",\"\",IF(D122<0,\"DEBITO\",\"CREDITO\"))","v":""},null,false,false,0,{"$f":"IF($A122=I$3,AND($A122=I$3,$D122<0),0)","v":0},0,{"$f":"IF($A122=K$3,AND($A122=K$3,$D122<0),0)","v":0},0,{"$f":"IF($A122=M$3,AND($A122=M$3,$D122<0),0)","v":0},0,{"$f":"IF($A122=O$3,AND($A122=O$3,$D122<0),0)","v":0},0,0,0,0,0,0,0,{"$f":"IF($A122=W$3,AND($A122=W$3,$D122<0),0)","v":0},0,{"$f":"IF($A122=Y$3,AND($A122=Y$3,$D122<0),0)","v":0},0,{"$f":"IF($A122=AA$3,AND($A122=AA$3,$D122<0),0)","v":0},0,{"$f":"IF($A122=AC$3,AND($A122=AC$3,$D122<0),0)","v":0},0,0]
[{"$f":"IF(B123=0,\"\",MONTH(B123))","v":""},null,null,null,{"$f":"IF(D123=\"\",\"\",IF(D123<0,\"DEBITO\",\"CREDITO\"))","v":""},null,false,false,0,{"$f":"IF($A123=I$3,AND($A123=I$3,$D123<0),0)","v":0},0,{"$f":"IF($A123=K$3,AND($A123=K$3,$D123<0),0)","v":0},0,{"$f":"IF($A123=M$3,AND($A123=M$3,$D123<0),0)","v":0},0,{"$f":"IF($A123=O$3,AND($A123=O$3,$D123<0),0)","v":0},0,0,0,0,0,0,0,{"$f":"IF($A123=W$3,AND($A123=W$3,$D123<0),0)","v":0},0,{"$f":"IF($A123=Y$3,AND($A123=Y$3,$D123<0),0)","v":0},0,{"$f":"IF($A123=AA$3,AND($A123=AA$3,$D123<0),0)","v":0},0,{"$f":"IF($A123=AC$3,AND($A123=AC$3,$D123<0),0)","v":0},0,0]
[{"$f":"IF(B124=0,\"\",MONTH(B124))","v":""},null,null,null,{"$f":"IF(D124=\"\",\"\",IF(D124<0,\"DEBITO\",\"CREDITO\"))","v":""},null,false,false,0,{"$f":"IF($A124=I$3,AND($A124=I$3,$D124<0),0)","v":0},0,{"$f":"IF($A124=K$3,AND($A124=K$3,$D124<0),0)","v":0},0,{"$f":"IF($A124=M$3,AND($A124=M$3,$D124<0),0)","v":0},0,{"$f":"IF($A124=O$3,AND($A124=O$3,$D124<0),0)","v":0},0,0,0,0,0,0,0,{"$f":"IF($A124=W$3,AND($A124=W$3,$D124<0),0)","v":0},0,{"$f":"IF($A124=Y$3,AND($A124=Y$3,$D124<0),0)","v":0},0,{"$f":"IF($A124=AA$3,AND($A124=AA$3,$D124<0),0)","v":0},0,{"$f":"IF($A124=AC$3,AND($A124=AC$3,$D124<0),0)","v":0},0,0]
[{"$f":"IF(B125=0,\"\",MONTH(B125))","v":""},null,null,null,{"$f":"IF(D125=\"\",\"\",IF(D125<0,\"DEBITO\",\"CREDITO\"))","v":""},null,false,false,0,{"$f":"IF($A125=I$3,AND($A125=I$3,$D125<0),0)","v":0},0,{"$f":"IF($A125=K$3,AND($A125=K$3,$D125<0),0)","v":0},0,{"$f":"IF($A125=M$3,AND($A125=M$3,$D125<0),0)","v":0},0,{"$f":"IF($A125=O$3,AND($A125=O$3,$D125<0),0)","v":0},0,0,0,0,0,0,0,{"$f":"IF($A125=W$3,AND($A125=W$3,$D125<0),0)","v":0},0,{"$f":"IF($A125=Y$3,AND($A125=Y$3,$D125<0),0)","v":0},0,{"$f":"IF($A125=AA$3,AND($A125=AA$3,$D125<0),0)","v":0},0,{"$f":"IF($A125=AC$3,AND($A125=AC$3,$D125<0),0)","v":0},0,0]
[{"$f":"IF(B126=0,\"\",MONTH(B126))","v":""},null,null,null,{"$f":"IF(D126=\"\",\"\",IF(D126<0,\"DEBITO\",\"CREDITO\"))","v":""},null,false,false,0,{"$f":"IF($A126=I$3,AND($A126=I$3,$D126<0),0)","v":0},0,{"$f":"IF($A126=K$3,AND($A126=K$3,$D126<0),0)","v":0},0,{"$f":"IF($A126=M$3,AND($A126=M$3,$D126<0),0)","v":0},0,{"$f":"IF($A126=O$3,AND($A126=O$3,$D126<0),0)","v":0},0,0,0,0,0,0,0,{"$f":"IF($A126=W$3,AND($A126=W$3,$D126<0),0)","v":0},0,{"$f":"IF($A126=Y$3,AND($A126=Y$3,$D126<0),0)","v":0},0,{"$f":"IF($A126=AA$3,AND($A126=AA$3,$D126<0),0)","v":0},0,{"$f":"IF($A126=AC$3,AND($A126=AC$3,$D126<0),0)","v":0},0,0]
[{"$f":"IF(B127=0,\"\",MONTH(B127))","v":""},null,null,null,{"$f":"IF(D127=\"\",\"\",IF(D127<0,\"DEBITO\",\"CREDITO\"))","v":""},null,false,false,0,{"$f":"IF($A127=I$3,AND($A127=I$3,$D127<0),0)","v":0},0,{"$f":"IF($A127=K$3,AND($A127=K$3,$D127<0),0)","v":0},0,{"$f":"IF($A127=M$3,AND($A127=M$3,$D127<0),0)","v":0},0,{"$f":"IF($A127=O$3,AND($A127=O$3,$D127<0),0)","v":0},0,0,0,0,0,0,0,{"$f":"IF($A127=W$3,AND($A127=W$3,$D127<0),0)","v":0},0,{"$f":"IF($A127=Y$3,AND($A127=Y$3,$D127<0),0)","v":0},0,{"$f":"IF($A127=AA$3,AND($A127=AA$3,$D127<0),0)","v":0},0,{"$f":"IF($A127=AC$3,AND($A127=AC$3,$D127<0),0)","v":0},0,0]
[{"$f":"IF(B128=0,\"\",MONTH(B128))","v":""},null,null,null,{"$f":"IF(D128=\"\",\"\",IF(D128<0,\"DEBITO\",\"CREDITO\"))","v":""},null,false,false,0,{"$f":"IF($A128=I$3,AND($A128=I$3,$D128<0),0)","v":0},0,{"$f":"IF($A128=K$3,AND($A128=K$3,$D128<0),0)","v":0},0,{"$f":"IF($A128=M$3,AND($A128=M$3,$D128<0),0)","v":0},0,{"$f":"IF($A128=O$3,AND($A128=O$3,$D128<0),0)","v":0},0,0,0,0,0,0,0,{"$f":"IF($A128=W$3,AND($A128=W$3,$D128<0),0)","v":0},0,{"$f":"IF($A128=Y$3,AND($A128=Y$3,$D128<0),0)","v":0},0,{"$f":"IF($A128=AA$3,AND($A128=AA$3,$D128<0),0)","v":0},0,{"$f":"IF($A128=AC$3,AND($A128=AC$3,$D128<0),0)","v":0},0,0]
[{"$f":"IF(B129=0,\"\",MONTH(B129))","v":""},null,null,null,{"$f":"IF(D129=\"\",\"\",IF(D129<0,\"DEBITO\",\"CREDITO\"))","v":""},null,false,false,0,{"$f":"IF($A129=I$3,AND($A129=I$3,$D129<0),0)","v":0},0,{"$f":"IF($A129=K$3,AND($A129=K$3,$D129<0),0)","v":0},0,{"$f":"IF($A129=M$3,AND($A129=M$3,$D129<0),0)","v":0},0,{"$f":"IF($A129=O$3,AND($A129=O$3,$D129<0),0)","v":0},0,0,0,0,0,0,0,{"$f":"IF($A129=W$3,AND($A129=W$3,$D129<0),0)","v":0},0,{"$f":"IF($A129=Y$3,AND($A129=Y$3,$D129<0),0)","v":0},0,{"$f":"IF($A129=AA$3,AND($A129=AA$3,$D129<0),0)","v":0},0,{"$f":"IF($A129=AC$3,AND($A129=AC$3,$D129<0),0)","v":0},0,0]
[{"$f":"IF(B130=0,\"\",MONTH(B130))","v":""},null,null,null,{"$f":"IF(D130=\"\",\"\",IF(D130<0,\"DEBITO\",\"CREDITO\"))","v":""},null,false,false,0,{"$f":"IF($A130=I$3,AND($A130=I$3,$D130<0),0)","v":0},0,{"$f":"IF($A130=K$3,AND($A130=K$3,$D130<0),0)","v":0},0,{"$f":"IF($A130=M$3,AND($A130=M$3,$D130<0),0)","v":0},0,{"$f":"IF($A130=O$3,AND($A130=O$3,$D130<0),0)","v":0},0,0,0,0,0,0,0,{"$f":"IF($A130=W$3,AND($A130=W$3,$D130<0),0)","v":0},0,{"$f":"IF($A130=Y$3,AND($A130=Y$3,$D130<0),0)","v":0},0,{"$f":"IF($A130=AA$3,AND($A130=AA$3,$D130<0),0)","v":0},0,{"$f":"IF($A130=AC$3,AND($A130=AC$3,$D130<0),0)","v":0},0,0]
[{"$f":"IF(B131=0,\"\",MONTH(B131))","v":""},null,null,null,{"$f":"IF(D131=\"\",\"\",IF(D131<0,\"DEBITO\",\"CREDITO\"))","v":""},null,false,false,0,{"$f":"IF($A131=I$3,AND($A131=I$3,$D131<0),0)","v":0},0,{"$f":"IF($A131=K$3,AND($A131=K$3,$D131<0),0)","v":0},0,{"$f":"IF($A131=M$3,AND($A131=M$3,$D131<0),0)","v":0},0,{"$f":"IF($A131=O$3,AND($A131=O$3,$D131<0),0)","v":0},0,0,0,0,0,0,0,{"$f":"IF($A131=W$3,AND($A131=W$3,$D131<0),0)","v":0},0,{"$f":"IF($A131=Y$3,AND($A131=Y$3,$D131<0),0)","v":0},0,{"$f":"IF($A131=AA$3,AND($A131=AA$3,$D131<0),0)","v":0},0,{"$f":"IF($A131=AC$3,AND($A131=AC$3,$D131<0),0)","v":0},0,0]
[{"$f":"IF(B132=0,\"\",MONTH(B132))","v":""},null,null,null,{"$f":"IF(D132=\"\",\"\",IF(D132<0,\"DEBITO\",\"CREDITO\"))","v":""},null,false,false,0,{"$f":"IF($A132=I$3,AND($A132=I$3,$D132<0),0)","v":0},0,{"$f":"IF($A132=K$3,AND($A132=K$3,$D132<0),0)","v":0},0,{"$f":"IF($A132=M$3,AND($A132=M$3,$D132<0),0)","v":0},0,{"$f":"IF($A132=O$3,AND($A132=O$3,$D132<0),0)","v":0},0,0,0,0,0,0,0,{"$f":"IF($A132=W$3,AND($A132=W$3,$D132<0),0)","v":0},0,{"$f":"IF($A132=Y$3,AND($A132=Y$3,$D132<0),0)","v":0},0,{"$f":"IF($A132=AA$3,AND($A132=AA$3,$D132<0),0)","v":0},0,{"$f":"IF($A132=AC$3,AND($A132=AC$3,$D132<0),0)","v":0},0,0]
[{"$f":"IF(B133=0,\"\",MONTH(B133))","v":""},null,null,null,{"$f":"IF(D133=\"\",\"\",IF(D133<0,\"DEBITO\",\"CREDITO\"))","v":""},null,false,false,0,{"$f":"IF($A133=I$3,AND($A133=I$3,$D133<0),0)","v":0},0,{"$f":"IF($A133=K$3,AND($A133=K$3,$D133<0),0)","v":0},0,{"$f":"IF($A133=M$3,AND($A133=M$3,$D133<0),0)","v":0},0,{"$f":"IF($A133=O$3,AND($A133=O$3,$D133<0),0)","v":0},0,0,0,0,0,0,0,{"$f":"IF($A133=W$3,AND($A133=W$3,$D133<0),0)","v":0},0,{"$f":"IF($A133=Y$3,AND($A133=Y$3,$D133<0),0)","v":0},0,{"$f":"IF($A133=AA$3,AND($A133=AA$3,$D133<0),0)","v":0},0,{"$f":"IF($A133=AC$3,AND($A133=AC$3,$D133<0),0)","v":0},0,0]
[{"$f":"IF(B134=0,\"\",MONTH(B134))","v":""},null,null,null,{"$f":"IF(D134=\"\",\"\",IF(D134<0,\"DEBITO\",\"CREDITO\"))","v":""},null,false,false,0,{"$f":"IF($A134=I$3,AND($A134=I$3,$D134<0),0)","v":0},0,{"$f":"IF($A134=K$3,AND($A134=K$3,$D134<0),0)","v":0},0,{"$f":"IF($A134=M$3,AND($A134=M$3,$D134<0),0)","v":0},0,{"$f":"IF($A134=O$3,AND($A134=O$3,$D134<0),0)","v":0},0,0,0,0,0,0,0,{"$f":"IF($A134=W$3,AND($A134=W$3,$D134<0),0)","v":0},0,{"$f":"IF($A134=Y$3,AND($A134=Y$3,$D134<0),0)","v":0},0,{"$f":"IF($A134=AA$3,AND($A134=AA$3,$D134<0),0)","v":0},0,{"$f":"IF($A134=AC$3,AND($A134=AC$3,$D134<0),0)","v":0},0,0]
[{"$f":"IF(B135=0,\"\",MONTH(B135))","v":""},null,null,null,{"$f":"IF(D135=\"\",\"\",IF(D135<0,\"DEBITO\",\"CREDITO\"))","v":""},null,false,false,0,{"$f":"IF($A135=I$3,AND($A135=I$3,$D135<0),0)","v":0},0,{"$f":"IF($A135=K$3,AND($A135=K$3,$D135<0),0)","v":0},0,{"$f":"IF($A135=M$3,AND($A135=M$3,$D135<0),0)","v":0},0,{"$f":"IF($A135=O$3,AND($A135=O$3,$D135<0),0)","v":0},0,0,0,0,0,0,0,{"$f":"IF($A135=W$3,AND($A135=W$3,$D135<0),0)","v":0},0,{"$f":"IF($A135=Y$3,AND($A135=Y$3,$D135<0),0)","v":0},0,{"$f":"IF($A135=AA$3,AND($A135=AA$3,$D135<0),0)","v":0},0,{"$f":"IF($A135=AC$3,AND($A135=AC$3,$D135<0),0)","v":0},0,0]
[{"$f":"IF(B136=0,\"\",MONTH(B136))","v":""},null,null,null,{"$f":"IF(D136=\"\",\"\",IF(D136<0,\"DEBITO\",\"CREDITO\"))","v":""},null,false,false,0,{"$f":"IF($A136=I$3,AND($A136=I$3,$D136<0),0)","v":0},0,{"$f":"IF($A136=K$3,AND($A136=K$3,$D136<0),0)","v":0},0,{"$f":"IF($A136=M$3,AND($A136=M$3,$D136<0),0)","v":0},0,{"$f":"IF($A136=O$3,AND($A136=O$3,$D136<0),0)","v":0},0,0,0,0,0,0,0,{"$f":"IF($A136=W$3,AND($A136=W$3,$D136<0),0)","v":0},0,{"$f":"IF($A136=Y$3,AND($A136=Y$3,$D136<0),0)","v":0},0,{"$f":"IF($A136=AA$3,AND($A136=AA$3,$D136<0),0)","v":0},0,{"$f":"IF($A136=AC$3,AND($A136=AC$3,$D136<0),0)","v":0},0,0]
[{"$f":"IF(B137=0,\"\",MONTH(B137))","v":""},null,null,null,{"$f":"IF(D137=\"\",\"\",IF(D137<0,\"DEBITO\",\"CREDITO\"))","v":""},null,{"$f":"AND(A137=$E$3,D137>0)","v":false},{"$f":"AND(A137=$E$3,D137<0)","v":false},0,{"$f":"IF($A137=I$3,AND($A137=I$3,$D137<0),0)","v":0},0,{"$f":"IF($A137=K$3,AND($A137=K$3,$D137<0),0)","v":0},0,{"$f":"IF($A137=M$3,AND($A137=M$3,$D137<0),0)","v":0},0,{"$f":"IF($A137=O$3,AND($A137=O$3,$D137<0),0)","v":0},0,{"$f":"IF($A137=Q$3,AND($A137=Q$3,$D137<0),0)","v":0},0,0,0,0,0,{"$f":"IF($A137=W$3,AND($A137=W$3,$D137<0),0)","v":0},0,{"$f":"IF($A137=Y$3,AND($A137=Y$3,$D137<0),0)","v":0},0,{"$f":"IF($A137=AA$3,AND($A137=AA$3,$D137<0),0)","v":0},0,{"$f":"IF($A137=AC$3,AND($A137=AC$3,$D137<0),0)","v":0},0,{"$f":"IF($A137=AE$3,AND($A137=AE$3,$D137<0),0)","v":0}]
[{"$f":"IF(B138=0,\"\",MONTH(B138))","v":""},null,null,null,{"$f":"IF(D138=\"\",\"\",IF(D138<0,\"DEBITO\",\"CREDITO\"))","v":""},null,false,false,0,{"$f":"IF($A138=I$3,AND($A138=I$3,$D138<0),0)","v":0},0,{"$f":"IF($A138=K$3,AND($A138=K$3,$D138<0),0)","v":0},0,{"$f":"IF($A138=M$3,AND($A138=M$3,$D138<0),0)","v":0},0,{"$f":"IF($A138=O$3,AND($A138=O$3,$D138<0),0)","v":0},0,0,{"$f":"IF($A138=S$3,AND($A138=S$3,$D138>0),0)","v":0},{"$f":"IF($A138=S$3,AND($A138=S$3,$D138<0),0)","v":0},{"$f":"IF($A138=U$3,AND($A138=U$3,$D138>0),0)","v":0},{"$f":"IF($A138=U$3,AND($A138=U$3,$D138<0),0)","v":0},0,{"$f":"IF($A138=W$3,AND($A138=W$3,$D138<0),0)","v":0},0,{"$f":"IF($A138=Y$3,AND($A138=Y$3,$D138<0),0)","v":0},0,{"$f":"IF($A138=AA$3,AND($A138=AA$3,$D138<0),0)","v":0},0,{"$f":"IF($A138=AC$3,AND($A138=AC$3,$D138<0),0)","v":0},0,0]
[{"$f":"IF(B139=0,\"\",MONTH(B139))","v":""},null,null,null,{"$f":"IF(D139=\"\",\"\",IF(D139<0,\"DEBITO\",\"CREDITO\"))","v":""},null,false,false,0,{"$f":"IF($A139=I$3,AND($A139=I$3,$D139<0),0)","v":0},0,{"$f":"IF($A139=K$3,AND($A139=K$3,$D139<0),0)","v":0},0,{"$f":"IF($A139=M$3,AND($A139=M$3,$D139<0),0)","v":0},0,{"$f":"IF($A139=O$3,AND($A139=O$3,$D139<0),0)","v":0},0,0,0,0,0,0,0,{"$f":"IF($A139=W$3,AND($A139=W$3,$D139<0),0)","v":0},0,{"$f":"IF($A139=Y$3,AND($A139=Y$3,$D139<0),0)","v":0},0,{"$f":"IF($A139=AA$3,AND($A139=AA$3,$D139<0),0)","v":0},0,{"$f":"IF($A139=AC$3,AND($A139=AC$3,$D139<0),0)","v":0},0,0]
[{"$f":"IF(B140=0,\"\",MONTH(B140))","v":""},null,null,null,{"$f":"IF(D140=\"\",\"\",IF(D140<0,\"DEBITO\",\"CREDITO\"))","v":""},null,false,false,0,{"$f":"IF($A140=I$3,AND($A140=I$3,$D140<0),0)","v":0},0,{"$f":"IF($A140=K$3,AND($A140=K$3,$D140<0),0)","v":0},0,{"$f":"IF($A140=M$3,AND($A140=M$3,$D140<0),0)","v":0},0,{"$f":"IF($A140=O$3,AND($A140=O$3,$D140<0),0)","v":0},0,0,0,0,0,0,0,{"$f":"IF($A140=W$3,AND($A140=W$3,$D140<0),0)","v":0},0,{"$f":"IF($A140=Y$3,AND($A140=Y$3,$D140<0),0)","v":0},0,{"$f":"IF($A140=AA$3,AND($A140=AA$3,$D140<0),0)","v":0},0,{"$f":"IF($A140=AC$3,AND($A140=AC$3,$D140<0),0)","v":0},0,0]
[{"$f":"IF(B141=0,\"\",MONTH(B141))","v":""},null,null,null,{"$f":"IF(D141=\"\",\"\",IF(D141<0,\"DEBITO\",\"CREDITO\"))","v":""},null,false,false,0,{"$f":"IF($A141=I$3,AND($A141=I$3,$D141<0),0)","v":0},0,{"$f":"IF($A141=K$3,AND($A141=K$3,$D141<0),0)","v":0},0,{"$f":"IF($A141=M$3,AND($A141=M$3,$D141<0),0)","v":0},0,{"$f":"IF($A141=O$3,AND($A141=O$3,$D141<0),0)","v":0},0,0,0,0,0,0,0,{"$f":"IF($A141=W$3,AND($A141=W$3,$D141<0),0)","v":0},0,{"$f":"IF($A141=Y$3,AND($A141=Y$3,$D141<0),0)","v":0},0,{"$f":"IF($A141=AA$3,AND($A141=AA$3,$D141<0),0)","v":0},0,{"$f":"IF($A141=AC$3,AND($A141=AC$3,$D141<0),0)","v":0},0,0]
[{"$f":"IF(B142=0,\"\",MONTH(B142))","v":""},null,null,null,{"$f":"IF(D142=\"\",\"\",IF(D142<0,\"DEBITO\",\"CREDITO\"))","v":""},null,false,false,0,{"$f":"IF($A142=I$3,AND($A142=I$3,$D142<0),0)","v":0},0,{"$f":"IF($A142=K$3,AND($A142=K$3,$D142<0),0)","v":0},0,{"$f":"IF($A142=M$3,AND($A142=M$3,$D142<0),0)","v":0},0,{"$f":"IF($A142=O$3,AND($A142=O$3,$D142<0),0)","v":0},0,0,0,0,0,0,0,{"$f":"IF($A142=W$3,AND($A142=W$3,$D142<0),0)","v":0},0,{"$f":"IF($A142=Y$3,AND($A142=Y$3,$D142<0),0)","v":0},0,{"$f":"IF($A142=AA$3,AND($A142=AA$3,$D142<0),0)","v":0},0,{"$f":"IF($A142=AC$3,AND($A142=AC$3,$D142<0),0)","v":0},0,0]
[{"$f":"IF(B143=0,\"\",MONTH(B143))","v":""},null,null,null,{"$f":"IF(D143=\"\",\"\",IF(D143<0,\"DEBITO\",\"CREDITO\"))","v":""},null,false,false,0,{"$f":"IF($A143=I$3,AND($A143=I$3,$D143<0),0)","v":0},0,{"$f":"IF($A143=K$3,AND($A143=K$3,$D143<0),0)","v":0},0,{"$f":"IF($A143=M$3,AND($A143=M$3,$D143<0),0)","v":0},0,{"$f":"IF($A143=O$3,AND($A143=O$3,$D143<0),0)","v":0},0,0,0,0,0,0,0,{"$f":"IF($A143=W$3,AND($A143=W$3,$D143<0),0)","v":0},0,{"$f":"IF($A143=Y$3,AND($A143=Y$3,$D143<0),0)","v":0},0,{"$f":"IF($A143=AA$3,AND($A143=AA$3,$D143<0),0)","v":0},0,{"$f":"IF($A143=AC$3,AND($A143=AC$3,$D143<0),0)","v":0},0,0]
[{"$f":"IF(B144=0,\"\",MONTH(B144))","v":""},null,null,null,{"$f":"IF(D144=\"\",\"\",IF(D144<0,\"DEBITO\",\"CREDITO\"))","v":""},null,false,false,0,{"$f":"IF($A144=I$3,AND($A144=I$3,$D144<0),0)","v":0},0,{"$f":"IF($A144=K$3,AND($A144=K$3,$D144<0),0)","v":0},0,{"$f":"IF($A144=M$3,AND($A144=M$3,$D144<0),0)","v":0},0,{"$f":"IF($A144=O$3,AND($A144=O$3,$D144<0),0)","v":0},0,0,0,0,0,0,0,{"$f":"IF($A144=W$3,AND($A144=W$3,$D144<0),0)","v":0},0,{"$f":"IF($A144=Y$3,AND($A144=Y$3,$D144<0),0)","v":0},0,{"$f":"IF($A144=AA$3,AND($A144=AA$3,$D144<0),0)","v":0},0,{"$f":"IF($A144=AC$3,AND($A144=AC$3,$D144<0),0)","v":0},0,0]
[{"$f":"IF(B145=0,\"\",MONTH(B145))","v":""},null,null,null,{"$f":"IF(D145=\"\",\"\",IF(D145<0,\"DEBITO\",\"CREDITO\"))","v":""},null,false,false,0,{"$f":"IF($A145=I$3,AND($A145=I$3,$D145<0),0)","v":0},0,{"$f":"IF($A145=K$3,AND($A145=K$3,$D145<0),0)","v":0},0,{"$f":"IF($A145=M$3,AND($A145=M$3,$D145<0),0)","v":0},0,{"$f":"IF($A145=O$3,AND($A145=O$3,$D145<0),0)","v":0},0,0,0,0,0,0,0,{"$f":"IF($A145=W$3,AND($A145=W$3,$D145<0),0)","v":0},0,{"$f":"IF($A145=Y$3,AND($A145=Y$3,$D145<0),0)","v":0},0,{"$f":"IF($A145=AA$3,AND($A145=AA$3,$D145<0),0)","v":0},0,{"$f":"IF($A145=AC$3,AND($A145=AC$3,$D145<0),0)","v":0},0,0]
[{"$f":"IF(B146=0,\"\",MONTH(B146))","v":""},null,null,null,{"$f":"IF(D146=\"\",\"\",IF(D146<0,\"DEBITO\",\"CREDITO\"))","v":""},null,false,false,0,{"$f":"IF($A146=I$3,AND($A146=I$3,$D146<0),0)","v":0},0,{"$f":"IF($A146=K$3,AND($A146=K$3,$D146<0),0)","v":0},0,{"$f":"IF($A146=M$3,AND($A146=M$3,$D146<0),0)","v":0},0,{"$f":"IF($A146=O$3,AND($A146=O$3,$D146<0),0)","v":0},0,0,0,0,0,0,0,{"$f":"IF($A146=W$3,AND($A146=W$3,$D146<0),0)","v":0},0,{"$f":"IF($A146=Y$3,AND($A146=Y$3,$D146<0),0)","v":0},0,{"$f":"IF($A146=AA$3,AND($A146=AA$3,$D146<0),0)","v":0},0,{"$f":"IF($A146=AC$3,AND($A146=AC$3,$D146<0),0)","v":0},0,0]
[{"$f":"IF(B147=0,\"\",MONTH(B147))","v":""},null,null,null,{"$f":"IF(D147=\"\",\"\",IF(D147<0,\"DEBITO\",\"CREDITO\"))","v":""},null,false,false,0,{"$f":"IF($A147=I$3,AND($A147=I$3,$D147<0),0)","v":0},0,{"$f":"IF($A147=K$3,AND($A147=K$3,$D147<0),0)","v":0},0,{"$f":"IF($A147=M$3,AND($A147=M$3,$D147<0),0)","v":0},0,{"$f":"IF($A147=O$3,AND($A147=O$3,$D147<0),0)","v":0},0,0,0,0,0,0,0,{"$f":"IF($A147=W$3,AND($A147=W$3,$D147<0),0)","v":0},0,{"$f":"IF($A147=Y$3,AND($A147=Y$3,$D147<0),0)","v":0},0,{"$f":"IF($A147=AA$3,AND($A147=AA$3,$D147<0),0)","v":0},0,{"$f":"IF($A147=AC$3,AND($A147=AC$3,$D147<0),0)","v":0},0,0]
[{"$f":"IF(B148=0,\"\",MONTH(B148))","v":""},null,null,null,{"$f":"IF(D148=\"\",\"\",IF(D148<0,\"DEBITO\",\"CREDITO\"))","v":""},null,false,false,0,{"$f":"IF($A148=I$3,AND($A148=I$3,$D148<0),0)","v":0},0,{"$f":"IF($A148=K$3,AND($A148=K$3,$D148<0),0)","v":0},0,{"$f":"IF($A148=M$3,AND($A148=M$3,$D148<0),0)","v":0},0,{"$f":"IF($A148=O$3,AND($A148=O$3,$D148<0),0)","v":0},0,0,0,0,0,0,0,{"$f":"IF($A148=W$3,AND($A148=W$3,$D148<0),0)","v":0},0,{"$f":"IF($A148=Y$3,AND($A148=Y$3,$D148<0),0)","v":0},0,{"$f":"IF($A148=AA$3,AND($A148=AA$3,$D148<0),0)","v":0},0,{"$f":"IF($A148=AC$3,AND($A148=AC$3,$D148<0),0)","v":0},0,0]
[{"$f":"IF(B149=0,\"\",MONTH(B149))","v":""},null,null,null,{"$f":"IF(D149=\"\",\"\",IF(D149<0,\"DEBITO\",\"CREDITO\"))","v":""},null,false,false,0,{"$f":"IF($A149=I$3,AND($A149=I$3,$D149<0),0)","v":0},0,{"$f":"IF($A149=K$3,AND($A149=K$3,$D149<0),0)","v":0},0,{"$f":"IF($A149=M$3,AND($A149=M$3,$D149<0),0)","v":0},0,{"$f":"IF($A149=O$3,AND($A149=O$3,$D149<0),0)","v":0},0,0,0,0,0,0,0,{"$f":"IF($A149=W$3,AND($A149=W$3,$D149<0),0)","v":0},0,{"$f":"IF($A149=Y$3,AND($A149=Y$3,$D149<0),0)","v":0},0,{"$f":"IF($A149=AA$3,AND($A149=AA$3,$D149<0),0)","v":0},0,{"$f":"IF($A149=AC$3,AND($A149=AC$3,$D149<0),0)","v":0},0,0]
[{"$f":"IF(B150=0,\"\",MONTH(B150))","v":""},null,null,null,{"$f":"IF(D150=\"\",\"\",IF(D150<0,\"DEBITO\",\"CREDITO\"))","v":""},null,false,false,0,{"$f":"IF($A150=I$3,AND($A150=I$3,$D150<0),0)","v":0},0,{"$f":"IF($A150=K$3,AND($A150=K$3,$D150<0),0)","v":0},0,{"$f":"IF($A150=M$3,AND($A150=M$3,$D150<0),0)","v":0},0,{"$f":"IF($A150=O$3,AND($A150=O$3,$D150<0),0)","v":0},0,0,0,0,0,0,0,{"$f":"IF($A150=W$3,AND($A150=W$3,$D150<0),0)","v":0},0,{"$f":"IF($A150=Y$3,AND($A150=Y$3,$D150<0),0)","v":0},0,{"$f":"IF($A150=AA$3,AND($A150=AA$3,$D150<0),0)","v":0},0,{"$f":"IF($A150=AC$3,AND($A150=AC$3,$D150<0),0)","v":0},0,0]
[{"$f":"IF(B151=0,\"\",MONTH(B151))","v":""},null,null,null,{"$f":"IF(D151=\"\",\"\",IF(D151<0,\"DEBITO\",\"CREDITO\"))","v":""},null,false,false,0,{"$f":"IF($A151=I$3,AND($A151=I$3,$D151<0),0)","v":0},0,{"$f":"IF($A151=K$3,AND($A151=K$3,$D151<0),0)","v":0},0,{"$f":"IF($A151=M$3,AND($A151=M$3,$D151<0),0)","v":0},0,{"$f":"IF($A151=O$3,AND($A151=O$3,$D151<0),0)","v":0},0,0,0,0,0,0,0,{"$f":"IF($A151=W$3,AND($A151=W$3,$D151<0),0)","v":0},0,{"$f":"IF($A151=Y$3,AND($A151=Y$3,$D151<0),0)","v":0},0,{"$f":"IF($A151=AA$3,AND($A151=AA$3,$D151<0),0)","v":0},0,{"$f":"IF($A151=AC$3,AND($A151=AC$3,$D151<0),0)","v":0},0,0]
[{"$f":"IF(B152=0,\"\",MONTH(B152))","v":""},null,null,null,{"$f":"IF(D152=\"\",\"\",IF(D152<0,\"DEBITO\",\"CREDITO\"))","v":""},null,false,false,0,{"$f":"IF($A152=I$3,AND($A152=I$3,$D152<0),0)","v":0},0,{"$f":"IF($A152=K$3,AND($A152=K$3,$D152<0),0)","v":0},0,{"$f":"IF($A152=M$3,AND($A152=M$3,$D152<0),0)","v":0},0,{"$f":"IF($A152=O$3,AND($A152=O$3,$D152<0),0)","v":0},0,0,0,0,0,0,0,{"$f":"IF($A152=W$3,AND($A152=W$3,$D152<0),0)","v":0},0,{"$f":"IF($A152=Y$3,AND($A152=Y$3,$D152<0),0)","v":0},0,{"$f":"IF($A152=AA$3,AND($A152=AA$3,$D152<0),0)","v":0},0,{"$f":"IF($A152=AC$3,AND($A152=AC$3,$D152<0),0)","v":0},0,0]
[{"$f":"IF(B153=0,\"\",MONTH(B153))","v":""},null,null,null,{"$f":"IF(D153=\"\",\"\",IF(D153<0,\"DEBITO\",\"CREDITO\"))","v":""},null,false,false,{"$f":"IF($A153=I$3,AND($A153=I$3,$D153>0),0)","v":0},{"$f":"IF($A153=I$3,AND($A153=I$3,$D153<0),0)","v":0},{"$f":"IF($A153=K$3,AND($A153=K$3,$D153>0),0)","v":0},{"$f":"IF($A153=K$3,AND($A153=K$3,$D153<0),0)","v":0},{"$f":"IF($A153=M$3,AND($A153=M$3,$D153>0),0)","v":0},{"$f":"IF($A153=M$3,AND($A153=M$3,$D153<0),0)","v":0},{"$f":"IF($A153=O$3,AND($A153=O$3,$D153>0),0)","v":0},{"$f":"IF($A153=O$3,AND($A153=O$3,$D153<0),0)","v":0},{"$f":"IF($A153=Q$3,AND($A153=Q$3,$D153>0),0)","v":0},0,0,0,0,0,{"$f":"IF($A153=W$3,AND($A153=W$3,$D153>0),0)","v":0},{"$f":"IF($A153=W$3,AND($A153=W$3,$D153<0),0)","v":0},{"$f":"IF($A153=Y$3,AND($A153=Y$3,$D153>0),0)","v":0},{"$f":"IF($A153=Y$3,AND($A153=Y$3,$D153<0),0)","v":0},{"$f":"IF($A153=AA$3,AND($A153=AA$3,$D153>0),0)","v":0},{"$f":"IF($A153=AA$3,AND($A153=AA$3,$D153<0),0)","v":0},{"$f":"IF($A153=AC$3,AND($A153=AC$3,$D153>0),0)","v":0},{"$f":"IF($A153=AC$3,AND($A153=AC$3,$D153<0),0)","v":0},{"$f":"IF($A153=AE$3,AND($A153=AE$3,$D153>0),0)","v":0},0]
[{"$f":"IF(B154=0,\"\",MONTH(B154))","v":""},null,null,null,{"$f":"IF(D154=\"\",\"\",IF(D154<0,\"DEBITO\",\"CREDITO\"))","v":""},null,false,false,0,{"$f":"IF($A154=I$3,AND($A154=I$3,$D154<0),0)","v":0},0,{"$f":"IF($A154=K$3,AND($A154=K$3,$D154<0),0)","v":0},0,{"$f":"IF($A154=M$3,AND($A154=M$3,$D154<0),0)","v":0},0,{"$f":"IF($A154=O$3,AND($A154=O$3,$D154<0),0)","v":0},0,0,0,0,0,0,0,{"$f":"IF($A154=W$3,AND($A154=W$3,$D154<0),0)","v":0},0,{"$f":"IF($A154=Y$3,AND($A154=Y$3,$D154<0),0)","v":0},0,{"$f":"IF($A154=AA$3,AND($A154=AA$3,$D154<0),0)","v":0},0,{"$f":"IF($A154=AC$3,AND($A154=AC$3,$D154<0),0)","v":0},0,0]
[{"$f":"IF(B155=0,\"\",MONTH(B155))","v":""},null,null,null,{"$f":"IF(D155=\"\",\"\",IF(D155<0,\"DEBITO\",\"CREDITO\"))","v":""},null,false,false,0,{"$f":"IF($A155=I$3,AND($A155=I$3,$D155<0),0)","v":0},0,{"$f":"IF($A155=K$3,AND($A155=K$3,$D155<0),0)","v":0},0,{"$f":"IF($A155=M$3,AND($A155=M$3,$D155<0),0)","v":0},0,{"$f":"IF($A155=O$3,AND($A155=O$3,$D155<0),0)","v":0},0,0,0,0,0,0,0,{"$f":"IF($A155=W$3,AND($A155=W$3,$D155<0),0)","v":0},0,{"$f":"IF($A155=Y$3,AND($A155=Y$3,$D155<0),0)","v":0},0,{"$f":"IF($A155=AA$3,AND($A155=AA$3,$D155<0),0)","v":0},0,{"$f":"IF($A155=AC$3,AND($A155=AC$3,$D155<0),0)","v":0},0,0]
[{"$f":"IF(B156=0,\"\",MONTH(B156))","v":""},null,null,null,{"$f":"IF(D156=\"\",\"\",IF(D156<0,\"DEBITO\",\"CREDITO\"))","v":""},null,false,false,0,{"$f":"IF($A156=I$3,AND($A156=I$3,$D156<0),0)","v":0},0,{"$f":"IF($A156=K$3,AND($A156=K$3,$D156<0),0)","v":0},0,{"$f":"IF($A156=M$3,AND($A156=M$3,$D156<0),0)","v":0},0,{"$f":"IF($A156=O$3,AND($A156=O$3,$D156<0),0)","v":0},0,0,0,0,0,0,0,{"$f":"IF($A156=W$3,AND($A156=W$3,$D156<0),0)","v":0},0,{"$f":"IF($A156=Y$3,AND($A156=Y$3,$D156<0),0)","v":0},0,{"$f":"IF($A156=AA$3,AND($A156=AA$3,$D156<0),0)","v":0},0,{"$f":"IF($A156=AC$3,AND($A156=AC$3,$D156<0),0)","v":0},0,0]
[{"$f":"IF(B157=0,\"\",MONTH(B157))","v":""},null,null,null,{"$f":"IF(D157=\"\",\"\",IF(D157<0,\"DEBITO\",\"CREDITO\"))","v":""},null,false,false,0,{"$f":"IF($A157=I$3,AND($A157=I$3,$D157<0),0)","v":0},0,{"$f":"IF($A157=K$3,AND($A157=K$3,$D157<0),0)","v":0},0,{"$f":"IF($A157=M$3,AND($A157=M$3,$D157<0),0)","v":0},0,{"$f":"IF($A157=O$3,AND($A157=O$3,$D157<0),0)","v":0},0,0,0,0,0,0,0,{"$f":"IF($A157=W$3,AND($A157=W$3,$D157<0),0)","v":0},0,{"$f":"IF($A157=Y$3,AND($A157=Y$3,$D157<0),0)","v":0},0,{"$f":"IF($A157=AA$3,AND($A157=AA$3,$D157<0),0)","v":0},0,{"$f":"IF($A157=AC$3,AND($A157=AC$3,$D157<0),0)","v":0},0,0]
[{"$f":"IF(B158=0,\"\",MONTH(B158))","v":""},null,null,null,{"$f":"IF(D158=\"\",\"\",IF(D158<0,\"DEBITO\",\"CREDITO\"))","v":""},null,false,false,0,{"$f":"IF($A158=I$3,AND($A158=I$3,$D158<0),0)","v":0},0,{"$f":"IF($A158=K$3,AND($A158=K$3,$D158<0),0)","v":0},0,{"$f":"IF($A158=M$3,AND($A158=M$3,$D158<0),0)","v":0},0,{"$f":"IF($A158=O$3,AND($A158=O$3,$D158<0),0)","v":0},0,0,0,0,0,0,0,{"$f":"IF($A158=W$3,AND($A158=W$3,$D158<0),0)","v":0},0,{"$f":"IF($A158=Y$3,AND($A158=Y$3,$D158<0),0)","v":0},0,{"$f":"IF($A158=AA$3,AND($A158=AA$3,$D158<0),0)","v":0},0,{"$f":"IF($A158=AC$3,AND($A158=AC$3,$D158<0),0)","v":0},0,0]
[{"$f":"IF(B159=0,\"\",MONTH(B159))","v":""},null,null,null,{"$f":"IF(D159=\"\",\"\",IF(D159<0,\"DEBITO\",\"CREDITO\"))","v":""},null,false,false,0,{"$f":"IF($A159=I$3,AND($A159=I$3,$D159<0),0)","v":0},0,{"$f":"IF($A159=K$3,AND($A159=K$3,$D159<0),0)","v":0},0,{"$f":"IF($A159=M$3,AND($A159=M$3,$D159<0),0)","v":0},0,{"$f":"IF($A159=O$3,AND($A159=O$3,$D159<0),0)","v":0},0,0,0,0,0,0,0,{"$f":"IF($A159=W$3,AND($A159=W$3,$D159<0),0)","v":0},0,{"$f":"IF($A159=Y$3,AND($A159=Y$3,$D159<0),0)","v":0},0,{"$f":"IF($A159=AA$3,AND($A159=AA$3,$D159<0),0)","v":0},0,{"$f":"IF($A159=AC$3,AND($A159=AC$3,$D159<0),0)","v":0},0,0]
[{"$f":"IF(B160=0,\"\",MONTH(B160))","v":""},null,null,null,{"$f":"IF(D160=\"\",\"\",IF(D160<0,\"DEBITO\",\"CREDITO\"))","v":""},null,false,false,0,{"$f":"IF($A160=I$3,AND($A160=I$3,$D160<0),0)","v":0},0,{"$f":"IF($A160=K$3,AND($A160=K$3,$D160<0),0)","v":0},0,{"$f":"IF($A160=M$3,AND($A160=M$3,$D160<0),0)","v":0},0,{"$f":"IF($A160=O$3,AND($A160=O$3,$D160<0),0)","v":0},0,0,0,0,0,0,0,{"$f":"IF($A160=W$3,AND($A160=W$3,$D160<0),0)","v":0},0,{"$f":"IF($A160=Y$3,AND($A160=Y$3,$D160<0),0)","v":0},0,{"$f":"IF($A160=AA$3,AND($A160=AA$3,$D160<0),0)","v":0},0,{"$f":"IF($A160=AC$3,AND($A160=AC$3,$D160<0),0)","v":0},0,0]
[{"$f":"IF(B161=0,\"\",MONTH(B161))","v":""},null,null,null,{"$f":"IF(D161=\"\",\"\",IF(D161<0,\"DEBITO\",\"CREDITO\"))","v":""},null,false,false,0,{"$f":"IF($A161=I$3,AND($A161=I$3,$D161<0),0)","v":0},0,{"$f":"IF($A161=K$3,AND($A161=K$3,$D161<0),0)","v":0},0,{"$f":"IF($A161=M$3,AND($A161=M$3,$D161<0),0)","v":0},0,{"$f":"IF($A161=O$3,AND($A161=O$3,$D161<0),0)","v":0},0,0,0,0,0,0,0,{"$f":"IF($A161=W$3,AND($A161=W$3,$D161<0),0)","v":0},0,{"$f":"IF($A161=Y$3,AND($A161=Y$3,$D161<0),0)","v":0},0,{"$f":"IF($A161=AA$3,AND($A161=AA$3,$D161<0),0)","v":0},0,{"$f":"IF($A161=AC$3,AND($A161=AC$3,$D161<0),0)","v":0},0,0]
[{"$f":"IF(B162=0,\"\",MONTH(B162))","v":""},null,null,null,{"$f":"IF(D162=\"\",\"\",IF(D162<0,\"DEBITO\",\"CREDITO\"))","v":""},null,false,false,0,{"$f":"IF($A162=I$3,AND($A162=I$3,$D162<0),0)","v":0},0,{"$f":"IF($A162=K$3,AND($A162=K$3,$D162<0),0)","v":0},0,{"$f":"IF($A162=M$3,AND($A162=M$3,$D162<0),0)","v":0},0,{"$f":"IF($A162=O$3,AND($A162=O$3,$D162<0),0)","v":0},0,0,0,0,0,0,0,{"$f":"IF($A162=W$3,AND($A162=W$3,$D162<0),0)","v":0},0,{"$f":"IF($A162=Y$3,AND($A162=Y$3,$D162<0),0)","v":0},0,{"$f":"IF($A162=AA$3,AND($A162=AA$3,$D162<0),0)","v":0},0,{"$f":"IF($A162=AC$3,AND($A162=AC$3,$D162<0),0)","v":0},0,0]
[{"$f":"IF(B163=0,\"\",MONTH(B163))","v":""},null,null,null,{"$f":"IF(D163=\"\",\"\",IF(D163<0,\"DEBITO\",\"CREDITO\"))","v":""},null,false,false,0,{"$f":"IF($A163=I$3,AND($A163=I$3,$D163<0),0)","v":0},0,{"$f":"IF($A163=K$3,AND($A163=K$3,$D163<0),0)","v":0},0,{"$f":"IF($A163=M$3,AND($A163=M$3,$D163<0),0)","v":0},0,{"$f":"IF($A163=O$3,AND($A163=O$3,$D163<0),0)","v":0},0,0,0,0,0,0,0,{"$f":"IF($A163=W$3,AND($A163=W$3,$D163<0),0)","v":0},0,{"$f":"IF($A163=Y$3,AND($A163=Y$3,$D163<0),0)","v":0},0,{"$f":"IF($A163=AA$3,AND($A163=AA$3,$D163<0),0)","v":0},0,{"$f":"IF($A163=AC$3,AND($A163=AC$3,$D163<0),0)","v":0},0,0]
[{"$f":"IF(B164=0,\"\",MONTH(B164))","v":""},null,null,null,{"$f":"IF(D164=\"\",\"\",IF(D164<0,\"DEBITO\",\"CREDITO\"))","v":""},null,false,false,0,{"$f":"IF($A164=I$3,AND($A164=I$3,$D164<0),0)","v":0},0,{"$f":"IF($A164=K$3,AND($A164=K$3,$D164<0),0)","v":0},0,{"$f":"IF($A164=M$3,AND($A164=M$3,$D164<0),0)","v":0},0,{"$f":"IF($A164=O$3,AND($A164=O$3,$D164<0),0)","v":0},0,0,0,0,0,0,0,{"$f":"IF($A164=W$3,AND($A164=W$3,$D164<0),0)","v":0},0,{"$f":"IF($A164=Y$3,AND($A164=Y$3,$D164<0),0)","v":0},0,{"$f":"IF($A164=AA$3,AND($A164=AA$3,$D164<0),0)","v":0},0,{"$f":"IF($A164=AC$3,AND($A164=AC$3,$D164<0),0)","v":0},0,0]
[{"$f":"IF(B165=0,\"\",MONTH(B165))","v":""},null,null,null,{"$f":"IF(D165=\"\",\"\",IF(D165<0,\"DEBITO\",\"CREDITO\"))","v":""},null,false,false,0,{"$f":"IF($A165=I$3,AND($A165=I$3,$D165<0),0)","v":0},0,{"$f":"IF($A165=K$3,AND($A165=K$3,$D165<0),0)","v":0},0,{"$f":"IF($A165=M$3,AND($A165=M$3,$D165<0),0)","v":0},0,{"$f":"IF($A165=O$3,AND($A165=O$3,$D165<0),0)","v":0},0,0,0,0,0,0,0,{"$f":"IF($A165=W$3,AND($A165=W$3,$D165<0),0)","v":0},0,{"$f":"IF($A165=Y$3,AND($A165=Y$3,$D165<0),0)","v":0},0,{"$f":"IF($A165=AA$3,AND($A165=AA$3,$D165<0),0)","v":0},0,{"$f":"IF($A165=AC$3,AND($A165=AC$3,$D165<0),0)","v":0},0,0]
[{"$f":"IF(B166=0,\"\",MONTH(B166))","v":""},null,null,null,{"$f":"IF(D166=\"\",\"\",IF(D166<0,\"DEBITO\",\"CREDITO\"))","v":""},null,false,false,0,{"$f":"IF($A166=I$3,AND($A166=I$3,$D166<0),0)","v":0},0,{"$f":"IF($A166=K$3,AND($A166=K$3,$D166<0),0)","v":0},0,{"$f":"IF($A166=M$3,AND($A166=M$3,$D166<0),0)","v":0},0,{"$f":"IF($A166=O$3,AND($A166=O$3,$D166<0),0)","v":0},0,0,0,0,0,0,0,{"$f":"IF($A166=W$3,AND($A166=W$3,$D166<0),0)","v":0},0,{"$f":"IF($A166=Y$3,AND($A166=Y$3,$D166<0),0)","v":0},0,{"$f":"IF($A166=AA$3,AND($A166=AA$3,$D166<0),0)","v":0},0,{"$f":"IF($A166=AC$3,AND($A166=AC$3,$D166<0),0)","v":0},0,0]
[{"$f":"IF(B167=0,\"\",MONTH(B167))","v":""},null,null,null,{"$f":"IF(D167=\"\",\"\",IF(D167<0,\"DEBITO\",\"CREDITO\"))","v":""},null,false,false,0,{"$f":"IF($A167=I$3,AND($A167=I$3,$D167<0),0)","v":0},0,{"$f":"IF($A167=K$3,AND($A167=K$3,$D167<0),0)","v":0},0,{"$f":"IF($A167=M$3,AND($A167=M$3,$D167<0),0)","v":0},0,{"$f":"IF($A167=O$3,AND($A167=O$3,$D167<0),0)","v":0},0,0,0,0,0,0,0,{"$f":"IF($A167=W$3,AND($A167=W$3,$D167<0),0)","v":0},0,{"$f":"IF($A167=Y$3,AND($A167=Y$3,$D167<0),0)","v":0},0,{"$f":"IF($A167=AA$3,AND($A167=AA$3,$D167<0),0)","v":0},0,{"$f":"IF($A167=AC$3,AND($A167=AC$3,$D167<0),0)","v":0},0,0]
[{"$f":"IF(B168=0,\"\",MONTH(B168))","v":""},null,null,null,{"$f":"IF(D168=\"\",\"\",IF(D168<0,\"DEBITO\",\"CREDITO\"))","v":""},null,false,false,0,{"$f":"IF($A168=I$3,AND($A168=I$3,$D168<0),0)","v":0},0,{"$f":"IF($A168=K$3,AND($A168=K$3,$D168<0),0)","v":0},0,{"$f":"IF($A168=M$3,AND($A168=M$3,$D168<0),0)","v":0},0,{"$f":"IF($A168=O$3,AND($A168=O$3,$D168<0),0)","v":0},0,0,0,0,0,0,0,{"$f":"IF($A168=W$3,AND($A168=W$3,$D168<0),0)","v":0},0,{"$f":"IF($A168=Y$3,AND($A168=Y$3,$D168<0),0)","v":0},0,{"$f":"IF($A168=AA$3,AND($A168=AA$3,$D168<0),0)","v":0},0,{"$f":"IF($A168=AC$3,AND($A168=AC$3,$D168<0),0)","v":0},0,0]
[{"$f":"IF(B169=0,\"\",MONTH(B169))","v":""},null,null,null,{"$f":"IF(D169=\"\",\"\",IF(D169<0,\"DEBITO\",\"CREDITO\"))","v":""},null,false,false,0,{"$f":"IF($A169=I$3,AND($A169=I$3,$D169<0),0)","v":0},0,{"$f":"IF($A169=K$3,AND($A169=K$3,$D169<0),0)","v":0},0,{"$f":"IF($A169=M$3,AND($A169=M$3,$D169<0),0)","v":0},0,{"$f":"IF($A169=O$3,AND($A169=O$3,$D169<0),0)","v":0},0,0,0,0,0,0,0,{"$f":"IF($A169=W$3,AND($A169=W$3,$D169<0),0)","v":0},0,{"$f":"IF($A169=Y$3,AND($A169=Y$3,$D169<0),0)","v":0},0,{"$f":"IF($A169=AA$3,AND($A169=AA$3,$D169<0),0)","v":0},0,{"$f":"IF($A169=AC$3,AND($A169=AC$3,$D169<0),0)","v":0},0,0]
[{"$f":"IF(B170=0,\"\",MONTH(B170))","v":""},null,null,null,{"$f":"IF(D170=\"\",\"\",IF(D170<0,\"DEBITO\",\"CREDITO\"))","v":""},null,false,false,0,{"$f":"IF($A170=I$3,AND($A170=I$3,$D170<0),0)","v":0},0,{"$f":"IF($A170=K$3,AND($A170=K$3,$D170<0),0)","v":0},0,{"$f":"IF($A170=M$3,AND($A170=M$3,$D170<0),0)","v":0},0,{"$f":"IF($A170=O$3,AND($A170=O$3,$D170<0),0)","v":0},0,0,0,0,0,0,0,{"$f":"IF($A170=W$3,AND($A170=W$3,$D170<0),0)","v":0},0,{"$f":"IF($A170=Y$3,AND($A170=Y$3,$D170<0),0)","v":0},0,{"$f":"IF($A170=AA$3,AND($A170=AA$3,$D170<0),0)","v":0},0,{"$f":"IF($A170=AC$3,AND($A170=AC$3,$D170<0),0)","v":0},0,0]
[{"$f":"IF(B171=0,\"\",MONTH(B171))","v":""},null,null,null,{"$f":"IF(D171=\"\",\"\",IF(D171<0,\"DEBITO\",\"CREDITO\"))","v":""},null,false,false,0,{"$f":"IF($A171=I$3,AND($A171=I$3,$D171<0),0)","v":0},0,{"$f":"IF($A171=K$3,AND($A171=K$3,$D171<0),0)","v":0},0,{"$f":"IF($A171=M$3,AND($A171=M$3,$D171<0),0)","v":0},0,{"$f":"IF($A171=O$3,AND($A171=O$3,$D171<0),0)","v":0},0,0,0,0,0,0,0,{"$f":"IF($A171=W$3,AND($A171=W$3,$D171<0),0)","v":0},0,{"$f":"IF($A171=Y$3,AND($A171=Y$3,$D171<0),0)","v":0},0,{"$f":"IF($A171=AA$3,AND($A171=AA$3,$D171<0),0)","v":0},0,{"$f":"IF($A171=AC$3,AND($A171=AC$3,$D171<0),0)","v":0},0,0]
[{"$f":"IF(B172=0,\"\",MONTH(B172))","v":""},null,null,null,{"$f":"IF(D172=\"\",\"\",IF(D172<0,\"DEBITO\",\"CREDITO\"))","v":""},null,false,false,0,{"$f":"IF($A172=I$3,AND($A172=I$3,$D172<0),0)","v":0},0,{"$f":"IF($A172=K$3,AND($A172=K$3,$D172<0),0)","v":0},0,{"$f":"IF($A172=M$3,AND($A172=M$3,$D172<0),0)","v":0},0,{"$f":"IF($A172=O$3,AND($A172=O$3,$D172<0),0)","v":0},0,0,0,0,0,0,0,{"$f":"IF($A172=W$3,AND($A172=W$3,$D172<0),0)","v":0},0,{"$f":"IF($A172=Y$3,AND($A172=Y$3,$D172<0),0)","v":0},0,{"$f":"IF($A172=AA$3,AND($A172=AA$3,$D172<0),0)","v":0},0,{"$f":"IF($A172=AC$3,AND($A172=AC$3,$D172<0),0)","v":0},0,0]
[{"$f":"IF(B173=0,\"\",MONTH(B173))","v":""},null,null,null,{"$f":"IF(D173=\"\",\"\",IF(D173<0,\"DEBITO\",\"CREDITO\"))","v":""},null,false,false,0,{"$f":"IF($A173=I$3,AND($A173=I$3,$D173<0),0)","v":0},0,{"$f":"IF($A173=K$3,AND($A173=K$3,$D173<0),0)","v":0},0,{"$f":"IF($A173=M$3,AND($A173=M$3,$D173<0),0)","v":0},0,{"$f":"IF($A173=O$3,AND($A173=O$3,$D173<0),0)","v":0},0,0,0,0,0,0,0,{"$f":"IF($A173=W$3,AND($A173=W$3,$D173<0),0)","v":0},0,{"$f":"IF($A173=Y$3,AND($A173=Y$3,$D173<0),0)","v":0},0,{"$f":"IF($A173=AA$3,AND($A173=AA$3,$D173<0),0)","v":0},0,{"$f":"IF($A173=AC$3,AND($A173=AC$3,$D173<0),0)","v":0},0,0]
[{"$f":"IF(B174=0,\"\",MONTH(B174))","v":""},null,null,null,{"$f":"IF(D174=\"\",\"\",IF(D174<0,\"DEBITO\",\"CREDITO\"))","v":""},null,false,false,0,{"$f":"IF($A174=I$3,AND($A174=I$3,$D174<0),0)","v":0},0,{"$f":"IF($A174=K$3,AND($A174=K$3,$D174<0),0)","v":0},0,{"$f":"IF($A174=M$3,AND($A174=M$3,$D174<0),0)","v":0},0,{"$f":"IF($A174=O$3,AND($A174=O$3,$D174<0),0)","v":0},0,0,0,0,0,0,0,{"$f":"IF($A174=W$3,AND($A174=W$3,$D174<0),0)","v":0},0,{"$f":"IF($A174=Y$3,AND($A174=Y$3,$D174<0),0)","v":0},0,{"$f":"IF($A174=AA$3,AND($A174=AA$3,$D174<0),0)","v":0},0,{"$f":"IF($A174=AC$3,AND($A174=AC$3,$D174<0),0)","v":0},0,0]
[{"$f":"IF(B175=0,\"\",MONTH(B175))","v":""},null,null,null,{"$f":"IF(D175=\"\",\"\",IF(D175<0,\"DEBITO\",\"CREDITO\"))","v":""},null,false,false,0,{"$f":"IF($A175=I$3,AND($A175=I$3,$D175<0),0)","v":0},0,{"$f":"IF($A175=K$3,AND($A175=K$3,$D175<0),0)","v":0},0,{"$f":"IF($A175=M$3,AND($A175=M$3,$D175<0),0)","v":0},0,{"$f":"IF($A175=O$3,AND($A175=O$3,$D175<0),0)","v":0},0,0,0,0,0,0,0,{"$f":"IF($A175=W$3,AND($A175=W$3,$D175<0),0)","v":0},0,{"$f":"IF($A175=Y$3,AND($A175=Y$3,$D175<0),0)","v":0},0,{"$f":"IF($A175=AA$3,AND($A175=AA$3,$D175<0),0)","v":0},0,{"$f":"IF($A175=AC$3,AND($A175=AC$3,$D175<0),0)","v":0},0,0]
[{"$f":"IF(B176=0,\"\",MONTH(B176))","v":""},null,null,null,{"$f":"IF(D176=\"\",\"\",IF(D176<0,\"DEBITO\",\"CREDITO\"))","v":""},null,false,false,0,{"$f":"IF($A176=I$3,AND($A176=I$3,$D176<0),0)","v":0},0,{"$f":"IF($A176=K$3,AND($A176=K$3,$D176<0),0)","v":0},0,{"$f":"IF($A176=M$3,AND($A176=M$3,$D176<0),0)","v":0},0,{"$f":"IF($A176=O$3,AND($A176=O$3,$D176<0),0)","v":0},0,0,0,0,0,0,0,{"$f":"IF($A176=W$3,AND($A176=W$3,$D176<0),0)","v":0},0,{"$f":"IF($A176=Y$3,AND($A176=Y$3,$D176<0),0)","v":0},0,{"$f":"IF($A176=AA$3,AND($A176=AA$3,$D176<0),0)","v":0},0,{"$f":"IF($A176=AC$3,AND($A176=AC$3,$D176<0),0)","v":0},0,0]
[{"$f":"IF(B177=0,\"\",MONTH(B177))","v":""},null,null,null,{"$f":"IF(D177=\"\",\"\",IF(D177<0,\"DEBITO\",\"CREDITO\"))","v":""},null,false,false,0,{"$f":"IF($A177=I$3,AND($A177=I$3,$D177<0),0)","v":0},0,{"$f":"IF($A177=K$3,AND($A177=K$3,$D177<0),0)","v":0},0,{"$f":"IF($A177=M$3,AND($A177=M$3,$D177<0),0)","v":0},0,{"$f":"IF($A177=O$3,AND($A177=O$3,$D177<0),0)","v":0},0,0,0,0,0,0,0,{"$f":"IF($A177=W$3,AND($A177=W$3,$D177<0),0)","v":0},0,{"$f":"IF($A177=Y$3,AND($A177=Y$3,$D177<0),0)","v":0},0,{"$f":"IF($A177=AA$3,AND($A177=AA$3,$D177<0),0)","v":0},0,{"$f":"IF($A177=AC$3,AND($A177=AC$3,$D177<0),0)","v":0},0,0]
[{"$f":"IF(B178=0,\"\",MONTH(B178))","v":""},null,null,null,{"$f":"IF(D178=\"\",\"\",IF(D178<0,\"DEBITO\",\"CREDITO\"))","v":""},null,false,false,0,{"$f":"IF($A178=I$3,AND($A178=I$3,$D178<0),0)","v":0},0,{"$f":"IF($A178=K$3,AND($A178=K$3,$D178<0),0)","v":0},0,{"$f":"IF($A178=M$3,AND($A178=M$3,$D178<0),0)","v":0},0,{"$f":"IF($A178=O$3,AND($A178=O$3,$D178<0),0)","v":0},0,0,0,0,0,0,0,{"$f":"IF($A178=W$3,AND($A178=W$3,$D178<0),0)","v":0},0,{"$f":"IF($A178=Y$3,AND($A178=Y$3,$D178<0),0)","v":0},0,{"$f":"IF($A178=AA$3,AND($A178=AA$3,$D178<0),0)","v":0},0,{"$f":"IF($A178=AC$3,AND($A178=AC$3,$D178<0),0)","v":0},0,0]
[{"$f":"IF(B179=0,\"\",MONTH(B179))","v":""},null,null,null,{"$f":"IF(D179=\"\",\"\",IF(D179<0,\"DEBITO\",\"CREDITO\"))","v":""},null,false,false,0,{"$f":"IF($A179=I$3,AND($A179=I$3,$D179<0),0)","v":0},0,{"$f":"IF($A179=K$3,AND($A179=K$3,$D179<0),0)","v":0},0,{"$f":"IF($A179=M$3,AND($A179=M$3,$D179<0),0)","v":0},0,{"$f":"IF($A179=O$3,AND($A179=O$3,$D179<0),0)","v":0},0,0,0,0,0,0,0,{"$f":"IF($A179=W$3,AND($A179=W$3,$D179<0),0)","v":0},0,{"$f":"IF($A179=Y$3,AND($A179=Y$3,$D179<0),0)","v":0},0,{"$f":"IF($A179=AA$3,AND($A179=AA$3,$D179<0),0)","v":0},0,{"$f":"IF($A179=AC$3,AND($A179=AC$3,$D179<0),0)","v":0},0,0]
[{"$f":"IF(B180=0,\"\",MONTH(B180))","v":""},null,null,null,{"$f":"IF(D180=\"\",\"\",IF(D180<0,\"DEBITO\",\"CREDITO\"))","v":""},null,false,false,0,{"$f":"IF($A180=I$3,AND($A180=I$3,$D180<0),0)","v":0},0,{"$f":"IF($A180=K$3,AND($A180=K$3,$D180<0),0)","v":0},0,{"$f":"IF($A180=M$3,AND($A180=M$3,$D180<0),0)","v":0},0,{"$f":"IF($A180=O$3,AND($A180=O$3,$D180<0),0)","v":0},0,0,0,0,0,0,0,{"$f":"IF($A180=W$3,AND($A180=W$3,$D180<0),0)","v":0},0,{"$f":"IF($A180=Y$3,AND($A180=Y$3,$D180<0),0)","v":0},0,{"$f":"IF($A180=AA$3,AND($A180=AA$3,$D180<0),0)","v":0},0,{"$f":"IF($A180=AC$3,AND($A180=AC$3,$D180<0),0)","v":0},0,0]
[{"$f":"IF(B181=0,\"\",MONTH(B181))","v":""},null,null,null,{"$f":"IF(D181=\"\",\"\",IF(D181<0,\"DEBITO\",\"CREDITO\"))","v":""},null,false,false,0,{"$f":"IF($A181=I$3,AND($A181=I$3,$D181<0),0)","v":0},0,{"$f":"IF($A181=K$3,AND($A181=K$3,$D181<0),0)","v":0},0,{"$f":"IF($A181=M$3,AND($A181=M$3,$D181<0),0)","v":0},0,{"$f":"IF($A181=O$3,AND($A181=O$3,$D181<0),0)","v":0},0,0,0,0,0,0,0,{"$f":"IF($A181=W$3,AND($A181=W$3,$D181<0),0)","v":0},0,{"$f":"IF($A181=Y$3,AND($A181=Y$3,$D181<0),0)","v":0},0,{"$f":"IF($A181=AA$3,AND($A181=AA$3,$D181<0),0)","v":0},0,{"$f":"IF($A181=AC$3,AND($A181=AC$3,$D181<0),0)","v":0},0,0]
[{"$f":"IF(B182=0,\"\",MONTH(B182))","v":""},null,null,null,{"$f":"IF(D182=\"\",\"\",IF(D182<0,\"DEBITO\",\"CREDITO\"))","v":""},null,false,false,0,{"$f":"IF($A182=I$3,AND($A182=I$3,$D182<0),0)","v":0},0,{"$f":"IF($A182=K$3,AND($A182=K$3,$D182<0),0)","v":0},0,{"$f":"IF($A182=M$3,AND($A182=M$3,$D182<0),0)","v":0},0,{"$f":"IF($A182=O$3,AND($A182=O$3,$D182<0),0)","v":0},0,0,0,0,0,0,0,{"$f":"IF($A182=W$3,AND($A182=W$3,$D182<0),0)","v":0},0,{"$f":"IF($A182=Y$3,AND($A182=Y$3,$D182<0),0)","v":0},0,{"$f":"IF($A182=AA$3,AND($A182=AA$3,$D182<0),0)","v":0},0,{"$f":"IF($A182=AC$3,AND($A182=AC$3,$D182<0),0)","v":0},0,0]
[{"$f":"IF(B183=0,\"\",MONTH(B183))","v":""},null,null,null,{"$f":"IF(D183=\"\",\"\",IF(D183<0,\"DEBITO\",\"CREDITO\"))","v":""},null,false,false,0,{"$f":"IF($A183=I$3,AND($A183=I$3,$D183<0),0)","v":0},0,{"$f":"IF($A183=K$3,AND($A183=K$3,$D183<0),0)","v":0},0,{"$f":"IF($A183=M$3,AND($A183=M$3,$D183<0),0)","v":0},0,{"$f":"IF($A183=O$3,AND($A183=O$3,$D183<0),0)","v":0},0,0,0,0,0,0,0,{"$f":"IF($A183=W$3,AND($A183=W$3,$D183<0),0)","v":0},0,{"$f":"IF($A183=Y$3,AND($A183=Y$3,$D183<0),0)","v":0},0,{"$f":"IF($A183=AA$3,AND($A183=AA$3,$D183<0),0)","v":0},0,{"$f":"IF($A183=AC$3,AND($A183=AC$3,$D183<0),0)","v":0},0,0]
[{"$f":"IF(B184=0,\"\",MONTH(B184))","v":""},null,null,null,{"$f":"IF(D184=\"\",\"\",IF(D184<0,\"DEBITO\",\"CREDITO\"))","v":""},null,false,false,0,{"$f":"IF($A184=I$3,AND($A184=I$3,$D184<0),0)","v":0},0,{"$f":"IF($A184=K$3,AND($A184=K$3,$D184<0),0)","v":0},0,{"$f":"IF($A184=M$3,AND($A184=M$3,$D184<0),0)","v":0},0,{"$f":"IF($A184=O$3,AND($A184=O$3,$D184<0),0)","v":0},0,0,0,0,0,0,0,{"$f":"IF($A184=W$3,AND($A184=W$3,$D184<0),0)","v":0},0,{"$f":"IF($A184=Y$3,AND($A184=Y$3,$D184<0),0)","v":0},0,{"$f":"IF($A184=AA$3,AND($A184=AA$3,$D184<0),0)","v":0},0,{"$f":"IF($A184=AC$3,AND($A184=AC$3,$D184<0),0)","v":0},0,0]
[{"$f":"IF(B185=0,\"\",MONTH(B185))","v":""},null,null,null,{"$f":"IF(D185=\"\",\"\",IF(D185<0,\"DEBITO\",\"CREDITO\"))","v":""},null,false,false,0,{"$f":"IF($A185=I$3,AND($A185=I$3,$D185<0),0)","v":0},0,{"$f":"IF($A185=K$3,AND($A185=K$3,$D185<0),0)","v":0},0,{"$f":"IF($A185=M$3,AND($A185=M$3,$D185<0),0)","v":0},0,{"$f":"IF($A185=O$3,AND($A185=O$3,$D185<0),0)","v":0},0,0,0,0,0,0,0,{"$f":"IF($A185=W$3,AND($A185=W$3,$D185<0),0)","v":0},0,{"$f":"IF($A185=Y$3,AND($A185=Y$3,$D185<0),0)","v":0},0,{"$f":"IF($A185=AA$3,AND($A185=AA$3,$D185<0),0)","v":0},0,{"$f":"IF($A185=AC$3,AND($A185=AC$3,$D185<0),0)","v":0},0,0]
[{"$f":"IF(B186=0,\"\",MONTH(B186))","v":""},null,null,null,{"$f":"IF(D186=\"\",\"\",IF(D186<0,\"DEBITO\",\"CREDITO\"))","v":""},null,false,false,0,{"$f":"IF($A186=I$3,AND($A186=I$3,$D186<0),0)","v":0},0,{"$f":"IF($A186=K$3,AND($A186=K$3,$D186<0),0)","v":0},0,{"$f":"IF($A186=M$3,AND($A186=M$3,$D186<0),0)","v":0},0,{"$f":"IF($A186=O$3,AND($A186=O$3,$D186<0),0)","v":0},0,0,0,0,0,0,0,{"$f":"IF($A186=W$3,AND($A186=W$3,$D186<0),0)","v":0},0,{"$f":"IF($A186=Y$3,AND($A186=Y$3,$D186<0),0)","v":0},0,{"$f":"IF($A186=AA$3,AND($A186=AA$3,$D186<0),0)","v":0},0,{"$f":"IF($A186=AC$3,AND($A186=AC$3,$D186<0),0)","v":0},0,0]
[{"$f":"IF(B187=0,\"\",MONTH(B187))","v":""},null,null,null,{"$f":"IF(D187=\"\",\"\",IF(D187<0,\"DEBITO\",\"CREDITO\"))","v":""},null,false,false,0,{"$f":"IF($A187=I$3,AND($A187=I$3,$D187<0),0)","v":0},0,{"$f":"IF($A187=K$3,AND($A187=K$3,$D187<0),0)","v":0},0,{"$f":"IF($A187=M$3,AND($A187=M$3,$D187<0),0)","v":0},0,{"$f":"IF($A187=O$3,AND($A187=O$3,$D187<0),0)","v":0},0,0,0,0,0,0,0,{"$f":"IF($A187=W$3,AND($A187=W$3,$D187<0),0)","v":0},0,{"$f":"IF($A187=Y$3,AND($A187=Y$3,$D187<0),0)","v":0},0,{"$f":"IF($A187=AA$3,AND($A187=AA$3,$D187<0),0)","v":0},0,{"$f":"IF($A187=AC$3,AND($A187=AC$3,$D187<0),0)","v":0},0,0]
[{"$f":"IF(B188=0,\"\",MONTH(B188))","v":""},null,null,null,{"$f":"IF(D188=\"\",\"\",IF(D188<0,\"DEBITO\",\"CREDITO\"))","v":""},null,false,false,0,{"$f":"IF($A188=I$3,AND($A188=I$3,$D188<0),0)","v":0},0,{"$f":"IF($A188=K$3,AND($A188=K$3,$D188<0),0)","v":0},0,{"$f":"IF($A188=M$3,AND($A188=M$3,$D188<0),0)","v":0},0,{"$f":"IF($A188=O$3,AND($A188=O$3,$D188<0),0)","v":0},0,0,0,0,0,0,0,{"$f":"IF($A188=W$3,AND($A188=W$3,$D188<0),0)","v":0},0,{"$f":"IF($A188=Y$3,AND($A188=Y$3,$D188<0),0)","v":0},0,{"$f":"IF($A188=AA$3,AND($A188=AA$3,$D188<0),0)","v":0},0,{"$f":"IF($A188=AC$3,AND($A188=AC$3,$D188<0),0)","v":0},0,0]
[{"$f":"IF(B189=0,\"\",MONTH(B189))","v":""},null,null,null,{"$f":"IF(D189=\"\",\"\",IF(D189<0,\"DEBITO\",\"CREDITO\"))","v":""},null,false,false,0,{"$f":"IF($A189=I$3,AND($A189=I$3,$D189<0),0)","v":0},0,{"$f":"IF($A189=K$3,AND($A189=K$3,$D189<0),0)","v":0},0,{"$f":"IF($A189=M$3,AND($A189=M$3,$D189<0),0)","v":0},0,{"$f":"IF($A189=O$3,AND($A189=O$3,$D189<0),0)","v":0},0,0,0,0,0,0,0,{"$f":"IF($A189=W$3,AND($A189=W$3,$D189<0),0)","v":0},0,{"$f":"IF($A189=Y$3,AND($A189=Y$3,$D189<0),0)","v":0},0,{"$f":"IF($A189=AA$3,AND($A189=AA$3,$D189<0),0)","v":0},0,{"$f":"IF($A189=AC$3,AND($A189=AC$3,$D189<0),0)","v":0},0,0]
[{"$f":"IF(B190=0,\"\",MONTH(B190))","v":""},null,null,null,{"$f":"IF(D190=\"\",\"\",IF(D190<0,\"DEBITO\",\"CREDITO\"))","v":""},null,false,false,0,{"$f":"IF($A190=I$3,AND($A190=I$3,$D190<0),0)","v":0},0,{"$f":"IF($A190=K$3,AND($A190=K$3,$D190<0),0)","v":0},0,{"$f":"IF($A190=M$3,AND($A190=M$3,$D190<0),0)","v":0},0,{"$f":"IF($A190=O$3,AND($A190=O$3,$D190<0),0)","v":0},0,0,0,0,0,0,0,{"$f":"IF($A190=W$3,AND($A190=W$3,$D190<0),0)","v":0},0,{"$f":"IF($A190=Y$3,AND($A190=Y$3,$D190<0),0)","v":0},0,{"$f":"IF($A190=AA$3,AND($A190=AA$3,$D190<0),0)","v":0},0,{"$f":"IF($A190=AC$3,AND($A190=AC$3,$D190<0),0)","v":0},0,0]
[{"$f":"IF(B191=0,\"\",MONTH(B191))","v":""},null,null,null,{"$f":"IF(D191=\"\",\"\",IF(D191<0,\"DEBITO\",\"CREDITO\"))","v":""},null,false,false,0,{"$f":"IF($A191=I$3,AND($A191=I$3,$D191<0),0)","v":0},0,{"$f":"IF($A191=K$3,AND($A191=K$3,$D191<0),0)","v":0},0,{"$f":"IF($A191=M$3,AND($A191=M$3,$D191<0),0)","v":0},0,{"$f":"IF($A191=O$3,AND($A191=O$3,$D191<0),0)","v":0},0,0,0,0,0,0,0,{"$f":"IF($A191=W$3,AND($A191=W$3,$D191<0),0)","v":0},0,{"$f":"IF($A191=Y$3,AND($A191=Y$3,$D191<0),0)","v":0},0,{"$f":"IF($A191=AA$3,AND($A191=AA$3,$D191<0),0)","v":0},0,{"$f":"IF($A191=AC$3,AND($A191=AC$3,$D191<0),0)","v":0},0,0]
[{"$f":"IF(B192=0,\"\",MONTH(B192))","v":""},null,null,null,{"$f":"IF(D192=\"\",\"\",IF(D192<0,\"DEBITO\",\"CREDITO\"))","v":""},null,false,false,0,{"$f":"IF($A192=I$3,AND($A192=I$3,$D192<0),0)","v":0},0,{"$f":"IF($A192=K$3,AND($A192=K$3,$D192<0),0)","v":0},0,{"$f":"IF($A192=M$3,AND($A192=M$3,$D192<0),0)","v":0},0,{"$f":"IF($A192=O$3,AND($A192=O$3,$D192<0),0)","v":0},0,0,0,0,0,0,0,{"$f":"IF($A192=W$3,AND($A192=W$3,$D192<0),0)","v":0},0,{"$f":"IF($A192=Y$3,AND($A192=Y$3,$D192<0),0)","v":0},0,{"$f":"IF($A192=AA$3,AND($A192=AA$3,$D192<0),0)","v":0},0,{"$f":"IF($A192=AC$3,AND($A192=AC$3,$D192<0),0)","v":0},0,0]
[{"$f":"IF(B193=0,\"\",MONTH(B193))","v":""},null,null,null,{"$f":"IF(D193=\"\",\"\",IF(D193<0,\"DEBITO\",\"CREDITO\"))","v":""},null,false,false,0,{"$f":"IF($A193=I$3,AND($A193=I$3,$D193<0),0)","v":0},0,{"$f":"IF($A193=K$3,AND($A193=K$3,$D193<0),0)","v":0},0,{"$f":"IF($A193=M$3,AND($A193=M$3,$D193<0),0)","v":0},0,{"$f":"IF($A193=O$3,AND($A193=O$3,$D193<0),0)","v":0},0,0,0,0,0,0,0,{"$f":"IF($A193=W$3,AND($A193=W$3,$D193<0),0)","v":0},0,{"$f":"IF($A193=Y$3,AND($A193=Y$3,$D193<0),0)","v":0},0,{"$f":"IF($A193=AA$3,AND($A193=AA$3,$D193<0),0)","v":0},0,{"$f":"IF($A193=AC$3,AND($A193=AC$3,$D193<0),0)","v":0},0,0]
[{"$f":"IF(B194=0,\"\",MONTH(B194))","v":""},null,null,null,{"$f":"IF(D194=\"\",\"\",IF(D194<0,\"DEBITO\",\"CREDITO\"))","v":""},null,false,false,0,{"$f":"IF($A194=I$3,AND($A194=I$3,$D194<0),0)","v":0},0,{"$f":"IF($A194=K$3,AND($A194=K$3,$D194<0),0)","v":0},0,{"$f":"IF($A194=M$3,AND($A194=M$3,$D194<0),0)","v":0},0,{"$f":"IF($A194=O$3,AND($A194=O$3,$D194<0),0)","v":0},0,0,0,0,0,0,0,{"$f":"IF($A194=W$3,AND($A194=W$3,$D194<0),0)","v":0},0,{"$f":"IF($A194=Y$3,AND($A194=Y$3,$D194<0),0)","v":0},0,{"$f":"IF($A194=AA$3,AND($A194=AA$3,$D194<0),0)","v":0},0,{"$f":"IF($A194=AC$3,AND($A194=AC$3,$D194<0),0)","v":0},0,0]
[{"$f":"IF(B195=0,\"\",MONTH(B195))","v":""},null,null,null,{"$f":"IF(D195=\"\",\"\",IF(D195<0,\"DEBITO\",\"CREDITO\"))","v":""},null,false,false,0,{"$f":"IF($A195=I$3,AND($A195=I$3,$D195<0),0)","v":0},0,{"$f":"IF($A195=K$3,AND($A195=K$3,$D195<0),0)","v":0},0,{"$f":"IF($A195=M$3,AND($A195=M$3,$D195<0),0)","v":0},0,{"$f":"IF($A195=O$3,AND($A195=O$3,$D195<0),0)","v":0},0,0,0,0,0,0,0,{"$f":"IF($A195=W$3,AND($A195=W$3,$D195<0),0)","v":0},0,{"$f":"IF($A195=Y$3,AND($A195=Y$3,$D195<0),0)","v":0},0,{"$f":"IF($A195=AA$3,AND($A195=AA$3,$D195<0),0)","v":0},0,{"$f":"IF($A195=AC$3,AND($A195=AC$3,$D195<0),0)","v":0},0,0]
[{"$f":"IF(B196=0,\"\",MONTH(B196))","v":""},null,null,null,{"$f":"IF(D196=\"\",\"\",IF(D196<0,\"DEBITO\",\"CREDITO\"))","v":""},null,false,false,0,{"$f":"IF($A196=I$3,AND($A196=I$3,$D196<0),0)","v":0},0,{"$f":"IF($A196=K$3,AND($A196=K$3,$D196<0),0)","v":0},0,{"$f":"IF($A196=M$3,AND($A196=M$3,$D196<0),0)","v":0},0,{"$f":"IF($A196=O$3,AND($A196=O$3,$D196<0),0)","v":0},0,0,0,0,0,0,0,{"$f":"IF($A196=W$3,AND($A196=W$3,$D196<0),0)","v":0},0,{"$f":"IF($A196=Y$3,AND($A196=Y$3,$D196<0),0)","v":0},0,{"$f":"IF($A196=AA$3,AND($A196=AA$3,$D196<0),0)","v":0},0,{"$f":"IF($A196=AC$3,AND($A196=AC$3,$D196<0),0)","v":0},0,0]
[{"$f":"IF(B197=0,\"\",MONTH(B197))","v":""},null,null,null,{"$f":"IF(D197=\"\",\"\",IF(D197<0,\"DEBITO\",\"CREDITO\"))","v":""},null,false,false,0,{"$f":"IF($A197=I$3,AND($A197=I$3,$D197<0),0)","v":0},0,{"$f":"IF($A197=K$3,AND($A197=K$3,$D197<0),0)","v":0},0,{"$f":"IF($A197=M$3,AND($A197=M$3,$D197<0),0)","v":0},0,{"$f":"IF($A197=O$3,AND($A197=O$3,$D197<0),0)","v":0},0,0,0,0,0,0,0,{"$f":"IF($A197=W$3,AND($A197=W$3,$D197<0),0)","v":0},0,{"$f":"IF($A197=Y$3,AND($A197=Y$3,$D197<0),0)","v":0},0,{"$f":"IF($A197=AA$3,AND($A197=AA$3,$D197<0),0)","v":0},0,{"$f":"IF($A197=AC$3,AND($A197=AC$3,$D197<0),0)","v":0},0,0]
[{"$f":"IF(B198=0,\"\",MONTH(B198))","v":""},null,null,null,{"$f":"IF(D198=\"\",\"\",IF(D198<0,\"DEBITO\",\"CREDITO\"))","v":""},null,false,false,0,{"$f":"IF($A198=I$3,AND($A198=I$3,$D198<0),0)","v":0},0,{"$f":"IF($A198=K$3,AND($A198=K$3,$D198<0),0)","v":0},0,{"$f":"IF($A198=M$3,AND($A198=M$3,$D198<0),0)","v":0},0,{"$f":"IF($A198=O$3,AND($A198=O$3,$D198<0),0)","v":0},0,0,0,0,0,0,0,{"$f":"IF($A198=W$3,AND($A198=W$3,$D198<0),0)","v":0},0,{"$f":"IF($A198=Y$3,AND($A198=Y$3,$D198<0),0)","v":0},0,{"$f":"IF($A198=AA$3,AND($A198=AA$3,$D198<0),0)","v":0},0,{"$f":"IF($A198=AC$3,AND($A198=AC$3,$D198<0),0)","v":0},0,0]
[{"$f":"IF(B199=0,\"\",MONTH(B199))","v":""},null,null,null,{"$f":"IF(D199=\"\",\"\",IF(D199<0,\"DEBITO\",\"CREDITO\"))","v":""},null,false,false,0,{"$f":"IF($A199=I$3,AND($A199=I$3,$D199<0),0)","v":0},0,{"$f":"IF($A199=K$3,AND($A199=K$3,$D199<0),0)","v":0},0,{"$f":"IF($A199=M$3,AND($A199=M$3,$D199<0),0)","v":0},0,{"$f":"IF($A199=O$3,AND($A199=O$3,$D199<0),0)","v":0},0,0,0,0,0,0,0,{"$f":"IF($A199=W$3,AND($A199=W$3,$D199<0),0)","v":0},0,{"$f":"IF($A199=Y$3,AND($A199=Y$3,$D199<0),0)","v":0},0,{"$f":"IF($A199=AA$3,AND($A199=AA$3,$D199<0),0)","v":0},0,{"$f":"IF($A199=AC$3,AND($A199=AC$3,$D199<0),0)","v":0},0,0]
[{"$f":"IF(B200=0,\"\",MONTH(B200))","v":""},null,null,null,{"$f":"IF(D200=\"\",\"\",IF(D200<0,\"DEBITO\",\"CREDITO\"))","v":""},null,false,false,0,{"$f":"IF($A200=I$3,AND($A200=I$3,$D200<0),0)","v":0},0,{"$f":"IF($A200=K$3,AND($A200=K$3,$D200<0),0)","v":0},0,{"$f":"IF($A200=M$3,AND($A200=M$3,$D200<0),0)","v":0},0,{"$f":"IF($A200=O$3,AND($A200=O$3,$D200<0),0)","v":0},0,0,0,0,0,0,0,{"$f":"IF($A200=W$3,AND($A200=W$3,$D200<0),0)","v":0},0,{"$f":"IF($A200=Y$3,AND($A200=Y$3,$D200<0),0)","v":0},0,{"$f":"IF($A200=AA$3,AND($A200=AA$3,$D200<0),0)","v":0},0,{"$f":"IF($A200=AC$3,AND($A200=AC$3,$D200<0),0)","v":0},0,0]
[{"$f":"IF(B201=0,\"\",MONTH(B201))","v":""},null,null,null,{"$f":"IF(D201=\"\",\"\",IF(D201<0,\"DEBITO\",\"CREDITO\"))","v":""},null,{"$f":"AND(A201=$E$3,D201>0)","v":false},{"$f":"AND(A201=$E$3,D201<0)","v":false},0,{"$f":"IF($A201=I$3,AND($A201=I$3,$D201<0),0)","v":0},0,{"$f":"IF($A201=K$3,AND($A201=K$3,$D201<0),0)","v":0},0,{"$f":"IF($A201=M$3,AND($A201=M$3,$D201<0),0)","v":0},0,{"$f":"IF($A201=O$3,AND($A201=O$3,$D201<0),0)","v":0},0,{"$f":"IF($A201=Q$3,AND($A201=Q$3,$D201<0),0)","v":0},0,0,0,0,0,{"$f":"IF($A201=W$3,AND($A201=W$3,$D201<0),0)","v":0},0,{"$f":"IF($A201=Y$3,AND($A201=Y$3,$D201<0),0)","v":0},0,{"$f":"IF($A201=AA$3,AND($A201=AA$3,$D201<0),0)","v":0},0,{"$f":"IF($A201=AC$3,AND($A201=AC$3,$D201<0),0)","v":0},0,{"$f":"IF($A201=AE$3,AND($A201=AE$3,$D201<0),0)","v":0}]
[{"$f":"IF(B202=0,\"\",MONTH(B202))","v":""},null,null,null,{"$f":"IF(D202=\"\",\"\",IF(D202<0,\"DEBITO\",\"CREDITO\"))","v":""},null,false,false,0,{"$f":"IF($A202=I$3,AND($A202=I$3,$D202<0),0)","v":0},0,{"$f":"IF($A202=K$3,AND($A202=K$3,$D202<0),0)","v":0},0,{"$f":"IF($A202=M$3,AND($A202=M$3,$D202<0),0)","v":0},0,{"$f":"IF($A202=O$3,AND($A202=O$3,$D202<0),0)","v":0},0,0,{"$f":"IF($A202=S$3,AND($A202=S$3,$D202>0),0)","v":0},{"$f":"IF($A202=S$3,AND($A202=S$3,$D202<0),0)","v":0},{"$f":"IF($A202=U$3,AND($A202=U$3,$D202>0),0)","v":0},{"$f":"IF($A202=U$3,AND($A202=U$3,$D202<0),0)","v":0},0,{"$f":"IF($A202=W$3,AND($A202=W$3,$D202<0),0)","v":0},0,{"$f":"IF($A202=Y$3,AND($A202=Y$3,$D202<0),0)","v":0},0,{"$f":"IF($A202=AA$3,AND($A202=AA$3,$D202<0),0)","v":0},0,{"$f":"IF($A202=AC$3,AND($A202=AC$3,$D202<0),0)","v":0},0,0]
[{"$f":"IF(B203=0,\"\",MONTH(B203))","v":""},null,null,null,{"$f":"IF(D203=\"\",\"\",IF(D203<0,\"DEBITO\",\"CREDITO\"))","v":""},null,false,false,0,{"$f":"IF($A203=I$3,AND($A203=I$3,$D203<0),0)","v":0},0,{"$f":"IF($A203=K$3,AND($A203=K$3,$D203<0),0)","v":0},0,{"$f":"IF($A203=M$3,AND($A203=M$3,$D203<0),0)","v":0},0,{"$f":"IF($A203=O$3,AND($A203=O$3,$D203<0),0)","v":0},0,0,0,0,0,0,0,{"$f":"IF($A203=W$3,AND($A203=W$3,$D203<0),0)","v":0},0,{"$f":"IF($A203=Y$3,AND($A203=Y$3,$D203<0),0)","v":0},0,{"$f":"IF($A203=AA$3,AND($A203=AA$3,$D203<0),0)","v":0},0,{"$f":"IF($A203=AC$3,AND($A203=AC$3,$D203<0),0)","v":0},0,0]
[{"$f":"IF(B204=0,\"\",MONTH(B204))","v":""},null,null,null,{"$f":"IF(D204=\"\",\"\",IF(D204<0,\"DEBITO\",\"CREDITO\"))","v":""},null,false,false,0,{"$f":"IF($A204=I$3,AND($A204=I$3,$D204<0),0)","v":0},0,{"$f":"IF($A204=K$3,AND($A204=K$3,$D204<0),0)","v":0},0,{"$f":"IF($A204=M$3,AND($A204=M$3,$D204<0),0)","v":0},0,{"$f":"IF($A204=O$3,AND($A204=O$3,$D204<0),0)","v":0},0,0,0,0,0,0,0,{"$f":"IF($A204=W$3,AND($A204=W$3,$D204<0),0)","v":0},0,{"$f":"IF($A204=Y$3,AND($A204=Y$3,$D204<0),0)","v":0},0,{"$f":"IF($A204=AA$3,AND($A204=AA$3,$D204<0),0)","v":0},0,{"$f":"IF($A204=AC$3,AND($A204=AC$3,$D204<0),0)","v":0},0,0]
[{"$f":"IF(B205=0,\"\",MONTH(B205))","v":""},null,null,null,{"$f":"IF(D205=\"\",\"\",IF(D205<0,\"DEBITO\",\"CREDITO\"))","v":""},null,false,false,0,{"$f":"IF($A205=I$3,AND($A205=I$3,$D205<0),0)","v":0},0,{"$f":"IF($A205=K$3,AND($A205=K$3,$D205<0),0)","v":0},0,{"$f":"IF($A205=M$3,AND($A205=M$3,$D205<0),0)","v":0},0,{"$f":"IF($A205=O$3,AND($A205=O$3,$D205<0),0)","v":0},0,0,0,0,0,0,0,{"$f":"IF($A205=W$3,AND($A205=W$3,$D205<0),0)","v":0},0,{"$f":"IF($A205=Y$3,AND($A205=Y$3,$D205<0),0)","v":0},0,{"$f":"IF($A205=AA$3,AND($A205=AA$3,$D205<0),0)","v":0},0,{"$f":"IF($A205=AC$3,AND($A205=AC$3,$D205<0),0)","v":0},0,0]
[{"$f":"IF(B206=0,\"\",MONTH(B206))","v":""},null,null,null,{"$f":"IF(D206=\"\",\"\",IF(D206<0,\"DEBITO\",\"CREDITO\"))","v":""},null,false,false,0,{"$f":"IF($A206=I$3,AND($A206=I$3,$D206<0),0)","v":0},0,{"$f":"IF($A206=K$3,AND($A206=K$3,$D206<0),0)","v":0},0,{"$f":"IF($A206=M$3,AND($A206=M$3,$D206<0),0)","v":0},0,{"$f":"IF($A206=O$3,AND($A206=O$3,$D206<0),0)","v":0},0,0,0,0,0,0,0,{"$f":"IF($A206=W$3,AND($A206=W$3,$D206<0),0)","v":0},0,{"$f":"IF($A206=Y$3,AND($A206=Y$3,$D206<0),0)","v":0},0,{"$f":"IF($A206=AA$3,AND($A206=AA$3,$D206<0),0)","v":0},0,{"$f":"IF($A206=AC$3,AND($A206=AC$3,$D206<0),0)","v":0},0,0]
[{"$f":"IF(B207=0,\"\",MONTH(B207))","v":""},null,null,null,{"$f":"IF(D207=\"\",\"\",IF(D207<0,\"DEBITO\",\"CREDITO\"))","v":""},null,false,false,0,{"$f":"IF($A207=I$3,AND($A207=I$3,$D207<0),0)","v":0},0,{"$f":"IF($A207=K$3,AND($A207=K$3,$D207<0),0)","v":0},0,{"$f":"IF($A207=M$3,AND($A207=M$3,$D207<0),0)","v":0},0,{"$f":"IF($A207=O$3,AND($A207=O$3,$D207<0),0)","v":0},0,0,0,0,0,0,0,{"$f":"IF($A207=W$3,AND($A207=W$3,$D207<0),0)","v":0},0,{"$f":"IF($A207=Y$3,AND($A207=Y$3,$D207<0),0)","v":0},0,{"$f":"IF($A207=AA$3,AND($A207=AA$3,$D207<0),0)","v":0},0,{"$f":"IF($A207=AC$3,AND($A207=AC$3,$D207<0),0)","v":0},0,0]
[{"$f":"IF(B208=0,\"\",MONTH(B208))","v":""},null,null,null,{"$f":"IF(D208=\"\",\"\",IF(D208<0,\"DEBITO\",\"CREDITO\"))","v":""},null,false,false,0,{"$f":"IF($A208=I$3,AND($A208=I$3,$D208<0),0)","v":0},0,{"$f":"IF($A208=K$3,AND($A208=K$3,$D208<0),0)","v":0},0,{"$f":"IF($A208=M$3,AND($A208=M$3,$D208<0),0)","v":0},0,{"$f":"IF($A208=O$3,AND($A208=O$3,$D208<0),0)","v":0},0,0,0,0,0,0,0,{"$f":"IF($A208=W$3,AND($A208=W$3,$D208<0),0)","v":0},0,{"$f":"IF($A208=Y$3,AND($A208=Y$3,$D208<0),0)","v":0},0,{"$f":"IF($A208=AA$3,AND($A208=AA$3,$D208<0),0)","v":0},0,{"$f":"IF($A208=AC$3,AND($A208=AC$3,$D208<0),0)","v":0},0,0]
[{"$f":"IF(B209=0,\"\",MONTH(B209))","v":""},null,null,null,{"$f":"IF(D209=\"\",\"\",IF(D209<0,\"DEBITO\",\"CREDITO\"))","v":""},null,false,false,0,{"$f":"IF($A209=I$3,AND($A209=I$3,$D209<0),0)","v":0},0,{"$f":"IF($A209=K$3,AND($A209=K$3,$D209<0),0)","v":0},0,{"$f":"IF($A209=M$3,AND($A209=M$3,$D209<0),0)","v":0},0,{"$f":"IF($A209=O$3,AND($A209=O$3,$D209<0),0)","v":0},0,0,0,0,0,0,0,{"$f":"IF($A209=W$3,AND($A209=W$3,$D209<0),0)","v":0},0,{"$f":"IF($A209=Y$3,AND($A209=Y$3,$D209<0),0)","v":0},0,{"$f":"IF($A209=AA$3,AND($A209=AA$3,$D209<0),0)","v":0},0,{"$f":"IF($A209=AC$3,AND($A209=AC$3,$D209<0),0)","v":0},0,0]
[{"$f":"IF(B210=0,\"\",MONTH(B210))","v":""},null,null,null,{"$f":"IF(D210=\"\",\"\",IF(D210<0,\"DEBITO\",\"CREDITO\"))","v":""},null,false,false,0,{"$f":"IF($A210=I$3,AND($A210=I$3,$D210<0),0)","v":0},0,{"$f":"IF($A210=K$3,AND($A210=K$3,$D210<0),0)","v":0},0,{"$f":"IF($A210=M$3,AND($A210=M$3,$D210<0),0)","v":0},0,{"$f":"IF($A210=O$3,AND($A210=O$3,$D210<0),0)","v":0},0,0,0,0,0,0,0,{"$f":"IF($A210=W$3,AND($A210=W$3,$D210<0),0)","v":0},0,{"$f":"IF($A210=Y$3,AND($A210=Y$3,$D210<0),0)","v":0},0,{"$f":"IF($A210=AA$3,AND($A210=AA$3,$D210<0),0)","v":0},0,{"$f":"IF($A210=AC$3,AND($A210=AC$3,$D210<0),0)","v":0},0,0]
[{"$f":"IF(B211=0,\"\",MONTH(B211))","v":""},null,null,null,{"$f":"IF(D211=\"\",\"\",IF(D211<0,\"DEBITO\",\"CREDITO\"))","v":""},null,false,false,0,{"$f":"IF($A211=I$3,AND($A211=I$3,$D211<0),0)","v":0},0,{"$f":"IF($A211=K$3,AND($A211=K$3,$D211<0),0)","v":0},0,{"$f":"IF($A211=M$3,AND($A211=M$3,$D211<0),0)","v":0},0,{"$f":"IF($A211=O$3,AND($A211=O$3,$D211<0),0)","v":0},0,0,0,0,0,0,0,{"$f":"IF($A211=W$3,AND($A211=W$3,$D211<0),0)","v":0},0,{"$f":"IF($A211=Y$3,AND($A211=Y$3,$D211<0),0)","v":0},0,{"$f":"IF($A211=AA$3,AND($A211=AA$3,$D211<0),0)","v":0},0,{"$f":"IF($A211=AC$3,AND($A211=AC$3,$D211<0),0)","v":0},0,0]
[{"$f":"IF(B212=0,\"\",MONTH(B212))","v":""},null,null,null,{"$f":"IF(D212=\"\",\"\",IF(D212<0,\"DEBITO\",\"CREDITO\"))","v":""},null,false,false,0,{"$f":"IF($A212=I$3,AND($A212=I$3,$D212<0),0)","v":0},0,{"$f":"IF($A212=K$3,AND($A212=K$3,$D212<0),0)","v":0},0,{"$f":"IF($A212=M$3,AND($A212=M$3,$D212<0),0)","v":0},0,{"$f":"IF($A212=O$3,AND($A212=O$3,$D212<0),0)","v":0},0,0,0,0,0,0,0,{"$f":"IF($A212=W$3,AND($A212=W$3,$D212<0),0)","v":0},0,{"$f":"IF($A212=Y$3,AND($A212=Y$3,$D212<0),0)","v":0},0,{"$f":"IF($A212=AA$3,AND($A212=AA$3,$D212<0),0)","v":0},0,{"$f":"IF($A212=AC$3,AND($A212=AC$3,$D212<0),0)","v":0},0,0]
[{"$f":"IF(B213=0,\"\",MONTH(B213))","v":""},null,null,null,{"$f":"IF(D213=\"\",\"\",IF(D213<0,\"DEBITO\",\"CREDITO\"))","v":""},null,false,false,0,{"$f":"IF($A213=I$3,AND($A213=I$3,$D213<0),0)","v":0},0,{"$f":"IF($A213=K$3,AND($A213=K$3,$D213<0),0)","v":0},0,{"$f":"IF($A213=M$3,AND($A213=M$3,$D213<0),0)","v":0},0,{"$f":"IF($A213=O$3,AND($A213=O$3,$D213<0),0)","v":0},0,0,0,0,0,0,0,{"$f":"IF($A213=W$3,AND($A213=W$3,$D213<0),0)","v":0},0,{"$f":"IF($A213=Y$3,AND($A213=Y$3,$D213<0),0)","v":0},0,{"$f":"IF($A213=AA$3,AND($A213=AA$3,$D213<0),0)","v":0},0,{"$f":"IF($A213=AC$3,AND($A213=AC$3,$D213<0),0)","v":0},0,0]
[{"$f":"IF(B214=0,\"\",MONTH(B214))","v":""},null,null,null,{"$f":"IF(D214=\"\",\"\",IF(D214<0,\"DEBITO\",\"CREDITO\"))","v":""},null,false,false,0,{"$f":"IF($A214=I$3,AND($A214=I$3,$D214<0),0)","v":0},0,{"$f":"IF($A214=K$3,AND($A214=K$3,$D214<0),0)","v":0},0,{"$f":"IF($A214=M$3,AND($A214=M$3,$D214<0),0)","v":0},0,{"$f":"IF($A214=O$3,AND($A214=O$3,$D214<0),0)","v":0},0,0,0,0,0,0,0,{"$f":"IF($A214=W$3,AND($A214=W$3,$D214<0),0)","v":0},0,{"$f":"IF($A214=Y$3,AND($A214=Y$3,$D214<0),0)","v":0},0,{"$f":"IF($A214=AA$3,AND($A214=AA$3,$D214<0),0)","v":0},0,{"$f":"IF($A214=AC$3,AND($A214=AC$3,$D214<0),0)","v":0},0,0]
[{"$f":"IF(B215=0,\"\",MONTH(B215))","v":""},null,null,null,{"$f":"IF(D215=\"\",\"\",IF(D215<0,\"DEBITO\",\"CREDITO\"))","v":""},null,false,false,0,{"$f":"IF($A215=I$3,AND($A215=I$3,$D215<0),0)","v":0},0,{"$f":"IF($A215=K$3,AND($A215=K$3,$D215<0),0)","v":0},0,{"$f":"IF($A215=M$3,AND($A215=M$3,$D215<0),0)","v":0},0,{"$f":"IF($A215=O$3,AND($A215=O$3,$D215<0),0)","v":0},0,0,0,0,0,0,0,{"$f":"IF($A215=W$3,AND($A215=W$3,$D215<0),0)","v":0},0,{"$f":"IF($A215=Y$3,AND($A215=Y$3,$D215<0),0)","v":0},0,{"$f":"IF($A215=AA$3,AND($A215=AA$3,$D215<0),0)","v":0},0,{"$f":"IF($A215=AC$3,AND($A215=AC$3,$D215<0),0)","v":0},0,0]
[{"$f":"IF(B216=0,\"\",MONTH(B216))","v":""},null,null,null,{"$f":"IF(D216=\"\",\"\",IF(D216<0,\"DEBITO\",\"CREDITO\"))","v":""},null,false,false,0,{"$f":"IF($A216=I$3,AND($A216=I$3,$D216<0),0)","v":0},0,{"$f":"IF($A216=K$3,AND($A216=K$3,$D216<0),0)","v":0},0,{"$f":"IF($A216=M$3,AND($A216=M$3,$D216<0),0)","v":0},0,{"$f":"IF($A216=O$3,AND($A216=O$3,$D216<0),0)","v":0},0,0,0,0,0,0,0,{"$f":"IF($A216=W$3,AND($A216=W$3,$D216<0),0)","v":0},0,{"$f":"IF($A216=Y$3,AND($A216=Y$3,$D216<0),0)","v":0},0,{"$f":"IF($A216=AA$3,AND($A216=AA$3,$D216<0),0)","v":0},0,{"$f":"IF($A216=AC$3,AND($A216=AC$3,$D216<0),0)","v":0},0,0]
[{"$f":"IF(B217=0,\"\",MONTH(B217))","v":""},null,null,null,{"$f":"IF(D217=\"\",\"\",IF(D217<0,\"DEBITO\",\"CREDITO\"))","v":""},null,false,false,{"$f":"IF($A217=I$3,AND($A217=I$3,$D217>0),0)","v":0},{"$f":"IF($A217=I$3,AND($A217=I$3,$D217<0),0)","v":0},{"$f":"IF($A217=K$3,AND($A217=K$3,$D217>0),0)","v":0},{"$f":"IF($A217=K$3,AND($A217=K$3,$D217<0),0)","v":0},{"$f":"IF($A217=M$3,AND($A217=M$3,$D217>0),0)","v":0},{"$f":"IF($A217=M$3,AND($A217=M$3,$D217<0),0)","v":0},{"$f":"IF($A217=O$3,AND($A217=O$3,$D217>0),0)","v":0},{"$f":"IF($A217=O$3,AND($A217=O$3,$D217<0),0)","v":0},{"$f":"IF($A217=Q$3,AND($A217=Q$3,$D217>0),0)","v":0},0,0,0,0,0,{"$f":"IF($A217=W$3,AND($A217=W$3,$D217>0),0)","v":0},{"$f":"IF($A217=W$3,AND($A217=W$3,$D217<0),0)","v":0},{"$f":"IF($A217=Y$3,AND($A217=Y$3,$D217>0),0)","v":0},{"$f":"IF($A217=Y$3,AND($A217=Y$3,$D217<0),0)","v":0},{"$f":"IF($A217=AA$3,AND($A217=AA$3,$D217>0),0)","v":0},{"$f":"IF($A217=AA$3,AND($A217=AA$3,$D217<0),0)","v":0},{"$f":"IF($A217=AC$3,AND($A217=AC$3,$D217>0),0)","v":0},{"$f":"IF($A217=AC$3,AND($A217=AC$3,$D217<0),0)","v":0},{"$f":"IF($A217=AE$3,AND($A217=AE$3,$D217>0),0)","v":0},0]
[{"$f":"IF(B218=0,\"\",MONTH(B218))","v":""},null,null,null,{"$f":"IF(D218=\"\",\"\",IF(D218<0,\"DEBITO\",\"CREDITO\"))","v":""},null,false,false,0,{"$f":"IF($A218=I$3,AND($A218=I$3,$D218<0),0)","v":0},0,{"$f":"IF($A218=K$3,AND($A218=K$3,$D218<0),0)","v":0},0,{"$f":"IF($A218=M$3,AND($A218=M$3,$D218<0),0)","v":0},0,{"$f":"IF($A218=O$3,AND($A218=O$3,$D218<0),0)","v":0},0,0,0,0,0,0,0,{"$f":"IF($A218=W$3,AND($A218=W$3,$D218<0),0)","v":0},0,{"$f":"IF($A218=Y$3,AND($A218=Y$3,$D218<0),0)","v":0},0,{"$f":"IF($A218=AA$3,AND($A218=AA$3,$D218<0),0)","v":0},0,{"$f":"IF($A218=AC$3,AND($A218=AC$3,$D218<0),0)","v":0},0,0]
[{"$f":"IF(B219=0,\"\",MONTH(B219))","v":""},null,null,null,{"$f":"IF(D219=\"\",\"\",IF(D219<0,\"DEBITO\",\"CREDITO\"))","v":""},null,false,false,0,{"$f":"IF($A219=I$3,AND($A219=I$3,$D219<0),0)","v":0},0,{"$f":"IF($A219=K$3,AND($A219=K$3,$D219<0),0)","v":0},0,{"$f":"IF($A219=M$3,AND($A219=M$3,$D219<0),0)","v":0},0,{"$f":"IF($A219=O$3,AND($A219=O$3,$D219<0),0)","v":0},0,0,0,0,0,0,0,{"$f":"IF($A219=W$3,AND($A219=W$3,$D219<0),0)","v":0},0,{"$f":"IF($A219=Y$3,AND($A219=Y$3,$D219<0),0)","v":0},0,{"$f":"IF($A219=AA$3,AND($A219=AA$3,$D219<0),0)","v":0},0,{"$f":"IF($A219=AC$3,AND($A219=AC$3,$D219<0),0)","v":0},0,0]
[{"$f":"IF(B220=0,\"\",MONTH(B220))","v":""},null,null,null,{"$f":"IF(D220=\"\",\"\",IF(D220<0,\"DEBITO\",\"CREDITO\"))","v":""},null,false,false,0,{"$f":"IF($A220=I$3,AND($A220=I$3,$D220<0),0)","v":0},0,{"$f":"IF($A220=K$3,AND($A220=K$3,$D220<0),0)","v":0},0,{"$f":"IF($A220=M$3,AND($A220=M$3,$D220<0),0)","v":0},0,{"$f":"IF($A220=O$3,AND($A220=O$3,$D220<0),0)","v":0},0,0,0,0,0,0,0,{"$f":"IF($A220=W$3,AND($A220=W$3,$D220<0),0)","v":0},0,{"$f":"IF($A220=Y$3,AND($A220=Y$3,$D220<0),0)","v":0},0,{"$f":"IF($A220=AA$3,AND($A220=AA$3,$D220<0),0)","v":0},0,{"$f":"IF($A220=AC$3,AND($A220=AC$3,$D220<0),0)","v":0},0,0]
[{"$f":"IF(B221=0,\"\",MONTH(B221))","v":""},null,null,null,{"$f":"IF(D221=\"\",\"\",IF(D221<0,\"DEBITO\",\"CREDITO\"))","v":""},null,false,false,0,{"$f":"IF($A221=I$3,AND($A221=I$3,$D221<0),0)","v":0},0,{"$f":"IF($A221=K$3,AND($A221=K$3,$D221<0),0)","v":0},0,{"$f":"IF($A221=M$3,AND($A221=M$3,$D221<0),0)","v":0},0,{"$f":"IF($A221=O$3,AND($A221=O$3,$D221<0),0)","v":0},0,0,0,0,0,0,0,{"$f":"IF($A221=W$3,AND($A221=W$3,$D221<0),0)","v":0},0,{"$f":"IF($A221=Y$3,AND($A221=Y$3,$D221<0),0)","v":0},0,{"$f":"IF($A221=AA$3,AND($A221=AA$3,$D221<0),0)","v":0},0,{"$f":"IF($A221=AC$3,AND($A221=AC$3,$D221<0),0)","v":0},0,0]
[{"$f":"IF(B222=0,\"\",MONTH(B222))","v":""},null,null,null,{"$f":"IF(D222=\"\",\"\",IF(D222<0,\"DEBITO\",\"CREDITO\"))","v":""},null,false,false,0,{"$f":"IF($A222=I$3,AND($A222=I$3,$D222<0),0)","v":0},0,{"$f":"IF($A222=K$3,AND($A222=K$3,$D222<0),0)","v":0},0,{"$f":"IF($A222=M$3,AND($A222=M$3,$D222<0),0)","v":0},0,{"$f":"IF($A222=O$3,AND($A222=O$3,$D222<0),0)","v":0},0,0,0,0,0,0,0,{"$f":"IF($A222=W$3,AND($A222=W$3,$D222<0),0)","v":0},0,{"$f":"IF($A222=Y$3,AND($A222=Y$3,$D222<0),0)","v":0},0,{"$f":"IF($A222=AA$3,AND($A222=AA$3,$D222<0),0)","v":0},0,{"$f":"IF($A222=AC$3,AND($A222=AC$3,$D222<0),0)","v":0},0,0]
[{"$f":"IF(B223=0,\"\",MONTH(B223))","v":""},null,null,null,{"$f":"IF(D223=\"\",\"\",IF(D223<0,\"DEBITO\",\"CREDITO\"))","v":""},null,false,false,0,{"$f":"IF($A223=I$3,AND($A223=I$3,$D223<0),0)","v":0},0,{"$f":"IF($A223=K$3,AND($A223=K$3,$D223<0),0)","v":0},0,{"$f":"IF($A223=M$3,AND($A223=M$3,$D223<0),0)","v":0},0,{"$f":"IF($A223=O$3,AND($A223=O$3,$D223<0),0)","v":0},0,0,0,0,0,0,0,{"$f":"IF($A223=W$3,AND($A223=W$3,$D223<0),0)","v":0},0,{"$f":"IF($A223=Y$3,AND($A223=Y$3,$D223<0),0)","v":0},0,{"$f":"IF($A223=AA$3,AND($A223=AA$3,$D223<0),0)","v":0},0,{"$f":"IF($A223=AC$3,AND($A223=AC$3,$D223<0),0)","v":0},0,0]
[{"$f":"IF(B224=0,\"\",MONTH(B224))","v":""},null,null,null,{"$f":"IF(D224=\"\",\"\",IF(D224<0,\"DEBITO\",\"CREDITO\"))","v":""},null,false,false,0,{"$f":"IF($A224=I$3,AND($A224=I$3,$D224<0),0)","v":0},0,{"$f":"IF($A224=K$3,AND($A224=K$3,$D224<0),0)","v":0},0,{"$f":"IF($A224=M$3,AND($A224=M$3,$D224<0),0)","v":0},0,{"$f":"IF($A224=O$3,AND($A224=O$3,$D224<0),0)","v":0},0,0,0,0,0,0,0,{"$f":"IF($A224=W$3,AND($A224=W$3,$D224<0),0)","v":0},0,{"$f":"IF($A224=Y$3,AND($A224=Y$3,$D224<0),0)","v":0},0,{"$f":"IF($A224=AA$3,AND($A224=AA$3,$D224<0),0)","v":0},0,{"$f":"IF($A224=AC$3,AND($A224=AC$3,$D224<0),0)","v":0},0,0]
[{"$f":"IF(B225=0,\"\",MONTH(B225))","v":""},null,null,null,{"$f":"IF(D225=\"\",\"\",IF(D225<0,\"DEBITO\",\"CREDITO\"))","v":""},null,false,false,0,{"$f":"IF($A225=I$3,AND($A225=I$3,$D225<0),0)","v":0},0,{"$f":"IF($A225=K$3,AND($A225=K$3,$D225<0),0)","v":0},0,{"$f":"IF($A225=M$3,AND($A225=M$3,$D225<0),0)","v":0},0,{"$f":"IF($A225=O$3,AND($A225=O$3,$D225<0),0)","v":0},0,0,0,0,0,0,0,{"$f":"IF($A225=W$3,AND($A225=W$3,$D225<0),0)","v":0},0,{"$f":"IF($A225=Y$3,AND($A225=Y$3,$D225<0),0)","v":0},0,{"$f":"IF($A225=AA$3,AND($A225=AA$3,$D225<0),0)","v":0},0,{"$f":"IF($A225=AC$3,AND($A225=AC$3,$D225<0),0)","v":0},0,0]
[{"$f":"IF(B226=0,\"\",MONTH(B226))","v":""},null,null,null,{"$f":"IF(D226=\"\",\"\",IF(D226<0,\"DEBITO\",\"CREDITO\"))","v":""},null,false,false,0,{"$f":"IF($A226=I$3,AND($A226=I$3,$D226<0),0)","v":0},0,{"$f":"IF($A226=K$3,AND($A226=K$3,$D226<0),0)","v":0},0,{"$f":"IF($A226=M$3,AND($A226=M$3,$D226<0),0)","v":0},0,{"$f":"IF($A226=O$3,AND($A226=O$3,$D226<0),0)","v":0},0,0,0,0,0,0,0,{"$f":"IF($A226=W$3,AND($A226=W$3,$D226<0),0)","v":0},0,{"$f":"IF($A226=Y$3,AND($A226=Y$3,$D226<0),0)","v":0},0,{"$f":"IF($A226=AA$3,AND($A226=AA$3,$D226<0),0)","v":0},0,{"$f":"IF($A226=AC$3,AND($A226=AC$3,$D226<0),0)","v":0},0,0]
[{"$f":"IF(B227=0,\"\",MONTH(B227))","v":""},null,null,null,{"$f":"IF(D227=\"\",\"\",IF(D227<0,\"DEBITO\",\"CREDITO\"))","v":""},null,false,false,0,{"$f":"IF($A227=I$3,AND($A227=I$3,$D227<0),0)","v":0},0,{"$f":"IF($A227=K$3,AND($A227=K$3,$D227<0),0)","v":0},0,{"$f":"IF($A227=M$3,AND($A227=M$3,$D227<0),0)","v":0},0,{"$f":"IF($A227=O$3,AND($A227=O$3,$D227<0),0)","v":0},0,0,0,0,0,0,0,{"$f":"IF($A227=W$3,AND($A227=W$3,$D227<0),0)","v":0},0,{"$f":"IF($A227=Y$3,AND($A227=Y$3,$D227<0),0)","v":0},0,{"$f":"IF($A227=AA$3,AND($A227=AA$3,$D227<0),0)","v":0},0,{"$f":"IF($A227=AC$3,AND($A227=AC$3,$D227<0),0)","v":0},0,0]
[{"$f":"IF(B228=0,\"\",MONTH(B228))","v":""},null,null,null,{"$f":"IF(D228=\"\",\"\",IF(D228<0,\"DEBITO\",\"CREDITO\"))","v":""},null,false,false,0,{"$f":"IF($A228=I$3,AND($A228=I$3,$D228<0),0)","v":0},0,{"$f":"IF($A228=K$3,AND($A228=K$3,$D228<0),0)","v":0},0,{"$f":"IF($A228=M$3,AND($A228=M$3,$D228<0),0)","v":0},0,{"$f":"IF($A228=O$3,AND($A228=O$3,$D228<0),0)","v":0},0,0,0,0,0,0,0,{"$f":"IF($A228=W$3,AND($A228=W$3,$D228<0),0)","v":0},0,{"$f":"IF($A228=Y$3,AND($A228=Y$3,$D228<0),0)","v":0},0,{"$f":"IF($A228=AA$3,AND($A228=AA$3,$D228<0),0)","v":0},0,{"$f":"IF($A228=AC$3,AND($A228=AC$3,$D228<0),0)","v":0},0,0]
[{"$f":"IF(B229=0,\"\",MONTH(B229))","v":""},null,null,null,{"$f":"IF(D229=\"\",\"\",IF(D229<0,\"DEBITO\",\"CREDITO\"))","v":""},null,false,false,0,{"$f":"IF($A229=I$3,AND($A229=I$3,$D229<0),0)","v":0},0,{"$f":"IF($A229=K$3,AND($A229=K$3,$D229<0),0)","v":0},0,{"$f":"IF($A229=M$3,AND($A229=M$3,$D229<0),0)","v":0},0,{"$f":"IF($A229=O$3,AND($A229=O$3,$D229<0),0)","v":0},0,0,0,0,0,0,0,{"$f":"IF($A229=W$3,AND($A229=W$3,$D229<0),0)","v":0},0,{"$f":"IF($A229=Y$3,AND($A229=Y$3,$D229<0),0)","v":0},0,{"$f":"IF($A229=AA$3,AND($A229=AA$3,$D229<0),0)","v":0},0,{"$f":"IF($A229=AC$3,AND($A229=AC$3,$D229<0),0)","v":0},0,0]
[{"$f":"IF(B230=0,\"\",MONTH(B230))","v":""},null,null,null,{"$f":"IF(D230=\"\",\"\",IF(D230<0,\"DEBITO\",\"CREDITO\"))","v":""},null,false,false,0,{"$f":"IF($A230=I$3,AND($A230=I$3,$D230<0),0)","v":0},0,{"$f":"IF($A230=K$3,AND($A230=K$3,$D230<0),0)","v":0},0,{"$f":"IF($A230=M$3,AND($A230=M$3,$D230<0),0)","v":0},0,{"$f":"IF($A230=O$3,AND($A230=O$3,$D230<0),0)","v":0},0,0,0,0,0,0,0,{"$f":"IF($A230=W$3,AND($A230=W$3,$D230<0),0)","v":0},0,{"$f":"IF($A230=Y$3,AND($A230=Y$3,$D230<0),0)","v":0},0,{"$f":"IF($A230=AA$3,AND($A230=AA$3,$D230<0),0)","v":0},0,{"$f":"IF($A230=AC$3,AND($A230=AC$3,$D230<0),0)","v":0},0,0]
[{"$f":"IF(B231=0,\"\",MONTH(B231))","v":""},null,null,null,{"$f":"IF(D231=\"\",\"\",IF(D231<0,\"DEBITO\",\"CREDITO\"))","v":""},null,false,false,0,{"$f":"IF($A231=I$3,AND($A231=I$3,$D231<0),0)","v":0},0,{"$f":"IF($A231=K$3,AND($A231=K$3,$D231<0),0)","v":0},0,{"$f":"IF($A231=M$3,AND($A231=M$3,$D231<0),0)","v":0},0,{"$f":"IF($A231=O$3,AND($A231=O$3,$D231<0),0)","v":0},0,0,0,0,0,0,0,{"$f":"IF($A231=W$3,AND($A231=W$3,$D231<0),0)","v":0},0,{"$f":"IF($A231=Y$3,AND($A231=Y$3,$D231<0),0)","v":0},0,{"$f":"IF($A231=AA$3,AND($A231=AA$3,$D231<0),0)","v":0},0,{"$f":"IF($A231=AC$3,AND($A231=AC$3,$D231<0),0)","v":0},0,0]
[{"$f":"IF(B232=0,\"\",MONTH(B232))","v":""},null,null,null,{"$f":"IF(D232=\"\",\"\",IF(D232<0,\"DEBITO\",\"CREDITO\"))","v":""},null,false,false,0,{"$f":"IF($A232=I$3,AND($A232=I$3,$D232<0),0)","v":0},0,{"$f":"IF($A232=K$3,AND($A232=K$3,$D232<0),0)","v":0},0,{"$f":"IF($A232=M$3,AND($A232=M$3,$D232<0),0)","v":0},0,{"$f":"IF($A232=O$3,AND($A232=O$3,$D232<0),0)","v":0},0,0,0,0,0,0,0,{"$f":"IF($A232=W$3,AND($A232=W$3,$D232<0),0)","v":0},0,{"$f":"IF($A232=Y$3,AND($A232=Y$3,$D232<0),0)","v":0},0,{"$f":"IF($A232=AA$3,AND($A232=AA$3,$D232<0),0)","v":0},0,{"$f":"IF($A232=AC$3,AND($A232=AC$3,$D232<0),0)","v":0},0,0]
[{"$f":"IF(B233=0,\"\",MONTH(B233))","v":""},null,null,null,{"$f":"IF(D233=\"\",\"\",IF(D233<0,\"DEBITO\",\"CREDITO\"))","v":""},null,false,false,0,{"$f":"IF($A233=I$3,AND($A233=I$3,$D233<0),0)","v":0},0,{"$f":"IF($A233=K$3,AND($A233=K$3,$D233<0),0)","v":0},0,{"$f":"IF($A233=M$3,AND($A233=M$3,$D233<0),0)","v":0},0,{"$f":"IF($A233=O$3,AND($A233=O$3,$D233<0),0)","v":0},0,0,0,0,0,0,0,{"$f":"IF($A233=W$3,AND($A233=W$3,$D233<0),0)","v":0},0,{"$f":"IF($A233=Y$3,AND($A233=Y$3,$D233<0),0)","v":0},0,{"$f":"IF($A233=AA$3,AND($A233=AA$3,$D233<0),0)","v":0},0,{"$f":"IF($A233=AC$3,AND($A233=AC$3,$D233<0),0)","v":0},0,0]
[{"$f":"IF(B234=0,\"\",MONTH(B234))","v":""},null,null,null,{"$f":"IF(D234=\"\",\"\",IF(D234<0,\"DEBITO\",\"CREDITO\"))","v":""},null,false,false,0,{"$f":"IF($A234=I$3,AND($A234=I$3,$D234<0),0)","v":0},0,{"$f":"IF($A234=K$3,AND($A234=K$3,$D234<0),0)","v":0},0,{"$f":"IF($A234=M$3,AND($A234=M$3,$D234<0),0)","v":0},0,{"$f":"IF($A234=O$3,AND($A234=O$3,$D234<0),0)","v":0},0,0,0,0,0,0,0,{"$f":"IF($A234=W$3,AND($A234=W$3,$D234<0),0)","v":0},0,{"$f":"IF($A234=Y$3,AND($A234=Y$3,$D234<0),0)","v":0},0,{"$f":"IF($A234=AA$3,AND($A234=AA$3,$D234<0),0)","v":0},0,{"$f":"IF($A234=AC$3,AND($A234=AC$3,$D234<0),0)","v":0},0,0]
[{"$f":"IF(B235=0,\"\",MONTH(B235))","v":""},null,null,null,{"$f":"IF(D235=\"\",\"\",IF(D235<0,\"DEBITO\",\"CREDITO\"))","v":""},null,false,false,0,{"$f":"IF($A235=I$3,AND($A235=I$3,$D235<0),0)","v":0},0,{"$f":"IF($A235=K$3,AND($A235=K$3,$D235<0),0)","v":0},0,{"$f":"IF($A235=M$3,AND($A235=M$3,$D235<0),0)","v":0},0,{"$f":"IF($A235=O$3,AND($A235=O$3,$D235<0),0)","v":0},0,0,0,0,0,0,0,{"$f":"IF($A235=W$3,AND($A235=W$3,$D235<0),0)","v":0},0,{"$f":"IF($A235=Y$3,AND($A235=Y$3,$D235<0),0)","v":0},0,{"$f":"IF($A235=AA$3,AND($A235=AA$3,$D235<0),0)","v":0},0,{"$f":"IF($A235=AC$3,AND($A235=AC$3,$D235<0),0)","v":0},0,0]
[{"$f":"IF(B236=0,\"\",MONTH(B236))","v":""},null,null,null,{"$f":"IF(D236=\"\",\"\",IF(D236<0,\"DEBITO\",\"CREDITO\"))","v":""},null,false,false,0,{"$f":"IF($A236=I$3,AND($A236=I$3,$D236<0),0)","v":0},0,{"$f":"IF($A236=K$3,AND($A236=K$3,$D236<0),0)","v":0},0,{"$f":"IF($A236=M$3,AND($A236=M$3,$D236<0),0)","v":0},0,{"$f":"IF($A236=O$3,AND($A236=O$3,$D236<0),0)","v":0},0,0,0,0,0,0,0,{"$f":"IF($A236=W$3,AND($A236=W$3,$D236<0),0)","v":0},0,{"$f":"IF($A236=Y$3,AND($A236=Y$3,$D236<0),0)","v":0},0,{"$f":"IF($A236=AA$3,AND($A236=AA$3,$D236<0),0)","v":0},0,{"$f":"IF($A236=AC$3,AND($A236=AC$3,$D236<0),0)","v":0},0,0]
[{"$f":"IF(B237=0,\"\",MONTH(B237))","v":""},null,null,null,{"$f":"IF(D237=\"\",\"\",IF(D237<0,\"DEBITO\",\"CREDITO\"))","v":""},null,false,false,0,{"$f":"IF($A237=I$3,AND($A237=I$3,$D237<0),0)","v":0},0,{"$f":"IF($A237=K$3,AND($A237=K$3,$D237<0),0)","v":0},0,{"$f":"IF($A237=M$3,AND($A237=M$3,$D237<0),0)","v":0},0,{"$f":"IF($A237=O$3,AND($A237=O$3,$D237<0),0)","v":0},0,0,0,0,0,0,0,{"$f":"IF($A237=W$3,AND($A237=W$3,$D237<0),0)","v":0},0,{"$f":"IF($A237=Y$3,AND($A237=Y$3,$D237<0),0)","v":0},0,{"$f":"IF($A237=AA$3,AND($A237=AA$3,$D237<0),0)","v":0},0,{"$f":"IF($A237=AC$3,AND($A237=AC$3,$D237<0),0)","v":0},0,0]
[{"$f":"IF(B238=0,\"\",MONTH(B238))","v":""},null,null,null,{"$f":"IF(D238=\"\",\"\",IF(D238<0,\"DEBITO\",\"CREDITO\"))","v":""},null,false,false,0,{"$f":"IF($A238=I$3,AND($A238=I$3,$D238<0),0)","v":0},0,{"$f":"IF($A238=K$3,AND($A238=K$3,$D238<0),0)","v":0},0,{"$f":"IF($A238=M$3,AND($A238=M$3,$D238<0),0)","v":0},0,{"$f":"IF($A238=O$3,AND($A238=O$3,$D238<0),0)","v":0},0,0,0,0,0,0,0,{"$f":"IF($A238=W$3,AND($A238=W$3,$D238<0),0)","v":0},0,{"$f":"IF($A238=Y$3,AND($A238=Y$3,$D238<0),0)","v":0},0,{"$f":"IF($A238=AA$3,AND($A238=AA$3,$D238<0),0)","v":0},0,{"$f":"IF($A238=AC$3,AND($A238=AC$3,$D238<0),0)","v":0},0,0]
[{"$f":"IF(B239=0,\"\",MONTH(B239))","v":""},null,null,null,{"$f":"IF(D239=\"\",\"\",IF(D239<0,\"DEBITO\",\"CREDITO\"))","v":""},null,false,false,0,{"$f":"IF($A239=I$3,AND($A239=I$3,$D239<0),0)","v":0},0,{"$f":"IF($A239=K$3,AND($A239=K$3,$D239<0),0)","v":0},0,{"$f":"IF($A239=M$3,AND($A239=M$3,$D239<0),0)","v":0},0,{"$f":"IF($A239=O$3,AND($A239=O$3,$D239<0),0)","v":0},0,0,0,0,0,0,0,{"$f":"IF($A239=W$3,AND($A239=W$3,$D239<0),0)","v":0},0,{"$f":"IF($A239=Y$3,AND($A239=Y$3,$D239<0),0)","v":0},0,{"$f":"IF($A239=AA$3,AND($A239=AA$3,$D239<0),0)","v":0},0,{"$f":"IF($A239=AC$3,AND($A239=AC$3,$D239<0),0)","v":0},0,0]
[{"$f":"IF(B240=0,\"\",MONTH(B240))","v":""},null,null,null,{"$f":"IF(D240=\"\",\"\",IF(D240<0,\"DEBITO\",\"CREDITO\"))","v":""},null,false,false,0,{"$f":"IF($A240=I$3,AND($A240=I$3,$D240<0),0)","v":0},0,{"$f":"IF($A240=K$3,AND($A240=K$3,$D240<0),0)","v":0},0,{"$f":"IF($A240=M$3,AND($A240=M$3,$D240<0),0)","v":0},0,{"$f":"IF($A240=O$3,AND($A240=O$3,$D240<0),0)","v":0},0,0,0,0,0,0,0,{"$f":"IF($A240=W$3,AND($A240=W$3,$D240<0),0)","v":0},0,{"$f":"IF($A240=Y$3,AND($A240=Y$3,$D240<0),0)","v":0},0,{"$f":"IF($A240=AA$3,AND($A240=AA$3,$D240<0),0)","v":0},0,{"$f":"IF($A240=AC$3,AND($A240=AC$3,$D240<0),0)","v":0},0,0]
[{"$f":"IF(B241=0,\"\",MONTH(B241))","v":""},null,null,null,{"$f":"IF(D241=\"\",\"\",IF(D241<0,\"DEBITO\",\"CREDITO\"))","v":""},null,false,false,0,{"$f":"IF($A241=I$3,AND($A241=I$3,$D241<0),0)","v":0},0,{"$f":"IF($A241=K$3,AND($A241=K$3,$D241<0),0)","v":0},0,{"$f":"IF($A241=M$3,AND($A241=M$3,$D241<0),0)","v":0},0,{"$f":"IF($A241=O$3,AND($A241=O$3,$D241<0),0)","v":0},0,0,0,0,0,0,0,{"$f":"IF($A241=W$3,AND($A241=W$3,$D241<0),0)","v":0},0,{"$f":"IF($A241=Y$3,AND($A241=Y$3,$D241<0),0)","v":0},0,{"$f":"IF($A241=AA$3,AND($A241=AA$3,$D241<0),0)","v":0},0,{"$f":"IF($A241=AC$3,AND($A241=AC$3,$D241<0),0)","v":0},0,0]
[{"$f":"IF(B242=0,\"\",MONTH(B242))","v":""},null,null,null,{"$f":"IF(D242=\"\",\"\",IF(D242<0,\"DEBITO\",\"CREDITO\"))","v":""},null,false,false,0,{"$f":"IF($A242=I$3,AND($A242=I$3,$D242<0),0)","v":0},0,{"$f":"IF($A242=K$3,AND($A242=K$3,$D242<0),0)","v":0},0,{"$f":"IF($A242=M$3,AND($A242=M$3,$D242<0),0)","v":0},0,{"$f":"IF($A242=O$3,AND($A242=O$3,$D242<0),0)","v":0},0,0,0,0,0,0,0,{"$f":"IF($A242=W$3,AND($A242=W$3,$D242<0),0)","v":0},0,{"$f":"IF($A242=Y$3,AND($A242=Y$3,$D242<0),0)","v":0},0,{"$f":"IF($A242=AA$3,AND($A242=AA$3,$D242<0),0)","v":0},0,{"$f":"IF($A242=AC$3,AND($A242=AC$3,$D242<0),0)","v":0},0,0]
[{"$f":"IF(B243=0,\"\",MONTH(B243))","v":""},null,null,null,{"$f":"IF(D243=\"\",\"\",IF(D243<0,\"DEBITO\",\"CREDITO\"))","v":""},null,false,false,0,{"$f":"IF($A243=I$3,AND($A243=I$3,$D243<0),0)","v":0},0,{"$f":"IF($A243=K$3,AND($A243=K$3,$D243<0),0)","v":0},0,{"$f":"IF($A243=M$3,AND($A243=M$3,$D243<0),0)","v":0},0,{"$f":"IF($A243=O$3,AND($A243=O$3,$D243<0),0)","v":0},0,0,0,0,0,0,0,{"$f":"IF($A243=W$3,AND($A243=W$3,$D243<0),0)","v":0},0,{"$f":"IF($A243=Y$3,AND($A243=Y$3,$D243<0),0)","v":0},0,{"$f":"IF($A243=AA$3,AND($A243=AA$3,$D243<0),0)","v":0},0,{"$f":"IF($A243=AC$3,AND($A243=AC$3,$D243<0),0)","v":0},0,0]
[{"$f":"IF(B244=0,\"\",MONTH(B244))","v":""},null,null,null,{"$f":"IF(D244=\"\",\"\",IF(D244<0,\"DEBITO\",\"CREDITO\"))","v":""},null,false,false,0,{"$f":"IF($A244=I$3,AND($A244=I$3,$D244<0),0)","v":0},0,{"$f":"IF($A244=K$3,AND($A244=K$3,$D244<0),0)","v":0},0,{"$f":"IF($A244=M$3,AND($A244=M$3,$D244<0),0)","v":0},0,{"$f":"IF($A244=O$3,AND($A244=O$3,$D244<0),0)","v":0},0,0,0,0,0,0,0,{"$f":"IF($A244=W$3,AND($A244=W$3,$D244<0),0)","v":0},0,{"$f":"IF($A244=Y$3,AND($A244=Y$3,$D244<0),0)","v":0},0,{"$f":"IF($A244=AA$3,AND($A244=AA$3,$D244<0),0)","v":0},0,{"$f":"IF($A244=AC$3,AND($A244=AC$3,$D244<0),0)","v":0},0,0]
[{"$f":"IF(B245=0,\"\",MONTH(B245))","v":""},null,null,null,{"$f":"IF(D245=\"\",\"\",IF(D245<0,\"DEBITO\",\"CREDITO\"))","v":""},null,false,false,0,{"$f":"IF($A245=I$3,AND($A245=I$3,$D245<0),0)","v":0},0,{"$f":"IF($A245=K$3,AND($A245=K$3,$D245<0),0)","v":0},0,{"$f":"IF($A245=M$3,AND($A245=M$3,$D245<0),0)","v":0},0,{"$f":"IF($A245=O$3,AND($A245=O$3,$D245<0),0)","v":0},0,0,0,0,0,0,0,{"$f":"IF($A245=W$3,AND($A245=W$3,$D245<0),0)","v":0},0,{"$f":"IF($A245=Y$3,AND($A245=Y$3,$D245<0),0)","v":0},0,{"$f":"IF($A245=AA$3,AND($A245=AA$3,$D245<0),0)","v":0},0,{"$f":"IF($A245=AC$3,AND($A245=AC$3,$D245<0),0)","v":0},0,0]
[{"$f":"IF(B246=0,\"\",MONTH(B246))","v":""},null,null,null,{"$f":"IF(D246=\"\",\"\",IF(D246<0,\"DEBITO\",\"CREDITO\"))","v":""},null,false,false,0,{"$f":"IF($A246=I$3,AND($A246=I$3,$D246<0),0)","v":0},0,{"$f":"IF($A246=K$3,AND($A246=K$3,$D246<0),0)","v":0},0,{"$f":"IF($A246=M$3,AND($A246=M$3,$D246<0),0)","v":0},0,{"$f":"IF($A246=O$3,AND($A246=O$3,$D246<0),0)","v":0},0,0,0,0,0,0,0,{"$f":"IF($A246=W$3,AND($A246=W$3,$D246<0),0)","v":0},0,{"$f":"IF($A246=Y$3,AND($A246=Y$3,$D246<0),0)","v":0},0,{"$f":"IF($A246=AA$3,AND($A246=AA$3,$D246<0),0)","v":0},0,{"$f":"IF($A246=AC$3,AND($A246=AC$3,$D246<0),0)","v":0},0,0]
[{"$f":"IF(B247=0,\"\",MONTH(B247))","v":""},null,null,null,{"$f":"IF(D247=\"\",\"\",IF(D247<0,\"DEBITO\",\"CREDITO\"))","v":""},null,false,false,0,{"$f":"IF($A247=I$3,AND($A247=I$3,$D247<0),0)","v":0},0,{"$f":"IF($A247=K$3,AND($A247=K$3,$D247<0),0)","v":0},0,{"$f":"IF($A247=M$3,AND($A247=M$3,$D247<0),0)","v":0},0,{"$f":"IF($A247=O$3,AND($A247=O$3,$D247<0),0)","v":0},0,0,0,0,0,0,0,{"$f":"IF($A247=W$3,AND($A247=W$3,$D247<0),0)","v":0},0,{"$f":"IF($A247=Y$3,AND($A247=Y$3,$D247<0),0)","v":0},0,{"$f":"IF($A247=AA$3,AND($A247=AA$3,$D247<0),0)","v":0},0,{"$f":"IF($A247=AC$3,AND($A247=AC$3,$D247<0),0)","v":0},0,0]
[{"$f":"IF(B248=0,\"\",MONTH(B248))","v":""},null,null,null,{"$f":"IF(D248=\"\",\"\",IF(D248<0,\"DEBITO\",\"CREDITO\"))","v":""},null,false,false,0,{"$f":"IF($A248=I$3,AND($A248=I$3,$D248<0),0)","v":0},0,{"$f":"IF($A248=K$3,AND($A248=K$3,$D248<0),0)","v":0},0,{"$f":"IF($A248=M$3,AND($A248=M$3,$D248<0),0)","v":0},0,{"$f":"IF($A248=O$3,AND($A248=O$3,$D248<0),0)","v":0},0,0,0,0,0,0,0,{"$f":"IF($A248=W$3,AND($A248=W$3,$D248<0),0)","v":0},0,{"$f":"IF($A248=Y$3,AND($A248=Y$3,$D248<0),0)","v":0},0,{"$f":"IF($A248=AA$3,AND($A248=AA$3,$D248<0),0)","v":0},0,{"$f":"IF($A248=AC$3,AND($A248=AC$3,$D248<0),0)","v":0},0,0]
[{"$f":"IF(B249=0,\"\",MONTH(B249))","v":""},null,null,null,{"$f":"IF(D249=\"\",\"\",IF(D249<0,\"DEBITO\",\"CREDITO\"))","v":""},null,false,false,0,{"$f":"IF($A249=I$3,AND($A249=I$3,$D249<0),0)","v":0},0,{"$f":"IF($A249=K$3,AND($A249=K$3,$D249<0),0)","v":0},0,{"$f":"IF($A249=M$3,AND($A249=M$3,$D249<0),0)","v":0},0,{"$f":"IF($A249=O$3,AND($A249=O$3,$D249<0),0)","v":0},0,0,0,0,0,0,0,{"$f":"IF($A249=W$3,AND($A249=W$3,$D249<0),0)","v":0},0,{"$f":"IF($A249=Y$3,AND($A249=Y$3,$D249<0),0)","v":0},0,{"$f":"IF($A249=AA$3,AND($A249=AA$3,$D249<0),0)","v":0},0,{"$f":"IF($A249=AC$3,AND($A249=AC$3,$D249<0),0)","v":0},0,0]
[{"$f":"IF(B250=0,\"\",MONTH(B250))","v":""},null,null,null,{"$f":"IF(D250=\"\",\"\",IF(D250<0,\"DEBITO\",\"CREDITO\"))","v":""},null,false,false,0,{"$f":"IF($A250=I$3,AND($A250=I$3,$D250<0),0)","v":0},0,{"$f":"IF($A250=K$3,AND($A250=K$3,$D250<0),0)","v":0},0,{"$f":"IF($A250=M$3,AND($A250=M$3,$D250<0),0)","v":0},0,{"$f":"IF($A250=O$3,AND($A250=O$3,$D250<0),0)","v":0},0,0,0,0,0,0,0,{"$f":"IF($A250=W$3,AND($A250=W$3,$D250<0),0)","v":0},0,{"$f":"IF($A250=Y$3,AND($A250=Y$3,$D250<0),0)","v":0},0,{"$f":"IF($A250=AA$3,AND($A250=AA$3,$D250<0),0)","v":0},0,{"$f":"IF($A250=AC$3,AND($A250=AC$3,$D250<0),0)","v":0},0,0]
[{"$f":"IF(B251=0,\"\",MONTH(B251))","v":""},null,null,null,{"$f":"IF(D251=\"\",\"\",IF(D251<0,\"DEBITO\",\"CREDITO\"))","v":""},null,false,false,0,{"$f":"IF($A251=I$3,AND($A251=I$3,$D251<0),0)","v":0},0,{"$f":"IF($A251=K$3,AND($A251=K$3,$D251<0),0)","v":0},0,{"$f":"IF($A251=M$3,AND($A251=M$3,$D251<0),0)","v":0},0,{"$f":"IF($A251=O$3,AND($A251=O$3,$D251<0),0)","v":0},0,0,0,0,0,0,0,{"$f":"IF($A251=W$3,AND($A251=W$3,$D251<0),0)","v":0},0,{"$f":"IF($A251=Y$3,AND($A251=Y$3,$D251<0),0)","v":0},0,{"$f":"IF($A251=AA$3,AND($A251=AA$3,$D251<0),0)","v":0},0,{"$f":"IF($A251=AC$3,AND($A251=AC$3,$D251<0),0)","v":0},0,0]
[{"$f":"IF(B252=0,\"\",MONTH(B252))","v":""},null,null,null,{"$f":"IF(D252=\"\",\"\",IF(D252<0,\"DEBITO\",\"CREDITO\"))","v":""},null,false,false,0,{"$f":"IF($A252=I$3,AND($A252=I$3,$D252<0),0)","v":0},0,{"$f":"IF($A252=K$3,AND($A252=K$3,$D252<0),0)","v":0},0,{"$f":"IF($A252=M$3,AND($A252=M$3,$D252<0),0)","v":0},0,{"$f":"IF($A252=O$3,AND($A252=O$3,$D252<0),0)","v":0},0,0,0,0,0,0,0,{"$f":"IF($A252=W$3,AND($A252=W$3,$D252<0),0)","v":0},0,{"$f":"IF($A252=Y$3,AND($A252=Y$3,$D252<0),0)","v":0},0,{"$f":"IF($A252=AA$3,AND($A252=AA$3,$D252<0),0)","v":0},0,{"$f":"IF($A252=AC$3,AND($A252=AC$3,$D252<0),0)","v":0},0,0]
[{"$f":"IF(B253=0,\"\",MONTH(B253))","v":""},null,null,null,{"$f":"IF(D253=\"\",\"\",IF(D253<0,\"DEBITO\",\"CREDITO\"))","v":""},null,false,false,0,{"$f":"IF($A253=I$3,AND($A253=I$3,$D253<0),0)","v":0},0,{"$f":"IF($A253=K$3,AND($A253=K$3,$D253<0),0)","v":0},0,{"$f":"IF($A253=M$3,AND($A253=M$3,$D253<0),0)","v":0},0,{"$f":"IF($A253=O$3,AND($A253=O$3,$D253<0),0)","v":0},0,0,0,0,0,0,0,{"$f":"IF($A253=W$3,AND($A253=W$3,$D253<0),0)","v":0},0,{"$f":"IF($A253=Y$3,AND($A253=Y$3,$D253<0),0)","v":0},0,{"$f":"IF($A253=AA$3,AND($A253=AA$3,$D253<0),0)","v":0},0,{"$f":"IF($A253=AC$3,AND($A253=AC$3,$D253<0),0)","v":0},0,0]
[{"$f":"IF(B254=0,\"\",MONTH(B254))","v":""},null,null,null,{"$f":"IF(D254=\"\",\"\",IF(D254<0,\"DEBITO\",\"CREDITO\"))","v":""},null,false,false,0,{"$f":"IF($A254=I$3,AND($A254=I$3,$D254<0),0)","v":0},0,{"$f":"IF($A254=K$3,AND($A254=K$3,$D254<0),0)","v":0},0,{"$f":"IF($A254=M$3,AND($A254=M$3,$D254<0),0)","v":0},0,{"$f":"IF($A254=O$3,AND($A254=O$3,$D254<0),0)","v":0},0,0,0,0,0,0,0,{"$f":"IF($A254=W$3,AND($A254=W$3,$D254<0),0)","v":0},0,{"$f":"IF($A254=Y$3,AND($A254=Y$3,$D254<0),0)","v":0},0,{"$f":"IF($A254=AA$3,AND($A254=AA$3,$D254<0),0)","v":0},0,{"$f":"IF($A254=AC$3,AND($A254=AC$3,$D254<0),0)","v":0},0,0]
[{"$f":"IF(B255=0,\"\",MONTH(B255))","v":""},null,null,null,{"$f":"IF(D255=\"\",\"\",IF(D255<0,\"DEBITO\",\"CREDITO\"))","v":""},null,false,false,0,{"$f":"IF($A255=I$3,AND($A255=I$3,$D255<0),0)","v":0},0,{"$f":"IF($A255=K$3,AND($A255=K$3,$D255<0),0)","v":0},0,{"$f":"IF($A255=M$3,AND($A255=M$3,$D255<0),0)","v":0},0,{"$f":"IF($A255=O$3,AND($A255=O$3,$D255<0),0)","v":0},0,0,0,0,0,0,0,{"$f":"IF($A255=W$3,AND($A255=W$3,$D255<0),0)","v":0},0,{"$f":"IF($A255=Y$3,AND($A255=Y$3,$D255<0),0)","v":0},0,{"$f":"IF($A255=AA$3,AND($A255=AA$3,$D255<0),0)","v":0},0,{"$f":"IF($A255=AC$3,AND($A255=AC$3,$D255<0),0)","v":0},0,0]
[{"$f":"IF(B256=0,\"\",MONTH(B256))","v":""},null,null,null,{"$f":"IF(D256=\"\",\"\",IF(D256<0,\"DEBITO\",\"CREDITO\"))","v":""},null,false,false,0,{"$f":"IF($A256=I$3,AND($A256=I$3,$D256<0),0)","v":0},0,{"$f":"IF($A256=K$3,AND($A256=K$3,$D256<0),0)","v":0},0,{"$f":"IF($A256=M$3,AND($A256=M$3,$D256<0),0)","v":0},0,{"$f":"IF($A256=O$3,AND($A256=O$3,$D256<0),0)","v":0},0,0,0,0,0,0,0,{"$f":"IF($A256=W$3,AND($A256=W$3,$D256<0),0)","v":0},0,{"$f":"IF($A256=Y$3,AND($A256=Y$3,$D256<0),0)","v":0},0,{"$f":"IF($A256=AA$3,AND($A256=AA$3,$D256<0),0)","v":0},0,{"$f":"IF($A256=AC$3,AND($A256=AC$3,$D256<0),0)","v":0},0,0]
[{"$f":"IF(B257=0,\"\",MONTH(B257))","v":""},null,null,null,{"$f":"IF(D257=\"\",\"\",IF(D257<0,\"DEBITO\",\"CREDITO\"))","v":""},null,false,false,0,{"$f":"IF($A257=I$3,AND($A257=I$3,$D257<0),0)","v":0},0,{"$f":"IF($A257=K$3,AND($A257=K$3,$D257<0),0)","v":0},0,{"$f":"IF($A257=M$3,AND($A257=M$3,$D257<0),0)","v":0},0,{"$f":"IF($A257=O$3,AND($A257=O$3,$D257<0),0)","v":0},0,0,0,0,0,0,0,{"$f":"IF($A257=W$3,AND($A257=W$3,$D257<0),0)","v":0},0,{"$f":"IF($A257=Y$3,AND($A257=Y$3,$D257<0),0)","v":0},0,{"$f":"IF($A257=AA$3,AND($A257=AA$3,$D257<0),0)","v":0},0,{"$f":"IF($A257=AC$3,AND($A257=AC$3,$D257<0),0)","v":0},0,0]
[{"$f":"IF(B258=0,\"\",MONTH(B258))","v":""},null,null,null,{"$f":"IF(D258=\"\",\"\",IF(D258<0,\"DEBITO\",\"CREDITO\"))","v":""},null,false,false,0,{"$f":"IF($A258=I$3,AND($A258=I$3,$D258<0),0)","v":0},0,{"$f":"IF($A258=K$3,AND($A258=K$3,$D258<0),0)","v":0},0,{"$f":"IF($A258=M$3,AND($A258=M$3,$D258<0),0)","v":0},0,{"$f":"IF($A258=O$3,AND($A258=O$3,$D258<0),0)","v":0},0,0,0,0,0,0,0,{"$f":"IF($A258=W$3,AND($A258=W$3,$D258<0),0)","v":0},0,{"$f":"IF($A258=Y$3,AND($A258=Y$3,$D258<0),0)","v":0},0,{"$f":"IF($A258=AA$3,AND($A258=AA$3,$D258<0),0)","v":0},0,{"$f":"IF($A258=AC$3,AND($A258=AC$3,$D258<0),0)","v":0},0,0]
[{"$f":"IF(B259=0,\"\",MONTH(B259))","v":""},null,null,null,{"$f":"IF(D259=\"\",\"\",IF(D259<0,\"DEBITO\",\"CREDITO\"))","v":""},null,false,false,0,{"$f":"IF($A259=I$3,AND($A259=I$3,$D259<0),0)","v":0},0,{"$f":"IF($A259=K$3,AND($A259=K$3,$D259<0),0)","v":0},0,{"$f":"IF($A259=M$3,AND($A259=M$3,$D259<0),0)","v":0},0,{"$f":"IF($A259=O$3,AND($A259=O$3,$D259<0),0)","v":0},0,0,0,0,0,0,0,{"$f":"IF($A259=W$3,AND($A259=W$3,$D259<0),0)","v":0},0,{"$f":"IF($A259=Y$3,AND($A259=Y$3,$D259<0),0)","v":0},0,{"$f":"IF($A259=AA$3,AND($A259=AA$3,$D259<0),0)","v":0},0,{"$f":"IF($A259=AC$3,AND($A259=AC$3,$D259<0),0)","v":0},0,0]
[{"$f":"IF(B260=0,\"\",MONTH(B260))","v":""},null,null,null,{"$f":"IF(D260=\"\",\"\",IF(D260<0,\"DEBITO\",\"CREDITO\"))","v":""},null,false,false,0,{"$f":"IF($A260=I$3,AND($A260=I$3,$D260<0),0)","v":0},0,{"$f":"IF($A260=K$3,AND($A260=K$3,$D260<0),0)","v":0},0,{"$f":"IF($A260=M$3,AND($A260=M$3,$D260<0),0)","v":0},0,{"$f":"IF($A260=O$3,AND($A260=O$3,$D260<0),0)","v":0},0,0,0,0,0,0,0,{"$f":"IF($A260=W$3,AND($A260=W$3,$D260<0),0)","v":0},0,{"$f":"IF($A260=Y$3,AND($A260=Y$3,$D260<0),0)","v":0},0,{"$f":"IF($A260=AA$3,AND($A260=AA$3,$D260<0),0)","v":0},0,{"$f":"IF($A260=AC$3,AND($A260=AC$3,$D260<0),0)","v":0},0,0]
[{"$f":"IF(B261=0,\"\",MONTH(B261))","v":""},null,null,null,{"$f":"IF(D261=\"\",\"\",IF(D261<0,\"DEBITO\",\"CREDITO\"))","v":""},null,false,false,0,{"$f":"IF($A261=I$3,AND($A261=I$3,$D261<0),0)","v":0},0,{"$f":"IF($A261=K$3,AND($A261=K$3,$D261<0),0)","v":0},0,{"$f":"IF($A261=M$3,AND($A261=M$3,$D261<0),0)","v":0},0,{"$f":"IF($A261=O$3,AND($A261=O$3,$D261<0),0)","v":0},0,0,0,0,0,0,0,{"$f":"IF($A261=W$3,AND($A261=W$3,$D261<0),0)","v":0},0,{"$f":"IF($A261=Y$3,AND($A261=Y$3,$D261<0),0)","v":0},0,{"$f":"IF($A261=AA$3,AND($A261=AA$3,$D261<0),0)","v":0},0,{"$f":"IF($A261=AC$3,AND($A261=AC$3,$D261<0),0)","v":0},0,0]
[{"$f":"IF(B262=0,\"\",MONTH(B262))","v":""},null,null,null,{"$f":"IF(D262=\"\",\"\",IF(D262<0,\"DEBITO\",\"CREDITO\"))","v":""},null,false,false,0,{"$f":"IF($A262=I$3,AND($A262=I$3,$D262<0),0)","v":0},0,{"$f":"IF($A262=K$3,AND($A262=K$3,$D262<0),0)","v":0},0,{"$f":"IF($A262=M$3,AND($A262=M$3,$D262<0),0)","v":0},0,{"$f":"IF($A262=O$3,AND($A262=O$3,$D262<0),0)","v":0},0,0,0,0,0,0,0,{"$f":"IF($A262=W$3,AND($A262=W$3,$D262<0),0)","v":0},0,{"$f":"IF($A262=Y$3,AND($A262=Y$3,$D262<0),0)","v":0},0,{"$f":"IF($A262=AA$3,AND($A262=AA$3,$D262<0),0)","v":0},0,{"$f":"IF($A262=AC$3,AND($A262=AC$3,$D262<0),0)","v":0},0,0]
[{"$f":"IF(B263=0,\"\",MONTH(B263))","v":""},null,null,null,{"$f":"IF(D263=\"\",\"\",IF(D263<0,\"DEBITO\",\"CREDITO\"))","v":""},null,false,false,0,{"$f":"IF($A263=I$3,AND($A263=I$3,$D263<0),0)","v":0},0,{"$f":"IF($A263=K$3,AND($A263=K$3,$D263<0),0)","v":0},0,{"$f":"IF($A263=M$3,AND($A263=M$3,$D263<0),0)","v":0},0,{"$f":"IF($A263=O$3,AND($A263=O$3,$D263<0),0)","v":0},0,0,0,0,0,0,0,{"$f":"IF($A263=W$3,AND($A263=W$3,$D263<0),0)","v":0},0,{"$f":"IF($A263=Y$3,AND($A263=Y$3,$D263<0),0)","v":0},0,{"$f":"IF($A263=AA$3,AND($A263=AA$3,$D263<0),0)","v":0},0,{"$f":"IF($A263=AC$3,AND($A263=AC$3,$D263<0),0)","v":0},0,0]
[{"$f":"IF(B264=0,\"\",MONTH(B264))","v":""},null,null,null,{"$f":"IF(D264=\"\",\"\",IF(D264<0,\"DEBITO\",\"CREDITO\"))","v":""},null,false,false,0,{"$f":"IF($A264=I$3,AND($A264=I$3,$D264<0),0)","v":0},0,{"$f":"IF($A264=K$3,AND($A264=K$3,$D264<0),0)","v":0},0,{"$f":"IF($A264=M$3,AND($A264=M$3,$D264<0),0)","v":0},0,{"$f":"IF($A264=O$3,AND($A264=O$3,$D264<0),0)","v":0},0,0,0,0,0,0,0,{"$f":"IF($A264=W$3,AND($A264=W$3,$D264<0),0)","v":0},0,{"$f":"IF($A264=Y$3,AND($A264=Y$3,$D264<0),0)","v":0},0,{"$f":"IF($A264=AA$3,AND($A264=AA$3,$D264<0),0)","v":0},0,{"$f":"IF($A264=AC$3,AND($A264=AC$3,$D264<0),0)","v":0},0,0]
[{"$f":"IF(B265=0,\"\",MONTH(B265))","v":""},null,null,null,{"$f":"IF(D265=\"\",\"\",IF(D265<0,\"DEBITO\",\"CREDITO\"))","v":""},null,{"$f":"AND(A265=$E$3,D265>0)","v":false},{"$f":"AND(A265=$E$3,D265<0)","v":false},0,{"$f":"IF($A265=I$3,AND($A265=I$3,$D265<0),0)","v":0},0,{"$f":"IF($A265=K$3,AND($A265=K$3,$D265<0),0)","v":0},0,{"$f":"IF($A265=M$3,AND($A265=M$3,$D265<0),0)","v":0},0,{"$f":"IF($A265=O$3,AND($A265=O$3,$D265<0),0)","v":0},0,{"$f":"IF($A265=Q$3,AND($A265=Q$3,$D265<0),0)","v":0},0,0,0,0,0,{"$f":"IF($A265=W$3,AND($A265=W$3,$D265<0),0)","v":0},0,{"$f":"IF($A265=Y$3,AND($A265=Y$3,$D265<0),0)","v":0},0,{"$f":"IF($A265=AA$3,AND($A265=AA$3,$D265<0),0)","v":0},0,{"$f":"IF($A265=AC$3,AND($A265=AC$3,$D265<0),0)","v":0},0,{"$f":"IF($A265=AE$3,AND($A265=AE$3,$D265<0),0)","v":0}]
[{"$f":"IF(B266=0,\"\",MONTH(B266))","v":""},null,null,null,{"$f":"IF(D266=\"\",\"\",IF(D266<0,\"DEBITO\",\"CREDITO\"))","v":""},null,false,false,0,{"$f":"IF($A266=I$3,AND($A266=I$3,$D266<0),0)","v":0},0,{"$f":"IF($A266=K$3,AND($A266=K$3,$D266<0),0)","v":0},0,{"$f":"IF($A266=M$3,AND($A266=M$3,$D266<0),0)","v":0},0,{"$f":"IF($A266=O$3,AND($A266=O$3,$D266<0),0)","v":0},0,0,{"$f":"IF($A266=S$3,AND($A266=S$3,$D266>0),0)","v":0},{"$f":"IF($A266=S$3,AND($A266=S$3,$D266<0),0)","v":0},{"$f":"IF($A266=U$3,AND($A266=U$3,$D266>0),0)","v":0},{"$f":"IF($A266=U$3,AND($A266=U$3,$D266<0),0)","v":0},0,{"$f":"IF($A266=W$3,AND($A266=W$3,$D266<0),0)","v":0},0,{"$f":"IF($A266=Y$3,AND($A266=Y$3,$D266<0),0)","v":0},0,{"$f":"IF($A266=AA$3,AND($A266=AA$3,$D266<0),0)","v":0},0,{"$f":"IF($A266=AC$3,AND($A266=AC$3,$D266<0),0)","v":0},0,0]
[{"$f":"IF(B267=0,\"\",MONTH(B267))","v":""},null,null,null,{"$f":"IF(D267=\"\",\"\",IF(D267<0,\"DEBITO\",\"CREDITO\"))","v":""},null,false,false,0,{"$f":"IF($A267=I$3,AND($A267=I$3,$D267<0),0)","v":0},0,{"$f":"IF($A267=K$3,AND($A267=K$3,$D267<0),0)","v":0},0,{"$f":"IF($A267=M$3,AND($A267=M$3,$D267<0),0)","v":0},0,{"$f":"IF($A267=O$3,AND($A267=O$3,$D267<0),0)","v":0},0,0,0,0,0,0,0,{"$f":"IF($A267=W$3,AND($A267=W$3,$D267<0),0)","v":0},0,{"$f":"IF($A267=Y$3,AND($A267=Y$3,$D267<0),0)","v":0},0,{"$f":"IF($A267=AA$3,AND($A267=AA$3,$D267<0),0)","v":0},0,{"$f":"IF($A267=AC$3,AND($A267=AC$3,$D267<0),0)","v":0},0,0]
[{"$f":"IF(B268=0,\"\",MONTH(B268))","v":""},null,null,null,{"$f":"IF(D268=\"\",\"\",IF(D268<0,\"DEBITO\",\"CREDITO\"))","v":""},null,false,false,0,{"$f":"IF($A268=I$3,AND($A268=I$3,$D268<0),0)","v":0},0,{"$f":"IF($A268=K$3,AND($A268=K$3,$D268<0),0)","v":0},0,{"$f":"IF($A268=M$3,AND($A268=M$3,$D268<0),0)","v":0},0,{"$f":"IF($A268=O$3,AND($A268=O$3,$D268<0),0)","v":0},0,0,0,0,0,0,0,{"$f":"IF($A268=W$3,AND($A268=W$3,$D268<0),0)","v":0},0,{"$f":"IF($A268=Y$3,AND($A268=Y$3,$D268<0),0)","v":0},0,{"$f":"IF($A268=AA$3,AND($A268=AA$3,$D268<0),0)","v":0},0,{"$f":"IF($A268=AC$3,AND($A268=AC$3,$D268<0),0)","v":0},0,0]
[{"$f":"IF(B269=0,\"\",MONTH(B269))","v":""},null,null,null,{"$f":"IF(D269=\"\",\"\",IF(D269<0,\"DEBITO\",\"CREDITO\"))","v":""},null,false,false,0,{"$f":"IF($A269=I$3,AND($A269=I$3,$D269<0),0)","v":0},0,{"$f":"IF($A269=K$3,AND($A269=K$3,$D269<0),0)","v":0},0,{"$f":"IF($A269=M$3,AND($A269=M$3,$D269<0),0)","v":0},0,{"$f":"IF($A269=O$3,AND($A269=O$3,$D269<0),0)","v":0},0,0,0,0,0,0,0,{"$f":"IF($A269=W$3,AND($A269=W$3,$D269<0),0)","v":0},0,{"$f":"IF($A269=Y$3,AND($A269=Y$3,$D269<0),0)","v":0},0,{"$f":"IF($A269=AA$3,AND($A269=AA$3,$D269<0),0)","v":0},0,{"$f":"IF($A269=AC$3,AND($A269=AC$3,$D269<0),0)","v":0},0,0]
[{"$f":"IF(B270=0,\"\",MONTH(B270))","v":""},null,null,null,{"$f":"IF(D270=\"\",\"\",IF(D270<0,\"DEBITO\",\"CREDITO\"))","v":""},null,false,false,0,{"$f":"IF($A270=I$3,AND($A270=I$3,$D270<0),0)","v":0},0,{"$f":"IF($A270=K$3,AND($A270=K$3,$D270<0),0)","v":0},0,{"$f":"IF($A270=M$3,AND($A270=M$3,$D270<0),0)","v":0},0,{"$f":"IF($A270=O$3,AND($A270=O$3,$D270<0),0)","v":0},0,0,0,0,0,0,0,{"$f":"IF($A270=W$3,AND($A270=W$3,$D270<0),0)","v":0},0,{"$f":"IF($A270=Y$3,AND($A270=Y$3,$D270<0),0)","v":0},0,{"$f":"IF($A270=AA$3,AND($A270=AA$3,$D270<0),0)","v":0},0,{"$f":"IF($A270=AC$3,AND($A270=AC$3,$D270<0),0)","v":0},0,0]
[{"$f":"IF(B271=0,\"\",MONTH(B271))","v":""},null,null,null,{"$f":"IF(D271=\"\",\"\",IF(D271<0,\"DEBITO\",\"CREDITO\"))","v":""},null,false,false,0,{"$f":"IF($A271=I$3,AND($A271=I$3,$D271<0),0)","v":0},0,{"$f":"IF($A271=K$3,AND($A271=K$3,$D271<0),0)","v":0},0,{"$f":"IF($A271=M$3,AND($A271=M$3,$D271<0),0)","v":0},0,{"$f":"IF($A271=O$3,AND($A271=O$3,$D271<0),0)","v":0},0,0,0,0,0,0,0,{"$f":"IF($A271=W$3,AND($A271=W$3,$D271<0),0)","v":0},0,{"$f":"IF($A271=Y$3,AND($A271=Y$3,$D271<0),0)","v":0},0,{"$f":"IF($A271=AA$3,AND($A271=AA$3,$D271<0),0)","v":0},0,{"$f":"IF($A271=AC$3,AND($A271=AC$3,$D271<0),0)","v":0},0,0]
[{"$f":"IF(B272=0,\"\",MONTH(B272))","v":""},null,null,null,{"$f":"IF(D272=\"\",\"\",IF(D272<0,\"DEBITO\",\"CREDITO\"))","v":""},null,false,false,0,{"$f":"IF($A272=I$3,AND($A272=I$3,$D272<0),0)","v":0},0,{"$f":"IF($A272=K$3,AND($A272=K$3,$D272<0),0)","v":0},0,{"$f":"IF($A272=M$3,AND($A272=M$3,$D272<0),0)","v":0},0,{"$f":"IF($A272=O$3,AND($A272=O$3,$D272<0),0)","v":0},0,0,0,0,0,0,0,{"$f":"IF($A272=W$3,AND($A272=W$3,$D272<0),0)","v":0},0,{"$f":"IF($A272=Y$3,AND($A272=Y$3,$D272<0),0)","v":0},0,{"$f":"IF($A272=AA$3,AND($A272=AA$3,$D272<0),0)","v":0},0,{"$f":"IF($A272=AC$3,AND($A272=AC$3,$D272<0),0)","v":0},0,0]
[{"$f":"IF(B273=0,\"\",MONTH(B273))","v":""},null,null,null,{"$f":"IF(D273=\"\",\"\",IF(D273<0,\"DEBITO\",\"CREDITO\"))","v":""},null,false,false,0,{"$f":"IF($A273=I$3,AND($A273=I$3,$D273<0),0)","v":0},0,{"$f":"IF($A273=K$3,AND($A273=K$3,$D273<0),0)","v":0},0,{"$f":"IF($A273=M$3,AND($A273=M$3,$D273<0),0)","v":0},0,{"$f":"IF($A273=O$3,AND($A273=O$3,$D273<0),0)","v":0},0,0,0,0,0,0,0,{"$f":"IF($A273=W$3,AND($A273=W$3,$D273<0),0)","v":0},0,{"$f":"IF($A273=Y$3,AND($A273=Y$3,$D273<0),0)","v":0},0,{"$f":"IF($A273=AA$3,AND($A273=AA$3,$D273<0),0)","v":0},0,{"$f":"IF($A273=AC$3,AND($A273=AC$3,$D273<0),0)","v":0},0,0]
[{"$f":"IF(B274=0,\"\",MONTH(B274))","v":""},null,null,null,{"$f":"IF(D274=\"\",\"\",IF(D274<0,\"DEBITO\",\"CREDITO\"))","v":""},null,false,false,0,{"$f":"IF($A274=I$3,AND($A274=I$3,$D274<0),0)","v":0},0,{"$f":"IF($A274=K$3,AND($A274=K$3,$D274<0),0)","v":0},0,{"$f":"IF($A274=M$3,AND($A274=M$3,$D274<0),0)","v":0},0,{"$f":"IF($A274=O$3,AND($A274=O$3,$D274<0),0)","v":0},0,0,0,0,0,0,0,{"$f":"IF($A274=W$3,AND($A274=W$3,$D274<0),0)","v":0},0,{"$f":"IF($A274=Y$3,AND($A274=Y$3,$D274<0),0)","v":0},0,{"$f":"IF($A274=AA$3,AND($A274=AA$3,$D274<0),0)","v":0},0,{"$f":"IF($A274=AC$3,AND($A274=AC$3,$D274<0),0)","v":0},0,0]
[{"$f":"IF(B275=0,\"\",MONTH(B275))","v":""},null,null,null,{"$f":"IF(D275=\"\",\"\",IF(D275<0,\"DEBITO\",\"CREDITO\"))","v":""},null,false,false,0,{"$f":"IF($A275=I$3,AND($A275=I$3,$D275<0),0)","v":0},0,{"$f":"IF($A275=K$3,AND($A275=K$3,$D275<0),0)","v":0},0,{"$f":"IF($A275=M$3,AND($A275=M$3,$D275<0),0)","v":0},0,{"$f":"IF($A275=O$3,AND($A275=O$3,$D275<0),0)","v":0},0,0,0,0,0,0,0,{"$f":"IF($A275=W$3,AND($A275=W$3,$D275<0),0)","v":0},0,{"$f":"IF($A275=Y$3,AND($A275=Y$3,$D275<0),0)","v":0},0,{"$f":"IF($A275=AA$3,AND($A275=AA$3,$D275<0),0)","v":0},0,{"$f":"IF($A275=AC$3,AND($A275=AC$3,$D275<0),0)","v":0},0,0]
[{"$f":"IF(B276=0,\"\",MONTH(B276))","v":""},null,null,null,{"$f":"IF(D276=\"\",\"\",IF(D276<0,\"DEBITO\",\"CREDITO\"))","v":""},null,false,false,0,{"$f":"IF($A276=I$3,AND($A276=I$3,$D276<0),0)","v":0},0,{"$f":"IF($A276=K$3,AND($A276=K$3,$D276<0),0)","v":0},0,{"$f":"IF($A276=M$3,AND($A276=M$3,$D276<0),0)","v":0},0,{"$f":"IF($A276=O$3,AND($A276=O$3,$D276<0),0)","v":0},0,0,0,0,0,0,0,{"$f":"IF($A276=W$3,AND($A276=W$3,$D276<0),0)","v":0},0,{"$f":"IF($A276=Y$3,AND($A276=Y$3,$D276<0),0)","v":0},0,{"$f":"IF($A276=AA$3,AND($A276=AA$3,$D276<0),0)","v":0},0,{"$f":"IF($A276=AC$3,AND($A276=AC$3,$D276<0),0)","v":0},0,0]
[{"$f":"IF(B277=0,\"\",MONTH(B277))","v":""},null,null,null,{"$f":"IF(D277=\"\",\"\",IF(D277<0,\"DEBITO\",\"CREDITO\"))","v":""},null,false,false,0,{"$f":"IF($A277=I$3,AND($A277=I$3,$D277<0),0)","v":0},0,{"$f":"IF($A277=K$3,AND($A277=K$3,$D277<0),0)","v":0},0,{"$f":"IF($A277=M$3,AND($A277=M$3,$D277<0),0)","v":0},0,{"$f":"IF($A277=O$3,AND($A277=O$3,$D277<0),0)","v":0},0,0,0,0,0,0,0,{"$f":"IF($A277=W$3,AND($A277=W$3,$D277<0),0)","v":0},0,{"$f":"IF($A277=Y$3,AND($A277=Y$3,$D277<0),0)","v":0},0,{"$f":"IF($A277=AA$3,AND($A277=AA$3,$D277<0),0)","v":0},0,{"$f":"IF($A277=AC$3,AND($A277=AC$3,$D277<0),0)","v":0},0,0]
[{"$f":"IF(B278=0,\"\",MONTH(B278))","v":""},null,null,null,{"$f":"IF(D278=\"\",\"\",IF(D278<0,\"DEBITO\",\"CREDITO\"))","v":""},null,false,false,0,{"$f":"IF($A278=I$3,AND($A278=I$3,$D278<0),0)","v":0},0,{"$f":"IF($A278=K$3,AND($A278=K$3,$D278<0),0)","v":0},0,{"$f":"IF($A278=M$3,AND($A278=M$3,$D278<0),0)","v":0},0,{"$f":"IF($A278=O$3,AND($A278=O$3,$D278<0),0)","v":0},0,0,0,0,0,0,0,{"$f":"IF($A278=W$3,AND($A278=W$3,$D278<0),0)","v":0},0,{"$f":"IF($A278=Y$3,AND($A278=Y$3,$D278<0),0)","v":0},0,{"$f":"IF($A278=AA$3,AND($A278=AA$3,$D278<0),0)","v":0},0,{"$f":"IF($A278=AC$3,AND($A278=AC$3,$D278<0),0)","v":0},0,0]
[{"$f":"IF(B279=0,\"\",MONTH(B279))","v":""},null,null,null,{"$f":"IF(D279=\"\",\"\",IF(D279<0,\"DEBITO\",\"CREDITO\"))","v":""},null,false,false,0,{"$f":"IF($A279=I$3,AND($A279=I$3,$D279<0),0)","v":0},0,{"$f":"IF($A279=K$3,AND($A279=K$3,$D279<0),0)","v":0},0,{"$f":"IF($A279=M$3,AND($A279=M$3,$D279<0),0)","v":0},0,{"$f":"IF($A279=O$3,AND($A279=O$3,$D279<0),0)","v":0},0,0,0,0,0,0,0,{"$f":"IF($A279=W$3,AND($A279=W$3,$D279<0),0)","v":0},0,{"$f":"IF($A279=Y$3,AND($A279=Y$3,$D279<0),0)","v":0},0,{"$f":"IF($A279=AA$3,AND($A279=AA$3,$D279<0),0)","v":0},0,{"$f":"IF($A279=AC$3,AND($A279=AC$3,$D279<0),0)","v":0},0,0]
[{"$f":"IF(B280=0,\"\",MONTH(B280))","v":""},null,null,null,{"$f":"IF(D280=\"\",\"\",IF(D280<0,\"DEBITO\",\"CREDITO\"))","v":""},null,false,false,0,{"$f":"IF($A280=I$3,AND($A280=I$3,$D280<0),0)","v":0},0,{"$f":"IF($A280=K$3,AND($A280=K$3,$D280<0),0)","v":0},0,{"$f":"IF($A280=M$3,AND($A280=M$3,$D280<0),0)","v":0},0,{"$f":"IF($A280=O$3,AND($A280=O$3,$D280<0),0)","v":0},0,0,0,0,0,0,0,{"$f":"IF($A280=W$3,AND($A280=W$3,$D280<0),0)","v":0},0,{"$f":"IF($A280=Y$3,AND($A280=Y$3,$D280<0),0)","v":0},0,{"$f":"IF($A280=AA$3,AND($A280=AA$3,$D280<0),0)","v":0},0,{"$f":"IF($A280=AC$3,AND($A280=AC$3,$D280<0),0)","v":0},0,0]
[{"$f":"IF(B281=0,\"\",MONTH(B281))","v":""},null,null,null,{"$f":"IF(D281=\"\",\"\",IF(D281<0,\"DEBITO\",\"CREDITO\"))","v":""},null,false,false,{"$f":"IF($A281=I$3,AND($A281=I$3,$D281>0),0)","v":0},{"$f":"IF($A281=I$3,AND($A281=I$3,$D281<0),0)","v":0},{"$f":"IF($A281=K$3,AND($A281=K$3,$D281>0),0)","v":0},{"$f":"IF($A281=K$3,AND($A281=K$3,$D281<0),0)","v":0},{"$f":"IF($A281=M$3,AND($A281=M$3,$D281>0),0)","v":0},{"$f":"IF($A281=M$3,AND($A281=M$3,$D281<0),0)","v":0},{"$f":"IF($A281=O$3,AND($A281=O$3,$D281>0),0)","v":0},{"$f":"IF($A281=O$3,AND($A281=O$3,$D281<0),0)","v":0},{"$f":"IF($A281=Q$3,AND($A281=Q$3,$D281>0),0)","v":0},0,0,0,0,0,{"$f":"IF($A281=W$3,AND($A281=W$3,$D281>0),0)","v":0},{"$f":"IF($A281=W$3,AND($A281=W$3,$D281<0),0)","v":0},{"$f":"IF($A281=Y$3,AND($A281=Y$3,$D281>0),0)","v":0},{"$f":"IF($A281=Y$3,AND($A281=Y$3,$D281<0),0)","v":0},{"$f":"IF($A281=AA$3,AND($A281=AA$3,$D281>0),0)","v":0},{"$f":"IF($A281=AA$3,AND($A281=AA$3,$D281<0),0)","v":0},{"$f":"IF($A281=AC$3,AND($A281=AC$3,$D281>0),0)","v":0},{"$f":"IF($A281=AC$3,AND($A281=AC$3,$D281<0),0)","v":0},{"$f":"IF($A281=AE$3,AND($A281=AE$3,$D281>0),0)","v":0},0]
[{"$f":"IF(B282=0,\"\",MONTH(B282))","v":""},null,null,null,{"$f":"IF(D282=\"\",\"\",IF(D282<0,\"DEBITO\",\"CREDITO\"))","v":""},null,false,false,0,{"$f":"IF($A282=I$3,AND($A282=I$3,$D282<0),0)","v":0},0,{"$f":"IF($A282=K$3,AND($A282=K$3,$D282<0),0)","v":0},0,{"$f":"IF($A282=M$3,AND($A282=M$3,$D282<0),0)","v":0},0,{"$f":"IF($A282=O$3,AND($A282=O$3,$D282<0),0)","v":0},0,0,0,0,0,0,0,{"$f":"IF($A282=W$3,AND($A282=W$3,$D282<0),0)","v":0},0,{"$f":"IF($A282=Y$3,AND($A282=Y$3,$D282<0),0)","v":0},0,{"$f":"IF($A282=AA$3,AND($A282=AA$3,$D282<0),0)","v":0},0,{"$f":"IF($A282=AC$3,AND($A282=AC$3,$D282<0),0)","v":0},0,0]
[{"$f":"IF(B283=0,\"\",MONTH(B283))","v":""},null,null,null,{"$f":"IF(D283=\"\",\"\",IF(D283<0,\"DEBITO\",\"CREDITO\"))","v":""},null,false,false,0,{"$f":"IF($A283=I$3,AND($A283=I$3,$D283<0),0)","v":0},0,{"$f":"IF($A283=K$3,AND($A283=K$3,$D283<0),0)","v":0},0,{"$f":"IF($A283=M$3,AND($A283=M$3,$D283<0),0)","v":0},0,{"$f":"IF($A283=O$3,AND($A283=O$3,$D283<0),0)","v":0},0,0,0,0,0,0,0,{"$f":"IF($A283=W$3,AND($A283=W$3,$D283<0),0)","v":0},0,{"$f":"IF($A283=Y$3,AND($A283=Y$3,$D283<0),0)","v":0},0,{"$f":"IF($A283=AA$3,AND($A283=AA$3,$D283<0),0)","v":0},0,{"$f":"IF($A283=AC$3,AND($A283=AC$3,$D283<0),0)","v":0},0,0]
[{"$f":"IF(B284=0,\"\",MONTH(B284))","v":""},null,null,null,{"$f":"IF(D284=\"\",\"\",IF(D284<0,\"DEBITO\",\"CREDITO\"))","v":""},null,false,false,0,{"$f":"IF($A284=I$3,AND($A284=I$3,$D284<0),0)","v":0},0,{"$f":"IF($A284=K$3,AND($A284=K$3,$D284<0),0)","v":0},0,{"$f":"IF($A284=M$3,AND($A284=M$3,$D284<0),0)","v":0},0,{"$f":"IF($A284=O$3,AND($A284=O$3,$D284<0),0)","v":0},0,0,0,0,0,0,0,{"$f":"IF($A284=W$3,AND($A284=W$3,$D284<0),0)","v":0},0,{"$f":"IF($A284=Y$3,AND($A284=Y$3,$D284<0),0)","v":0},0,{"$f":"IF($A284=AA$3,AND($A284=AA$3,$D284<0),0)","v":0},0,{"$f":"IF($A284=AC$3,AND($A284=AC$3,$D284<0),0)","v":0},0,0]
[{"$f":"IF(B285=0,\"\",MONTH(B285))","v":""},null,null,null,{"$f":"IF(D285=\"\",\"\",IF(D285<0,\"DEBITO\",\"CREDITO\"))","v":""},null,false,false,0,{"$f":"IF($A285=I$3,AND($A285=I$3,$D285<0),0)","v":0},0,{"$f":"IF($A285=K$3,AND($A285=K$3,$D285<0),0)","v":0},0,{"$f":"IF($A285=M$3,AND($A285=M$3,$D285<0),0)","v":0},0,{"$f":"IF($A285=O$3,AND($A285=O$3,$D285<0),0)","v":0},0,0,0,0,0,0,0,{"$f":"IF($A285=W$3,AND($A285=W$3,$D285<0),0)","v":0},0,{"$f":"IF($A285=Y$3,AND($A285=Y$3,$D285<0),0)","v":0},0,{"$f":"IF($A285=AA$3,AND($A285=AA$3,$D285<0),0)","v":0},0,{"$f":"IF($A285=AC$3,AND($A285=AC$3,$D285<0),0)","v":0},0,0]
[{"$f":"IF(B286=0,\"\",MONTH(B286))","v":""},null,null,null,{"$f":"IF(D286=\"\",\"\",IF(D286<0,\"DEBITO\",\"CREDITO\"))","v":""},null,false,false,0,{"$f":"IF($A286=I$3,AND($A286=I$3,$D286<0),0)","v":0},0,{"$f":"IF($A286=K$3,AND($A286=K$3,$D286<0),0)","v":0},0,{"$f":"IF($A286=M$3,AND($A286=M$3,$D286<0),0)","v":0},0,{"$f":"IF($A286=O$3,AND($A286=O$3,$D286<0),0)","v":0},0,0,0,0,0,0,0,{"$f":"IF($A286=W$3,AND($A286=W$3,$D286<0),0)","v":0},0,{"$f":"IF($A286=Y$3,AND($A286=Y$3,$D286<0),0)","v":0},0,{"$f":"IF($A286=AA$3,AND($A286=AA$3,$D286<0),0)","v":0},0,{"$f":"IF($A286=AC$3,AND($A286=AC$3,$D286<0),0)","v":0},0,0]
[{"$f":"IF(B287=0,\"\",MONTH(B287))","v":""},null,null,null,{"$f":"IF(D287=\"\",\"\",IF(D287<0,\"DEBITO\",\"CREDITO\"))","v":""},null,false,false,0,{"$f":"IF($A287=I$3,AND($A287=I$3,$D287<0),0)","v":0},0,{"$f":"IF($A287=K$3,AND($A287=K$3,$D287<0),0)","v":0},0,{"$f":"IF($A287=M$3,AND($A287=M$3,$D287<0),0)","v":0},0,{"$f":"IF($A287=O$3,AND($A287=O$3,$D287<0),0)","v":0},0,0,0,0,0,0,0,{"$f":"IF($A287=W$3,AND($A287=W$3,$D287<0),0)","v":0},0,{"$f":"IF($A287=Y$3,AND($A287=Y$3,$D287<0),0)","v":0},0,{"$f":"IF($A287=AA$3,AND($A287=AA$3,$D287<0),0)","v":0},0,{"$f":"IF($A287=AC$3,AND($A287=AC$3,$D287<0),0)","v":0},0,0]
[{"$f":"IF(B288=0,\"\",MONTH(B288))","v":""},null,null,null,{"$f":"IF(D288=\"\",\"\",IF(D288<0,\"DEBITO\",\"CREDITO\"))","v":""},null,false,false,0,{"$f":"IF($A288=I$3,AND($A288=I$3,$D288<0),0)","v":0},0,{"$f":"IF($A288=K$3,AND($A288=K$3,$D288<0),0)","v":0},0,{"$f":"IF($A288=M$3,AND($A288=M$3,$D288<0),0)","v":0},0,{"$f":"IF($A288=O$3,AND($A288=O$3,$D288<0),0)","v":0},0,0,0,0,0,0,0,{"$f":"IF($A288=W$3,AND($A288=W$3,$D288<0),0)","v":0},0,{"$f":"IF($A288=Y$3,AND($A288=Y$3,$D288<0),0)","v":0},0,{"$f":"IF($A288=AA$3,AND($A288=AA$3,$D288<0),0)","v":0},0,{"$f":"IF($A288=AC$3,AND($A288=AC$3,$D288<0),0)","v":0},0,0]
[{"$f":"IF(B289=0,\"\",MONTH(B289))","v":""},null,null,null,{"$f":"IF(D289=\"\",\"\",IF(D289<0,\"DEBITO\",\"CREDITO\"))","v":""},null,false,false,0,{"$f":"IF($A289=I$3,AND($A289=I$3,$D289<0),0)","v":0},0,{"$f":"IF($A289=K$3,AND($A289=K$3,$D289<0),0)","v":0},0,{"$f":"IF($A289=M$3,AND($A289=M$3,$D289<0),0)","v":0},0,{"$f":"IF($A289=O$3,AND($A289=O$3,$D289<0),0)","v":0},0,0,0,0,0,0,0,{"$f":"IF($A289=W$3,AND($A289=W$3,$D289<0),0)","v":0},0,{"$f":"IF($A289=Y$3,AND($A289=Y$3,$D289<0),0)","v":0},0,{"$f":"IF($A289=AA$3,AND($A289=AA$3,$D289<0),0)","v":0},0,{"$f":"IF($A289=AC$3,AND($A289=AC$3,$D289<0),0)","v":0},0,0]
[{"$f":"IF(B290=0,\"\",MONTH(B290))","v":""},null,null,null,{"$f":"IF(D290=\"\",\"\",IF(D290<0,\"DEBITO\",\"CREDITO\"))","v":""},null,false,false,0,{"$f":"IF($A290=I$3,AND($A290=I$3,$D290<0),0)","v":0},0,{"$f":"IF($A290=K$3,AND($A290=K$3,$D290<0),0)","v":0},0,{"$f":"IF($A290=M$3,AND($A290=M$3,$D290<0),0)","v":0},0,{"$f":"IF($A290=O$3,AND($A290=O$3,$D290<0),0)","v":0},0,0,0,0,0,0,0,{"$f":"IF($A290=W$3,AND($A290=W$3,$D290<0),0)","v":0},0,{"$f":"IF($A290=Y$3,AND($A290=Y$3,$D290<0),0)","v":0},0,{"$f":"IF($A290=AA$3,AND($A290=AA$3,$D290<0),0)","v":0},0,{"$f":"IF($A290=AC$3,AND($A290=AC$3,$D290<0),0)","v":0},0,0]
[{"$f":"IF(B291=0,\"\",MONTH(B291))","v":""},null,null,null,{"$f":"IF(D291=\"\",\"\",IF(D291<0,\"DEBITO\",\"CREDITO\"))","v":""},null,false,false,0,{"$f":"IF($A291=I$3,AND($A291=I$3,$D291<0),0)","v":0},0,{"$f":"IF($A291=K$3,AND($A291=K$3,$D291<0),0)","v":0},0,{"$f":"IF($A291=M$3,AND($A291=M$3,$D291<0),0)","v":0},0,{"$f":"IF($A291=O$3,AND($A291=O$3,$D291<0),0)","v":0},0,0,0,0,0,0,0,{"$f":"IF($A291=W$3,AND($A291=W$3,$D291<0),0)","v":0},0,{"$f":"IF($A291=Y$3,AND($A291=Y$3,$D291<0),0)","v":0},0,{"$f":"IF($A291=AA$3,AND($A291=AA$3,$D291<0),0)","v":0},0,{"$f":"IF($A291=AC$3,AND($A291=AC$3,$D291<0),0)","v":0},0,0]
[{"$f":"IF(B292=0,\"\",MONTH(B292))","v":""},null,null,null,{"$f":"IF(D292=\"\",\"\",IF(D292<0,\"DEBITO\",\"CREDITO\"))","v":""},null,false,false,0,{"$f":"IF($A292=I$3,AND($A292=I$3,$D292<0),0)","v":0},0,{"$f":"IF($A292=K$3,AND($A292=K$3,$D292<0),0)","v":0},0,{"$f":"IF($A292=M$3,AND($A292=M$3,$D292<0),0)","v":0},0,{"$f":"IF($A292=O$3,AND($A292=O$3,$D292<0),0)","v":0},0,0,0,0,0,0,0,{"$f":"IF($A292=W$3,AND($A292=W$3,$D292<0),0)","v":0},0,{"$f":"IF($A292=Y$3,AND($A292=Y$3,$D292<0),0)","v":0},0,{"$f":"IF($A292=AA$3,AND($A292=AA$3,$D292<0),0)","v":0},0,{"$f":"IF($A292=AC$3,AND($A292=AC$3,$D292<0),0)","v":0},0,0]
[{"$f":"IF(B293=0,\"\",MONTH(B293))","v":""},null,null,null,{"$f":"IF(D293=\"\",\"\",IF(D293<0,\"DEBITO\",\"CREDITO\"))","v":""},null,false,false,0,{"$f":"IF($A293=I$3,AND($A293=I$3,$D293<0),0)","v":0},0,{"$f":"IF($A293=K$3,AND($A293=K$3,$D293<0),0)","v":0},0,{"$f":"IF($A293=M$3,AND($A293=M$3,$D293<0),0)","v":0},0,{"$f":"IF($A293=O$3,AND($A293=O$3,$D293<0),0)","v":0},0,0,0,0,0,0,0,{"$f":"IF($A293=W$3,AND($A293=W$3,$D293<0),0)","v":0},0,{"$f":"IF($A293=Y$3,AND($A293=Y$3,$D293<0),0)","v":0},0,{"$f":"IF($A293=AA$3,AND($A293=AA$3,$D293<0),0)","v":0},0,{"$f":"IF($A293=AC$3,AND($A293=AC$3,$D293<0),0)","v":0},0,0]
[{"$f":"IF(B294=0,\"\",MONTH(B294))","v":""},null,null,null,{"$f":"IF(D294=\"\",\"\",IF(D294<0,\"DEBITO\",\"CREDITO\"))","v":""},null,false,false,0,{"$f":"IF($A294=I$3,AND($A294=I$3,$D294<0),0)","v":0},0,{"$f":"IF($A294=K$3,AND($A294=K$3,$D294<0),0)","v":0},0,{"$f":"IF($A294=M$3,AND($A294=M$3,$D294<0),0)","v":0},0,{"$f":"IF($A294=O$3,AND($A294=O$3,$D294<0),0)","v":0},0,0,0,0,0,0,0,{"$f":"IF($A294=W$3,AND($A294=W$3,$D294<0),0)","v":0},0,{"$f":"IF($A294=Y$3,AND($A294=Y$3,$D294<0),0)","v":0},0,{"$f":"IF($A294=AA$3,AND($A294=AA$3,$D294<0),0)","v":0},0,{"$f":"IF($A294=AC$3,AND($A294=AC$3,$D294<0),0)","v":0},0,0]
[{"$f":"IF(B295=0,\"\",MONTH(B295))","v":""},null,null,null,{"$f":"IF(D295=\"\",\"\",IF(D295<0,\"DEBITO\",\"CREDITO\"))","v":""},null,false,false,0,{"$f":"IF($A295=I$3,AND($A295=I$3,$D295<0),0)","v":0},0,{"$f":"IF($A295=K$3,AND($A295=K$3,$D295<0),0)","v":0},0,{"$f":"IF($A295=M$3,AND($A295=M$3,$D295<0),0)","v":0},0,{"$f":"IF($A295=O$3,AND($A295=O$3,$D295<0),0)","v":0},0,0,0,0,0,0,0,{"$f":"IF($A295=W$3,AND($A295=W$3,$D295<0),0)","v":0},0,{"$f":"IF($A295=Y$3,AND($A295=Y$3,$D295<0),0)","v":0},0,{"$f":"IF($A295=AA$3,AND($A295=AA$3,$D295<0),0)","v":0},0,{"$f":"IF($A295=AC$3,AND($A295=AC$3,$D295<0),0)","v":0},0,0]
[{"$f":"IF(B296=0,\"\",MONTH(B296))","v":""},null,null,null,{"$f":"IF(D296=\"\",\"\",IF(D296<0,\"DEBITO\",\"CREDITO\"))","v":""},null,false,false,0,{"$f":"IF($A296=I$3,AND($A296=I$3,$D296<0),0)","v":0},0,{"$f":"IF($A296=K$3,AND($A296=K$3,$D296<0),0)","v":0},0,{"$f":"IF($A296=M$3,AND($A296=M$3,$D296<0),0)","v":0},0,{"$f":"IF($A296=O$3,AND($A296=O$3,$D296<0),0)","v":0},0,0,0,0,0,0,0,{"$f":"IF($A296=W$3,AND($A296=W$3,$D296<0),0)","v":0},0,{"$f":"IF($A296=Y$3,AND($A296=Y$3,$D296<0),0)","v":0},0,{"$f":"IF($A296=AA$3,AND($A296=AA$3,$D296<0),0)","v":0},0,{"$f":"IF($A296=AC$3,AND($A296=AC$3,$D296<0),0)","v":0},0,0]
[{"$f":"IF(B297=0,\"\",MONTH(B297))","v":""},null,null,null,{"$f":"IF(D297=\"\",\"\",IF(D297<0,\"DEBITO\",\"CREDITO\"))","v":""},null,false,false,0,{"$f":"IF($A297=I$3,AND($A297=I$3,$D297<0),0)","v":0},0,{"$f":"IF($A297=K$3,AND($A297=K$3,$D297<0),0)","v":0},0,{"$f":"IF($A297=M$3,AND($A297=M$3,$D297<0),0)","v":0},0,{"$f":"IF($A297=O$3,AND($A297=O$3,$D297<0),0)","v":0},0,0,0,0,0,0,0,{"$f":"IF($A297=W$3,AND($A297=W$3,$D297<0),0)","v":0},0,{"$f":"IF($A297=Y$3,AND($A297=Y$3,$D297<0),0)","v":0},0,{"$f":"IF($A297=AA$3,AND($A297=AA$3,$D297<0),0)","v":0},0,{"$f":"IF($A297=AC$3,AND($A297=AC$3,$D297<0),0)","v":0},0,0]
[{"$f":"IF(B298=0,\"\",MONTH(B298))","v":""},null,null,null,{"$f":"IF(D298=\"\",\"\",IF(D298<0,\"DEBITO\",\"CREDITO\"))","v":""},null,false,false,0,{"$f":"IF($A298=I$3,AND($A298=I$3,$D298<0),0)","v":0},0,{"$f":"IF($A298=K$3,AND($A298=K$3,$D298<0),0)","v":0},0,{"$f":"IF($A298=M$3,AND($A298=M$3,$D298<0),0)","v":0},0,{"$f":"IF($A298=O$3,AND($A298=O$3,$D298<0),0)","v":0},0,0,0,0,0,0,0,{"$f":"IF($A298=W$3,AND($A298=W$3,$D298<0),0)","v":0},0,{"$f":"IF($A298=Y$3,AND($A298=Y$3,$D298<0),0)","v":0},0,{"$f":"IF($A298=AA$3,AND($A298=AA$3,$D298<0),0)","v":0},0,{"$f":"IF($A298=AC$3,AND($A298=AC$3,$D298<0),0)","v":0},0,0]
[{"$f":"IF(B299=0,\"\",MONTH(B299))","v":""},null,null,null,{"$f":"IF(D299=\"\",\"\",IF(D299<0,\"DEBITO\",\"CREDITO\"))","v":""},null,false,false,0,{"$f":"IF($A299=I$3,AND($A299=I$3,$D299<0),0)","v":0},0,{"$f":"IF($A299=K$3,AND($A299=K$3,$D299<0),0)","v":0},0,{"$f":"IF($A299=M$3,AND($A299=M$3,$D299<0),0)","v":0},0,{"$f":"IF($A299=O$3,AND($A299=O$3,$D299<0),0)","v":0},0,0,0,0,0,0,0,{"$f":"IF($A299=W$3,AND($A299=W$3,$D299<0),0)","v":0},0,{"$f":"IF($A299=Y$3,AND($A299=Y$3,$D299<0),0)","v":0},0,{"$f":"IF($A299=AA$3,AND($A299=AA$3,$D299<0),0)","v":0},0,{"$f":"IF($A299=AC$3,AND($A299=AC$3,$D299<0),0)","v":0},0,0]
[{"$f":"IF(B300=0,\"\",MONTH(B300))","v":""},null,null,null,{"$f":"IF(D300=\"\",\"\",IF(D300<0,\"DEBITO\",\"CREDITO\"))","v":""},null,false,false,0,{"$f":"IF($A300=I$3,AND($A300=I$3,$D300<0),0)","v":0},0,{"$f":"IF($A300=K$3,AND($A300=K$3,$D300<0),0)","v":0},0,{"$f":"IF($A300=M$3,AND($A300=M$3,$D300<0),0)","v":0},0,{"$f":"IF($A300=O$3,AND($A300=O$3,$D300<0),0)","v":0},0,0,0,0,0,0,0,{"$f":"IF($A300=W$3,AND($A300=W$3,$D300<0),0)","v":0},0,{"$f":"IF($A300=Y$3,AND($A300=Y$3,$D300<0),0)","v":0},0,{"$f":"IF($A300=AA$3,AND($A300=AA$3,$D300<0),0)","v":0},0,{"$f":"IF($A300=AC$3,AND($A300=AC$3,$D300<0),0)","v":0},0,0]
[{"$f":"IF(B301=0,\"\",MONTH(B301))","v":""},null,null,null,{"$f":"IF(D301=\"\",\"\",IF(D301<0,\"DEBITO\",\"CREDITO\"))","v":""},null,false,false,0,{"$f":"IF($A301=I$3,AND($A301=I$3,$D301<0),0)","v":0},0,{"$f":"IF($A301=K$3,AND($A301=K$3,$D301<0),0)","v":0},0,{"$f":"IF($A301=M$3,AND($A301=M$3,$D301<0),0)","v":0},0,{"$f":"IF($A301=O$3,AND($A301=O$3,$D301<0),0)","v":0},0,0,0,0,0,0,0,{"$f":"IF($A301=W$3,AND($A301=W$3,$D301<0),0)","v":0},0,{"$f":"IF($A301=Y$3,AND($A301=Y$3,$D301<0),0)","v":0},0,{"$f":"IF($A301=AA$3,AND($A301=AA$3,$D301<0),0)","v":0},0,{"$f":"IF($A301=AC$3,AND($A301=AC$3,$D301<0),0)","v":0},0,0]
[{"$f":"IF(B302=0,\"\",MONTH(B302))","v":""},null,null,null,{"$f":"IF(D302=\"\",\"\",IF(D302<0,\"DEBITO\",\"CREDITO\"))","v":""},null,false,false,0,{"$f":"IF($A302=I$3,AND($A302=I$3,$D302<0),0)","v":0},0,{"$f":"IF($A302=K$3,AND($A302=K$3,$D302<0),0)","v":0},0,{"$f":"IF($A302=M$3,AND($A302=M$3,$D302<0),0)","v":0},0,{"$f":"IF($A302=O$3,AND($A302=O$3,$D302<0),0)","v":0},0,0,0,0,0,0,0,{"$f":"IF($A302=W$3,AND($A302=W$3,$D302<0),0)","v":0},0,{"$f":"IF($A302=Y$3,AND($A302=Y$3,$D302<0),0)","v":0},0,{"$f":"IF($A302=AA$3,AND($A302=AA$3,$D302<0),0)","v":0},0,{"$f":"IF($A302=AC$3,AND($A302=AC$3,$D302<0),0)","v":0},0,0]
[{"$f":"IF(B303=0,\"\",MONTH(B303))","v":""},null,null,null,{"$f":"IF(D303=\"\",\"\",IF(D303<0,\"DEBITO\",\"CREDITO\"))","v":""},null,false,false,0,{"$f":"IF($A303=I$3,AND($A303=I$3,$D303<0),0)","v":0},0,{"$f":"IF($A303=K$3,AND($A303=K$3,$D303<0),0)","v":0},0,{"$f":"IF($A303=M$3,AND($A303=M$3,$D303<0),0)","v":0},0,{"$f":"IF($A303=O$3,AND($A303=O$3,$D303<0),0)","v":0},0,0,0,0,0,0,0,{"$f":"IF($A303=W$3,AND($A303=W$3,$D303<0),0)","v":0},0,{"$f":"IF($A303=Y$3,AND($A303=Y$3,$D303<0),0)","v":0},0,{"$f":"IF($A303=AA$3,AND($A303=AA$3,$D303<0),0)","v":0},0,{"$f":"IF($A303=AC$3,AND($A303=AC$3,$D303<0),0)","v":0},0,0]
[{"$f":"IF(B304=0,\"\",MONTH(B304))","v":""},null,null,null,{"$f":"IF(D304=\"\",\"\",IF(D304<0,\"DEBITO\",\"CREDITO\"))","v":""},null,false,false,0,{"$f":"IF($A304=I$3,AND($A304=I$3,$D304<0),0)","v":0},0,{"$f":"IF($A304=K$3,AND($A304=K$3,$D304<0),0)","v":0},0,{"$f":"IF($A304=M$3,AND($A304=M$3,$D304<0),0)","v":0},0,{"$f":"IF($A304=O$3,AND($A304=O$3,$D304<0),0)","v":0},0,0,0,0,0,0,0,{"$f":"IF($A304=W$3,AND($A304=W$3,$D304<0),0)","v":0},0,{"$f":"IF($A304=Y$3,AND($A304=Y$3,$D304<0),0)","v":0},0,{"$f":"IF($A304=AA$3,AND($A304=AA$3,$D304<0),0)","v":0},0,{"$f":"IF($A304=AC$3,AND($A304=AC$3,$D304<0),0)","v":0},0,0]
[{"$f":"IF(B305=0,\"\",MONTH(B305))","v":""},null,null,null,{"$f":"IF(D305=\"\",\"\",IF(D305<0,\"DEBITO\",\"CREDITO\"))","v":""},null,false,false,0,{"$f":"IF($A305=I$3,AND($A305=I$3,$D305<0),0)","v":0},0,{"$f":"IF($A305=K$3,AND($A305=K$3,$D305<0),0)","v":0},0,{"$f":"IF($A305=M$3,AND($A305=M$3,$D305<0),0)","v":0},0,{"$f":"IF($A305=O$3,AND($A305=O$3,$D305<0),0)","v":0},0,0,0,0,0,0,0,{"$f":"IF($A305=W$3,AND($A305=W$3,$D305<0),0)","v":0},0,{"$f":"IF($A305=Y$3,AND($A305=Y$3,$D305<0),0)","v":0},0,{"$f":"IF($A305=AA$3,AND($A305=AA$3,$D305<0),0)","v":0},0,{"$f":"IF($A305=AC$3,AND($A305=AC$3,$D305<0),0)","v":0},0,0]
[{"$f":"IF(B306=0,\"\",MONTH(B306))","v":""},null,null,null,{"$f":"IF(D306=\"\",\"\",IF(D306<0,\"DEBITO\",\"CREDITO\"))","v":""},null,false,false,0,{"$f":"IF($A306=I$3,AND($A306=I$3,$D306<0),0)","v":0},0,{"$f":"IF($A306=K$3,AND($A306=K$3,$D306<0),0)","v":0},0,{"$f":"IF($A306=M$3,AND($A306=M$3,$D306<0),0)","v":0},0,{"$f":"IF($A306=O$3,AND($A306=O$3,$D306<0),0)","v":0},0,0,0,0,0,0,0,{"$f":"IF($A306=W$3,AND($A306=W$3,$D306<0),0)","v":0},0,{"$f":"IF($A306=Y$3,AND($A306=Y$3,$D306<0),0)","v":0},0,{"$f":"IF($A306=AA$3,AND($A306=AA$3,$D306<0),0)","v":0},0,{"$f":"IF($A306=AC$3,AND($A306=AC$3,$D306<0),0)","v":0},0,0]
[{"$f":"IF(B307=0,\"\",MONTH(B307))","v":""},null,null,null,{"$f":"IF(D307=\"\",\"\",IF(D307<0,\"DEBITO\",\"CREDITO\"))","v":""},null,false,false,0,{"$f":"IF($A307=I$3,AND($A307=I$3,$D307<0),0)","v":0},0,{"$f":"IF($A307=K$3,AND($A307=K$3,$D307<0),0)","v":0},0,{"$f":"IF($A307=M$3,AND($A307=M$3,$D307<0),0)","v":0},0,{"$f":"IF($A307=O$3,AND($A307=O$3,$D307<0),0)","v":0},0,0,0,0,0,0,0,{"$f":"IF($A307=W$3,AND($A307=W$3,$D307<0),0)","v":0},0,{"$f":"IF($A307=Y$3,AND($A307=Y$3,$D307<0),0)","v":0},0,{"$f":"IF($A307=AA$3,AND($A307=AA$3,$D307<0),0)","v":0},0,{"$f":"IF($A307=AC$3,AND($A307=AC$3,$D307<0),0)","v":0},0,0]
[{"$f":"IF(B308=0,\"\",MONTH(B308))","v":""},null,null,null,{"$f":"IF(D308=\"\",\"\",IF(D308<0,\"DEBITO\",\"CREDITO\"))","v":""},null,false,false,0,{"$f":"IF($A308=I$3,AND($A308=I$3,$D308<0),0)","v":0},0,{"$f":"IF($A308=K$3,AND($A308=K$3,$D308<0),0)","v":0},0,{"$f":"IF($A308=M$3,AND($A308=M$3,$D308<0),0)","v":0},0,{"$f":"IF($A308=O$3,AND($A308=O$3,$D308<0),0)","v":0},0,0,0,0,0,0,0,{"$f":"IF($A308=W$3,AND($A308=W$3,$D308<0),0)","v":0},0,{"$f":"IF($A308=Y$3,AND($A308=Y$3,$D308<0),0)","v":0},0,{"$f":"IF($A308=AA$3,AND($A308=AA$3,$D308<0),0)","v":0},0,{"$f":"IF($A308=AC$3,AND($A308=AC$3,$D308<0),0)","v":0},0,0]
[{"$f":"IF(B309=0,\"\",MONTH(B309))","v":""},null,null,null,{"$f":"IF(D309=\"\",\"\",IF(D309<0,\"DEBITO\",\"CREDITO\"))","v":""},null,false,false,0,{"$f":"IF($A309=I$3,AND($A309=I$3,$D309<0),0)","v":0},0,{"$f":"IF($A309=K$3,AND($A309=K$3,$D309<0),0)","v":0},0,{"$f":"IF($A309=M$3,AND($A309=M$3,$D309<0),0)","v":0},0,{"$f":"IF($A309=O$3,AND($A309=O$3,$D309<0),0)","v":0},0,0,0,0,0,0,0,{"$f":"IF($A309=W$3,AND($A309=W$3,$D309<0),0)","v":0},0,{"$f":"IF($A309=Y$3,AND($A309=Y$3,$D309<0),0)","v":0},0,{"$f":"IF($A309=AA$3,AND($A309=AA$3,$D309<0),0)","v":0},0,{"$f":"IF($A309=AC$3,AND($A309=AC$3,$D309<0),0)","v":0},0,0]
[{"$f":"IF(B310=0,\"\",MONTH(B310))","v":""},null,null,null,{"$f":"IF(D310=\"\",\"\",IF(D310<0,\"DEBITO\",\"CREDITO\"))","v":""},null,false,false,0,{"$f":"IF($A310=I$3,AND($A310=I$3,$D310<0),0)","v":0},0,{"$f":"IF($A310=K$3,AND($A310=K$3,$D310<0),0)","v":0},0,{"$f":"IF($A310=M$3,AND($A310=M$3,$D310<0),0)","v":0},0,{"$f":"IF($A310=O$3,AND($A310=O$3,$D310<0),0)","v":0},0,0,0,0,0,0,0,{"$f":"IF($A310=W$3,AND($A310=W$3,$D310<0),0)","v":0},0,{"$f":"IF($A310=Y$3,AND($A310=Y$3,$D310<0),0)","v":0},0,{"$f":"IF($A310=AA$3,AND($A310=AA$3,$D310<0),0)","v":0},0,{"$f":"IF($A310=AC$3,AND($A310=AC$3,$D310<0),0)","v":0},0,0]
[{"$f":"IF(B311=0,\"\",MONTH(B311))","v":""},null,null,null,{"$f":"IF(D311=\"\",\"\",IF(D311<0,\"DEBITO\",\"CREDITO\"))","v":""},null,false,false,0,{"$f":"IF($A311=I$3,AND($A311=I$3,$D311<0),0)","v":0},0,{"$f":"IF($A311=K$3,AND($A311=K$3,$D311<0),0)","v":0},0,{"$f":"IF($A311=M$3,AND($A311=M$3,$D311<0),0)","v":0},0,{"$f":"IF($A311=O$3,AND($A311=O$3,$D311<0),0)","v":0},0,0,0,0,0,0,0,{"$f":"IF($A311=W$3,AND($A311=W$3,$D311<0),0)","v":0},0,{"$f":"IF($A311=Y$3,AND($A311=Y$3,$D311<0),0)","v":0},0,{"$f":"IF($A311=AA$3,AND($A311=AA$3,$D311<0),0)","v":0},0,{"$f":"IF($A311=AC$3,AND($A311=AC$3,$D311<0),0)","v":0},0,0]
[{"$f":"IF(B312=0,\"\",MONTH(B312))","v":""},null,null,null,{"$f":"IF(D312=\"\",\"\",IF(D312<0,\"DEBITO\",\"CREDITO\"))","v":""},null,false,false,0,{"$f":"IF($A312=I$3,AND($A312=I$3,$D312<0),0)","v":0},0,{"$f":"IF($A312=K$3,AND($A312=K$3,$D312<0),0)","v":0},0,{"$f":"IF($A312=M$3,AND($A312=M$3,$D312<0),0)","v":0},0,{"$f":"IF($A312=O$3,AND($A312=O$3,$D312<0),0)","v":0},0,0,0,0,0,0,0,{"$f":"IF($A312=W$3,AND($A312=W$3,$D312<0),0)","v":0},0,{"$f":"IF($A312=Y$3,AND($A312=Y$3,$D312<0),0)","v":0},0,{"$f":"IF($A312=AA$3,AND($A312=AA$3,$D312<0),0)","v":0},0,{"$f":"IF($A312=AC$3,AND($A312=AC$3,$D312<0),0)","v":0},0,0]
[{"$f":"IF(B313=0,\"\",MONTH(B313))","v":""},null,null,null,{"$f":"IF(D313=\"\",\"\",IF(D313<0,\"DEBITO\",\"CREDITO\"))","v":""},null,false,false,0,{"$f":"IF($A313=I$3,AND($A313=I$3,$D313<0),0)","v":0},0,{"$f":"IF($A313=K$3,AND($A313=K$3,$D313<0),0)","v":0},0,{"$f":"IF($A313=M$3,AND($A313=M$3,$D313<0),0)","v":0},0,{"$f":"IF($A313=O$3,AND($A313=O$3,$D313<0),0)","v":0},0,0,0,0,0,0,0,{"$f":"IF($A313=W$3,AND($A313=W$3,$D313<0),0)","v":0},0,{"$f":"IF($A313=Y$3,AND($A313=Y$3,$D313<0),0)","v":0},0,{"$f":"IF($A313=AA$3,AND($A313=AA$3,$D313<0),0)","v":0},0,{"$f":"IF($A313=AC$3,AND($A313=AC$3,$D313<0),0)","v":0},0,0]
[{"$f":"IF(B314=0,\"\",MONTH(B314))","v":""},null,null,null,{"$f":"IF(D314=\"\",\"\",IF(D314<0,\"DEBITO\",\"CREDITO\"))","v":""},null,false,false,0,{"$f":"IF($A314=I$3,AND($A314=I$3,$D314<0),0)","v":0},0,{"$f":"IF($A314=K$3,AND($A314=K$3,$D314<0),0)","v":0},0,{"$f":"IF($A314=M$3,AND($A314=M$3,$D314<0),0)","v":0},0,{"$f":"IF($A314=O$3,AND($A314=O$3,$D314<0),0)","v":0},0,0,0,0,0,0,0,{"$f":"IF($A314=W$3,AND($A314=W$3,$D314<0),0)","v":0},0,{"$f":"IF($A314=Y$3,AND($A314=Y$3,$D314<0),0)","v":0},0,{"$f":"IF($A314=AA$3,AND($A314=AA$3,$D314<0),0)","v":0},0,{"$f":"IF($A314=AC$3,AND($A314=AC$3,$D314<0),0)","v":0},0,0]
[{"$f":"IF(B315=0,\"\",MONTH(B315))","v":""},null,null,null,{"$f":"IF(D315=\"\",\"\",IF(D315<0,\"DEBITO\",\"CREDITO\"))","v":""},null,false,false,0,{"$f":"IF($A315=I$3,AND($A315=I$3,$D315<0),0)","v":0},0,{"$f":"IF($A315=K$3,AND($A315=K$3,$D315<0),0)","v":0},0,{"$f":"IF($A315=M$3,AND($A315=M$3,$D315<0),0)","v":0},0,{"$f":"IF($A315=O$3,AND($A315=O$3,$D315<0),0)","v":0},0,0,0,0,0,0,0,{"$f":"IF($A315=W$3,AND($A315=W$3,$D315<0),0)","v":0},0,{"$f":"IF($A315=Y$3,AND($A315=Y$3,$D315<0),0)","v":0},0,{"$f":"IF($A315=AA$3,AND($A315=AA$3,$D315<0),0)","v":0},0,{"$f":"IF($A315=AC$3,AND($A315=AC$3,$D315<0),0)","v":0},0,0]
[{"$f":"IF(B316=0,\"\",MONTH(B316))","v":""},null,null,null,{"$f":"IF(D316=\"\",\"\",IF(D316<0,\"DEBITO\",\"CREDITO\"))","v":""},null,false,false,0,{"$f":"IF($A316=I$3,AND($A316=I$3,$D316<0),0)","v":0},0,{"$f":"IF($A316=K$3,AND($A316=K$3,$D316<0),0)","v":0},0,{"$f":"IF($A316=M$3,AND($A316=M$3,$D316<0),0)","v":0},0,{"$f":"IF($A316=O$3,AND($A316=O$3,$D316<0),0)","v":0},0,0,0,0,0,0,0,{"$f":"IF($A316=W$3,AND($A316=W$3,$D316<0),0)","v":0},0,{"$f":"IF($A316=Y$3,AND($A316=Y$3,$D316<0),0)","v":0},0,{"$f":"IF($A316=AA$3,AND($A316=AA$3,$D316<0),0)","v":0},0,{"$f":"IF($A316=AC$3,AND($A316=AC$3,$D316<0),0)","v":0},0,0]
[{"$f":"IF(B317=0,\"\",MONTH(B317))","v":""},null,null,null,{"$f":"IF(D317=\"\",\"\",IF(D317<0,\"DEBITO\",\"CREDITO\"))","v":""},null,false,false,0,{"$f":"IF($A317=I$3,AND($A317=I$3,$D317<0),0)","v":0},0,{"$f":"IF($A317=K$3,AND($A317=K$3,$D317<0),0)","v":0},0,{"$f":"IF($A317=M$3,AND($A317=M$3,$D317<0),0)","v":0},0,{"$f":"IF($A317=O$3,AND($A317=O$3,$D317<0),0)","v":0},0,0,0,0,0,0,0,{"$f":"IF($A317=W$3,AND($A317=W$3,$D317<0),0)","v":0},0,{"$f":"IF($A317=Y$3,AND($A317=Y$3,$D317<0),0)","v":0},0,{"$f":"IF($A317=AA$3,AND($A317=AA$3,$D317<0),0)","v":0},0,{"$f":"IF($A317=AC$3,AND($A317=AC$3,$D317<0),0)","v":0},0,0]
[{"$f":"IF(B318=0,\"\",MONTH(B318))","v":""},null,null,null,{"$f":"IF(D318=\"\",\"\",IF(D318<0,\"DEBITO\",\"CREDITO\"))","v":""},null,false,false,0,{"$f":"IF($A318=I$3,AND($A318=I$3,$D318<0),0)","v":0},0,{"$f":"IF($A318=K$3,AND($A318=K$3,$D318<0),0)","v":0},0,{"$f":"IF($A318=M$3,AND($A318=M$3,$D318<0),0)","v":0},0,{"$f":"IF($A318=O$3,AND($A318=O$3,$D318<0),0)","v":0},0,0,0,0,0,0,0,{"$f":"IF($A318=W$3,AND($A318=W$3,$D318<0),0)","v":0},0,{"$f":"IF($A318=Y$3,AND($A318=Y$3,$D318<0),0)","v":0},0,{"$f":"IF($A318=AA$3,AND($A318=AA$3,$D318<0),0)","v":0},0,{"$f":"IF($A318=AC$3,AND($A318=AC$3,$D318<0),0)","v":0},0,0]
[{"$f":"IF(B319=0,\"\",MONTH(B319))","v":""},null,null,null,{"$f":"IF(D319=\"\",\"\",IF(D319<0,\"DEBITO\",\"CREDITO\"))","v":""},null,false,false,0,{"$f":"IF($A319=I$3,AND($A319=I$3,$D319<0),0)","v":0},0,{"$f":"IF($A319=K$3,AND($A319=K$3,$D319<0),0)","v":0},0,{"$f":"IF($A319=M$3,AND($A319=M$3,$D319<0),0)","v":0},0,{"$f":"IF($A319=O$3,AND($A319=O$3,$D319<0),0)","v":0},0,0,0,0,0,0,0,{"$f":"IF($A319=W$3,AND($A319=W$3,$D319<0),0)","v":0},0,{"$f":"IF($A319=Y$3,AND($A319=Y$3,$D319<0),0)","v":0},0,{"$f":"IF($A319=AA$3,AND($A319=AA$3,$D319<0),0)","v":0},0,{"$f":"IF($A319=AC$3,AND($A319=AC$3,$D319<0),0)","v":0},0,0]
[{"$f":"IF(B320=0,\"\",MONTH(B320))","v":""},null,null,null,{"$f":"IF(D320=\"\",\"\",IF(D320<0,\"DEBITO\",\"CREDITO\"))","v":""},null,false,false,0,{"$f":"IF($A320=I$3,AND($A320=I$3,$D320<0),0)","v":0},0,{"$f":"IF($A320=K$3,AND($A320=K$3,$D320<0),0)","v":0},0,{"$f":"IF($A320=M$3,AND($A320=M$3,$D320<0),0)","v":0},0,{"$f":"IF($A320=O$3,AND($A320=O$3,$D320<0),0)","v":0},0,0,0,0,0,0,0,{"$f":"IF($A320=W$3,AND($A320=W$3,$D320<0),0)","v":0},0,{"$f":"IF($A320=Y$3,AND($A320=Y$3,$D320<0),0)","v":0},0,{"$f":"IF($A320=AA$3,AND($A320=AA$3,$D320<0),0)","v":0},0,{"$f":"IF($A320=AC$3,AND($A320=AC$3,$D320<0),0)","v":0},0,0]
[{"$f":"IF(B321=0,\"\",MONTH(B321))","v":""},null,null,null,{"$f":"IF(D321=\"\",\"\",IF(D321<0,\"DEBITO\",\"CREDITO\"))","v":""},null,false,false,0,{"$f":"IF($A321=I$3,AND($A321=I$3,$D321<0),0)","v":0},0,{"$f":"IF($A321=K$3,AND($A321=K$3,$D321<0),0)","v":0},0,{"$f":"IF($A321=M$3,AND($A321=M$3,$D321<0),0)","v":0},0,{"$f":"IF($A321=O$3,AND($A321=O$3,$D321<0),0)","v":0},0,0,0,0,0,0,0,{"$f":"IF($A321=W$3,AND($A321=W$3,$D321<0),0)","v":0},0,{"$f":"IF($A321=Y$3,AND($A321=Y$3,$D321<0),0)","v":0},0,{"$f":"IF($A321=AA$3,AND($A321=AA$3,$D321<0),0)","v":0},0,{"$f":"IF($A321=AC$3,AND($A321=AC$3,$D321<0),0)","v":0},0,0]
[{"$f":"IF(B322=0,\"\",MONTH(B322))","v":""},null,null,null,{"$f":"IF(D322=\"\",\"\",IF(D322<0,\"DEBITO\",\"CREDITO\"))","v":""},null,false,false,0,{"$f":"IF($A322=I$3,AND($A322=I$3,$D322<0),0)","v":0},0,{"$f":"IF($A322=K$3,AND($A322=K$3,$D322<0),0)","v":0},0,{"$f":"IF($A322=M$3,AND($A322=M$3,$D322<0),0)","v":0},0,{"$f":"IF($A322=O$3,AND($A322=O$3,$D322<0),0)","v":0},0,0,0,0,0,0,0,{"$f":"IF($A322=W$3,AND($A322=W$3,$D322<0),0)","v":0},0,{"$f":"IF($A322=Y$3,AND($A322=Y$3,$D322<0),0)","v":0},0,{"$f":"IF($A322=AA$3,AND($A322=AA$3,$D322<0),0)","v":0},0,{"$f":"IF($A322=AC$3,AND($A322=AC$3,$D322<0),0)","v":0},0,0]
[{"$f":"IF(B323=0,\"\",MONTH(B323))","v":""},null,null,null,{"$f":"IF(D323=\"\",\"\",IF(D323<0,\"DEBITO\",\"CREDITO\"))","v":""},null,false,false,0,{"$f":"IF($A323=I$3,AND($A323=I$3,$D323<0),0)","v":0},0,{"$f":"IF($A323=K$3,AND($A323=K$3,$D323<0),0)","v":0},0,{"$f":"IF($A323=M$3,AND($A323=M$3,$D323<0),0)","v":0},0,{"$f":"IF($A323=O$3,AND($A323=O$3,$D323<0),0)","v":0},0,0,0,0,0,0,0,{"$f":"IF($A323=W$3,AND($A323=W$3,$D323<0),0)","v":0},0,{"$f":"IF($A323=Y$3,AND($A323=Y$3,$D323<0),0)","v":0},0,{"$f":"IF($A323=AA$3,AND($A323=AA$3,$D323<0),0)","v":0},0,{"$f":"IF($A323=AC$3,AND($A323=AC$3,$D323<0),0)","v":0},0,0]
[{"$f":"IF(B324=0,\"\",MONTH(B324))","v":""},null,null,null,{"$f":"IF(D324=\"\",\"\",IF(D324<0,\"DEBITO\",\"CREDITO\"))","v":""},null,false,false,0,{"$f":"IF($A324=I$3,AND($A324=I$3,$D324<0),0)","v":0},0,{"$f":"IF($A324=K$3,AND($A324=K$3,$D324<0),0)","v":0},0,{"$f":"IF($A324=M$3,AND($A324=M$3,$D324<0),0)","v":0},0,{"$f":"IF($A324=O$3,AND($A324=O$3,$D324<0),0)","v":0},0,0,0,0,0,0,0,{"$f":"IF($A324=W$3,AND($A324=W$3,$D324<0),0)","v":0},0,{"$f":"IF($A324=Y$3,AND($A324=Y$3,$D324<0),0)","v":0},0,{"$f":"IF($A324=AA$3,AND($A324=AA$3,$D324<0),0)","v":0},0,{"$f":"IF($A324=AC$3,AND($A324=AC$3,$D324<0),0)","v":0},0,0]
[{"$f":"IF(B325=0,\"\",MONTH(B325))","v":""},null,null,null,{"$f":"IF(D325=\"\",\"\",IF(D325<0,\"DEBITO\",\"CREDITO\"))","v":""},null,false,false,0,{"$f":"IF($A325=I$3,AND($A325=I$3,$D325<0),0)","v":0},0,{"$f":"IF($A325=K$3,AND($A325=K$3,$D325<0),0)","v":0},0,{"$f":"IF($A325=M$3,AND($A325=M$3,$D325<0),0)","v":0},0,{"$f":"IF($A325=O$3,AND($A325=O$3,$D325<0),0)","v":0},0,0,0,0,0,0,0,{"$f":"IF($A325=W$3,AND($A325=W$3,$D325<0),0)","v":0},0,{"$f":"IF($A325=Y$3,AND($A325=Y$3,$D325<0),0)","v":0},0,{"$f":"IF($A325=AA$3,AND($A325=AA$3,$D325<0),0)","v":0},0,{"$f":"IF($A325=AC$3,AND($A325=AC$3,$D325<0),0)","v":0},0,0]
[{"$f":"IF(B326=0,\"\",MONTH(B326))","v":""},null,null,null,{"$f":"IF(D326=\"\",\"\",IF(D326<0,\"DEBITO\",\"CREDITO\"))","v":""},null,false,false,0,{"$f":"IF($A326=I$3,AND($A326=I$3,$D326<0),0)","v":0},0,{"$f":"IF($A326=K$3,AND($A326=K$3,$D326<0),0)","v":0},0,{"$f":"IF($A326=M$3,AND($A326=M$3,$D326<0),0)","v":0},0,{"$f":"IF($A326=O$3,AND($A326=O$3,$D326<0),0)","v":0},0,0,0,0,0,0,0,{"$f":"IF($A326=W$3,AND($A326=W$3,$D326<0),0)","v":0},0,{"$f":"IF($A326=Y$3,AND($A326=Y$3,$D326<0),0)","v":0},0,{"$f":"IF($A326=AA$3,AND($A326=AA$3,$D326<0),0)","v":0},0,{"$f":"IF($A326=AC$3,AND($A326=AC$3,$D326<0),0)","v":0},0,0]
[{"$f":"IF(B327=0,\"\",MONTH(B327))","v":""},null,null,null,{"$f":"IF(D327=\"\",\"\",IF(D327<0,\"DEBITO\",\"CREDITO\"))","v":""},null,false,false,0,{"$f":"IF($A327=I$3,AND($A327=I$3,$D327<0),0)","v":0},0,{"$f":"IF($A327=K$3,AND($A327=K$3,$D327<0),0)","v":0},0,{"$f":"IF($A327=M$3,AND($A327=M$3,$D327<0),0)","v":0},0,{"$f":"IF($A327=O$3,AND($A327=O$3,$D327<0),0)","v":0},0,0,0,0,0,0,0,{"$f":"IF($A327=W$3,AND($A327=W$3,$D327<0),0)","v":0},0,{"$f":"IF($A327=Y$3,AND($A327=Y$3,$D327<0),0)","v":0},0,{"$f":"IF($A327=AA$3,AND($A327=AA$3,$D327<0),0)","v":0},0,{"$f":"IF($A327=AC$3,AND($A327=AC$3,$D327<0),0)","v":0},0,0]
[{"$f":"IF(B328=0,\"\",MONTH(B328))","v":""},null,null,null,{"$f":"IF(D328=\"\",\"\",IF(D328<0,\"DEBITO\",\"CREDITO\"))","v":""},null,false,false,0,{"$f":"IF($A328=I$3,AND($A328=I$3,$D328<0),0)","v":0},0,{"$f":"IF($A328=K$3,AND($A328=K$3,$D328<0),0)","v":0},0,{"$f":"IF($A328=M$3,AND($A328=M$3,$D328<0),0)","v":0},0,{"$f":"IF($A328=O$3,AND($A328=O$3,$D328<0),0)","v":0},0,0,0,0,0,0,0,{"$f":"IF($A328=W$3,AND($A328=W$3,$D328<0),0)","v":0},0,{"$f":"IF($A328=Y$3,AND($A328=Y$3,$D328<0),0)","v":0},0,{"$f":"IF($A328=AA$3,AND($A328=AA$3,$D328<0),0)","v":0},0,{"$f":"IF($A328=AC$3,AND($A328=AC$3,$D328<0),0)","v":0},0,0]
[{"$f":"IF(B329=0,\"\",MONTH(B329))","v":""},null,null,null,{"$f":"IF(D329=\"\",\"\",IF(D329<0,\"DEBITO\",\"CREDITO\"))","v":""},null,{"$f":"AND(A329=$E$3,D329>0)","v":false},{"$f":"AND(A329=$E$3,D329<0)","v":false},0,{"$f":"IF($A329=I$3,AND($A329=I$3,$D329<0),0)","v":0},0,{"$f":"IF($A329=K$3,AND($A329=K$3,$D329<0),0)","v":0},0,{"$f":"IF($A329=M$3,AND($A329=M$3,$D329<0),0)","v":0},0,{"$f":"IF($A329=O$3,AND($A329=O$3,$D329<0),0)","v":0},0,{"$f":"IF($A329=Q$3,AND($A329=Q$3,$D329<0),0)","v":0},0,0,0,0,0,{"$f":"IF($A329=W$3,AND($A329=W$3,$D329<0),0)","v":0},0,{"$f":"IF($A329=Y$3,AND($A329=Y$3,$D329<0),0)","v":0},0,{"$f":"IF($A329=AA$3,AND($A329=AA$3,$D329<0),0)","v":0},0,{"$f":"IF($A329=AC$3,AND($A329=AC$3,$D329<0),0)","v":0},0,{"$f":"IF($A329=AE$3,AND($A329=AE$3,$D329<0),0)","v":0}]
[{"$f":"IF(B330=0,\"\",MONTH(B330))","v":""},null,null,null,{"$f":"IF(D330=\"\",\"\",IF(D330<0,\"DEBITO\",\"CREDITO\"))","v":""},null,false,false,0,{"$f":"IF($A330=I$3,AND($A330=I$3,$D330<0),0)","v":0},0,{"$f":"IF($A330=K$3,AND($A330=K$3,$D330<0),0)","v":0},0,{"$f":"IF($A330=M$3,AND($A330=M$3,$D330<0),0)","v":0},0,{"$f":"IF($A330=O$3,AND($A330=O$3,$D330<0),0)","v":0},0,0,{"$f":"IF($A330=S$3,AND($A330=S$3,$D330>0),0)","v":0},{"$f":"IF($A330=S$3,AND($A330=S$3,$D330<0),0)","v":0},{"$f":"IF($A330=U$3,AND($A330=U$3,$D330>0),0)","v":0},{"$f":"IF($A330=U$3,AND($A330=U$3,$D330<0),0)","v":0},0,{"$f":"IF($A330=W$3,AND($A330=W$3,$D330<0),0)","v":0},0,{"$f":"IF($A330=Y$3,AND($A330=Y$3,$D330<0),0)","v":0},0,{"$f":"IF($A330=AA$3,AND($A330=AA$3,$D330<0),0)","v":0},0,{"$f":"IF($A330=AC$3,AND($A330=AC$3,$D330<0),0)","v":0},0,0]
[{"$f":"IF(B331=0,\"\",MONTH(B331))","v":""},null,null,null,{"$f":"IF(D331=\"\",\"\",IF(D331<0,\"DEBITO\",\"CREDITO\"))","v":""},null,false,false,0,{"$f":"IF($A331=I$3,AND($A331=I$3,$D331<0),0)","v":0},0,{"$f":"IF($A331=K$3,AND($A331=K$3,$D331<0),0)","v":0},0,{"$f":"IF($A331=M$3,AND($A331=M$3,$D331<0),0)","v":0},0,{"$f":"IF($A331=O$3,AND($A331=O$3,$D331<0),0)","v":0},0,0,0,0,0,0,0,{"$f":"IF($A331=W$3,AND($A331=W$3,$D331<0),0)","v":0},0,{"$f":"IF($A331=Y$3,AND($A331=Y$3,$D331<0),0)","v":0},0,{"$f":"IF($A331=AA$3,AND($A331=AA$3,$D331<0),0)","v":0},0,{"$f":"IF($A331=AC$3,AND($A331=AC$3,$D331<0),0)","v":0},0,0]
[{"$f":"IF(B332=0,\"\",MONTH(B332))","v":""},null,null,null,{"$f":"IF(D332=\"\",\"\",IF(D332<0,\"DEBITO\",\"CREDITO\"))","v":""},null,false,false,0,{"$f":"IF($A332=I$3,AND($A332=I$3,$D332<0),0)","v":0},0,{"$f":"IF($A332=K$3,AND($A332=K$3,$D332<0),0)","v":0},0,{"$f":"IF($A332=M$3,AND($A332=M$3,$D332<0),0)","v":0},0,{"$f":"IF($A332=O$3,AND($A332=O$3,$D332<0),0)","v":0},0,0,0,0,0,0,0,{"$f":"IF($A332=W$3,AND($A332=W$3,$D332<0),0)","v":0},0,{"$f":"IF($A332=Y$3,AND($A332=Y$3,$D332<0),0)","v":0},0,{"$f":"IF($A332=AA$3,AND($A332=AA$3,$D332<0),0)","v":0},0,{"$f":"IF($A332=AC$3,AND($A332=AC$3,$D332<0),0)","v":0},0,0]
[{"$f":"IF(B333=0,\"\",MONTH(B333))","v":""},null,null,null,{"$f":"IF(D333=\"\",\"\",IF(D333<0,\"DEBITO\",\"CREDITO\"))","v":""},null,false,false,0,{"$f":"IF($A333=I$3,AND($A333=I$3,$D333<0),0)","v":0},0,{"$f":"IF($A333=K$3,AND($A333=K$3,$D333<0),0)","v":0},0,{"$f":"IF($A333=M$3,AND($A333=M$3,$D333<0),0)","v":0},0,{"$f":"IF($A333=O$3,AND($A333=O$3,$D333<0),0)","v":0},0,0,0,0,0,0,0,{"$f":"IF($A333=W$3,AND($A333=W$3,$D333<0),0)","v":0},0,{"$f":"IF($A333=Y$3,AND($A333=Y$3,$D333<0),0)","v":0},0,{"$f":"IF($A333=AA$3,AND($A333=AA$3,$D333<0),0)","v":0},0,{"$f":"IF($A333=AC$3,AND($A333=AC$3,$D333<0),0)","v":0},0,0]
[{"$f":"IF(B334=0,\"\",MONTH(B334))","v":""},null,null,null,{"$f":"IF(D334=\"\",\"\",IF(D334<0,\"DEBITO\",\"CREDITO\"))","v":""},null,false,false,0,{"$f":"IF($A334=I$3,AND($A334=I$3,$D334<0),0)","v":0},0,{"$f":"IF($A334=K$3,AND($A334=K$3,$D334<0),0)","v":0},0,{"$f":"IF($A334=M$3,AND($A334=M$3,$D334<0),0)","v":0},0,{"$f":"IF($A334=O$3,AND($A334=O$3,$D334<0),0)","v":0},0,0,0,0,0,0,0,{"$f":"IF($A334=W$3,AND($A334=W$3,$D334<0),0)","v":0},0,{"$f":"IF($A334=Y$3,AND($A334=Y$3,$D334<0),0)","v":0},0,{"$f":"IF($A334=AA$3,AND($A334=AA$3,$D334<0),0)","v":0},0,{"$f":"IF($A334=AC$3,AND($A334=AC$3,$D334<0),0)","v":0},0,0]
[{"$f":"IF(B335=0,\"\",MONTH(B335))","v":""},null,null,null,{"$f":"IF(D335=\"\",\"\",IF(D335<0,\"DEBITO\",\"CREDITO\"))","v":""},null,false,false,0,{"$f":"IF($A335=I$3,AND($A335=I$3,$D335<0),0)","v":0},0,{"$f":"IF($A335=K$3,AND($A335=K$3,$D335<0),0)","v":0},0,{"$f":"IF($A335=M$3,AND($A335=M$3,$D335<0),0)","v":0},0,{"$f":"IF($A335=O$3,AND($A335=O$3,$D335<0),0)","v":0},0,0,0,0,0,0,0,{"$f":"IF($A335=W$3,AND($A335=W$3,$D335<0),0)","v":0},0,{"$f":"IF($A335=Y$3,AND($A335=Y$3,$D335<0),0)","v":0},0,{"$f":"IF($A335=AA$3,AND($A335=AA$3,$D335<0),0)","v":0},0,{"$f":"IF($A335=AC$3,AND($A335=AC$3,$D335<0),0)","v":0},0,0]
[{"$f":"IF(B336=0,\"\",MONTH(B336))","v":""},null,null,null,{"$f":"IF(D336=\"\",\"\",IF(D336<0,\"DEBITO\",\"CREDITO\"))","v":""},null,false,false,0,{"$f":"IF($A336=I$3,AND($A336=I$3,$D336<0),0)","v":0},0,{"$f":"IF($A336=K$3,AND($A336=K$3,$D336<0),0)","v":0},0,{"$f":"IF($A336=M$3,AND($A336=M$3,$D336<0),0)","v":0},0,{"$f":"IF($A336=O$3,AND($A336=O$3,$D336<0),0)","v":0},0,0,0,0,0,0,0,{"$f":"IF($A336=W$3,AND($A336=W$3,$D336<0),0)","v":0},0,{"$f":"IF($A336=Y$3,AND($A336=Y$3,$D336<0),0)","v":0},0,{"$f":"IF($A336=AA$3,AND($A336=AA$3,$D336<0),0)","v":0},0,{"$f":"IF($A336=AC$3,AND($A336=AC$3,$D336<0),0)","v":0},0,0]
[{"$f":"IF(B337=0,\"\",MONTH(B337))","v":""},null,null,null,{"$f":"IF(D337=\"\",\"\",IF(D337<0,\"DEBITO\",\"CREDITO\"))","v":""},null,false,false,0,{"$f":"IF($A337=I$3,AND($A337=I$3,$D337<0),0)","v":0},0,{"$f":"IF($A337=K$3,AND($A337=K$3,$D337<0),0)","v":0},0,{"$f":"IF($A337=M$3,AND($A337=M$3,$D337<0),0)","v":0},0,{"$f":"IF($A337=O$3,AND($A337=O$3,$D337<0),0)","v":0},0,0,0,0,0,0,0,{"$f":"IF($A337=W$3,AND($A337=W$3,$D337<0),0)","v":0},0,{"$f":"IF($A337=Y$3,AND($A337=Y$3,$D337<0),0)","v":0},0,{"$f":"IF($A337=AA$3,AND($A337=AA$3,$D337<0),0)","v":0},0,{"$f":"IF($A337=AC$3,AND($A337=AC$3,$D337<0),0)","v":0},0,0]
[{"$f":"IF(B338=0,\"\",MONTH(B338))","v":""},null,null,null,{"$f":"IF(D338=\"\",\"\",IF(D338<0,\"DEBITO\",\"CREDITO\"))","v":""},null,false,false,0,{"$f":"IF($A338=I$3,AND($A338=I$3,$D338<0),0)","v":0},0,{"$f":"IF($A338=K$3,AND($A338=K$3,$D338<0),0)","v":0},0,{"$f":"IF($A338=M$3,AND($A338=M$3,$D338<0),0)","v":0},0,{"$f":"IF($A338=O$3,AND($A338=O$3,$D338<0),0)","v":0},0,0,0,0,0,0,0,{"$f":"IF($A338=W$3,AND($A338=W$3,$D338<0),0)","v":0},0,{"$f":"IF($A338=Y$3,AND($A338=Y$3,$D338<0),0)","v":0},0,{"$f":"IF($A338=AA$3,AND($A338=AA$3,$D338<0),0)","v":0},0,{"$f":"IF($A338=AC$3,AND($A338=AC$3,$D338<0),0)","v":0},0,0]
[{"$f":"IF(B339=0,\"\",MONTH(B339))","v":""},null,null,null,{"$f":"IF(D339=\"\",\"\",IF(D339<0,\"DEBITO\",\"CREDITO\"))","v":""},null,false,false,0,{"$f":"IF($A339=I$3,AND($A339=I$3,$D339<0),0)","v":0},0,{"$f":"IF($A339=K$3,AND($A339=K$3,$D339<0),0)","v":0},0,{"$f":"IF($A339=M$3,AND($A339=M$3,$D339<0),0)","v":0},0,{"$f":"IF($A339=O$3,AND($A339=O$3,$D339<0),0)","v":0},0,0,0,0,0,0,0,{"$f":"IF($A339=W$3,AND($A339=W$3,$D339<0),0)","v":0},0,{"$f":"IF($A339=Y$3,AND($A339=Y$3,$D339<0),0)","v":0},0,{"$f":"IF($A339=AA$3,AND($A339=AA$3,$D339<0),0)","v":0},0,{"$f":"IF($A339=AC$3,AND($A339=AC$3,$D339<0),0)","v":0},0,0]
[{"$f":"IF(B340=0,\"\",MONTH(B340))","v":""},null,null,null,{"$f":"IF(D340=\"\",\"\",IF(D340<0,\"DEBITO\",\"CREDITO\"))","v":""},null,false,false,0,{"$f":"IF($A340=I$3,AND($A340=I$3,$D340<0),0)","v":0},0,{"$f":"IF($A340=K$3,AND($A340=K$3,$D340<0),0)","v":0},0,{"$f":"IF($A340=M$3,AND($A340=M$3,$D340<0),0)","v":0},0,{"$f":"IF($A340=O$3,AND($A340=O$3,$D340<0),0)","v":0},0,0,0,0,0,0,0,{"$f":"IF($A340=W$3,AND($A340=W$3,$D340<0),0)","v":0},0,{"$f":"IF($A340=Y$3,AND($A340=Y$3,$D340<0),0)","v":0},0,{"$f":"IF($A340=AA$3,AND($A340=AA$3,$D340<0),0)","v":0},0,{"$f":"IF($A340=AC$3,AND($A340=AC$3,$D340<0),0)","v":0},0,0]
[{"$f":"IF(B341=0,\"\",MONTH(B341))","v":""},null,null,null,{"$f":"IF(D341=\"\",\"\",IF(D341<0,\"DEBITO\",\"CREDITO\"))","v":""},null,false,false,0,{"$f":"IF($A341=I$3,AND($A341=I$3,$D341<0),0)","v":0},0,{"$f":"IF($A341=K$3,AND($A341=K$3,$D341<0),0)","v":0},0,{"$f":"IF($A341=M$3,AND($A341=M$3,$D341<0),0)","v":0},0,{"$f":"IF($A341=O$3,AND($A341=O$3,$D341<0),0)","v":0},0,0,0,0,0,0,0,{"$f":"IF($A341=W$3,AND($A341=W$3,$D341<0),0)","v":0},0,{"$f":"IF($A341=Y$3,AND($A341=Y$3,$D341<0),0)","v":0},0,{"$f":"IF($A341=AA$3,AND($A341=AA$3,$D341<0),0)","v":0},0,{"$f":"IF($A341=AC$3,AND($A341=AC$3,$D341<0),0)","v":0},0,0]
[{"$f":"IF(B342=0,\"\",MONTH(B342))","v":""},null,null,null,{"$f":"IF(D342=\"\",\"\",IF(D342<0,\"DEBITO\",\"CREDITO\"))","v":""},null,false,false,0,{"$f":"IF($A342=I$3,AND($A342=I$3,$D342<0),0)","v":0},0,{"$f":"IF($A342=K$3,AND($A342=K$3,$D342<0),0)","v":0},0,{"$f":"IF($A342=M$3,AND($A342=M$3,$D342<0),0)","v":0},0,{"$f":"IF($A342=O$3,AND($A342=O$3,$D342<0),0)","v":0},0,0,0,0,0,0,0,{"$f":"IF($A342=W$3,AND($A342=W$3,$D342<0),0)","v":0},0,{"$f":"IF($A342=Y$3,AND($A342=Y$3,$D342<0),0)","v":0},0,{"$f":"IF($A342=AA$3,AND($A342=AA$3,$D342<0),0)","v":0},0,{"$f":"IF($A342=AC$3,AND($A342=AC$3,$D342<0),0)","v":0},0,0]
[{"$f":"IF(B343=0,\"\",MONTH(B343))","v":""},null,null,null,{"$f":"IF(D343=\"\",\"\",IF(D343<0,\"DEBITO\",\"CREDITO\"))","v":""},null,false,false,0,{"$f":"IF($A343=I$3,AND($A343=I$3,$D343<0),0)","v":0},0,{"$f":"IF($A343=K$3,AND($A343=K$3,$D343<0),0)","v":0},0,{"$f":"IF($A343=M$3,AND($A343=M$3,$D343<0),0)","v":0},0,{"$f":"IF($A343=O$3,AND($A343=O$3,$D343<0),0)","v":0},0,0,0,0,0,0,0,{"$f":"IF($A343=W$3,AND($A343=W$3,$D343<0),0)","v":0},0,{"$f":"IF($A343=Y$3,AND($A343=Y$3,$D343<0),0)","v":0},0,{"$f":"IF($A343=AA$3,AND($A343=AA$3,$D343<0),0)","v":0},0,{"$f":"IF($A343=AC$3,AND($A343=AC$3,$D343<0),0)","v":0},0,0]
[{"$f":"IF(B344=0,\"\",MONTH(B344))","v":""},null,null,null,{"$f":"IF(D344=\"\",\"\",IF(D344<0,\"DEBITO\",\"CREDITO\"))","v":""},null,false,false,0,{"$f":"IF($A344=I$3,AND($A344=I$3,$D344<0),0)","v":0},0,{"$f":"IF($A344=K$3,AND($A344=K$3,$D344<0),0)","v":0},0,{"$f":"IF($A344=M$3,AND($A344=M$3,$D344<0),0)","v":0},0,{"$f":"IF($A344=O$3,AND($A344=O$3,$D344<0),0)","v":0},0,0,0,0,0,0,0,{"$f":"IF($A344=W$3,AND($A344=W$3,$D344<0),0)","v":0},0,{"$f":"IF($A344=Y$3,AND($A344=Y$3,$D344<0),0)","v":0},0,{"$f":"IF($A344=AA$3,AND($A344=AA$3,$D344<0),0)","v":0},0,{"$f":"IF($A344=AC$3,AND($A344=AC$3,$D344<0),0)","v":0},0,0]
[{"$f":"IF(B345=0,\"\",MONTH(B345))","v":""},null,null,null,{"$f":"IF(D345=\"\",\"\",IF(D345<0,\"DEBITO\",\"CREDITO\"))","v":""},null,false,false,{"$f":"IF($A345=I$3,AND($A345=I$3,$D345>0),0)","v":0},{"$f":"IF($A345=I$3,AND($A345=I$3,$D345<0),0)","v":0},{"$f":"IF($A345=K$3,AND($A345=K$3,$D345>0),0)","v":0},{"$f":"IF($A345=K$3,AND($A345=K$3,$D345<0),0)","v":0},{"$f":"IF($A345=M$3,AND($A345=M$3,$D345>0),0)","v":0},{"$f":"IF($A345=M$3,AND($A345=M$3,$D345<0),0)","v":0},{"$f":"IF($A345=O$3,AND($A345=O$3,$D345>0),0)","v":0},{"$f":"IF($A345=O$3,AND($A345=O$3,$D345<0),0)","v":0},{"$f":"IF($A345=Q$3,AND($A345=Q$3,$D345>0),0)","v":0},0,0,0,0,0,{"$f":"IF($A345=W$3,AND($A345=W$3,$D345>0),0)","v":0},{"$f":"IF($A345=W$3,AND($A345=W$3,$D345<0),0)","v":0},{"$f":"IF($A345=Y$3,AND($A345=Y$3,$D345>0),0)","v":0},{"$f":"IF($A345=Y$3,AND($A345=Y$3,$D345<0),0)","v":0},{"$f":"IF($A345=AA$3,AND($A345=AA$3,$D345>0),0)","v":0},{"$f":"IF($A345=AA$3,AND($A345=AA$3,$D345<0),0)","v":0},{"$f":"IF($A345=AC$3,AND($A345=AC$3,$D345>0),0)","v":0},{"$f":"IF($A345=AC$3,AND($A345=AC$3,$D345<0),0)","v":0},{"$f":"IF($A345=AE$3,AND($A345=AE$3,$D345>0),0)","v":0},0]
[{"$f":"IF(B346=0,\"\",MONTH(B346))","v":""},null,null,null,{"$f":"IF(D346=\"\",\"\",IF(D346<0,\"DEBITO\",\"CREDITO\"))","v":""},null,false,false,0,{"$f":"IF($A346=I$3,AND($A346=I$3,$D346<0),0)","v":0},0,{"$f":"IF($A346=K$3,AND($A346=K$3,$D346<0),0)","v":0},0,{"$f":"IF($A346=M$3,AND($A346=M$3,$D346<0),0)","v":0},0,{"$f":"IF($A346=O$3,AND($A346=O$3,$D346<0),0)","v":0},0,0,0,0,0,0,0,{"$f":"IF($A346=W$3,AND($A346=W$3,$D346<0),0)","v":0},0,{"$f":"IF($A346=Y$3,AND($A346=Y$3,$D346<0),0)","v":0},0,{"$f":"IF($A346=AA$3,AND($A346=AA$3,$D346<0),0)","v":0},0,{"$f":"IF($A346=AC$3,AND($A346=AC$3,$D346<0),0)","v":0},0,0]
[{"$f":"IF(B347=0,\"\",MONTH(B347))","v":""},null,null,null,{"$f":"IF(D347=\"\",\"\",IF(D347<0,\"DEBITO\",\"CREDITO\"))","v":""},null,false,false,0,{"$f":"IF($A347=I$3,AND($A347=I$3,$D347<0),0)","v":0},0,{"$f":"IF($A347=K$3,AND($A347=K$3,$D347<0),0)","v":0},0,{"$f":"IF($A347=M$3,AND($A347=M$3,$D347<0),0)","v":0},0,{"$f":"IF($A347=O$3,AND($A347=O$3,$D347<0),0)","v":0},0,0,0,0,0,0,0,{"$f":"IF($A347=W$3,AND($A347=W$3,$D347<0),0)","v":0},0,{"$f":"IF($A347=Y$3,AND($A347=Y$3,$D347<0),0)","v":0},0,{"$f":"IF($A347=AA$3,AND($A347=AA$3,$D347<0),0)","v":0},0,{"$f":"IF($A347=AC$3,AND($A347=AC$3,$D347<0),0)","v":0},0,0]
[{"$f":"IF(B348=0,\"\",MONTH(B348))","v":""},null,null,null,{"$f":"IF(D348=\"\",\"\",IF(D348<0,\"DEBITO\",\"CREDITO\"))","v":""},null,false,false,0,{"$f":"IF($A348=I$3,AND($A348=I$3,$D348<0),0)","v":0},0,{"$f":"IF($A348=K$3,AND($A348=K$3,$D348<0),0)","v":0},0,{"$f":"IF($A348=M$3,AND($A348=M$3,$D348<0),0)","v":0},0,{"$f":"IF($A348=O$3,AND($A348=O$3,$D348<0),0)","v":0},0,0,0,0,0,0,0,{"$f":"IF($A348=W$3,AND($A348=W$3,$D348<0),0)","v":0},0,{"$f":"IF($A348=Y$3,AND($A348=Y$3,$D348<0),0)","v":0},0,{"$f":"IF($A348=AA$3,AND($A348=AA$3,$D348<0),0)","v":0},0,{"$f":"IF($A348=AC$3,AND($A348=AC$3,$D348<0),0)","v":0},0,0]
[{"$f":"IF(B349=0,\"\",MONTH(B349))","v":""},null,null,null,{"$f":"IF(D349=\"\",\"\",IF(D349<0,\"DEBITO\",\"CREDITO\"))","v":""},null,false,false,0,{"$f":"IF($A349=I$3,AND($A349=I$3,$D349<0),0)","v":0},0,{"$f":"IF($A349=K$3,AND($A349=K$3,$D349<0),0)","v":0},0,{"$f":"IF($A349=M$3,AND($A349=M$3,$D349<0),0)","v":0},0,{"$f":"IF($A349=O$3,AND($A349=O$3,$D349<0),0)","v":0},0,0,0,0,0,0,0,{"$f":"IF($A349=W$3,AND($A349=W$3,$D349<0),0)","v":0},0,{"$f":"IF($A349=Y$3,AND($A349=Y$3,$D349<0),0)","v":0},0,{"$f":"IF($A349=AA$3,AND($A349=AA$3,$D349<0),0)","v":0},0,{"$f":"IF($A349=AC$3,AND($A349=AC$3,$D349<0),0)","v":0},0,0]
[{"$f":"IF(B350=0,\"\",MONTH(B350))","v":""},null,null,null,{"$f":"IF(D350=\"\",\"\",IF(D350<0,\"DEBITO\",\"CREDITO\"))","v":""},null,false,false,0,{"$f":"IF($A350=I$3,AND($A350=I$3,$D350<0),0)","v":0},0,{"$f":"IF($A350=K$3,AND($A350=K$3,$D350<0),0)","v":0},0,{"$f":"IF($A350=M$3,AND($A350=M$3,$D350<0),0)","v":0},0,{"$f":"IF($A350=O$3,AND($A350=O$3,$D350<0),0)","v":0},0,0,0,0,0,0,0,{"$f":"IF($A350=W$3,AND($A350=W$3,$D350<0),0)","v":0},0,{"$f":"IF($A350=Y$3,AND($A350=Y$3,$D350<0),0)","v":0},0,{"$f":"IF($A350=AA$3,AND($A350=AA$3,$D350<0),0)","v":0},0,{"$f":"IF($A350=AC$3,AND($A350=AC$3,$D350<0),0)","v":0},0,0]
[{"$f":"IF(B351=0,\"\",MONTH(B351))","v":""},null,null,null,{"$f":"IF(D351=\"\",\"\",IF(D351<0,\"DEBITO\",\"CREDITO\"))","v":""},null,false,false,0,{"$f":"IF($A351=I$3,AND($A351=I$3,$D351<0),0)","v":0},0,{"$f":"IF($A351=K$3,AND($A351=K$3,$D351<0),0)","v":0},0,{"$f":"IF($A351=M$3,AND($A351=M$3,$D351<0),0)","v":0},0,{"$f":"IF($A351=O$3,AND($A351=O$3,$D351<0),0)","v":0},0,0,0,0,0,0,0,{"$f":"IF($A351=W$3,AND($A351=W$3,$D351<0),0)","v":0},0,{"$f":"IF($A351=Y$3,AND($A351=Y$3,$D351<0),0)","v":0},0,{"$f":"IF($A351=AA$3,AND($A351=AA$3,$D351<0),0)","v":0},0,{"$f":"IF($A351=AC$3,AND($A351=AC$3,$D351<0),0)","v":0},0,0]
[{"$f":"IF(B352=0,\"\",MONTH(B352))","v":""},null,null,null,{"$f":"IF(D352=\"\",\"\",IF(D352<0,\"DEBITO\",\"CREDITO\"))","v":""},null,false,false,0,{"$f":"IF($A352=I$3,AND($A352=I$3,$D352<0),0)","v":0},0,{"$f":"IF($A352=K$3,AND($A352=K$3,$D352<0),0)","v":0},0,{"$f":"IF($A352=M$3,AND($A352=M$3,$D352<0),0)","v":0},0,{"$f":"IF($A352=O$3,AND($A352=O$3,$D352<0),0)","v":0},0,0,0,0,0,0,0,{"$f":"IF($A352=W$3,AND($A352=W$3,$D352<0),0)","v":0},0,{"$f":"IF($A352=Y$3,AND($A352=Y$3,$D352<0),0)","v":0},0,{"$f":"IF($A352=AA$3,AND($A352=AA$3,$D352<0),0)","v":0},0,{"$f":"IF($A352=AC$3,AND($A352=AC$3,$D352<0),0)","v":0},0,0]
[{"$f":"IF(B353=0,\"\",MONTH(B353))","v":""},null,null,null,{"$f":"IF(D353=\"\",\"\",IF(D353<0,\"DEBITO\",\"CREDITO\"))","v":""},null,false,false,0,{"$f":"IF($A353=I$3,AND($A353=I$3,$D353<0),0)","v":0},0,{"$f":"IF($A353=K$3,AND($A353=K$3,$D353<0),0)","v":0},0,{"$f":"IF($A353=M$3,AND($A353=M$3,$D353<0),0)","v":0},0,{"$f":"IF($A353=O$3,AND($A353=O$3,$D353<0),0)","v":0},0,0,0,0,0,0,0,{"$f":"IF($A353=W$3,AND($A353=W$3,$D353<0),0)","v":0},0,{"$f":"IF($A353=Y$3,AND($A353=Y$3,$D353<0),0)","v":0},0,{"$f":"IF($A353=AA$3,AND($A353=AA$3,$D353<0),0)","v":0},0,{"$f":"IF($A353=AC$3,AND($A353=AC$3,$D353<0),0)","v":0},0,0]
[{"$f":"IF(B354=0,\"\",MONTH(B354))","v":""},null,null,null,{"$f":"IF(D354=\"\",\"\",IF(D354<0,\"DEBITO\",\"CREDITO\"))","v":""},null,false,false,0,{"$f":"IF($A354=I$3,AND($A354=I$3,$D354<0),0)","v":0},0,{"$f":"IF($A354=K$3,AND($A354=K$3,$D354<0),0)","v":0},0,{"$f":"IF($A354=M$3,AND($A354=M$3,$D354<0),0)","v":0},0,{"$f":"IF($A354=O$3,AND($A354=O$3,$D354<0),0)","v":0},0,0,0,0,0,0,0,{"$f":"IF($A354=W$3,AND($A354=W$3,$D354<0),0)","v":0},0,{"$f":"IF($A354=Y$3,AND($A354=Y$3,$D354<0),0)","v":0},0,{"$f":"IF($A354=AA$3,AND($A354=AA$3,$D354<0),0)","v":0},0,{"$f":"IF($A354=AC$3,AND($A354=AC$3,$D354<0),0)","v":0},0,0]
[{"$f":"IF(B355=0,\"\",MONTH(B355))","v":""},null,null,null,{"$f":"IF(D355=\"\",\"\",IF(D355<0,\"DEBITO\",\"CREDITO\"))","v":""},null,false,false,0,{"$f":"IF($A355=I$3,AND($A355=I$3,$D355<0),0)","v":0},0,{"$f":"IF($A355=K$3,AND($A355=K$3,$D355<0),0)","v":0},0,{"$f":"IF($A355=M$3,AND($A355=M$3,$D355<0),0)","v":0},0,{"$f":"IF($A355=O$3,AND($A355=O$3,$D355<0),0)","v":0},0,0,0,0,0,0,0,{"$f":"IF($A355=W$3,AND($A355=W$3,$D355<0),0)","v":0},0,{"$f":"IF($A355=Y$3,AND($A355=Y$3,$D355<0),0)","v":0},0,{"$f":"IF($A355=AA$3,AND($A355=AA$3,$D355<0),0)","v":0},0,{"$f":"IF($A355=AC$3,AND($A355=AC$3,$D355<0),0)","v":0},0,0]
[{"$f":"IF(B356=0,\"\",MONTH(B356))","v":""},null,null,null,{"$f":"IF(D356=\"\",\"\",IF(D356<0,\"DEBITO\",\"CREDITO\"))","v":""},null,false,false,0,{"$f":"IF($A356=I$3,AND($A356=I$3,$D356<0),0)","v":0},0,{"$f":"IF($A356=K$3,AND($A356=K$3,$D356<0),0)","v":0},0,{"$f":"IF($A356=M$3,AND($A356=M$3,$D356<0),0)","v":0},0,{"$f":"IF($A356=O$3,AND($A356=O$3,$D356<0),0)","v":0},0,0,0,0,0,0,0,{"$f":"IF($A356=W$3,AND($A356=W$3,$D356<0),0)","v":0},0,{"$f":"IF($A356=Y$3,AND($A356=Y$3,$D356<0),0)","v":0},0,{"$f":"IF($A356=AA$3,AND($A356=AA$3,$D356<0),0)","v":0},0,{"$f":"IF($A356=AC$3,AND($A356=AC$3,$D356<0),0)","v":0},0,0]
[{"$f":"IF(B357=0,\"\",MONTH(B357))","v":""},null,null,null,{"$f":"IF(D357=\"\",\"\",IF(D357<0,\"DEBITO\",\"CREDITO\"))","v":""},null,false,false,0,{"$f":"IF($A357=I$3,AND($A357=I$3,$D357<0),0)","v":0},0,{"$f":"IF($A357=K$3,AND($A357=K$3,$D357<0),0)","v":0},0,{"$f":"IF($A357=M$3,AND($A357=M$3,$D357<0),0)","v":0},0,{"$f":"IF($A357=O$3,AND($A357=O$3,$D357<0),0)","v":0},0,0,0,0,0,0,0,{"$f":"IF($A357=W$3,AND($A357=W$3,$D357<0),0)","v":0},0,{"$f":"IF($A357=Y$3,AND($A357=Y$3,$D357<0),0)","v":0},0,{"$f":"IF($A357=AA$3,AND($A357=AA$3,$D357<0),0)","v":0},0,{"$f":"IF($A357=AC$3,AND($A357=AC$3,$D357<0),0)","v":0},0,0]
[{"$f":"IF(B358=0,\"\",MONTH(B358))","v":""},null,null,null,{"$f":"IF(D358=\"\",\"\",IF(D358<0,\"DEBITO\",\"CREDITO\"))","v":""},null,false,false,0,{"$f":"IF($A358=I$3,AND($A358=I$3,$D358<0),0)","v":0},0,{"$f":"IF($A358=K$3,AND($A358=K$3,$D358<0),0)","v":0},0,{"$f":"IF($A358=M$3,AND($A358=M$3,$D358<0),0)","v":0},0,{"$f":"IF($A358=O$3,AND($A358=O$3,$D358<0),0)","v":0},0,0,0,0,0,0,0,{"$f":"IF($A358=W$3,AND($A358=W$3,$D358<0),0)","v":0},0,{"$f":"IF($A358=Y$3,AND($A358=Y$3,$D358<0),0)","v":0},0,{"$f":"IF($A358=AA$3,AND($A358=AA$3,$D358<0),0)","v":0},0,{"$f":"IF($A358=AC$3,AND($A358=AC$3,$D358<0),0)","v":0},0,0]
[{"$f":"IF(B359=0,\"\",MONTH(B359))","v":""},null,null,null,{"$f":"IF(D359=\"\",\"\",IF(D359<0,\"DEBITO\",\"CREDITO\"))","v":""},null,false,false,0,{"$f":"IF($A359=I$3,AND($A359=I$3,$D359<0),0)","v":0},0,{"$f":"IF($A359=K$3,AND($A359=K$3,$D359<0),0)","v":0},0,{"$f":"IF($A359=M$3,AND($A359=M$3,$D359<0),0)","v":0},0,{"$f":"IF($A359=O$3,AND($A359=O$3,$D359<0),0)","v":0},0,0,0,0,0,0,0,{"$f":"IF($A359=W$3,AND($A359=W$3,$D359<0),0)","v":0},0,{"$f":"IF($A359=Y$3,AND($A359=Y$3,$D359<0),0)","v":0},0,{"$f":"IF($A359=AA$3,AND($A359=AA$3,$D359<0),0)","v":0},0,{"$f":"IF($A359=AC$3,AND($A359=AC$3,$D359<0),0)","v":0},0,0]
[{"$f":"IF(B360=0,\"\",MONTH(B360))","v":""},null,null,null,{"$f":"IF(D360=\"\",\"\",IF(D360<0,\"DEBITO\",\"CREDITO\"))","v":""},null,false,false,0,{"$f":"IF($A360=I$3,AND($A360=I$3,$D360<0),0)","v":0},0,{"$f":"IF($A360=K$3,AND($A360=K$3,$D360<0),0)","v":0},0,{"$f":"IF($A360=M$3,AND($A360=M$3,$D360<0),0)","v":0},0,{"$f":"IF($A360=O$3,AND($A360=O$3,$D360<0),0)","v":0},0,0,0,0,0,0,0,{"$f":"IF($A360=W$3,AND($A360=W$3,$D360<0),0)","v":0},0,{"$f":"IF($A360=Y$3,AND($A360=Y$3,$D360<0),0)","v":0},0,{"$f":"IF($A360=AA$3,AND($A360=AA$3,$D360<0),0)","v":0},0,{"$f":"IF($A360=AC$3,AND($A360=AC$3,$D360<0),0)","v":0},0,0]
[{"$f":"IF(B361=0,\"\",MONTH(B361))","v":""},null,null,null,{"$f":"IF(D361=\"\",\"\",IF(D361<0,\"DEBITO\",\"CREDITO\"))","v":""},null,false,false,0,{"$f":"IF($A361=I$3,AND($A361=I$3,$D361<0),0)","v":0},0,{"$f":"IF($A361=K$3,AND($A361=K$3,$D361<0),0)","v":0},0,{"$f":"IF($A361=M$3,AND($A361=M$3,$D361<0),0)","v":0},0,{"$f":"IF($A361=O$3,AND($A361=O$3,$D361<0),0)","v":0},0,0,0,0,0,0,0,{"$f":"IF($A361=W$3,AND($A361=W$3,$D361<0),0)","v":0},0,{"$f":"IF($A361=Y$3,AND($A361=Y$3,$D361<0),0)","v":0},0,{"$f":"IF($A361=AA$3,AND($A361=AA$3,$D361<0),0)","v":0},0,{"$f":"IF($A361=AC$3,AND($A361=AC$3,$D361<0),0)","v":0},0,0]
[{"$f":"IF(B362=0,\"\",MONTH(B362))","v":""},null,null,null,{"$f":"IF(D362=\"\",\"\",IF(D362<0,\"DEBITO\",\"CREDITO\"))","v":""},null,false,false,0,{"$f":"IF($A362=I$3,AND($A362=I$3,$D362<0),0)","v":0},0,{"$f":"IF($A362=K$3,AND($A362=K$3,$D362<0),0)","v":0},0,{"$f":"IF($A362=M$3,AND($A362=M$3,$D362<0),0)","v":0},0,{"$f":"IF($A362=O$3,AND($A362=O$3,$D362<0),0)","v":0},0,0,0,0,0,0,0,{"$f":"IF($A362=W$3,AND($A362=W$3,$D362<0),0)","v":0},0,{"$f":"IF($A362=Y$3,AND($A362=Y$3,$D362<0),0)","v":0},0,{"$f":"IF($A362=AA$3,AND($A362=AA$3,$D362<0),0)","v":0},0,{"$f":"IF($A362=AC$3,AND($A362=AC$3,$D362<0),0)","v":0},0,0]
[{"$f":"IF(B363=0,\"\",MONTH(B363))","v":""},null,null,null,{"$f":"IF(D363=\"\",\"\",IF(D363<0,\"DEBITO\",\"CREDITO\"))","v":""},null,false,false,0,{"$f":"IF($A363=I$3,AND($A363=I$3,$D363<0),0)","v":0},0,{"$f":"IF($A363=K$3,AND($A363=K$3,$D363<0),0)","v":0},0,{"$f":"IF($A363=M$3,AND($A363=M$3,$D363<0),0)","v":0},0,{"$f":"IF($A363=O$3,AND($A363=O$3,$D363<0),0)","v":0},0,0,0,0,0,0,0,{"$f":"IF($A363=W$3,AND($A363=W$3,$D363<0),0)","v":0},0,{"$f":"IF($A363=Y$3,AND($A363=Y$3,$D363<0),0)","v":0},0,{"$f":"IF($A363=AA$3,AND($A363=AA$3,$D363<0),0)","v":0},0,{"$f":"IF($A363=AC$3,AND($A363=AC$3,$D363<0),0)","v":0},0,0]
[{"$f":"IF(B364=0,\"\",MONTH(B364))","v":""},null,null,null,{"$f":"IF(D364=\"\",\"\",IF(D364<0,\"DEBITO\",\"CREDITO\"))","v":""},null,false,false,0,{"$f":"IF($A364=I$3,AND($A364=I$3,$D364<0),0)","v":0},0,{"$f":"IF($A364=K$3,AND($A364=K$3,$D364<0),0)","v":0},0,{"$f":"IF($A364=M$3,AND($A364=M$3,$D364<0),0)","v":0},0,{"$f":"IF($A364=O$3,AND($A364=O$3,$D364<0),0)","v":0},0,0,0,0,0,0,0,{"$f":"IF($A364=W$3,AND($A364=W$3,$D364<0),0)","v":0},0,{"$f":"IF($A364=Y$3,AND($A364=Y$3,$D364<0),0)","v":0},0,{"$f":"IF($A364=AA$3,AND($A364=AA$3,$D364<0),0)","v":0},0,{"$f":"IF($A364=AC$3,AND($A364=AC$3,$D364<0),0)","v":0},0,0]
[{"$f":"IF(B365=0,\"\",MONTH(B365))","v":""},null,null,null,{"$f":"IF(D365=\"\",\"\",IF(D365<0,\"DEBITO\",\"CREDITO\"))","v":""},null,false,false,0,{"$f":"IF($A365=I$3,AND($A365=I$3,$D365<0),0)","v":0},0,{"$f":"IF($A365=K$3,AND($A365=K$3,$D365<0),0)","v":0},0,{"$f":"IF($A365=M$3,AND($A365=M$3,$D365<0),0)","v":0},0,{"$f":"IF($A365=O$3,AND($A365=O$3,$D365<0),0)","v":0},0,0,0,0,0,0,0,{"$f":"IF($A365=W$3,AND($A365=W$3,$D365<0),0)","v":0},0,{"$f":"IF($A365=Y$3,AND($A365=Y$3,$D365<0),0)","v":0},0,{"$f":"IF($A365=AA$3,AND($A365=AA$3,$D365<0),0)","v":0},0,{"$f":"IF($A365=AC$3,AND($A365=AC$3,$D365<0),0)","v":0},0,0]
[{"$f":"IF(B366=0,\"\",MONTH(B366))","v":""},null,null,null,{"$f":"IF(D366=\"\",\"\",IF(D366<0,\"DEBITO\",\"CREDITO\"))","v":""},null,false,false,0,{"$f":"IF($A366=I$3,AND($A366=I$3,$D366<0),0)","v":0},0,{"$f":"IF($A366=K$3,AND($A366=K$3,$D366<0),0)","v":0},0,{"$f":"IF($A366=M$3,AND($A366=M$3,$D366<0),0)","v":0},0,{"$f":"IF($A366=O$3,AND($A366=O$3,$D366<0),0)","v":0},0,0,0,0,0,0,0,{"$f":"IF($A366=W$3,AND($A366=W$3,$D366<0),0)","v":0},0,{"$f":"IF($A366=Y$3,AND($A366=Y$3,$D366<0),0)","v":0},0,{"$f":"IF($A366=AA$3,AND($A366=AA$3,$D366<0),0)","v":0},0,{"$f":"IF($A366=AC$3,AND($A366=AC$3,$D366<0),0)","v":0},0,0]
[{"$f":"IF(B367=0,\"\",MONTH(B367))","v":""},null,null,null,{"$f":"IF(D367=\"\",\"\",IF(D367<0,\"DEBITO\",\"CREDITO\"))","v":""},null,false,false,0,{"$f":"IF($A367=I$3,AND($A367=I$3,$D367<0),0)","v":0},0,{"$f":"IF($A367=K$3,AND($A367=K$3,$D367<0),0)","v":0},0,{"$f":"IF($A367=M$3,AND($A367=M$3,$D367<0),0)","v":0},0,{"$f":"IF($A367=O$3,AND($A367=O$3,$D367<0),0)","v":0},0,0,0,0,0,0,0,{"$f":"IF($A367=W$3,AND($A367=W$3,$D367<0),0)","v":0},0,{"$f":"IF($A367=Y$3,AND($A367=Y$3,$D367<0),0)","v":0},0,{"$f":"IF($A367=AA$3,AND($A367=AA$3,$D367<0),0)","v":0},0,{"$f":"IF($A367=AC$3,AND($A367=AC$3,$D367<0),0)","v":0},0,0]
[{"$f":"IF(B368=0,\"\",MONTH(B368))","v":""},null,null,null,{"$f":"IF(D368=\"\",\"\",IF(D368<0,\"DEBITO\",\"CREDITO\"))","v":""},null,false,false,0,{"$f":"IF($A368=I$3,AND($A368=I$3,$D368<0),0)","v":0},0,{"$f":"IF($A368=K$3,AND($A368=K$3,$D368<0),0)","v":0},0,{"$f":"IF($A368=M$3,AND($A368=M$3,$D368<0),0)","v":0},0,{"$f":"IF($A368=O$3,AND($A368=O$3,$D368<0),0)","v":0},0,0,0,0,0,0,0,{"$f":"IF($A368=W$3,AND($A368=W$3,$D368<0),0)","v":0},0,{"$f":"IF($A368=Y$3,AND($A368=Y$3,$D368<0),0)","v":0},0,{"$f":"IF($A368=AA$3,AND($A368=AA$3,$D368<0),0)","v":0},0,{"$f":"IF($A368=AC$3,AND($A368=AC$3,$D368<0),0)","v":0},0,0]
[{"$f":"IF(B369=0,\"\",MONTH(B369))","v":""},null,null,null,{"$f":"IF(D369=\"\",\"\",IF(D369<0,\"DEBITO\",\"CREDITO\"))","v":""},null,false,false,0,{"$f":"IF($A369=I$3,AND($A369=I$3,$D369<0),0)","v":0},0,{"$f":"IF($A369=K$3,AND($A369=K$3,$D369<0),0)","v":0},0,{"$f":"IF($A369=M$3,AND($A369=M$3,$D369<0),0)","v":0},0,{"$f":"IF($A369=O$3,AND($A369=O$3,$D369<0),0)","v":0},0,0,0,0,0,0,0,{"$f":"IF($A369=W$3,AND($A369=W$3,$D369<0),0)","v":0},0,{"$f":"IF($A369=Y$3,AND($A369=Y$3,$D369<0),0)","v":0},0,{"$f":"IF($A369=AA$3,AND($A369=AA$3,$D369<0),0)","v":0},0,{"$f":"IF($A369=AC$3,AND($A369=AC$3,$D369<0),0)","v":0},0,0]
[{"$f":"IF(B370=0,\"\",MONTH(B370))","v":""},null,null,null,{"$f":"IF(D370=\"\",\"\",IF(D370<0,\"DEBITO\",\"CREDITO\"))","v":""},null,false,false,0,{"$f":"IF($A370=I$3,AND($A370=I$3,$D370<0),0)","v":0},0,{"$f":"IF($A370=K$3,AND($A370=K$3,$D370<0),0)","v":0},0,{"$f":"IF($A370=M$3,AND($A370=M$3,$D370<0),0)","v":0},0,{"$f":"IF($A370=O$3,AND($A370=O$3,$D370<0),0)","v":0},0,0,0,0,0,0,0,{"$f":"IF($A370=W$3,AND($A370=W$3,$D370<0),0)","v":0},0,{"$f":"IF($A370=Y$3,AND($A370=Y$3,$D370<0),0)","v":0},0,{"$f":"IF($A370=AA$3,AND($A370=AA$3,$D370<0),0)","v":0},0,{"$f":"IF($A370=AC$3,AND($A370=AC$3,$D370<0),0)","v":0},0,0]
[{"$f":"IF(B371=0,\"\",MONTH(B371))","v":""},null,null,null,{"$f":"IF(D371=\"\",\"\",IF(D371<0,\"DEBITO\",\"CREDITO\"))","v":""},null,false,false,0,{"$f":"IF($A371=I$3,AND($A371=I$3,$D371<0),0)","v":0},0,{"$f":"IF($A371=K$3,AND($A371=K$3,$D371<0),0)","v":0},0,{"$f":"IF($A371=M$3,AND($A371=M$3,$D371<0),0)","v":0},0,{"$f":"IF($A371=O$3,AND($A371=O$3,$D371<0),0)","v":0},0,0,0,0,0,0,0,{"$f":"IF($A371=W$3,AND($A371=W$3,$D371<0),0)","v":0},0,{"$f":"IF($A371=Y$3,AND($A371=Y$3,$D371<0),0)","v":0},0,{"$f":"IF($A371=AA$3,AND($A371=AA$3,$D371<0),0)","v":0},0,{"$f":"IF($A371=AC$3,AND($A371=AC$3,$D371<0),0)","v":0},0,0]
[{"$f":"IF(B372=0,\"\",MONTH(B372))","v":""},null,null,null,{"$f":"IF(D372=\"\",\"\",IF(D372<0,\"DEBITO\",\"CREDITO\"))","v":""},null,false,false,0,{"$f":"IF($A372=I$3,AND($A372=I$3,$D372<0),0)","v":0},0,{"$f":"IF($A372=K$3,AND($A372=K$3,$D372<0),0)","v":0},0,{"$f":"IF($A372=M$3,AND($A372=M$3,$D372<0),0)","v":0},0,{"$f":"IF($A372=O$3,AND($A372=O$3,$D372<0),0)","v":0},0,0,0,0,0,0,0,{"$f":"IF($A372=W$3,AND($A372=W$3,$D372<0),0)","v":0},0,{"$f":"IF($A372=Y$3,AND($A372=Y$3,$D372<0),0)","v":0},0,{"$f":"IF($A372=AA$3,AND($A372=AA$3,$D372<0),0)","v":0},0,{"$f":"IF($A372=AC$3,AND($A372=AC$3,$D372<0),0)","v":0},0,0]
[{"$f":"IF(B373=0,\"\",MONTH(B373))","v":""},null,null,null,{"$f":"IF(D373=\"\",\"\",IF(D373<0,\"DEBITO\",\"CREDITO\"))","v":""},null,false,false,0,{"$f":"IF($A373=I$3,AND($A373=I$3,$D373<0),0)","v":0},0,{"$f":"IF($A373=K$3,AND($A373=K$3,$D373<0),0)","v":0},0,{"$f":"IF($A373=M$3,AND($A373=M$3,$D373<0),0)","v":0},0,{"$f":"IF($A373=O$3,AND($A373=O$3,$D373<0),0)","v":0},0,0,0,0,0,0,0,{"$f":"IF($A373=W$3,AND($A373=W$3,$D373<0),0)","v":0},0,{"$f":"IF($A373=Y$3,AND($A373=Y$3,$D373<0),0)","v":0},0,{"$f":"IF($A373=AA$3,AND($A373=AA$3,$D373<0),0)","v":0},0,{"$f":"IF($A373=AC$3,AND($A373=AC$3,$D373<0),0)","v":0},0,0]
[{"$f":"IF(B374=0,\"\",MONTH(B374))","v":""},null,null,null,{"$f":"IF(D374=\"\",\"\",IF(D374<0,\"DEBITO\",\"CREDITO\"))","v":""},null,false,false,0,{"$f":"IF($A374=I$3,AND($A374=I$3,$D374<0),0)","v":0},0,{"$f":"IF($A374=K$3,AND($A374=K$3,$D374<0),0)","v":0},0,{"$f":"IF($A374=M$3,AND($A374=M$3,$D374<0),0)","v":0},0,{"$f":"IF($A374=O$3,AND($A374=O$3,$D374<0),0)","v":0},0,0,0,0,0,0,0,{"$f":"IF($A374=W$3,AND($A374=W$3,$D374<0),0)","v":0},0,{"$f":"IF($A374=Y$3,AND($A374=Y$3,$D374<0),0)","v":0},0,{"$f":"IF($A374=AA$3,AND($A374=AA$3,$D374<0),0)","v":0},0,{"$f":"IF($A374=AC$3,AND($A374=AC$3,$D374<0),0)","v":0},0,0]
[{"$f":"IF(B375=0,\"\",MONTH(B375))","v":""},null,null,null,{"$f":"IF(D375=\"\",\"\",IF(D375<0,\"DEBITO\",\"CREDITO\"))","v":""},null,false,false,0,{"$f":"IF($A375=I$3,AND($A375=I$3,$D375<0),0)","v":0},0,{"$f":"IF($A375=K$3,AND($A375=K$3,$D375<0),0)","v":0},0,{"$f":"IF($A375=M$3,AND($A375=M$3,$D375<0),0)","v":0},0,{"$f":"IF($A375=O$3,AND($A375=O$3,$D375<0),0)","v":0},0,0,0,0,0,0,0,{"$f":"IF($A375=W$3,AND($A375=W$3,$D375<0),0)","v":0},0,{"$f":"IF($A375=Y$3,AND($A375=Y$3,$D375<0),0)","v":0},0,{"$f":"IF($A375=AA$3,AND($A375=AA$3,$D375<0),0)","v":0},0,{"$f":"IF($A375=AC$3,AND($A375=AC$3,$D375<0),0)","v":0},0,0]
[{"$f":"IF(B376=0,\"\",MONTH(B376))","v":""},null,null,null,{"$f":"IF(D376=\"\",\"\",IF(D376<0,\"DEBITO\",\"CREDITO\"))","v":""},null,false,false,0,{"$f":"IF($A376=I$3,AND($A376=I$3,$D376<0),0)","v":0},0,{"$f":"IF($A376=K$3,AND($A376=K$3,$D376<0),0)","v":0},0,{"$f":"IF($A376=M$3,AND($A376=M$3,$D376<0),0)","v":0},0,{"$f":"IF($A376=O$3,AND($A376=O$3,$D376<0),0)","v":0},0,0,0,0,0,0,0,{"$f":"IF($A376=W$3,AND($A376=W$3,$D376<0),0)","v":0},0,{"$f":"IF($A376=Y$3,AND($A376=Y$3,$D376<0),0)","v":0},0,{"$f":"IF($A376=AA$3,AND($A376=AA$3,$D376<0),0)","v":0},0,{"$f":"IF($A376=AC$3,AND($A376=AC$3,$D376<0),0)","v":0},0,0]
[{"$f":"IF(B377=0,\"\",MONTH(B377))","v":""},null,null,null,{"$f":"IF(D377=\"\",\"\",IF(D377<0,\"DEBITO\",\"CREDITO\"))","v":""},null,false,false,0,{"$f":"IF($A377=I$3,AND($A377=I$3,$D377<0),0)","v":0},0,{"$f":"IF($A377=K$3,AND($A377=K$3,$D377<0),0)","v":0},0,{"$f":"IF($A377=M$3,AND($A377=M$3,$D377<0),0)","v":0},0,{"$f":"IF($A377=O$3,AND($A377=O$3,$D377<0),0)","v":0},0,0,0,0,0,0,0,{"$f":"IF($A377=W$3,AND($A377=W$3,$D377<0),0)","v":0},0,{"$f":"IF($A377=Y$3,AND($A377=Y$3,$D377<0),0)","v":0},0,{"$f":"IF($A377=AA$3,AND($A377=AA$3,$D377<0),0)","v":0},0,{"$f":"IF($A377=AC$3,AND($A377=AC$3,$D377<0),0)","v":0},0,0]
[{"$f":"IF(B378=0,\"\",MONTH(B378))","v":""},null,null,null,{"$f":"IF(D378=\"\",\"\",IF(D378<0,\"DEBITO\",\"CREDITO\"))","v":""},null,false,false,0,{"$f":"IF($A378=I$3,AND($A378=I$3,$D378<0),0)","v":0},0,{"$f":"IF($A378=K$3,AND($A378=K$3,$D378<0),0)","v":0},0,{"$f":"IF($A378=M$3,AND($A378=M$3,$D378<0),0)","v":0},0,{"$f":"IF($A378=O$3,AND($A378=O$3,$D378<0),0)","v":0},0,0,0,0,0,0,0,{"$f":"IF($A378=W$3,AND($A378=W$3,$D378<0),0)","v":0},0,{"$f":"IF($A378=Y$3,AND($A378=Y$3,$D378<0),0)","v":0},0,{"$f":"IF($A378=AA$3,AND($A378=AA$3,$D378<0),0)","v":0},0,{"$f":"IF($A378=AC$3,AND($A378=AC$3,$D378<0),0)","v":0},0,0]
[{"$f":"IF(B379=0,\"\",MONTH(B379))","v":""},null,null,null,{"$f":"IF(D379=\"\",\"\",IF(D379<0,\"DEBITO\",\"CREDITO\"))","v":""},null,false,false,0,{"$f":"IF($A379=I$3,AND($A379=I$3,$D379<0),0)","v":0},0,{"$f":"IF($A379=K$3,AND($A379=K$3,$D379<0),0)","v":0},0,{"$f":"IF($A379=M$3,AND($A379=M$3,$D379<0),0)","v":0},0,{"$f":"IF($A379=O$3,AND($A379=O$3,$D379<0),0)","v":0},0,0,0,0,0,0,0,{"$f":"IF($A379=W$3,AND($A379=W$3,$D379<0),0)","v":0},0,{"$f":"IF($A379=Y$3,AND($A379=Y$3,$D379<0),0)","v":0},0,{"$f":"IF($A379=AA$3,AND($A379=AA$3,$D379<0),0)","v":0},0,{"$f":"IF($A379=AC$3,AND($A379=AC$3,$D379<0),0)","v":0},0,0]
[{"$f":"IF(B380=0,\"\",MONTH(B380))","v":""},null,null,null,{"$f":"IF(D380=\"\",\"\",IF(D380<0,\"DEBITO\",\"CREDITO\"))","v":""},null,false,false,0,{"$f":"IF($A380=I$3,AND($A380=I$3,$D380<0),0)","v":0},0,{"$f":"IF($A380=K$3,AND($A380=K$3,$D380<0),0)","v":0},0,{"$f":"IF($A380=M$3,AND($A380=M$3,$D380<0),0)","v":0},0,{"$f":"IF($A380=O$3,AND($A380=O$3,$D380<0),0)","v":0},0,0,0,0,0,0,0,{"$f":"IF($A380=W$3,AND($A380=W$3,$D380<0),0)","v":0},0,{"$f":"IF($A380=Y$3,AND($A380=Y$3,$D380<0),0)","v":0},0,{"$f":"IF($A380=AA$3,AND($A380=AA$3,$D380<0),0)","v":0},0,{"$f":"IF($A380=AC$3,AND($A380=AC$3,$D380<0),0)","v":0},0,0]
[{"$f":"IF(B381=0,\"\",MONTH(B381))","v":""},null,null,null,{"$f":"IF(D381=\"\",\"\",IF(D381<0,\"DEBITO\",\"CREDITO\"))","v":""},null,false,false,0,{"$f":"IF($A381=I$3,AND($A381=I$3,$D381<0),0)","v":0},0,{"$f":"IF($A381=K$3,AND($A381=K$3,$D381<0),0)","v":0},0,{"$f":"IF($A381=M$3,AND($A381=M$3,$D381<0),0)","v":0},0,{"$f":"IF($A381=O$3,AND($A381=O$3,$D381<0),0)","v":0},0,0,0,0,0,0,0,{"$f":"IF($A381=W$3,AND($A381=W$3,$D381<0),0)","v":0},0,{"$f":"IF($A381=Y$3,AND($A381=Y$3,$D381<0),0)","v":0},0,{"$f":"IF($A381=AA$3,AND($A381=AA$3,$D381<0),0)","v":0},0,{"$f":"IF($A381=AC$3,AND($A381=AC$3,$D381<0),0)","v":0},0,0]
[{"$f":"IF(B382=0,\"\",MONTH(B382))","v":""},null,null,null,{"$f":"IF(D382=\"\",\"\",IF(D382<0,\"DEBITO\",\"CREDITO\"))","v":""},null,false,false,0,{"$f":"IF($A382=I$3,AND($A382=I$3,$D382<0),0)","v":0},0,{"$f":"IF($A382=K$3,AND($A382=K$3,$D382<0),0)","v":0},0,{"$f":"IF($A382=M$3,AND($A382=M$3,$D382<0),0)","v":0},0,{"$f":"IF($A382=O$3,AND($A382=O$3,$D382<0),0)","v":0},0,0,0,0,0,0,0,{"$f":"IF($A382=W$3,AND($A382=W$3,$D382<0),0)","v":0},0,{"$f":"IF($A382=Y$3,AND($A382=Y$3,$D382<0),0)","v":0},0,{"$f":"IF($A382=AA$3,AND($A382=AA$3,$D382<0),0)","v":0},0,{"$f":"IF($A382=AC$3,AND($A382=AC$3,$D382<0),0)","v":0},0,0]
[{"$f":"IF(B383=0,\"\",MONTH(B383))","v":""},null,null,null,{"$f":"IF(D383=\"\",\"\",IF(D383<0,\"DEBITO\",\"CREDITO\"))","v":""},null,false,false,0,{"$f":"IF($A383=I$3,AND($A383=I$3,$D383<0),0)","v":0},0,{"$f":"IF($A383=K$3,AND($A383=K$3,$D383<0),0)","v":0},0,{"$f":"IF($A383=M$3,AND($A383=M$3,$D383<0),0)","v":0},0,{"$f":"IF($A383=O$3,AND($A383=O$3,$D383<0),0)","v":0},0,0,0,0,0,0,0,{"$f":"IF($A383=W$3,AND($A383=W$3,$D383<0),0)","v":0},0,{"$f":"IF($A383=Y$3,AND($A383=Y$3,$D383<0),0)","v":0},0,{"$f":"IF($A383=AA$3,AND($A383=AA$3,$D383<0),0)","v":0},0,{"$f":"IF($A383=AC$3,AND($A383=AC$3,$D383<0),0)","v":0},0,0]
[{"$f":"IF(B384=0,\"\",MONTH(B384))","v":""},null,null,null,{"$f":"IF(D384=\"\",\"\",IF(D384<0,\"DEBITO\",\"CREDITO\"))","v":""},null,false,false,0,{"$f":"IF($A384=I$3,AND($A384=I$3,$D384<0),0)","v":0},0,{"$f":"IF($A384=K$3,AND($A384=K$3,$D384<0),0)","v":0},0,{"$f":"IF($A384=M$3,AND($A384=M$3,$D384<0),0)","v":0},0,{"$f":"IF($A384=O$3,AND($A384=O$3,$D384<0),0)","v":0},0,0,0,0,0,0,0,{"$f":"IF($A384=W$3,AND($A384=W$3,$D384<0),0)","v":0},0,{"$f":"IF($A384=Y$3,AND($A384=Y$3,$D384<0),0)","v":0},0,{"$f":"IF($A384=AA$3,AND($A384=AA$3,$D384<0),0)","v":0},0,{"$f":"IF($A384=AC$3,AND($A384=AC$3,$D384<0),0)","v":0},0,0]
[{"$f":"IF(B385=0,\"\",MONTH(B385))","v":""},null,null,null,{"$f":"IF(D385=\"\",\"\",IF(D385<0,\"DEBITO\",\"CREDITO\"))","v":""},null,false,false,0,{"$f":"IF($A385=I$3,AND($A385=I$3,$D385<0),0)","v":0},0,{"$f":"IF($A385=K$3,AND($A385=K$3,$D385<0),0)","v":0},0,{"$f":"IF($A385=M$3,AND($A385=M$3,$D385<0),0)","v":0},0,{"$f":"IF($A385=O$3,AND($A385=O$3,$D385<0),0)","v":0},0,0,0,0,0,0,0,{"$f":"IF($A385=W$3,AND($A385=W$3,$D385<0),0)","v":0},0,{"$f":"IF($A385=Y$3,AND($A385=Y$3,$D385<0),0)","v":0},0,{"$f":"IF($A385=AA$3,AND($A385=AA$3,$D385<0),0)","v":0},0,{"$f":"IF($A385=AC$3,AND($A385=AC$3,$D385<0),0)","v":0},0,0]
[{"$f":"IF(B386=0,\"\",MONTH(B386))","v":""},null,null,null,{"$f":"IF(D386=\"\",\"\",IF(D386<0,\"DEBITO\",\"CREDITO\"))","v":""},null,false,false,0,{"$f":"IF($A386=I$3,AND($A386=I$3,$D386<0),0)","v":0},0,{"$f":"IF($A386=K$3,AND($A386=K$3,$D386<0),0)","v":0},0,{"$f":"IF($A386=M$3,AND($A386=M$3,$D386<0),0)","v":0},0,{"$f":"IF($A386=O$3,AND($A386=O$3,$D386<0),0)","v":0},0,0,0,0,0,0,0,{"$f":"IF($A386=W$3,AND($A386=W$3,$D386<0),0)","v":0},0,{"$f":"IF($A386=Y$3,AND($A386=Y$3,$D386<0),0)","v":0},0,{"$f":"IF($A386=AA$3,AND($A386=AA$3,$D386<0),0)","v":0},0,{"$f":"IF($A386=AC$3,AND($A386=AC$3,$D386<0),0)","v":0},0,0]
[{"$f":"IF(B387=0,\"\",MONTH(B387))","v":""},null,null,null,{"$f":"IF(D387=\"\",\"\",IF(D387<0,\"DEBITO\",\"CREDITO\"))","v":""},null,false,false,0,{"$f":"IF($A387=I$3,AND($A387=I$3,$D387<0),0)","v":0},0,{"$f":"IF($A387=K$3,AND($A387=K$3,$D387<0),0)","v":0},0,{"$f":"IF($A387=M$3,AND($A387=M$3,$D387<0),0)","v":0},0,{"$f":"IF($A387=O$3,AND($A387=O$3,$D387<0),0)","v":0},0,0,0,0,0,0,0,{"$f":"IF($A387=W$3,AND($A387=W$3,$D387<0),0)","v":0},0,{"$f":"IF($A387=Y$3,AND($A387=Y$3,$D387<0),0)","v":0},0,{"$f":"IF($A387=AA$3,AND($A387=AA$3,$D387<0),0)","v":0},0,{"$f":"IF($A387=AC$3,AND($A387=AC$3,$D387<0),0)","v":0},0,0]
[{"$f":"IF(B388=0,\"\",MONTH(B388))","v":""},null,null,null,{"$f":"IF(D388=\"\",\"\",IF(D388<0,\"DEBITO\",\"CREDITO\"))","v":""},null,false,false,0,{"$f":"IF($A388=I$3,AND($A388=I$3,$D388<0),0)","v":0},0,{"$f":"IF($A388=K$3,AND($A388=K$3,$D388<0),0)","v":0},0,{"$f":"IF($A388=M$3,AND($A388=M$3,$D388<0),0)","v":0},0,{"$f":"IF($A388=O$3,AND($A388=O$3,$D388<0),0)","v":0},0,0,0,0,0,0,0,{"$f":"IF($A388=W$3,AND($A388=W$3,$D388<0),0)","v":0},0,{"$f":"IF($A388=Y$3,AND($A388=Y$3,$D388<0),0)","v":0},0,{"$f":"IF($A388=AA$3,AND($A388=AA$3,$D388<0),0)","v":0},0,{"$f":"IF($A388=AC$3,AND($A388=AC$3,$D388<0),0)","v":0},0,0]
[{"$f":"IF(B389=0,\"\",MONTH(B389))","v":""},null,null,null,{"$f":"IF(D389=\"\",\"\",IF(D389<0,\"DEBITO\",\"CREDITO\"))","v":""},null,false,false,0,{"$f":"IF($A389=I$3,AND($A389=I$3,$D389<0),0)","v":0},0,{"$f":"IF($A389=K$3,AND($A389=K$3,$D389<0),0)","v":0},0,{"$f":"IF($A389=M$3,AND($A389=M$3,$D389<0),0)","v":0},0,{"$f":"IF($A389=O$3,AND($A389=O$3,$D389<0),0)","v":0},0,0,0,0,0,0,0,{"$f":"IF($A389=W$3,AND($A389=W$3,$D389<0),0)","v":0},0,{"$f":"IF($A389=Y$3,AND($A389=Y$3,$D389<0),0)","v":0},0,{"$f":"IF($A389=AA$3,AND($A389=AA$3,$D389<0),0)","v":0},0,{"$f":"IF($A389=AC$3,AND($A389=AC$3,$D389<0),0)","v":0},0,0]
[{"$f":"IF(B390=0,\"\",MONTH(B390))","v":""},null,null,null,{"$f":"IF(D390=\"\",\"\",IF(D390<0,\"DEBITO\",\"CREDITO\"))","v":""},null,false,false,0,{"$f":"IF($A390=I$3,AND($A390=I$3,$D390<0),0)","v":0},0,{"$f":"IF($A390=K$3,AND($A390=K$3,$D390<0),0)","v":0},0,{"$f":"IF($A390=M$3,AND($A390=M$3,$D390<0),0)","v":0},0,{"$f":"IF($A390=O$3,AND($A390=O$3,$D390<0),0)","v":0},0,0,0,0,0,0,0,{"$f":"IF($A390=W$3,AND($A390=W$3,$D390<0),0)","v":0},0,{"$f":"IF($A390=Y$3,AND($A390=Y$3,$D390<0),0)","v":0},0,{"$f":"IF($A390=AA$3,AND($A390=AA$3,$D390<0),0)","v":0},0,{"$f":"IF($A390=AC$3,AND($A390=AC$3,$D390<0),0)","v":0},0,0]
[{"$f":"IF(B391=0,\"\",MONTH(B391))","v":""},null,null,null,{"$f":"IF(D391=\"\",\"\",IF(D391<0,\"DEBITO\",\"CREDITO\"))","v":""},null,false,false,0,{"$f":"IF($A391=I$3,AND($A391=I$3,$D391<0),0)","v":0},0,{"$f":"IF($A391=K$3,AND($A391=K$3,$D391<0),0)","v":0},0,{"$f":"IF($A391=M$3,AND($A391=M$3,$D391<0),0)","v":0},0,{"$f":"IF($A391=O$3,AND($A391=O$3,$D391<0),0)","v":0},0,0,0,0,0,0,0,{"$f":"IF($A391=W$3,AND($A391=W$3,$D391<0),0)","v":0},0,{"$f":"IF($A391=Y$3,AND($A391=Y$3,$D391<0),0)","v":0},0,{"$f":"IF($A391=AA$3,AND($A391=AA$3,$D391<0),0)","v":0},0,{"$f":"IF($A391=AC$3,AND($A391=AC$3,$D391<0),0)","v":0},0,0]
[{"$f":"IF(B392=0,\"\",MONTH(B392))","v":""},null,null,null,{"$f":"IF(D392=\"\",\"\",IF(D392<0,\"DEBITO\",\"CREDITO\"))","v":""},null,false,false,0,{"$f":"IF($A392=I$3,AND($A392=I$3,$D392<0),0)","v":0},0,{"$f":"IF($A392=K$3,AND($A392=K$3,$D392<0),0)","v":0},0,{"$f":"IF($A392=M$3,AND($A392=M$3,$D392<0),0)","v":0},0,{"$f":"IF($A392=O$3,AND($A392=O$3,$D392<0),0)","v":0},0,0,0,0,0,0,0,{"$f":"IF($A392=W$3,AND($A392=W$3,$D392<0),0)","v":0},0,{"$f":"IF($A392=Y$3,AND($A392=Y$3,$D392<0),0)","v":0},0,{"$f":"IF($A392=AA$3,AND($A392=AA$3,$D392<0),0)","v":0},0,{"$f":"IF($A392=AC$3,AND($A392=AC$3,$D392<0),0)","v":0},0,0]
[{"$f":"IF(B393=0,\"\",MONTH(B393))","v":""},null,null,null,{"$f":"IF(D393=\"\",\"\",IF(D393<0,\"DEBITO\",\"CREDITO\"))","v":""},null,{"$f":"AND(A393=$E$3,D393>0)","v":false},{"$f":"AND(A393=$E$3,D393<0)","v":false},0,{"$f":"IF($A393=I$3,AND($A393=I$3,$D393<0),0)","v":0},0,{"$f":"IF($A393=K$3,AND($A393=K$3,$D393<0),0)","v":0},0,{"$f":"IF($A393=M$3,AND($A393=M$3,$D393<0),0)","v":0},0,{"$f":"IF($A393=O$3,AND($A393=O$3,$D393<0),0)","v":0},0,{"$f":"IF($A393=Q$3,AND($A393=Q$3,$D393<0),0)","v":0},0,0,0,0,0,{"$f":"IF($A393=W$3,AND($A393=W$3,$D393<0),0)","v":0},0,{"$f":"IF($A393=Y$3,AND($A393=Y$3,$D393<0),0)","v":0},0,{"$f":"IF($A393=AA$3,AND($A393=AA$3,$D393<0),0)","v":0},0,{"$f":"IF($A393=AC$3,AND($A393=AC$3,$D393<0),0)","v":0},0,{"$f":"IF($A393=AE$3,AND($A393=AE$3,$D393<0),0)","v":0}]
[{"$f":"IF(B394=0,\"\",MONTH(B394))","v":""},null,null,null,{"$f":"IF(D394=\"\",\"\",IF(D394<0,\"DEBITO\",\"CREDITO\"))","v":""},null,false,false,0,{"$f":"IF($A394=I$3,AND($A394=I$3,$D394<0),0)","v":0},0,{"$f":"IF($A394=K$3,AND($A394=K$3,$D394<0),0)","v":0},0,{"$f":"IF($A394=M$3,AND($A394=M$3,$D394<0),0)","v":0},0,{"$f":"IF($A394=O$3,AND($A394=O$3,$D394<0),0)","v":0},0,0,{"$f":"IF($A394=S$3,AND($A394=S$3,$D394>0),0)","v":0},{"$f":"IF($A394=S$3,AND($A394=S$3,$D394<0),0)","v":0},{"$f":"IF($A394=U$3,AND($A394=U$3,$D394>0),0)","v":0},{"$f":"IF($A394=U$3,AND($A394=U$3,$D394<0),0)","v":0},0,{"$f":"IF($A394=W$3,AND($A394=W$3,$D394<0),0)","v":0},0,{"$f":"IF($A394=Y$3,AND($A394=Y$3,$D394<0),0)","v":0},0,{"$f":"IF($A394=AA$3,AND($A394=AA$3,$D394<0),0)","v":0},0,{"$f":"IF($A394=AC$3,AND($A394=AC$3,$D394<0),0)","v":0},0,0]
[{"$f":"IF(B395=0,\"\",MONTH(B395))","v":""},null,null,null,{"$f":"IF(D395=\"\",\"\",IF(D395<0,\"DEBITO\",\"CREDITO\"))","v":""},null,false,false,0,{"$f":"IF($A395=I$3,AND($A395=I$3,$D395<0),0)","v":0},0,{"$f":"IF($A395=K$3,AND($A395=K$3,$D395<0),0)","v":0},0,{"$f":"IF($A395=M$3,AND($A395=M$3,$D395<0),0)","v":0},0,{"$f":"IF($A395=O$3,AND($A395=O$3,$D395<0),0)","v":0},0,0,0,0,0,0,0,{"$f":"IF($A395=W$3,AND($A395=W$3,$D395<0),0)","v":0},0,{"$f":"IF($A395=Y$3,AND($A395=Y$3,$D395<0),0)","v":0},0,{"$f":"IF($A395=AA$3,AND($A395=AA$3,$D395<0),0)","v":0},0,{"$f":"IF($A395=AC$3,AND($A395=AC$3,$D395<0),0)","v":0},0,0]
[{"$f":"IF(B396=0,\"\",MONTH(B396))","v":""},null,null,null,{"$f":"IF(D396=\"\",\"\",IF(D396<0,\"DEBITO\",\"CREDITO\"))","v":""},null,false,false,0,{"$f":"IF($A396=I$3,AND($A396=I$3,$D396<0),0)","v":0},0,{"$f":"IF($A396=K$3,AND($A396=K$3,$D396<0),0)","v":0},0,{"$f":"IF($A396=M$3,AND($A396=M$3,$D396<0),0)","v":0},0,{"$f":"IF($A396=O$3,AND($A396=O$3,$D396<0),0)","v":0},0,0,0,0,0,0,0,{"$f":"IF($A396=W$3,AND($A396=W$3,$D396<0),0)","v":0},0,{"$f":"IF($A396=Y$3,AND($A396=Y$3,$D396<0),0)","v":0},0,{"$f":"IF($A396=AA$3,AND($A396=AA$3,$D396<0),0)","v":0},0,{"$f":"IF($A396=AC$3,AND($A396=AC$3,$D396<0),0)","v":0},0,0]
[{"$f":"IF(B397=0,\"\",MONTH(B397))","v":""},null,null,null,{"$f":"IF(D397=\"\",\"\",IF(D397<0,\"DEBITO\",\"CREDITO\"))","v":""},null,false,false,0,{"$f":"IF($A397=I$3,AND($A397=I$3,$D397<0),0)","v":0},0,{"$f":"IF($A397=K$3,AND($A397=K$3,$D397<0),0)","v":0},0,{"$f":"IF($A397=M$3,AND($A397=M$3,$D397<0),0)","v":0},0,{"$f":"IF($A397=O$3,AND($A397=O$3,$D397<0),0)","v":0},0,0,0,0,0,0,0,{"$f":"IF($A397=W$3,AND($A397=W$3,$D397<0),0)","v":0},0,{"$f":"IF($A397=Y$3,AND($A397=Y$3,$D397<0),0)","v":0},0,{"$f":"IF($A397=AA$3,AND($A397=AA$3,$D397<0),0)","v":0},0,{"$f":"IF($A397=AC$3,AND($A397=AC$3,$D397<0),0)","v":0},0,0]
[{"$f":"IF(B398=0,\"\",MONTH(B398))","v":""},null,null,null,{"$f":"IF(D398=\"\",\"\",IF(D398<0,\"DEBITO\",\"CREDITO\"))","v":""},null,false,false,0,{"$f":"IF($A398=I$3,AND($A398=I$3,$D398<0),0)","v":0},0,{"$f":"IF($A398=K$3,AND($A398=K$3,$D398<0),0)","v":0},0,{"$f":"IF($A398=M$3,AND($A398=M$3,$D398<0),0)","v":0},0,{"$f":"IF($A398=O$3,AND($A398=O$3,$D398<0),0)","v":0},0,0,0,0,0,0,0,{"$f":"IF($A398=W$3,AND($A398=W$3,$D398<0),0)","v":0},0,{"$f":"IF($A398=Y$3,AND($A398=Y$3,$D398<0),0)","v":0},0,{"$f":"IF($A398=AA$3,AND($A398=AA$3,$D398<0),0)","v":0},0,{"$f":"IF($A398=AC$3,AND($A398=AC$3,$D398<0),0)","v":0},0,0]
[{"$f":"IF(B399=0,\"\",MONTH(B399))","v":""},null,null,null,{"$f":"IF(D399=\"\",\"\",IF(D399<0,\"DEBITO\",\"CREDITO\"))","v":""},null,false,false,0,{"$f":"IF($A399=I$3,AND($A399=I$3,$D399<0),0)","v":0},0,{"$f":"IF($A399=K$3,AND($A399=K$3,$D399<0),0)","v":0},0,{"$f":"IF($A399=M$3,AND($A399=M$3,$D399<0),0)","v":0},0,{"$f":"IF($A399=O$3,AND($A399=O$3,$D399<0),0)","v":0},0,0,0,0,0,0,0,{"$f":"IF($A399=W$3,AND($A399=W$3,$D399<0),0)","v":0},0,{"$f":"IF($A399=Y$3,AND($A399=Y$3,$D399<0),0)","v":0},0,{"$f":"IF($A399=AA$3,AND($A399=AA$3,$D399<0),0)","v":0},0,{"$f":"IF($A399=AC$3,AND($A399=AC$3,$D399<0),0)","v":0},0,0]
[{"$f":"IF(B400=0,\"\",MONTH(B400))","v":""},null,null,null,{"$f":"IF(D400=\"\",\"\",IF(D400<0,\"DEBITO\",\"CREDITO\"))","v":""},null,false,false,0,{"$f":"IF($A400=I$3,AND($A400=I$3,$D400<0),0)","v":0},0,{"$f":"IF($A400=K$3,AND($A400=K$3,$D400<0),0)","v":0},0,{"$f":"IF($A400=M$3,AND($A400=M$3,$D400<0),0)","v":0},0,{"$f":"IF($A400=O$3,AND($A400=O$3,$D400<0),0)","v":0},0,0,0,0,0,0,0,{"$f":"IF($A400=W$3,AND($A400=W$3,$D400<0),0)","v":0},0,{"$f":"IF($A400=Y$3,AND($A400=Y$3,$D400<0),0)","v":0},0,{"$f":"IF($A400=AA$3,AND($A400=AA$3,$D400<0),0)","v":0},0,{"$f":"IF($A400=AC$3,AND($A400=AC$3,$D400<0),0)","v":0},0,0]
[{"$f":"IF(B401=0,\"\",MONTH(B401))","v":""},null,null,null,{"$f":"IF(D401=\"\",\"\",IF(D401<0,\"DEBITO\",\"CREDITO\"))","v":""},null,false,false,0,{"$f":"IF($A401=I$3,AND($A401=I$3,$D401<0),0)","v":0},0,{"$f":"IF($A401=K$3,AND($A401=K$3,$D401<0),0)","v":0},0,{"$f":"IF($A401=M$3,AND($A401=M$3,$D401<0),0)","v":0},0,{"$f":"IF($A401=O$3,AND($A401=O$3,$D401<0),0)","v":0},0,0,0,0,0,0,0,{"$f":"IF($A401=W$3,AND($A401=W$3,$D401<0),0)","v":0},0,{"$f":"IF($A401=Y$3,AND($A401=Y$3,$D401<0),0)","v":0},0,{"$f":"IF($A401=AA$3,AND($A401=AA$3,$D401<0),0)","v":0},0,{"$f":"IF($A401=AC$3,AND($A401=AC$3,$D401<0),0)","v":0},0,0]
[{"$f":"IF(B402=0,\"\",MONTH(B402))","v":""},null,null,null,{"$f":"IF(D402=\"\",\"\",IF(D402<0,\"DEBITO\",\"CREDITO\"))","v":""},null,false,false,0,{"$f":"IF($A402=I$3,AND($A402=I$3,$D402<0),0)","v":0},0,{"$f":"IF($A402=K$3,AND($A402=K$3,$D402<0),0)","v":0},0,{"$f":"IF($A402=M$3,AND($A402=M$3,$D402<0),0)","v":0},0,{"$f":"IF($A402=O$3,AND($A402=O$3,$D402<0),0)","v":0},0,0,0,0,0,0,0,{"$f":"IF($A402=W$3,AND($A402=W$3,$D402<0),0)","v":0},0,{"$f":"IF($A402=Y$3,AND($A402=Y$3,$D402<0),0)","v":0},0,{"$f":"IF($A402=AA$3,AND($A402=AA$3,$D402<0),0)","v":0},0,{"$f":"IF($A402=AC$3,AND($A402=AC$3,$D402<0),0)","v":0},0,0]
[{"$f":"IF(B403=0,\"\",MONTH(B403))","v":""},null,null,null,{"$f":"IF(D403=\"\",\"\",IF(D403<0,\"DEBITO\",\"CREDITO\"))","v":""},null,false,false,0,{"$f":"IF($A403=I$3,AND($A403=I$3,$D403<0),0)","v":0},0,{"$f":"IF($A403=K$3,AND($A403=K$3,$D403<0),0)","v":0},0,{"$f":"IF($A403=M$3,AND($A403=M$3,$D403<0),0)","v":0},0,{"$f":"IF($A403=O$3,AND($A403=O$3,$D403<0),0)","v":0},0,0,0,0,0,0,0,{"$f":"IF($A403=W$3,AND($A403=W$3,$D403<0),0)","v":0},0,{"$f":"IF($A403=Y$3,AND($A403=Y$3,$D403<0),0)","v":0},0,{"$f":"IF($A403=AA$3,AND($A403=AA$3,$D403<0),0)","v":0},0,{"$f":"IF($A403=AC$3,AND($A403=AC$3,$D403<0),0)","v":0},0,0]
[{"$f":"IF(B404=0,\"\",MONTH(B404))","v":""},null,null,null,{"$f":"IF(D404=\"\",\"\",IF(D404<0,\"DEBITO\",\"CREDITO\"))","v":""},null,false,false,0,{"$f":"IF($A404=I$3,AND($A404=I$3,$D404<0),0)","v":0},0,{"$f":"IF($A404=K$3,AND($A404=K$3,$D404<0),0)","v":0},0,{"$f":"IF($A404=M$3,AND($A404=M$3,$D404<0),0)","v":0},0,{"$f":"IF($A404=O$3,AND($A404=O$3,$D404<0),0)","v":0},0,0,0,0,0,0,0,{"$f":"IF($A404=W$3,AND($A404=W$3,$D404<0),0)","v":0},0,{"$f":"IF($A404=Y$3,AND($A404=Y$3,$D404<0),0)","v":0},0,{"$f":"IF($A404=AA$3,AND($A404=AA$3,$D404<0),0)","v":0},0,{"$f":"IF($A404=AC$3,AND($A404=AC$3,$D404<0),0)","v":0},0,0]
[{"$f":"IF(B405=0,\"\",MONTH(B405))","v":""},null,null,null,{"$f":"IF(D405=\"\",\"\",IF(D405<0,\"DEBITO\",\"CREDITO\"))","v":""},null,false,false,0,{"$f":"IF($A405=I$3,AND($A405=I$3,$D405<0),0)","v":0},0,{"$f":"IF($A405=K$3,AND($A405=K$3,$D405<0),0)","v":0},0,{"$f":"IF($A405=M$3,AND($A405=M$3,$D405<0),0)","v":0},0,{"$f":"IF($A405=O$3,AND($A405=O$3,$D405<0),0)","v":0},0,0,0,0,0,0,0,{"$f":"IF($A405=W$3,AND($A405=W$3,$D405<0),0)","v":0},0,{"$f":"IF($A405=Y$3,AND($A405=Y$3,$D405<0),0)","v":0},0,{"$f":"IF($A405=AA$3,AND($A405=AA$3,$D405<0),0)","v":0},0,{"$f":"IF($A405=AC$3,AND($A405=AC$3,$D405<0),0)","v":0},0,0]
[{"$f":"IF(B406=0,\"\",MONTH(B406))","v":""},null,null,null,{"$f":"IF(D406=\"\",\"\",IF(D406<0,\"DEBITO\",\"CREDITO\"))","v":""},null,false,false,0,{"$f":"IF($A406=I$3,AND($A406=I$3,$D406<0),0)","v":0},0,{"$f":"IF($A406=K$3,AND($A406=K$3,$D406<0),0)","v":0},0,{"$f":"IF($A406=M$3,AND($A406=M$3,$D406<0),0)","v":0},0,{"$f":"IF($A406=O$3,AND($A406=O$3,$D406<0),0)","v":0},0,0,0,0,0,0,0,{"$f":"IF($A406=W$3,AND($A406=W$3,$D406<0),0)","v":0},0,{"$f":"IF($A406=Y$3,AND($A406=Y$3,$D406<0),0)","v":0},0,{"$f":"IF($A406=AA$3,AND($A406=AA$3,$D406<0),0)","v":0},0,{"$f":"IF($A406=AC$3,AND($A406=AC$3,$D406<0),0)","v":0},0,0]
[{"$f":"IF(B407=0,\"\",MONTH(B407))","v":""},null,null,null,{"$f":"IF(D407=\"\",\"\",IF(D407<0,\"DEBITO\",\"CREDITO\"))","v":""},null,false,false,0,{"$f":"IF($A407=I$3,AND($A407=I$3,$D407<0),0)","v":0},0,{"$f":"IF($A407=K$3,AND($A407=K$3,$D407<0),0)","v":0},0,{"$f":"IF($A407=M$3,AND($A407=M$3,$D407<0),0)","v":0},0,{"$f":"IF($A407=O$3,AND($A407=O$3,$D407<0),0)","v":0},0,0,0,0,0,0,0,{"$f":"IF($A407=W$3,AND($A407=W$3,$D407<0),0)","v":0},0,{"$f":"IF($A407=Y$3,AND($A407=Y$3,$D407<0),0)","v":0},0,{"$f":"IF($A407=AA$3,AND($A407=AA$3,$D407<0),0)","v":0},0,{"$f":"IF($A407=AC$3,AND($A407=AC$3,$D407<0),0)","v":0},0,0]
[{"$f":"IF(B408=0,\"\",MONTH(B408))","v":""},null,null,null,{"$f":"IF(D408=\"\",\"\",IF(D408<0,\"DEBITO\",\"CREDITO\"))","v":""},null,false,false,0,{"$f":"IF($A408=I$3,AND($A408=I$3,$D408<0),0)","v":0},0,{"$f":"IF($A408=K$3,AND($A408=K$3,$D408<0),0)","v":0},0,{"$f":"IF($A408=M$3,AND($A408=M$3,$D408<0),0)","v":0},0,{"$f":"IF($A408=O$3,AND($A408=O$3,$D408<0),0)","v":0},0,0,0,0,0,0,0,{"$f":"IF($A408=W$3,AND($A408=W$3,$D408<0),0)","v":0},0,{"$f":"IF($A408=Y$3,AND($A408=Y$3,$D408<0),0)","v":0},0,{"$f":"IF($A408=AA$3,AND($A408=AA$3,$D408<0),0)","v":0},0,{"$f":"IF($A408=AC$3,AND($A408=AC$3,$D408<0),0)","v":0},0,0]
[{"$f":"IF(B409=0,\"\",MONTH(B409))","v":""},null,null,null,{"$f":"IF(D409=\"\",\"\",IF(D409<0,\"DEBITO\",\"CREDITO\"))","v":""},null,false,false,{"$f":"IF($A409=I$3,AND($A409=I$3,$D409>0),0)","v":0},{"$f":"IF($A409=I$3,AND($A409=I$3,$D409<0),0)","v":0},{"$f":"IF($A409=K$3,AND($A409=K$3,$D409>0),0)","v":0},{"$f":"IF($A409=K$3,AND($A409=K$3,$D409<0),0)","v":0},{"$f":"IF($A409=M$3,AND($A409=M$3,$D409>0),0)","v":0},{"$f":"IF($A409=M$3,AND($A409=M$3,$D409<0),0)","v":0},{"$f":"IF($A409=O$3,AND($A409=O$3,$D409>0),0)","v":0},{"$f":"IF($A409=O$3,AND($A409=O$3,$D409<0),0)","v":0},{"$f":"IF($A409=Q$3,AND($A409=Q$3,$D409>0),0)","v":0},0,0,0,0,0,{"$f":"IF($A409=W$3,AND($A409=W$3,$D409>0),0)","v":0},{"$f":"IF($A409=W$3,AND($A409=W$3,$D409<0),0)","v":0},{"$f":"IF($A409=Y$3,AND($A409=Y$3,$D409>0),0)","v":0},{"$f":"IF($A409=Y$3,AND($A409=Y$3,$D409<0),0)","v":0},{"$f":"IF($A409=AA$3,AND($A409=AA$3,$D409>0),0)","v":0},{"$f":"IF($A409=AA$3,AND($A409=AA$3,$D409<0),0)","v":0},{"$f":"IF($A409=AC$3,AND($A409=AC$3,$D409>0),0)","v":0},{"$f":"IF($A409=AC$3,AND($A409=AC$3,$D409<0),0)","v":0},{"$f":"IF($A409=AE$3,AND($A409=AE$3,$D409>0),0)","v":0},0]
[{"$f":"IF(B410=0,\"\",MONTH(B410))","v":""},null,null,null,{"$f":"IF(D410=\"\",\"\",IF(D410<0,\"DEBITO\",\"CREDITO\"))","v":""},null,false,false,0,{"$f":"IF($A410=I$3,AND($A410=I$3,$D410<0),0)","v":0},0,{"$f":"IF($A410=K$3,AND($A410=K$3,$D410<0),0)","v":0},0,{"$f":"IF($A410=M$3,AND($A410=M$3,$D410<0),0)","v":0},0,{"$f":"IF($A410=O$3,AND($A410=O$3,$D410<0),0)","v":0},0,0,0,0,0,0,0,{"$f":"IF($A410=W$3,AND($A410=W$3,$D410<0),0)","v":0},0,{"$f":"IF($A410=Y$3,AND($A410=Y$3,$D410<0),0)","v":0},0,{"$f":"IF($A410=AA$3,AND($A410=AA$3,$D410<0),0)","v":0},0,{"$f":"IF($A410=AC$3,AND($A410=AC$3,$D410<0),0)","v":0},0,0]
[{"$f":"IF(B411=0,\"\",MONTH(B411))","v":""},null,null,null,{"$f":"IF(D411=\"\",\"\",IF(D411<0,\"DEBITO\",\"CREDITO\"))","v":""},null,false,false,0,{"$f":"IF($A411=I$3,AND($A411=I$3,$D411<0),0)","v":0},0,{"$f":"IF($A411=K$3,AND($A411=K$3,$D411<0),0)","v":0},0,{"$f":"IF($A411=M$3,AND($A411=M$3,$D411<0),0)","v":0},0,{"$f":"IF($A411=O$3,AND($A411=O$3,$D411<0),0)","v":0},0,0,0,0,0,0,0,{"$f":"IF($A411=W$3,AND($A411=W$3,$D411<0),0)","v":0},0,{"$f":"IF($A411=Y$3,AND($A411=Y$3,$D411<0),0)","v":0},0,{"$f":"IF($A411=AA$3,AND($A411=AA$3,$D411<0),0)","v":0},0,{"$f":"IF($A411=AC$3,AND($A411=AC$3,$D411<0),0)","v":0},0,0]
[{"$f":"IF(B412=0,\"\",MONTH(B412))","v":""},null,null,null,{"$f":"IF(D412=\"\",\"\",IF(D412<0,\"DEBITO\",\"CREDITO\"))","v":""},null,false,false,0,{"$f":"IF($A412=I$3,AND($A412=I$3,$D412<0),0)","v":0},0,{"$f":"IF($A412=K$3,AND($A412=K$3,$D412<0),0)","v":0},0,{"$f":"IF($A412=M$3,AND($A412=M$3,$D412<0),0)","v":0},0,{"$f":"IF($A412=O$3,AND($A412=O$3,$D412<0),0)","v":0},0,0,0,0,0,0,0,{"$f":"IF($A412=W$3,AND($A412=W$3,$D412<0),0)","v":0},0,{"$f":"IF($A412=Y$3,AND($A412=Y$3,$D412<0),0)","v":0},0,{"$f":"IF($A412=AA$3,AND($A412=AA$3,$D412<0),0)","v":0},0,{"$f":"IF($A412=AC$3,AND($A412=AC$3,$D412<0),0)","v":0},0,0]
[{"$f":"IF(B413=0,\"\",MONTH(B413))","v":""},null,null,null,{"$f":"IF(D413=\"\",\"\",IF(D413<0,\"DEBITO\",\"CREDITO\"))","v":""},null,false,false,0,{"$f":"IF($A413=I$3,AND($A413=I$3,$D413<0),0)","v":0},0,{"$f":"IF($A413=K$3,AND($A413=K$3,$D413<0),0)","v":0},0,{"$f":"IF($A413=M$3,AND($A413=M$3,$D413<0),0)","v":0},0,{"$f":"IF($A413=O$3,AND($A413=O$3,$D413<0),0)","v":0},0,0,0,0,0,0,0,{"$f":"IF($A413=W$3,AND($A413=W$3,$D413<0),0)","v":0},0,{"$f":"IF($A413=Y$3,AND($A413=Y$3,$D413<0),0)","v":0},0,{"$f":"IF($A413=AA$3,AND($A413=AA$3,$D413<0),0)","v":0},0,{"$f":"IF($A413=AC$3,AND($A413=AC$3,$D413<0),0)","v":0},0,0]
[{"$f":"IF(B414=0,\"\",MONTH(B414))","v":""},null,null,null,{"$f":"IF(D414=\"\",\"\",IF(D414<0,\"DEBITO\",\"CREDITO\"))","v":""},null,false,false,0,{"$f":"IF($A414=I$3,AND($A414=I$3,$D414<0),0)","v":0},0,{"$f":"IF($A414=K$3,AND($A414=K$3,$D414<0),0)","v":0},0,{"$f":"IF($A414=M$3,AND($A414=M$3,$D414<0),0)","v":0},0,{"$f":"IF($A414=O$3,AND($A414=O$3,$D414<0),0)","v":0},0,0,0,0,0,0,0,{"$f":"IF($A414=W$3,AND($A414=W$3,$D414<0),0)","v":0},0,{"$f":"IF($A414=Y$3,AND($A414=Y$3,$D414<0),0)","v":0},0,{"$f":"IF($A414=AA$3,AND($A414=AA$3,$D414<0),0)","v":0},0,{"$f":"IF($A414=AC$3,AND($A414=AC$3,$D414<0),0)","v":0},0,0]
[{"$f":"IF(B415=0,\"\",MONTH(B415))","v":""},null,null,null,{"$f":"IF(D415=\"\",\"\",IF(D415<0,\"DEBITO\",\"CREDITO\"))","v":""},null,false,false,0,{"$f":"IF($A415=I$3,AND($A415=I$3,$D415<0),0)","v":0},0,{"$f":"IF($A415=K$3,AND($A415=K$3,$D415<0),0)","v":0},0,{"$f":"IF($A415=M$3,AND($A415=M$3,$D415<0),0)","v":0},0,{"$f":"IF($A415=O$3,AND($A415=O$3,$D415<0),0)","v":0},0,0,0,0,0,0,0,{"$f":"IF($A415=W$3,AND($A415=W$3,$D415<0),0)","v":0},0,{"$f":"IF($A415=Y$3,AND($A415=Y$3,$D415<0),0)","v":0},0,{"$f":"IF($A415=AA$3,AND($A415=AA$3,$D415<0),0)","v":0},0,{"$f":"IF($A415=AC$3,AND($A415=AC$3,$D415<0),0)","v":0},0,0]
[{"$f":"IF(B416=0,\"\",MONTH(B416))","v":""},null,null,null,{"$f":"IF(D416=\"\",\"\",IF(D416<0,\"DEBITO\",\"CREDITO\"))","v":""},null,false,false,0,{"$f":"IF($A416=I$3,AND($A416=I$3,$D416<0),0)","v":0},0,{"$f":"IF($A416=K$3,AND($A416=K$3,$D416<0),0)","v":0},0,{"$f":"IF($A416=M$3,AND($A416=M$3,$D416<0),0)","v":0},0,{"$f":"IF($A416=O$3,AND($A416=O$3,$D416<0),0)","v":0},0,0,0,0,0,0,0,{"$f":"IF($A416=W$3,AND($A416=W$3,$D416<0),0)","v":0},0,{"$f":"IF($A416=Y$3,AND($A416=Y$3,$D416<0),0)","v":0},0,{"$f":"IF($A416=AA$3,AND($A416=AA$3,$D416<0),0)","v":0},0,{"$f":"IF($A416=AC$3,AND($A416=AC$3,$D416<0),0)","v":0},0,0]
[{"$f":"IF(B417=0,\"\",MONTH(B417))","v":""},null,null,null,{"$f":"IF(D417=\"\",\"\",IF(D417<0,\"DEBITO\",\"CREDITO\"))","v":""},null,false,false,0,{"$f":"IF($A417=I$3,AND($A417=I$3,$D417<0),0)","v":0},0,{"$f":"IF($A417=K$3,AND($A417=K$3,$D417<0),0)","v":0},0,{"$f":"IF($A417=M$3,AND($A417=M$3,$D417<0),0)","v":0},0,{"$f":"IF($A417=O$3,AND($A417=O$3,$D417<0),0)","v":0},0,0,0,0,0,0,0,{"$f":"IF($A417=W$3,AND($A417=W$3,$D417<0),0)","v":0},0,{"$f":"IF($A417=Y$3,AND($A417=Y$3,$D417<0),0)","v":0},0,{"$f":"IF($A417=AA$3,AND($A417=AA$3,$D417<0),0)","v":0},0,{"$f":"IF($A417=AC$3,AND($A417=AC$3,$D417<0),0)","v":0},0,0]
[{"$f":"IF(B418=0,\"\",MONTH(B418))","v":""},null,null,null,{"$f":"IF(D418=\"\",\"\",IF(D418<0,\"DEBITO\",\"CREDITO\"))","v":""},null,false,false,0,{"$f":"IF($A418=I$3,AND($A418=I$3,$D418<0),0)","v":0},0,{"$f":"IF($A418=K$3,AND($A418=K$3,$D418<0),0)","v":0},0,{"$f":"IF($A418=M$3,AND($A418=M$3,$D418<0),0)","v":0},0,{"$f":"IF($A418=O$3,AND($A418=O$3,$D418<0),0)","v":0},0,0,0,0,0,0,0,{"$f":"IF($A418=W$3,AND($A418=W$3,$D418<0),0)","v":0},0,{"$f":"IF($A418=Y$3,AND($A418=Y$3,$D418<0),0)","v":0},0,{"$f":"IF($A418=AA$3,AND($A418=AA$3,$D418<0),0)","v":0},0,{"$f":"IF($A418=AC$3,AND($A418=AC$3,$D418<0),0)","v":0},0,0]
[{"$f":"IF(B419=0,\"\",MONTH(B419))","v":""},null,null,null,{"$f":"IF(D419=\"\",\"\",IF(D419<0,\"DEBITO\",\"CREDITO\"))","v":""},null,false,false,0,{"$f":"IF($A419=I$3,AND($A419=I$3,$D419<0),0)","v":0},0,{"$f":"IF($A419=K$3,AND($A419=K$3,$D419<0),0)","v":0},0,{"$f":"IF($A419=M$3,AND($A419=M$3,$D419<0),0)","v":0},0,{"$f":"IF($A419=O$3,AND($A419=O$3,$D419<0),0)","v":0},0,0,0,0,0,0,0,{"$f":"IF($A419=W$3,AND($A419=W$3,$D419<0),0)","v":0},0,{"$f":"IF($A419=Y$3,AND($A419=Y$3,$D419<0),0)","v":0},0,{"$f":"IF($A419=AA$3,AND($A419=AA$3,$D419<0),0)","v":0},0,{"$f":"IF($A419=AC$3,AND($A419=AC$3,$D419<0),0)","v":0},0,0]
[{"$f":"IF(B420=0,\"\",MONTH(B420))","v":""},null,null,null,{"$f":"IF(D420=\"\",\"\",IF(D420<0,\"DEBITO\",\"CREDITO\"))","v":""},null,false,false,0,{"$f":"IF($A420=I$3,AND($A420=I$3,$D420<0),0)","v":0},0,{"$f":"IF($A420=K$3,AND($A420=K$3,$D420<0),0)","v":0},0,{"$f":"IF($A420=M$3,AND($A420=M$3,$D420<0),0)","v":0},0,{"$f":"IF($A420=O$3,AND($A420=O$3,$D420<0),0)","v":0},0,0,0,0,0,0,0,{"$f":"IF($A420=W$3,AND($A420=W$3,$D420<0),0)","v":0},0,{"$f":"IF($A420=Y$3,AND($A420=Y$3,$D420<0),0)","v":0},0,{"$f":"IF($A420=AA$3,AND($A420=AA$3,$D420<0),0)","v":0},0,{"$f":"IF($A420=AC$3,AND($A420=AC$3,$D420<0),0)","v":0},0,0]
[{"$f":"IF(B421=0,\"\",MONTH(B421))","v":""},null,null,null,{"$f":"IF(D421=\"\",\"\",IF(D421<0,\"DEBITO\",\"CREDITO\"))","v":""},null,false,false,0,{"$f":"IF($A421=I$3,AND($A421=I$3,$D421<0),0)","v":0},0,{"$f":"IF($A421=K$3,AND($A421=K$3,$D421<0),0)","v":0},0,{"$f":"IF($A421=M$3,AND($A421=M$3,$D421<0),0)","v":0},0,{"$f":"IF($A421=O$3,AND($A421=O$3,$D421<0),0)","v":0},0,0,0,0,0,0,0,{"$f":"IF($A421=W$3,AND($A421=W$3,$D421<0),0)","v":0},0,{"$f":"IF($A421=Y$3,AND($A421=Y$3,$D421<0),0)","v":0},0,{"$f":"IF($A421=AA$3,AND($A421=AA$3,$D421<0),0)","v":0},0,{"$f":"IF($A421=AC$3,AND($A421=AC$3,$D421<0),0)","v":0},0,0]
[{"$f":"IF(B422=0,\"\",MONTH(B422))","v":""},null,null,null,{"$f":"IF(D422=\"\",\"\",IF(D422<0,\"DEBITO\",\"CREDITO\"))","v":""},null,false,false,0,{"$f":"IF($A422=I$3,AND($A422=I$3,$D422<0),0)","v":0},0,{"$f":"IF($A422=K$3,AND($A422=K$3,$D422<0),0)","v":0},0,{"$f":"IF($A422=M$3,AND($A422=M$3,$D422<0),0)","v":0},0,{"$f":"IF($A422=O$3,AND($A422=O$3,$D422<0),0)","v":0},0,0,0,0,0,0,0,{"$f":"IF($A422=W$3,AND($A422=W$3,$D422<0),0)","v":0},0,{"$f":"IF($A422=Y$3,AND($A422=Y$3,$D422<0),0)","v":0},0,{"$f":"IF($A422=AA$3,AND($A422=AA$3,$D422<0),0)","v":0},0,{"$f":"IF($A422=AC$3,AND($A422=AC$3,$D422<0),0)","v":0},0,0]
[{"$f":"IF(B423=0,\"\",MONTH(B423))","v":""},null,null,null,{"$f":"IF(D423=\"\",\"\",IF(D423<0,\"DEBITO\",\"CREDITO\"))","v":""},null,false,false,0,{"$f":"IF($A423=I$3,AND($A423=I$3,$D423<0),0)","v":0},0,{"$f":"IF($A423=K$3,AND($A423=K$3,$D423<0),0)","v":0},0,{"$f":"IF($A423=M$3,AND($A423=M$3,$D423<0),0)","v":0},0,{"$f":"IF($A423=O$3,AND($A423=O$3,$D423<0),0)","v":0},0,0,0,0,0,0,0,{"$f":"IF($A423=W$3,AND($A423=W$3,$D423<0),0)","v":0},0,{"$f":"IF($A423=Y$3,AND($A423=Y$3,$D423<0),0)","v":0},0,{"$f":"IF($A423=AA$3,AND($A423=AA$3,$D423<0),0)","v":0},0,{"$f":"IF($A423=AC$3,AND($A423=AC$3,$D423<0),0)","v":0},0,0]
[{"$f":"IF(B424=0,\"\",MONTH(B424))","v":""},null,null,null,{"$f":"IF(D424=\"\",\"\",IF(D424<0,\"DEBITO\",\"CREDITO\"))","v":""},null,false,false,0,{"$f":"IF($A424=I$3,AND($A424=I$3,$D424<0),0)","v":0},0,{"$f":"IF($A424=K$3,AND($A424=K$3,$D424<0),0)","v":0},0,{"$f":"IF($A424=M$3,AND($A424=M$3,$D424<0),0)","v":0},0,{"$f":"IF($A424=O$3,AND($A424=O$3,$D424<0),0)","v":0},0,0,0,0,0,0,0,{"$f":"IF($A424=W$3,AND($A424=W$3,$D424<0),0)","v":0},0,{"$f":"IF($A424=Y$3,AND($A424=Y$3,$D424<0),0)","v":0},0,{"$f":"IF($A424=AA$3,AND($A424=AA$3,$D424<0),0)","v":0},0,{"$f":"IF($A424=AC$3,AND($A424=AC$3,$D424<0),0)","v":0},0,0]
[{"$f":"IF(B425=0,\"\",MONTH(B425))","v":""},null,null,null,{"$f":"IF(D425=\"\",\"\",IF(D425<0,\"DEBITO\",\"CREDITO\"))","v":""},null,false,false,0,{"$f":"IF($A425=I$3,AND($A425=I$3,$D425<0),0)","v":0},0,{"$f":"IF($A425=K$3,AND($A425=K$3,$D425<0),0)","v":0},0,{"$f":"IF($A425=M$3,AND($A425=M$3,$D425<0),0)","v":0},0,{"$f":"IF($A425=O$3,AND($A425=O$3,$D425<0),0)","v":0},0,0,0,0,0,0,0,{"$f":"IF($A425=W$3,AND($A425=W$3,$D425<0),0)","v":0},0,{"$f":"IF($A425=Y$3,AND($A425=Y$3,$D425<0),0)","v":0},0,{"$f":"IF($A425=AA$3,AND($A425=AA$3,$D425<0),0)","v":0},0,{"$f":"IF($A425=AC$3,AND($A425=AC$3,$D425<0),0)","v":0},0,0]
[{"$f":"IF(B426=0,\"\",MONTH(B426))","v":""},null,null,null,{"$f":"IF(D426=\"\",\"\",IF(D426<0,\"DEBITO\",\"CREDITO\"))","v":""},null,false,false,0,{"$f":"IF($A426=I$3,AND($A426=I$3,$D426<0),0)","v":0},0,{"$f":"IF($A426=K$3,AND($A426=K$3,$D426<0),0)","v":0},0,{"$f":"IF($A426=M$3,AND($A426=M$3,$D426<0),0)","v":0},0,{"$f":"IF($A426=O$3,AND($A426=O$3,$D426<0),0)","v":0},0,0,0,0,0,0,0,{"$f":"IF($A426=W$3,AND($A426=W$3,$D426<0),0)","v":0},0,{"$f":"IF($A426=Y$3,AND($A426=Y$3,$D426<0),0)","v":0},0,{"$f":"IF($A426=AA$3,AND($A426=AA$3,$D426<0),0)","v":0},0,{"$f":"IF($A426=AC$3,AND($A426=AC$3,$D426<0),0)","v":0},0,0]
[{"$f":"IF(B427=0,\"\",MONTH(B427))","v":""},null,null,null,{"$f":"IF(D427=\"\",\"\",IF(D427<0,\"DEBITO\",\"CREDITO\"))","v":""},null,false,false,0,{"$f":"IF($A427=I$3,AND($A427=I$3,$D427<0),0)","v":0},0,{"$f":"IF($A427=K$3,AND($A427=K$3,$D427<0),0)","v":0},0,{"$f":"IF($A427=M$3,AND($A427=M$3,$D427<0),0)","v":0},0,{"$f":"IF($A427=O$3,AND($A427=O$3,$D427<0),0)","v":0},0,0,0,0,0,0,0,{"$f":"IF($A427=W$3,AND($A427=W$3,$D427<0),0)","v":0},0,{"$f":"IF($A427=Y$3,AND($A427=Y$3,$D427<0),0)","v":0},0,{"$f":"IF($A427=AA$3,AND($A427=AA$3,$D427<0),0)","v":0},0,{"$f":"IF($A427=AC$3,AND($A427=AC$3,$D427<0),0)","v":0},0,0]
[{"$f":"IF(B428=0,\"\",MONTH(B428))","v":""},null,null,null,{"$f":"IF(D428=\"\",\"\",IF(D428<0,\"DEBITO\",\"CREDITO\"))","v":""},null,false,false,0,{"$f":"IF($A428=I$3,AND($A428=I$3,$D428<0),0)","v":0},0,{"$f":"IF($A428=K$3,AND($A428=K$3,$D428<0),0)","v":0},0,{"$f":"IF($A428=M$3,AND($A428=M$3,$D428<0),0)","v":0},0,{"$f":"IF($A428=O$3,AND($A428=O$3,$D428<0),0)","v":0},0,0,0,0,0,0,0,{"$f":"IF($A428=W$3,AND($A428=W$3,$D428<0),0)","v":0},0,{"$f":"IF($A428=Y$3,AND($A428=Y$3,$D428<0),0)","v":0},0,{"$f":"IF($A428=AA$3,AND($A428=AA$3,$D428<0),0)","v":0},0,{"$f":"IF($A428=AC$3,AND($A428=AC$3,$D428<0),0)","v":0},0,0]
[{"$f":"IF(B429=0,\"\",MONTH(B429))","v":""},null,null,null,{"$f":"IF(D429=\"\",\"\",IF(D429<0,\"DEBITO\",\"CREDITO\"))","v":""},null,false,false,0,{"$f":"IF($A429=I$3,AND($A429=I$3,$D429<0),0)","v":0},0,{"$f":"IF($A429=K$3,AND($A429=K$3,$D429<0),0)","v":0},0,{"$f":"IF($A429=M$3,AND($A429=M$3,$D429<0),0)","v":0},0,{"$f":"IF($A429=O$3,AND($A429=O$3,$D429<0),0)","v":0},0,0,0,0,0,0,0,{"$f":"IF($A429=W$3,AND($A429=W$3,$D429<0),0)","v":0},0,{"$f":"IF($A429=Y$3,AND($A429=Y$3,$D429<0),0)","v":0},0,{"$f":"IF($A429=AA$3,AND($A429=AA$3,$D429<0),0)","v":0},0,{"$f":"IF($A429=AC$3,AND($A429=AC$3,$D429<0),0)","v":0},0,0]
[{"$f":"IF(B430=0,\"\",MONTH(B430))","v":""},null,null,null,{"$f":"IF(D430=\"\",\"\",IF(D430<0,\"DEBITO\",\"CREDITO\"))","v":""},null,false,false,0,{"$f":"IF($A430=I$3,AND($A430=I$3,$D430<0),0)","v":0},0,{"$f":"IF($A430=K$3,AND($A430=K$3,$D430<0),0)","v":0},0,{"$f":"IF($A430=M$3,AND($A430=M$3,$D430<0),0)","v":0},0,{"$f":"IF($A430=O$3,AND($A430=O$3,$D430<0),0)","v":0},0,0,0,0,0,0,0,{"$f":"IF($A430=W$3,AND($A430=W$3,$D430<0),0)","v":0},0,{"$f":"IF($A430=Y$3,AND($A430=Y$3,$D430<0),0)","v":0},0,{"$f":"IF($A430=AA$3,AND($A430=AA$3,$D430<0),0)","v":0},0,{"$f":"IF($A430=AC$3,AND($A430=AC$3,$D430<0),0)","v":0},0,0]
[{"$f":"IF(B431=0,\"\",MONTH(B431))","v":""},null,null,null,{"$f":"IF(D431=\"\",\"\",IF(D431<0,\"DEBITO\",\"CREDITO\"))","v":""},null,false,false,0,{"$f":"IF($A431=I$3,AND($A431=I$3,$D431<0),0)","v":0},0,{"$f":"IF($A431=K$3,AND($A431=K$3,$D431<0),0)","v":0},0,{"$f":"IF($A431=M$3,AND($A431=M$3,$D431<0),0)","v":0},0,{"$f":"IF($A431=O$3,AND($A431=O$3,$D431<0),0)","v":0},0,0,0,0,0,0,0,{"$f":"IF($A431=W$3,AND($A431=W$3,$D431<0),0)","v":0},0,{"$f":"IF($A431=Y$3,AND($A431=Y$3,$D431<0),0)","v":0},0,{"$f":"IF($A431=AA$3,AND($A431=AA$3,$D431<0),0)","v":0},0,{"$f":"IF($A431=AC$3,AND($A431=AC$3,$D431<0),0)","v":0},0,0]
[{"$f":"IF(B432=0,\"\",MONTH(B432))","v":""},null,null,null,{"$f":"IF(D432=\"\",\"\",IF(D432<0,\"DEBITO\",\"CREDITO\"))","v":""},null,false,false,0,{"$f":"IF($A432=I$3,AND($A432=I$3,$D432<0),0)","v":0},0,{"$f":"IF($A432=K$3,AND($A432=K$3,$D432<0),0)","v":0},0,{"$f":"IF($A432=M$3,AND($A432=M$3,$D432<0),0)","v":0},0,{"$f":"IF($A432=O$3,AND($A432=O$3,$D432<0),0)","v":0},0,0,0,0,0,0,0,{"$f":"IF($A432=W$3,AND($A432=W$3,$D432<0),0)","v":0},0,{"$f":"IF($A432=Y$3,AND($A432=Y$3,$D432<0),0)","v":0},0,{"$f":"IF($A432=AA$3,AND($A432=AA$3,$D432<0),0)","v":0},0,{"$f":"IF($A432=AC$3,AND($A432=AC$3,$D432<0),0)","v":0},0,0]
[{"$f":"IF(B433=0,\"\",MONTH(B433))","v":""},null,null,null,{"$f":"IF(D433=\"\",\"\",IF(D433<0,\"DEBITO\",\"CREDITO\"))","v":""},null,false,false,0,{"$f":"IF($A433=I$3,AND($A433=I$3,$D433<0),0)","v":0},0,{"$f":"IF($A433=K$3,AND($A433=K$3,$D433<0),0)","v":0},0,{"$f":"IF($A433=M$3,AND($A433=M$3,$D433<0),0)","v":0},0,{"$f":"IF($A433=O$3,AND($A433=O$3,$D433<0),0)","v":0},0,0,0,0,0,0,0,{"$f":"IF($A433=W$3,AND($A433=W$3,$D433<0),0)","v":0},0,{"$f":"IF($A433=Y$3,AND($A433=Y$3,$D433<0),0)","v":0},0,{"$f":"IF($A433=AA$3,AND($A433=AA$3,$D433<0),0)","v":0},0,{"$f":"IF($A433=AC$3,AND($A433=AC$3,$D433<0),0)","v":0},0,0]
[{"$f":"IF(B434=0,\"\",MONTH(B434))","v":""},null,null,null,{"$f":"IF(D434=\"\",\"\",IF(D434<0,\"DEBITO\",\"CREDITO\"))","v":""},null,false,false,0,{"$f":"IF($A434=I$3,AND($A434=I$3,$D434<0),0)","v":0},0,{"$f":"IF($A434=K$3,AND($A434=K$3,$D434<0),0)","v":0},0,{"$f":"IF($A434=M$3,AND($A434=M$3,$D434<0),0)","v":0},0,{"$f":"IF($A434=O$3,AND($A434=O$3,$D434<0),0)","v":0},0,0,0,0,0,0,0,{"$f":"IF($A434=W$3,AND($A434=W$3,$D434<0),0)","v":0},0,{"$f":"IF($A434=Y$3,AND($A434=Y$3,$D434<0),0)","v":0},0,{"$f":"IF($A434=AA$3,AND($A434=AA$3,$D434<0),0)","v":0},0,{"$f":"IF($A434=AC$3,AND($A434=AC$3,$D434<0),0)","v":0},0,0]
[{"$f":"IF(B435=0,\"\",MONTH(B435))","v":""},null,null,null,{"$f":"IF(D435=\"\",\"\",IF(D435<0,\"DEBITO\",\"CREDITO\"))","v":""},null,false,false,0,{"$f":"IF($A435=I$3,AND($A435=I$3,$D435<0),0)","v":0},0,{"$f":"IF($A435=K$3,AND($A435=K$3,$D435<0),0)","v":0},0,{"$f":"IF($A435=M$3,AND($A435=M$3,$D435<0),0)","v":0},0,{"$f":"IF($A435=O$3,AND($A435=O$3,$D435<0),0)","v":0},0,0,0,0,0,0,0,{"$f":"IF($A435=W$3,AND($A435=W$3,$D435<0),0)","v":0},0,{"$f":"IF($A435=Y$3,AND($A435=Y$3,$D435<0),0)","v":0},0,{"$f":"IF($A435=AA$3,AND($A435=AA$3,$D435<0),0)","v":0},0,{"$f":"IF($A435=AC$3,AND($A435=AC$3,$D435<0),0)","v":0},0,0]
[{"$f":"IF(B436=0,\"\",MONTH(B436))","v":""},null,null,null,{"$f":"IF(D436=\"\",\"\",IF(D436<0,\"DEBITO\",\"CREDITO\"))","v":""},null,false,false,0,{"$f":"IF($A436=I$3,AND($A436=I$3,$D436<0),0)","v":0},0,{"$f":"IF($A436=K$3,AND($A436=K$3,$D436<0),0)","v":0},0,{"$f":"IF($A436=M$3,AND($A436=M$3,$D436<0),0)","v":0},0,{"$f":"IF($A436=O$3,AND($A436=O$3,$D436<0),0)","v":0},0,0,0,0,0,0,0,{"$f":"IF($A436=W$3,AND($A436=W$3,$D436<0),0)","v":0},0,{"$f":"IF($A436=Y$3,AND($A436=Y$3,$D436<0),0)","v":0},0,{"$f":"IF($A436=AA$3,AND($A436=AA$3,$D436<0),0)","v":0},0,{"$f":"IF($A436=AC$3,AND($A436=AC$3,$D436<0),0)","v":0},0,0]
[{"$f":"IF(B437=0,\"\",MONTH(B437))","v":""},null,null,null,{"$f":"IF(D437=\"\",\"\",IF(D437<0,\"DEBITO\",\"CREDITO\"))","v":""},null,false,false,0,{"$f":"IF($A437=I$3,AND($A437=I$3,$D437<0),0)","v":0},0,{"$f":"IF($A437=K$3,AND($A437=K$3,$D437<0),0)","v":0},0,{"$f":"IF($A437=M$3,AND($A437=M$3,$D437<0),0)","v":0},0,{"$f":"IF($A437=O$3,AND($A437=O$3,$D437<0),0)","v":0},0,0,0,0,0,0,0,{"$f":"IF($A437=W$3,AND($A437=W$3,$D437<0),0)","v":0},0,{"$f":"IF($A437=Y$3,AND($A437=Y$3,$D437<0),0)","v":0},0,{"$f":"IF($A437=AA$3,AND($A437=AA$3,$D437<0),0)","v":0},0,{"$f":"IF($A437=AC$3,AND($A437=AC$3,$D437<0),0)","v":0},0,0]
[{"$f":"IF(B438=0,\"\",MONTH(B438))","v":""},null,null,null,{"$f":"IF(D438=\"\",\"\",IF(D438<0,\"DEBITO\",\"CREDITO\"))","v":""},null,false,false,0,{"$f":"IF($A438=I$3,AND($A438=I$3,$D438<0),0)","v":0},0,{"$f":"IF($A438=K$3,AND($A438=K$3,$D438<0),0)","v":0},0,{"$f":"IF($A438=M$3,AND($A438=M$3,$D438<0),0)","v":0},0,{"$f":"IF($A438=O$3,AND($A438=O$3,$D438<0),0)","v":0},0,0,0,0,0,0,0,{"$f":"IF($A438=W$3,AND($A438=W$3,$D438<0),0)","v":0},0,{"$f":"IF($A438=Y$3,AND($A438=Y$3,$D438<0),0)","v":0},0,{"$f":"IF($A438=AA$3,AND($A438=AA$3,$D438<0),0)","v":0},0,{"$f":"IF($A438=AC$3,AND($A438=AC$3,$D438<0),0)","v":0},0,0]
[{"$f":"IF(B439=0,\"\",MONTH(B439))","v":""},null,null,null,{"$f":"IF(D439=\"\",\"\",IF(D439<0,\"DEBITO\",\"CREDITO\"))","v":""},null,false,false,0,{"$f":"IF($A439=I$3,AND($A439=I$3,$D439<0),0)","v":0},0,{"$f":"IF($A439=K$3,AND($A439=K$3,$D439<0),0)","v":0},0,{"$f":"IF($A439=M$3,AND($A439=M$3,$D439<0),0)","v":0},0,{"$f":"IF($A439=O$3,AND($A439=O$3,$D439<0),0)","v":0},0,0,0,0,0,0,0,{"$f":"IF($A439=W$3,AND($A439=W$3,$D439<0),0)","v":0},0,{"$f":"IF($A439=Y$3,AND($A439=Y$3,$D439<0),0)","v":0},0,{"$f":"IF($A439=AA$3,AND($A439=AA$3,$D439<0),0)","v":0},0,{"$f":"IF($A439=AC$3,AND($A439=AC$3,$D439<0),0)","v":0},0,0]
[{"$f":"IF(B440=0,\"\",MONTH(B440))","v":""},null,null,null,{"$f":"IF(D440=\"\",\"\",IF(D440<0,\"DEBITO\",\"CREDITO\"))","v":""},null,false,false,0,{"$f":"IF($A440=I$3,AND($A440=I$3,$D440<0),0)","v":0},0,{"$f":"IF($A440=K$3,AND($A440=K$3,$D440<0),0)","v":0},0,{"$f":"IF($A440=M$3,AND($A440=M$3,$D440<0),0)","v":0},0,{"$f":"IF($A440=O$3,AND($A440=O$3,$D440<0),0)","v":0},0,0,0,0,0,0,0,{"$f":"IF($A440=W$3,AND($A440=W$3,$D440<0),0)","v":0},0,{"$f":"IF($A440=Y$3,AND($A440=Y$3,$D440<0),0)","v":0},0,{"$f":"IF($A440=AA$3,AND($A440=AA$3,$D440<0),0)","v":0},0,{"$f":"IF($A440=AC$3,AND($A440=AC$3,$D440<0),0)","v":0},0,0]
[{"$f":"IF(B441=0,\"\",MONTH(B441))","v":""},null,null,null,{"$f":"IF(D441=\"\",\"\",IF(D441<0,\"DEBITO\",\"CREDITO\"))","v":""},null,false,false,0,{"$f":"IF($A441=I$3,AND($A441=I$3,$D441<0),0)","v":0},0,{"$f":"IF($A441=K$3,AND($A441=K$3,$D441<0),0)","v":0},0,{"$f":"IF($A441=M$3,AND($A441=M$3,$D441<0),0)","v":0},0,{"$f":"IF($A441=O$3,AND($A441=O$3,$D441<0),0)","v":0},0,0,0,0,0,0,0,{"$f":"IF($A441=W$3,AND($A441=W$3,$D441<0),0)","v":0},0,{"$f":"IF($A441=Y$3,AND($A441=Y$3,$D441<0),0)","v":0},0,{"$f":"IF($A441=AA$3,AND($A441=AA$3,$D441<0),0)","v":0},0,{"$f":"IF($A441=AC$3,AND($A441=AC$3,$D441<0),0)","v":0},0,0]
[{"$f":"IF(B442=0,\"\",MONTH(B442))","v":""},null,null,null,{"$f":"IF(D442=\"\",\"\",IF(D442<0,\"DEBITO\",\"CREDITO\"))","v":""},null,false,false,0,{"$f":"IF($A442=I$3,AND($A442=I$3,$D442<0),0)","v":0},0,{"$f":"IF($A442=K$3,AND($A442=K$3,$D442<0),0)","v":0},0,{"$f":"IF($A442=M$3,AND($A442=M$3,$D442<0),0)","v":0},0,{"$f":"IF($A442=O$3,AND($A442=O$3,$D442<0),0)","v":0},0,0,0,0,0,0,0,{"$f":"IF($A442=W$3,AND($A442=W$3,$D442<0),0)","v":0},0,{"$f":"IF($A442=Y$3,AND($A442=Y$3,$D442<0),0)","v":0},0,{"$f":"IF($A442=AA$3,AND($A442=AA$3,$D442<0),0)","v":0},0,{"$f":"IF($A442=AC$3,AND($A442=AC$3,$D442<0),0)","v":0},0,0]
[{"$f":"IF(B443=0,\"\",MONTH(B443))","v":""},null,null,null,{"$f":"IF(D443=\"\",\"\",IF(D443<0,\"DEBITO\",\"CREDITO\"))","v":""},null,false,false,0,{"$f":"IF($A443=I$3,AND($A443=I$3,$D443<0),0)","v":0},0,{"$f":"IF($A443=K$3,AND($A443=K$3,$D443<0),0)","v":0},0,{"$f":"IF($A443=M$3,AND($A443=M$3,$D443<0),0)","v":0},0,{"$f":"IF($A443=O$3,AND($A443=O$3,$D443<0),0)","v":0},0,0,0,0,0,0,0,{"$f":"IF($A443=W$3,AND($A443=W$3,$D443<0),0)","v":0},0,{"$f":"IF($A443=Y$3,AND($A443=Y$3,$D443<0),0)","v":0},0,{"$f":"IF($A443=AA$3,AND($A443=AA$3,$D443<0),0)","v":0},0,{"$f":"IF($A443=AC$3,AND($A443=AC$3,$D443<0),0)","v":0},0,0]
[{"$f":"IF(B444=0,\"\",MONTH(B444))","v":""},null,null,null,{"$f":"IF(D444=\"\",\"\",IF(D444<0,\"DEBITO\",\"CREDITO\"))","v":""},null,false,false,0,{"$f":"IF($A444=I$3,AND($A444=I$3,$D444<0),0)","v":0},0,{"$f":"IF($A444=K$3,AND($A444=K$3,$D444<0),0)","v":0},0,{"$f":"IF($A444=M$3,AND($A444=M$3,$D444<0),0)","v":0},0,{"$f":"IF($A444=O$3,AND($A444=O$3,$D444<0),0)","v":0},0,0,0,0,0,0,0,{"$f":"IF($A444=W$3,AND($A444=W$3,$D444<0),0)","v":0},0,{"$f":"IF($A444=Y$3,AND($A444=Y$3,$D444<0),0)","v":0},0,{"$f":"IF($A444=AA$3,AND($A444=AA$3,$D444<0),0)","v":0},0,{"$f":"IF($A444=AC$3,AND($A444=AC$3,$D444<0),0)","v":0},0,0]
[{"$f":"IF(B445=0,\"\",MONTH(B445))","v":""},null,null,null,{"$f":"IF(D445=\"\",\"\",IF(D445<0,\"DEBITO\",\"CREDITO\"))","v":""},null,false,false,0,{"$f":"IF($A445=I$3,AND($A445=I$3,$D445<0),0)","v":0},0,{"$f":"IF($A445=K$3,AND($A445=K$3,$D445<0),0)","v":0},0,{"$f":"IF($A445=M$3,AND($A445=M$3,$D445<0),0)","v":0},0,{"$f":"IF($A445=O$3,AND($A445=O$3,$D445<0),0)","v":0},0,0,0,0,0,0,0,{"$f":"IF($A445=W$3,AND($A445=W$3,$D445<0),0)","v":0},0,{"$f":"IF($A445=Y$3,AND($A445=Y$3,$D445<0),0)","v":0},0,{"$f":"IF($A445=AA$3,AND($A445=AA$3,$D445<0),0)","v":0},0,{"$f":"IF($A445=AC$3,AND($A445=AC$3,$D445<0),0)","v":0},0,0]
[{"$f":"IF(B446=0,\"\",MONTH(B446))","v":""},null,null,null,{"$f":"IF(D446=\"\",\"\",IF(D446<0,\"DEBITO\",\"CREDITO\"))","v":""},null,false,false,0,{"$f":"IF($A446=I$3,AND($A446=I$3,$D446<0),0)","v":0},0,{"$f":"IF($A446=K$3,AND($A446=K$3,$D446<0),0)","v":0},0,{"$f":"IF($A446=M$3,AND($A446=M$3,$D446<0),0)","v":0},0,{"$f":"IF($A446=O$3,AND($A446=O$3,$D446<0),0)","v":0},0,0,0,0,0,0,0,{"$f":"IF($A446=W$3,AND($A446=W$3,$D446<0),0)","v":0},0,{"$f":"IF($A446=Y$3,AND($A446=Y$3,$D446<0),0)","v":0},0,{"$f":"IF($A446=AA$3,AND($A446=AA$3,$D446<0),0)","v":0},0,{"$f":"IF($A446=AC$3,AND($A446=AC$3,$D446<0),0)","v":0},0,0]
[{"$f":"IF(B447=0,\"\",MONTH(B447))","v":""},null,null,null,{"$f":"IF(D447=\"\",\"\",IF(D447<0,\"DEBITO\",\"CREDITO\"))","v":""},null,false,false,0,{"$f":"IF($A447=I$3,AND($A447=I$3,$D447<0),0)","v":0},0,{"$f":"IF($A447=K$3,AND($A447=K$3,$D447<0),0)","v":0},0,{"$f":"IF($A447=M$3,AND($A447=M$3,$D447<0),0)","v":0},0,{"$f":"IF($A447=O$3,AND($A447=O$3,$D447<0),0)","v":0},0,0,0,0,0,0,0,{"$f":"IF($A447=W$3,AND($A447=W$3,$D447<0),0)","v":0},0,{"$f":"IF($A447=Y$3,AND($A447=Y$3,$D447<0),0)","v":0},0,{"$f":"IF($A447=AA$3,AND($A447=AA$3,$D447<0),0)","v":0},0,{"$f":"IF($A447=AC$3,AND($A447=AC$3,$D447<0),0)","v":0},0,0]
[{"$f":"IF(B448=0,\"\",MONTH(B448))","v":""},null,null,null,{"$f":"IF(D448=\"\",\"\",IF(D448<0,\"DEBITO\",\"CREDITO\"))","v":""},null,false,false,0,{"$f":"IF($A448=I$3,AND($A448=I$3,$D448<0),0)","v":0},0,{"$f":"IF($A448=K$3,AND($A448=K$3,$D448<0),0)","v":0},0,{"$f":"IF($A448=M$3,AND($A448=M$3,$D448<0),0)","v":0},0,{"$f":"IF($A448=O$3,AND($A448=O$3,$D448<0),0)","v":0},0,0,0,0,0,0,0,{"$f":"IF($A448=W$3,AND($A448=W$3,$D448<0),0)","v":0},0,{"$f":"IF($A448=Y$3,AND($A448=Y$3,$D448<0),0)","v":0},0,{"$f":"IF($A448=AA$3,AND($A448=AA$3,$D448<0),0)","v":0},0,{"$f":"IF($A448=AC$3,AND($A448=AC$3,$D448<0),0)","v":0},0,0]
[{"$f":"IF(B449=0,\"\",MONTH(B449))","v":""},null,null,null,{"$f":"IF(D449=\"\",\"\",IF(D449<0,\"DEBITO\",\"CREDITO\"))","v":""},null,false,false,0,{"$f":"IF($A449=I$3,AND($A449=I$3,$D449<0),0)","v":0},0,{"$f":"IF($A449=K$3,AND($A449=K$3,$D449<0),0)","v":0},0,{"$f":"IF($A449=M$3,AND($A449=M$3,$D449<0),0)","v":0},0,{"$f":"IF($A449=O$3,AND($A449=O$3,$D449<0),0)","v":0},0,0,0,0,0,0,0,{"$f":"IF($A449=W$3,AND($A449=W$3,$D449<0),0)","v":0},0,{"$f":"IF($A449=Y$3,AND($A449=Y$3,$D449<0),0)","v":0},0,{"$f":"IF($A449=AA$3,AND($A449=AA$3,$D449<0),0)","v":0},0,{"$f":"IF($A449=AC$3,AND($A449=AC$3,$D449<0),0)","v":0},0,0]
[{"$f":"IF(B450=0,\"\",MONTH(B450))","v":""},null,null,null,{"$f":"IF(D450=\"\",\"\",IF(D450<0,\"DEBITO\",\"CREDITO\"))","v":""},null,false,false,0,{"$f":"IF($A450=I$3,AND($A450=I$3,$D450<0),0)","v":0},0,{"$f":"IF($A450=K$3,AND($A450=K$3,$D450<0),0)","v":0},0,{"$f":"IF($A450=M$3,AND($A450=M$3,$D450<0),0)","v":0},0,{"$f":"IF($A450=O$3,AND($A450=O$3,$D450<0),0)","v":0},0,0,0,0,0,0,0,{"$f":"IF($A450=W$3,AND($A450=W$3,$D450<0),0)","v":0},0,{"$f":"IF($A450=Y$3,AND($A450=Y$3,$D450<0),0)","v":0},0,{"$f":"IF($A450=AA$3,AND($A450=AA$3,$D450<0),0)","v":0},0,{"$f":"IF($A450=AC$3,AND($A450=AC$3,$D450<0),0)","v":0},0,0]
[{"$f":"IF(B451=0,\"\",MONTH(B451))","v":""},null,null,null,{"$f":"IF(D451=\"\",\"\",IF(D451<0,\"DEBITO\",\"CREDITO\"))","v":""},null,false,false,0,{"$f":"IF($A451=I$3,AND($A451=I$3,$D451<0),0)","v":0},0,{"$f":"IF($A451=K$3,AND($A451=K$3,$D451<0),0)","v":0},0,{"$f":"IF($A451=M$3,AND($A451=M$3,$D451<0),0)","v":0},0,{"$f":"IF($A451=O$3,AND($A451=O$3,$D451<0),0)","v":0},0,0,0,0,0,0,0,{"$f":"IF($A451=W$3,AND($A451=W$3,$D451<0),0)","v":0},0,{"$f":"IF($A451=Y$3,AND($A451=Y$3,$D451<0),0)","v":0},0,{"$f":"IF($A451=AA$3,AND($A451=AA$3,$D451<0),0)","v":0},0,{"$f":"IF($A451=AC$3,AND($A451=AC$3,$D451<0),0)","v":0},0,0]
[{"$f":"IF(B452=0,\"\",MONTH(B452))","v":""},null,null,null,{"$f":"IF(D452=\"\",\"\",IF(D452<0,\"DEBITO\",\"CREDITO\"))","v":""},null,false,false,0,{"$f":"IF($A452=I$3,AND($A452=I$3,$D452<0),0)","v":0},0,{"$f":"IF($A452=K$3,AND($A452=K$3,$D452<0),0)","v":0},0,{"$f":"IF($A452=M$3,AND($A452=M$3,$D452<0),0)","v":0},0,{"$f":"IF($A452=O$3,AND($A452=O$3,$D452<0),0)","v":0},0,0,0,0,0,0,0,{"$f":"IF($A452=W$3,AND($A452=W$3,$D452<0),0)","v":0},0,{"$f":"IF($A452=Y$3,AND($A452=Y$3,$D452<0),0)","v":0},0,{"$f":"IF($A452=AA$3,AND($A452=AA$3,$D452<0),0)","v":0},0,{"$f":"IF($A452=AC$3,AND($A452=AC$3,$D452<0),0)","v":0},0,0]
[{"$f":"IF(B453=0,\"\",MONTH(B453))","v":""},null,null,null,{"$f":"IF(D453=\"\",\"\",IF(D453<0,\"DEBITO\",\"CREDITO\"))","v":""},null,false,false,0,{"$f":"IF($A453=I$3,AND($A453=I$3,$D453<0),0)","v":0},0,{"$f":"IF($A453=K$3,AND($A453=K$3,$D453<0),0)","v":0},0,{"$f":"IF($A453=M$3,AND($A453=M$3,$D453<0),0)","v":0},0,{"$f":"IF($A453=O$3,AND($A453=O$3,$D453<0),0)","v":0},0,0,0,0,0,0,0,{"$f":"IF($A453=W$3,AND($A453=W$3,$D453<0),0)","v":0},0,{"$f":"IF($A453=Y$3,AND($A453=Y$3,$D453<0),0)","v":0},0,{"$f":"IF($A453=AA$3,AND($A453=AA$3,$D453<0),0)","v":0},0,{"$f":"IF($A453=AC$3,AND($A453=AC$3,$D453<0),0)","v":0},0,0]
[{"$f":"IF(B454=0,\"\",MONTH(B454))","v":""},null,null,null,{"$f":"IF(D454=\"\",\"\",IF(D454<0,\"DEBITO\",\"CREDITO\"))","v":""},null,false,false,0,{"$f":"IF($A454=I$3,AND($A454=I$3,$D454<0),0)","v":0},0,{"$f":"IF($A454=K$3,AND($A454=K$3,$D454<0),0)","v":0},0,{"$f":"IF($A454=M$3,AND($A454=M$3,$D454<0),0)","v":0},0,{"$f":"IF($A454=O$3,AND($A454=O$3,$D454<0),0)","v":0},0,0,0,0,0,0,0,{"$f":"IF($A454=W$3,AND($A454=W$3,$D454<0),0)","v":0},0,{"$f":"IF($A454=Y$3,AND($A454=Y$3,$D454<0),0)","v":0},0,{"$f":"IF($A454=AA$3,AND($A454=AA$3,$D454<0),0)","v":0},0,{"$f":"IF($A454=AC$3,AND($A454=AC$3,$D454<0),0)","v":0},0,0]
[{"$f":"IF(B455=0,\"\",MONTH(B455))","v":""},null,null,null,{"$f":"IF(D455=\"\",\"\",IF(D455<0,\"DEBITO\",\"CREDITO\"))","v":""},null,false,false,0,{"$f":"IF($A455=I$3,AND($A455=I$3,$D455<0),0)","v":0},0,{"$f":"IF($A455=K$3,AND($A455=K$3,$D455<0),0)","v":0},0,{"$f":"IF($A455=M$3,AND($A455=M$3,$D455<0),0)","v":0},0,{"$f":"IF($A455=O$3,AND($A455=O$3,$D455<0),0)","v":0},0,0,0,0,0,0,0,{"$f":"IF($A455=W$3,AND($A455=W$3,$D455<0),0)","v":0},0,{"$f":"IF($A455=Y$3,AND($A455=Y$3,$D455<0),0)","v":0},0,{"$f":"IF($A455=AA$3,AND($A455=AA$3,$D455<0),0)","v":0},0,{"$f":"IF($A455=AC$3,AND($A455=AC$3,$D455<0),0)","v":0},0,0]
[{"$f":"IF(B456=0,\"\",MONTH(B456))","v":""},null,null,null,{"$f":"IF(D456=\"\",\"\",IF(D456<0,\"DEBITO\",\"CREDITO\"))","v":""},null,false,false,0,{"$f":"IF($A456=I$3,AND($A456=I$3,$D456<0),0)","v":0},0,{"$f":"IF($A456=K$3,AND($A456=K$3,$D456<0),0)","v":0},0,{"$f":"IF($A456=M$3,AND($A456=M$3,$D456<0),0)","v":0},0,{"$f":"IF($A456=O$3,AND($A456=O$3,$D456<0),0)","v":0},0,0,0,0,0,0,0,{"$f":"IF($A456=W$3,AND($A456=W$3,$D456<0),0)","v":0},0,{"$f":"IF($A456=Y$3,AND($A456=Y$3,$D456<0),0)","v":0},0,{"$f":"IF($A456=AA$3,AND($A456=AA$3,$D456<0),0)","v":0},0,{"$f":"IF($A456=AC$3,AND($A456=AC$3,$D456<0),0)","v":0},0,0]
[{"$f":"IF(B457=0,\"\",MONTH(B457))","v":""},null,null,null,{"$f":"IF(D457=\"\",\"\",IF(D457<0,\"DEBITO\",\"CREDITO\"))","v":""},null,{"$f":"AND(A457=$E$3,D457>0)","v":false},{"$f":"AND(A457=$E$3,D457<0)","v":false},0,{"$f":"IF($A457=I$3,AND($A457=I$3,$D457<0),0)","v":0},0,{"$f":"IF($A457=K$3,AND($A457=K$3,$D457<0),0)","v":0},0,{"$f":"IF($A457=M$3,AND($A457=M$3,$D457<0),0)","v":0},0,{"$f":"IF($A457=O$3,AND($A457=O$3,$D457<0),0)","v":0},0,{"$f":"IF($A457=Q$3,AND($A457=Q$3,$D457<0),0)","v":0},0,0,0,0,0,{"$f":"IF($A457=W$3,AND($A457=W$3,$D457<0),0)","v":0},0,{"$f":"IF($A457=Y$3,AND($A457=Y$3,$D457<0),0)","v":0},0,{"$f":"IF($A457=AA$3,AND($A457=AA$3,$D457<0),0)","v":0},0,{"$f":"IF($A457=AC$3,AND($A457=AC$3,$D457<0),0)","v":0},0,{"$f":"IF($A457=AE$3,AND($A457=AE$3,$D457<0),0)","v":0}]
[{"$f":"IF(B458=0,\"\",MONTH(B458))","v":""},null,null,null,{"$f":"IF(D458=\"\",\"\",IF(D458<0,\"DEBITO\",\"CREDITO\"))","v":""},null,false,false,0,{"$f":"IF($A458=I$3,AND($A458=I$3,$D458<0),0)","v":0},0,{"$f":"IF($A458=K$3,AND($A458=K$3,$D458<0),0)","v":0},0,{"$f":"IF($A458=M$3,AND($A458=M$3,$D458<0),0)","v":0},0,{"$f":"IF($A458=O$3,AND($A458=O$3,$D458<0),0)","v":0},0,0,{"$f":"IF($A458=S$3,AND($A458=S$3,$D458>0),0)","v":0},{"$f":"IF($A458=S$3,AND($A458=S$3,$D458<0),0)","v":0},{"$f":"IF($A458=U$3,AND($A458=U$3,$D458>0),0)","v":0},{"$f":"IF($A458=U$3,AND($A458=U$3,$D458<0),0)","v":0},0,{"$f":"IF($A458=W$3,AND($A458=W$3,$D458<0),0)","v":0},0,{"$f":"IF($A458=Y$3,AND($A458=Y$3,$D458<0),0)","v":0},0,{"$f":"IF($A458=AA$3,AND($A458=AA$3,$D458<0),0)","v":0},0,{"$f":"IF($A458=AC$3,AND($A458=AC$3,$D458<0),0)","v":0},0,0]
[{"$f":"IF(B459=0,\"\",MONTH(B459))","v":""},null,null,null,{"$f":"IF(D459=\"\",\"\",IF(D459<0,\"DEBITO\",\"CREDITO\"))","v":""},null,false,false,0,{"$f":"IF($A459=I$3,AND($A459=I$3,$D459<0),0)","v":0},0,{"$f":"IF($A459=K$3,AND($A459=K$3,$D459<0),0)","v":0},0,{"$f":"IF($A459=M$3,AND($A459=M$3,$D459<0),0)","v":0},0,{"$f":"IF($A459=O$3,AND($A459=O$3,$D459<0),0)","v":0},0,0,0,0,0,0,0,{"$f":"IF($A459=W$3,AND($A459=W$3,$D459<0),0)","v":0},0,{"$f":"IF($A459=Y$3,AND($A459=Y$3,$D459<0),0)","v":0},0,{"$f":"IF($A459=AA$3,AND($A459=AA$3,$D459<0),0)","v":0},0,{"$f":"IF($A459=AC$3,AND($A459=AC$3,$D459<0),0)","v":0},0,0]
[{"$f":"IF(B460=0,\"\",MONTH(B460))","v":""},null,null,null,{"$f":"IF(D460=\"\",\"\",IF(D460<0,\"DEBITO\",\"CREDITO\"))","v":""},null,false,false,0,{"$f":"IF($A460=I$3,AND($A460=I$3,$D460<0),0)","v":0},0,{"$f":"IF($A460=K$3,AND($A460=K$3,$D460<0),0)","v":0},0,{"$f":"IF($A460=M$3,AND($A460=M$3,$D460<0),0)","v":0},0,{"$f":"IF($A460=O$3,AND($A460=O$3,$D460<0),0)","v":0},0,0,0,0,0,0,0,{"$f":"IF($A460=W$3,AND($A460=W$3,$D460<0),0)","v":0},0,{"$f":"IF($A460=Y$3,AND($A460=Y$3,$D460<0),0)","v":0},0,{"$f":"IF($A460=AA$3,AND($A460=AA$3,$D460<0),0)","v":0},0,{"$f":"IF($A460=AC$3,AND($A460=AC$3,$D460<0),0)","v":0},0,0]
[{"$f":"IF(B461=0,\"\",MONTH(B461))","v":""},null,null,null,{"$f":"IF(D461=\"\",\"\",IF(D461<0,\"DEBITO\",\"CREDITO\"))","v":""},null,false,false,0,{"$f":"IF($A461=I$3,AND($A461=I$3,$D461<0),0)","v":0},0,{"$f":"IF($A461=K$3,AND($A461=K$3,$D461<0),0)","v":0},0,{"$f":"IF($A461=M$3,AND($A461=M$3,$D461<0),0)","v":0},0,{"$f":"IF($A461=O$3,AND($A461=O$3,$D461<0),0)","v":0},0,0,0,0,0,0,0,{"$f":"IF($A461=W$3,AND($A461=W$3,$D461<0),0)","v":0},0,{"$f":"IF($A461=Y$3,AND($A461=Y$3,$D461<0),0)","v":0},0,{"$f":"IF($A461=AA$3,AND($A461=AA$3,$D461<0),0)","v":0},0,{"$f":"IF($A461=AC$3,AND($A461=AC$3,$D461<0),0)","v":0},0,0]
[{"$f":"IF(B462=0,\"\",MONTH(B462))","v":""},null,null,null,{"$f":"IF(D462=\"\",\"\",IF(D462<0,\"DEBITO\",\"CREDITO\"))","v":""},null,false,false,0,{"$f":"IF($A462=I$3,AND($A462=I$3,$D462<0),0)","v":0},0,{"$f":"IF($A462=K$3,AND($A462=K$3,$D462<0),0)","v":0},0,{"$f":"IF($A462=M$3,AND($A462=M$3,$D462<0),0)","v":0},0,{"$f":"IF($A462=O$3,AND($A462=O$3,$D462<0),0)","v":0},0,0,0,0,0,0,0,{"$f":"IF($A462=W$3,AND($A462=W$3,$D462<0),0)","v":0},0,{"$f":"IF($A462=Y$3,AND($A462=Y$3,$D462<0),0)","v":0},0,{"$f":"IF($A462=AA$3,AND($A462=AA$3,$D462<0),0)","v":0},0,{"$f":"IF($A462=AC$3,AND($A462=AC$3,$D462<0),0)","v":0},0,0]
[{"$f":"IF(B463=0,\"\",MONTH(B463))","v":""},null,null,null,{"$f":"IF(D463=\"\",\"\",IF(D463<0,\"DEBITO\",\"CREDITO\"))","v":""},null,false,false,0,{"$f":"IF($A463=I$3,AND($A463=I$3,$D463<0),0)","v":0},0,{"$f":"IF($A463=K$3,AND($A463=K$3,$D463<0),0)","v":0},0,{"$f":"IF($A463=M$3,AND($A463=M$3,$D463<0),0)","v":0},0,{"$f":"IF($A463=O$3,AND($A463=O$3,$D463<0),0)","v":0},0,0,0,0,0,0,0,{"$f":"IF($A463=W$3,AND($A463=W$3,$D463<0),0)","v":0},0,{"$f":"IF($A463=Y$3,AND($A463=Y$3,$D463<0),0)","v":0},0,{"$f":"IF($A463=AA$3,AND($A463=AA$3,$D463<0),0)","v":0},0,{"$f":"IF($A463=AC$3,AND($A463=AC$3,$D463<0),0)","v":0},0,0]
[{"$f":"IF(B464=0,\"\",MONTH(B464))","v":""},null,null,null,{"$f":"IF(D464=\"\",\"\",IF(D464<0,\"DEBITO\",\"CREDITO\"))","v":""},null,false,false,0,{"$f":"IF($A464=I$3,AND($A464=I$3,$D464<0),0)","v":0},0,{"$f":"IF($A464=K$3,AND($A464=K$3,$D464<0),0)","v":0},0,{"$f":"IF($A464=M$3,AND($A464=M$3,$D464<0),0)","v":0},0,{"$f":"IF($A464=O$3,AND($A464=O$3,$D464<0),0)","v":0},0,0,0,0,0,0,0,{"$f":"IF($A464=W$3,AND($A464=W$3,$D464<0),0)","v":0},0,{"$f":"IF($A464=Y$3,AND($A464=Y$3,$D464<0),0)","v":0},0,{"$f":"IF($A464=AA$3,AND($A464=AA$3,$D464<0),0)","v":0},0,{"$f":"IF($A464=AC$3,AND($A464=AC$3,$D464<0),0)","v":0},0,0]
[{"$f":"IF(B465=0,\"\",MONTH(B465))","v":""},null,null,null,{"$f":"IF(D465=\"\",\"\",IF(D465<0,\"DEBITO\",\"CREDITO\"))","v":""},null,false,false,0,{"$f":"IF($A465=I$3,AND($A465=I$3,$D465<0),0)","v":0},0,{"$f":"IF($A465=K$3,AND($A465=K$3,$D465<0),0)","v":0},0,{"$f":"IF($A465=M$3,AND($A465=M$3,$D465<0),0)","v":0},0,{"$f":"IF($A465=O$3,AND($A465=O$3,$D465<0),0)","v":0},0,0,0,0,0,0,0,{"$f":"IF($A465=W$3,AND($A465=W$3,$D465<0),0)","v":0},0,{"$f":"IF($A465=Y$3,AND($A465=Y$3,$D465<0),0)","v":0},0,{"$f":"IF($A465=AA$3,AND($A465=AA$3,$D465<0),0)","v":0},0,{"$f":"IF($A465=AC$3,AND($A465=AC$3,$D465<0),0)","v":0},0,0]
[{"$f":"IF(B466=0,\"\",MONTH(B466))","v":""},null,null,null,{"$f":"IF(D466=\"\",\"\",IF(D466<0,\"DEBITO\",\"CREDITO\"))","v":""},null,false,false,0,{"$f":"IF($A466=I$3,AND($A466=I$3,$D466<0),0)","v":0},0,{"$f":"IF($A466=K$3,AND($A466=K$3,$D466<0),0)","v":0},0,{"$f":"IF($A466=M$3,AND($A466=M$3,$D466<0),0)","v":0},0,{"$f":"IF($A466=O$3,AND($A466=O$3,$D466<0),0)","v":0},0,0,0,0,0,0,0,{"$f":"IF($A466=W$3,AND($A466=W$3,$D466<0),0)","v":0},0,{"$f":"IF($A466=Y$3,AND($A466=Y$3,$D466<0),0)","v":0},0,{"$f":"IF($A466=AA$3,AND($A466=AA$3,$D466<0),0)","v":0},0,{"$f":"IF($A466=AC$3,AND($A466=AC$3,$D466<0),0)","v":0},0,0]
[{"$f":"IF(B467=0,\"\",MONTH(B467))","v":""},null,null,null,{"$f":"IF(D467=\"\",\"\",IF(D467<0,\"DEBITO\",\"CREDITO\"))","v":""},null,false,false,0,{"$f":"IF($A467=I$3,AND($A467=I$3,$D467<0),0)","v":0},0,{"$f":"IF($A467=K$3,AND($A467=K$3,$D467<0),0)","v":0},0,{"$f":"IF($A467=M$3,AND($A467=M$3,$D467<0),0)","v":0},0,{"$f":"IF($A467=O$3,AND($A467=O$3,$D467<0),0)","v":0},0,0,0,0,0,0,0,{"$f":"IF($A467=W$3,AND($A467=W$3,$D467<0),0)","v":0},0,{"$f":"IF($A467=Y$3,AND($A467=Y$3,$D467<0),0)","v":0},0,{"$f":"IF($A467=AA$3,AND($A467=AA$3,$D467<0),0)","v":0},0,{"$f":"IF($A467=AC$3,AND($A467=AC$3,$D467<0),0)","v":0},0,0]
[{"$f":"IF(B468=0,\"\",MONTH(B468))","v":""},null,null,null,{"$f":"IF(D468=\"\",\"\",IF(D468<0,\"DEBITO\",\"CREDITO\"))","v":""},null,false,false,0,{"$f":"IF($A468=I$3,AND($A468=I$3,$D468<0),0)","v":0},0,{"$f":"IF($A468=K$3,AND($A468=K$3,$D468<0),0)","v":0},0,{"$f":"IF($A468=M$3,AND($A468=M$3,$D468<0),0)","v":0},0,{"$f":"IF($A468=O$3,AND($A468=O$3,$D468<0),0)","v":0},0,0,0,0,0,0,0,{"$f":"IF($A468=W$3,AND($A468=W$3,$D468<0),0)","v":0},0,{"$f":"IF($A468=Y$3,AND($A468=Y$3,$D468<0),0)","v":0},0,{"$f":"IF($A468=AA$3,AND($A468=AA$3,$D468<0),0)","v":0},0,{"$f":"IF($A468=AC$3,AND($A468=AC$3,$D468<0),0)","v":0},0,0]
[{"$f":"IF(B469=0,\"\",MONTH(B469))","v":""},null,null,null,{"$f":"IF(D469=\"\",\"\",IF(D469<0,\"DEBITO\",\"CREDITO\"))","v":""},null,false,false,0,{"$f":"IF($A469=I$3,AND($A469=I$3,$D469<0),0)","v":0},0,{"$f":"IF($A469=K$3,AND($A469=K$3,$D469<0),0)","v":0},0,{"$f":"IF($A469=M$3,AND($A469=M$3,$D469<0),0)","v":0},0,{"$f":"IF($A469=O$3,AND($A469=O$3,$D469<0),0)","v":0},0,0,0,0,0,0,0,{"$f":"IF($A469=W$3,AND($A469=W$3,$D469<0),0)","v":0},0,{"$f":"IF($A469=Y$3,AND($A469=Y$3,$D469<0),0)","v":0},0,{"$f":"IF($A469=AA$3,AND($A469=AA$3,$D469<0),0)","v":0},0,{"$f":"IF($A469=AC$3,AND($A469=AC$3,$D469<0),0)","v":0},0,0]
[{"$f":"IF(B470=0,\"\",MONTH(B470))","v":""},null,null,null,{"$f":"IF(D470=\"\",\"\",IF(D470<0,\"DEBITO\",\"CREDITO\"))","v":""},null,false,false,0,{"$f":"IF($A470=I$3,AND($A470=I$3,$D470<0),0)","v":0},0,{"$f":"IF($A470=K$3,AND($A470=K$3,$D470<0),0)","v":0},0,{"$f":"IF($A470=M$3,AND($A470=M$3,$D470<0),0)","v":0},0,{"$f":"IF($A470=O$3,AND($A470=O$3,$D470<0),0)","v":0},0,0,0,0,0,0,0,{"$f":"IF($A470=W$3,AND($A470=W$3,$D470<0),0)","v":0},0,{"$f":"IF($A470=Y$3,AND($A470=Y$3,$D470<0),0)","v":0},0,{"$f":"IF($A470=AA$3,AND($A470=AA$3,$D470<0),0)","v":0},0,{"$f":"IF($A470=AC$3,AND($A470=AC$3,$D470<0),0)","v":0},0,0]
[{"$f":"IF(B471=0,\"\",MONTH(B471))","v":""},null,null,null,{"$f":"IF(D471=\"\",\"\",IF(D471<0,\"DEBITO\",\"CREDITO\"))","v":""},null,false,false,0,{"$f":"IF($A471=I$3,AND($A471=I$3,$D471<0),0)","v":0},0,{"$f":"IF($A471=K$3,AND($A471=K$3,$D471<0),0)","v":0},0,{"$f":"IF($A471=M$3,AND($A471=M$3,$D471<0),0)","v":0},0,{"$f":"IF($A471=O$3,AND($A471=O$3,$D471<0),0)","v":0},0,0,0,0,0,0,0,{"$f":"IF($A471=W$3,AND($A471=W$3,$D471<0),0)","v":0},0,{"$f":"IF($A471=Y$3,AND($A471=Y$3,$D471<0),0)","v":0},0,{"$f":"IF($A471=AA$3,AND($A471=AA$3,$D471<0),0)","v":0},0,{"$f":"IF($A471=AC$3,AND($A471=AC$3,$D471<0),0)","v":0},0,0]
[{"$f":"IF(B472=0,\"\",MONTH(B472))","v":""},null,null,null,{"$f":"IF(D472=\"\",\"\",IF(D472<0,\"DEBITO\",\"CREDITO\"))","v":""},null,false,false,0,{"$f":"IF($A472=I$3,AND($A472=I$3,$D472<0),0)","v":0},0,{"$f":"IF($A472=K$3,AND($A472=K$3,$D472<0),0)","v":0},0,{"$f":"IF($A472=M$3,AND($A472=M$3,$D472<0),0)","v":0},0,{"$f":"IF($A472=O$3,AND($A472=O$3,$D472<0),0)","v":0},0,0,0,0,0,0,0,{"$f":"IF($A472=W$3,AND($A472=W$3,$D472<0),0)","v":0},0,{"$f":"IF($A472=Y$3,AND($A472=Y$3,$D472<0),0)","v":0},0,{"$f":"IF($A472=AA$3,AND($A472=AA$3,$D472<0),0)","v":0},0,{"$f":"IF($A472=AC$3,AND($A472=AC$3,$D472<0),0)","v":0},0,0]
[{"$f":"IF(B473=0,\"\",MONTH(B473))","v":""},null,null,null,{"$f":"IF(D473=\"\",\"\",IF(D473<0,\"DEBITO\",\"CREDITO\"))","v":""},null,false,false,{"$f":"IF($A473=I$3,AND($A473=I$3,$D473>0),0)","v":0},{"$f":"IF($A473=I$3,AND($A473=I$3,$D473<0),0)","v":0},{"$f":"IF($A473=K$3,AND($A473=K$3,$D473>0),0)","v":0},{"$f":"IF($A473=K$3,AND($A473=K$3,$D473<0),0)","v":0},{"$f":"IF($A473=M$3,AND($A473=M$3,$D473>0),0)","v":0},{"$f":"IF($A473=M$3,AND($A473=M$3,$D473<0),0)","v":0},{"$f":"IF($A473=O$3,AND($A473=O$3,$D473>0),0)","v":0},{"$f":"IF($A473=O$3,AND($A473=O$3,$D473<0),0)","v":0},{"$f":"IF($A473=Q$3,AND($A473=Q$3,$D473>0),0)","v":0},0,0,0,0,0,{"$f":"IF($A473=W$3,AND($A473=W$3,$D473>0),0)","v":0},{"$f":"IF($A473=W$3,AND($A473=W$3,$D473<0),0)","v":0},{"$f":"IF($A473=Y$3,AND($A473=Y$3,$D473>0),0)","v":0},{"$f":"IF($A473=Y$3,AND($A473=Y$3,$D473<0),0)","v":0},{"$f":"IF($A473=AA$3,AND($A473=AA$3,$D473>0),0)","v":0},{"$f":"IF($A473=AA$3,AND($A473=AA$3,$D473<0),0)","v":0},{"$f":"IF($A473=AC$3,AND($A473=AC$3,$D473>0),0)","v":0},{"$f":"IF($A473=AC$3,AND($A473=AC$3,$D473<0),0)","v":0},{"$f":"IF($A473=AE$3,AND($A473=AE$3,$D473>0),0)","v":0},0]
[{"$f":"IF(B474=0,\"\",MONTH(B474))","v":""},null,null,null,{"$f":"IF(D474=\"\",\"\",IF(D474<0,\"DEBITO\",\"CREDITO\"))","v":""},null,false,false,0,{"$f":"IF($A474=I$3,AND($A474=I$3,$D474<0),0)","v":0},0,{"$f":"IF($A474=K$3,AND($A474=K$3,$D474<0),0)","v":0},0,{"$f":"IF($A474=M$3,AND($A474=M$3,$D474<0),0)","v":0},0,{"$f":"IF($A474=O$3,AND($A474=O$3,$D474<0),0)","v":0},0,0,0,0,0,0,0,{"$f":"IF($A474=W$3,AND($A474=W$3,$D474<0),0)","v":0},0,{"$f":"IF($A474=Y$3,AND($A474=Y$3,$D474<0),0)","v":0},0,{"$f":"IF($A474=AA$3,AND($A474=AA$3,$D474<0),0)","v":0},0,{"$f":"IF($A474=AC$3,AND($A474=AC$3,$D474<0),0)","v":0},0,0]
[{"$f":"IF(B475=0,\"\",MONTH(B475))","v":""},null,null,null,{"$f":"IF(D475=\"\",\"\",IF(D475<0,\"DEBITO\",\"CREDITO\"))","v":""},null,false,false,0,{"$f":"IF($A475=I$3,AND($A475=I$3,$D475<0),0)","v":0},0,{"$f":"IF($A475=K$3,AND($A475=K$3,$D475<0),0)","v":0},0,{"$f":"IF($A475=M$3,AND($A475=M$3,$D475<0),0)","v":0},0,{"$f":"IF($A475=O$3,AND($A475=O$3,$D475<0),0)","v":0},0,0,0,0,0,0,0,{"$f":"IF($A475=W$3,AND($A475=W$3,$D475<0),0)","v":0},0,{"$f":"IF($A475=Y$3,AND($A475=Y$3,$D475<0),0)","v":0},0,{"$f":"IF($A475=AA$3,AND($A475=AA$3,$D475<0),0)","v":0},0,{"$f":"IF($A475=AC$3,AND($A475=AC$3,$D475<0),0)","v":0},0,0]
[{"$f":"IF(B476=0,\"\",MONTH(B476))","v":""},null,null,null,{"$f":"IF(D476=\"\",\"\",IF(D476<0,\"DEBITO\",\"CREDITO\"))","v":""},null,false,false,0,{"$f":"IF($A476=I$3,AND($A476=I$3,$D476<0),0)","v":0},0,{"$f":"IF($A476=K$3,AND($A476=K$3,$D476<0),0)","v":0},0,{"$f":"IF($A476=M$3,AND($A476=M$3,$D476<0),0)","v":0},0,{"$f":"IF($A476=O$3,AND($A476=O$3,$D476<0),0)","v":0},0,0,0,0,0,0,0,{"$f":"IF($A476=W$3,AND($A476=W$3,$D476<0),0)","v":0},0,{"$f":"IF($A476=Y$3,AND($A476=Y$3,$D476<0),0)","v":0},0,{"$f":"IF($A476=AA$3,AND($A476=AA$3,$D476<0),0)","v":0},0,{"$f":"IF($A476=AC$3,AND($A476=AC$3,$D476<0),0)","v":0},0,0]
[{"$f":"IF(B477=0,\"\",MONTH(B477))","v":""},null,null,null,{"$f":"IF(D477=\"\",\"\",IF(D477<0,\"DEBITO\",\"CREDITO\"))","v":""},null,false,false,0,{"$f":"IF($A477=I$3,AND($A477=I$3,$D477<0),0)","v":0},0,{"$f":"IF($A477=K$3,AND($A477=K$3,$D477<0),0)","v":0},0,{"$f":"IF($A477=M$3,AND($A477=M$3,$D477<0),0)","v":0},0,{"$f":"IF($A477=O$3,AND($A477=O$3,$D477<0),0)","v":0},0,0,0,0,0,0,0,{"$f":"IF($A477=W$3,AND($A477=W$3,$D477<0),0)","v":0},0,{"$f":"IF($A477=Y$3,AND($A477=Y$3,$D477<0),0)","v":0},0,{"$f":"IF($A477=AA$3,AND($A477=AA$3,$D477<0),0)","v":0},0,{"$f":"IF($A477=AC$3,AND($A477=AC$3,$D477<0),0)","v":0},0,0]
[{"$f":"IF(B478=0,\"\",MONTH(B478))","v":""},null,null,null,{"$f":"IF(D478=\"\",\"\",IF(D478<0,\"DEBITO\",\"CREDITO\"))","v":""},null,false,false,0,{"$f":"IF($A478=I$3,AND($A478=I$3,$D478<0),0)","v":0},0,{"$f":"IF($A478=K$3,AND($A478=K$3,$D478<0),0)","v":0},0,{"$f":"IF($A478=M$3,AND($A478=M$3,$D478<0),0)","v":0},0,{"$f":"IF($A478=O$3,AND($A478=O$3,$D478<0),0)","v":0},0,0,0,0,0,0,0,{"$f":"IF($A478=W$3,AND($A478=W$3,$D478<0),0)","v":0},0,{"$f":"IF($A478=Y$3,AND($A478=Y$3,$D478<0),0)","v":0},0,{"$f":"IF($A478=AA$3,AND($A478=AA$3,$D478<0),0)","v":0},0,{"$f":"IF($A478=AC$3,AND($A478=AC$3,$D478<0),0)","v":0},0,0]
[{"$f":"IF(B479=0,\"\",MONTH(B479))","v":""},null,null,null,{"$f":"IF(D479=\"\",\"\",IF(D479<0,\"DEBITO\",\"CREDITO\"))","v":""},null,false,false,0,{"$f":"IF($A479=I$3,AND($A479=I$3,$D479<0),0)","v":0},0,{"$f":"IF($A479=K$3,AND($A479=K$3,$D479<0),0)","v":0},0,{"$f":"IF($A479=M$3,AND($A479=M$3,$D479<0),0)","v":0},0,{"$f":"IF($A479=O$3,AND($A479=O$3,$D479<0),0)","v":0},0,0,0,0,0,0,0,{"$f":"IF($A479=W$3,AND($A479=W$3,$D479<0),0)","v":0},0,{"$f":"IF($A479=Y$3,AND($A479=Y$3,$D479<0),0)","v":0},0,{"$f":"IF($A479=AA$3,AND($A479=AA$3,$D479<0),0)","v":0},0,{"$f":"IF($A479=AC$3,AND($A479=AC$3,$D479<0),0)","v":0},0,0]
[{"$f":"IF(B480=0,\"\",MONTH(B480))","v":""},null,null,null,{"$f":"IF(D480=\"\",\"\",IF(D480<0,\"DEBITO\",\"CREDITO\"))","v":""},null,false,false,0,{"$f":"IF($A480=I$3,AND($A480=I$3,$D480<0),0)","v":0},0,{"$f":"IF($A480=K$3,AND($A480=K$3,$D480<0),0)","v":0},0,{"$f":"IF($A480=M$3,AND($A480=M$3,$D480<0),0)","v":0},0,{"$f":"IF($A480=O$3,AND($A480=O$3,$D480<0),0)","v":0},0,0,0,0,0,0,0,{"$f":"IF($A480=W$3,AND($A480=W$3,$D480<0),0)","v":0},0,{"$f":"IF($A480=Y$3,AND($A480=Y$3,$D480<0),0)","v":0},0,{"$f":"IF($A480=AA$3,AND($A480=AA$3,$D480<0),0)","v":0},0,{"$f":"IF($A480=AC$3,AND($A480=AC$3,$D480<0),0)","v":0},0,0]
[{"$f":"IF(B481=0,\"\",MONTH(B481))","v":""},null,null,null,{"$f":"IF(D481=\"\",\"\",IF(D481<0,\"DEBITO\",\"CREDITO\"))","v":""},null,false,false,0,{"$f":"IF($A481=I$3,AND($A481=I$3,$D481<0),0)","v":0},0,{"$f":"IF($A481=K$3,AND($A481=K$3,$D481<0),0)","v":0},0,{"$f":"IF($A481=M$3,AND($A481=M$3,$D481<0),0)","v":0},0,{"$f":"IF($A481=O$3,AND($A481=O$3,$D481<0),0)","v":0},0,0,0,0,0,0,0,{"$f":"IF($A481=W$3,AND($A481=W$3,$D481<0),0)","v":0},0,{"$f":"IF($A481=Y$3,AND($A481=Y$3,$D481<0),0)","v":0},0,{"$f":"IF($A481=AA$3,AND($A481=AA$3,$D481<0),0)","v":0},0,{"$f":"IF($A481=AC$3,AND($A481=AC$3,$D481<0),0)","v":0},0,0]
[{"$f":"IF(B482=0,\"\",MONTH(B482))","v":""},null,null,null,{"$f":"IF(D482=\"\",\"\",IF(D482<0,\"DEBITO\",\"CREDITO\"))","v":""},null,false,false,0,{"$f":"IF($A482=I$3,AND($A482=I$3,$D482<0),0)","v":0},0,{"$f":"IF($A482=K$3,AND($A482=K$3,$D482<0),0)","v":0},0,{"$f":"IF($A482=M$3,AND($A482=M$3,$D482<0),0)","v":0},0,{"$f":"IF($A482=O$3,AND($A482=O$3,$D482<0),0)","v":0},0,0,0,0,0,0,0,{"$f":"IF($A482=W$3,AND($A482=W$3,$D482<0),0)","v":0},0,{"$f":"IF($A482=Y$3,AND($A482=Y$3,$D482<0),0)","v":0},0,{"$f":"IF($A482=AA$3,AND($A482=AA$3,$D482<0),0)","v":0},0,{"$f":"IF($A482=AC$3,AND($A482=AC$3,$D482<0),0)","v":0},0,0]
[{"$f":"IF(B483=0,\"\",MONTH(B483))","v":""},null,null,null,{"$f":"IF(D483=\"\",\"\",IF(D483<0,\"DEBITO\",\"CREDITO\"))","v":""},null,false,false,0,{"$f":"IF($A483=I$3,AND($A483=I$3,$D483<0),0)","v":0},0,{"$f":"IF($A483=K$3,AND($A483=K$3,$D483<0),0)","v":0},0,{"$f":"IF($A483=M$3,AND($A483=M$3,$D483<0),0)","v":0},0,{"$f":"IF($A483=O$3,AND($A483=O$3,$D483<0),0)","v":0},0,0,0,0,0,0,0,{"$f":"IF($A483=W$3,AND($A483=W$3,$D483<0),0)","v":0},0,{"$f":"IF($A483=Y$3,AND($A483=Y$3,$D483<0),0)","v":0},0,{"$f":"IF($A483=AA$3,AND($A483=AA$3,$D483<0),0)","v":0},0,{"$f":"IF($A483=AC$3,AND($A483=AC$3,$D483<0),0)","v":0},0,0]
[{"$f":"IF(B484=0,\"\",MONTH(B484))","v":""},null,null,null,{"$f":"IF(D484=\"\",\"\",IF(D484<0,\"DEBITO\",\"CREDITO\"))","v":""},null,false,false,0,{"$f":"IF($A484=I$3,AND($A484=I$3,$D484<0),0)","v":0},0,{"$f":"IF($A484=K$3,AND($A484=K$3,$D484<0),0)","v":0},0,{"$f":"IF($A484=M$3,AND($A484=M$3,$D484<0),0)","v":0},0,{"$f":"IF($A484=O$3,AND($A484=O$3,$D484<0),0)","v":0},0,0,0,0,0,0,0,{"$f":"IF($A484=W$3,AND($A484=W$3,$D484<0),0)","v":0},0,{"$f":"IF($A484=Y$3,AND($A484=Y$3,$D484<0),0)","v":0},0,{"$f":"IF($A484=AA$3,AND($A484=AA$3,$D484<0),0)","v":0},0,{"$f":"IF($A484=AC$3,AND($A484=AC$3,$D484<0),0)","v":0},0,0]
[{"$f":"IF(B485=0,\"\",MONTH(B485))","v":""},null,null,null,{"$f":"IF(D485=\"\",\"\",IF(D485<0,\"DEBITO\",\"CREDITO\"))","v":""},null,false,false,0,{"$f":"IF($A485=I$3,AND($A485=I$3,$D485<0),0)","v":0},0,{"$f":"IF($A485=K$3,AND($A485=K$3,$D485<0),0)","v":0},0,{"$f":"IF($A485=M$3,AND($A485=M$3,$D485<0),0)","v":0},0,{"$f":"IF($A485=O$3,AND($A485=O$3,$D485<0),0)","v":0},0,0,0,0,0,0,0,{"$f":"IF($A485=W$3,AND($A485=W$3,$D485<0),0)","v":0},0,{"$f":"IF($A485=Y$3,AND($A485=Y$3,$D485<0),0)","v":0},0,{"$f":"IF($A485=AA$3,AND($A485=AA$3,$D485<0),0)","v":0},0,{"$f":"IF($A485=AC$3,AND($A485=AC$3,$D485<0),0)","v":0},0,0]
[{"$f":"IF(B486=0,\"\",MONTH(B486))","v":""},null,null,null,{"$f":"IF(D486=\"\",\"\",IF(D486<0,\"DEBITO\",\"CREDITO\"))","v":""},null,false,false,0,{"$f":"IF($A486=I$3,AND($A486=I$3,$D486<0),0)","v":0},0,{"$f":"IF($A486=K$3,AND($A486=K$3,$D486<0),0)","v":0},0,{"$f":"IF($A486=M$3,AND($A486=M$3,$D486<0),0)","v":0},0,{"$f":"IF($A486=O$3,AND($A486=O$3,$D486<0),0)","v":0},0,0,0,0,0,0,0,{"$f":"IF($A486=W$3,AND($A486=W$3,$D486<0),0)","v":0},0,{"$f":"IF($A486=Y$3,AND($A486=Y$3,$D486<0),0)","v":0},0,{"$f":"IF($A486=AA$3,AND($A486=AA$3,$D486<0),0)","v":0},0,{"$f":"IF($A486=AC$3,AND($A486=AC$3,$D486<0),0)","v":0},0,0]
[{"$f":"IF(B487=0,\"\",MONTH(B487))","v":""},null,null,null,{"$f":"IF(D487=\"\",\"\",IF(D487<0,\"DEBITO\",\"CREDITO\"))","v":""},null,false,false,0,{"$f":"IF($A487=I$3,AND($A487=I$3,$D487<0),0)","v":0},0,{"$f":"IF($A487=K$3,AND($A487=K$3,$D487<0),0)","v":0},0,{"$f":"IF($A487=M$3,AND($A487=M$3,$D487<0),0)","v":0},0,{"$f":"IF($A487=O$3,AND($A487=O$3,$D487<0),0)","v":0},0,0,0,0,0,0,0,{"$f":"IF($A487=W$3,AND($A487=W$3,$D487<0),0)","v":0},0,{"$f":"IF($A487=Y$3,AND($A487=Y$3,$D487<0),0)","v":0},0,{"$f":"IF($A487=AA$3,AND($A487=AA$3,$D487<0),0)","v":0},0,{"$f":"IF($A487=AC$3,AND($A487=AC$3,$D487<0),0)","v":0},0,0]
[{"$f":"IF(B488=0,\"\",MONTH(B488))","v":""},null,null,null,{"$f":"IF(D488=\"\",\"\",IF(D488<0,\"DEBITO\",\"CREDITO\"))","v":""},null,false,false,0,{"$f":"IF($A488=I$3,AND($A488=I$3,$D488<0),0)","v":0},0,{"$f":"IF($A488=K$3,AND($A488=K$3,$D488<0),0)","v":0},0,{"$f":"IF($A488=M$3,AND($A488=M$3,$D488<0),0)","v":0},0,{"$f":"IF($A488=O$3,AND($A488=O$3,$D488<0),0)","v":0},0,0,0,0,0,0,0,{"$f":"IF($A488=W$3,AND($A488=W$3,$D488<0),0)","v":0},0,{"$f":"IF($A488=Y$3,AND($A488=Y$3,$D488<0),0)","v":0},0,{"$f":"IF($A488=AA$3,AND($A488=AA$3,$D488<0),0)","v":0},0,{"$f":"IF($A488=AC$3,AND($A488=AC$3,$D488<0),0)","v":0},0,0]
[{"$f":"IF(B489=0,\"\",MONTH(B489))","v":""},null,null,null,{"$f":"IF(D489=\"\",\"\",IF(D489<0,\"DEBITO\",\"CREDITO\"))","v":""},null,false,false,0,{"$f":"IF($A489=I$3,AND($A489=I$3,$D489<0),0)","v":0},0,{"$f":"IF($A489=K$3,AND($A489=K$3,$D489<0),0)","v":0},0,{"$f":"IF($A489=M$3,AND($A489=M$3,$D489<0),0)","v":0},0,{"$f":"IF($A489=O$3,AND($A489=O$3,$D489<0),0)","v":0},0,0,0,0,0,0,0,{"$f":"IF($A489=W$3,AND($A489=W$3,$D489<0),0)","v":0},0,{"$f":"IF($A489=Y$3,AND($A489=Y$3,$D489<0),0)","v":0},0,{"$f":"IF($A489=AA$3,AND($A489=AA$3,$D489<0),0)","v":0},0,{"$f":"IF($A489=AC$3,AND($A489=AC$3,$D489<0),0)","v":0},0,0]
[{"$f":"IF(B490=0,\"\",MONTH(B490))","v":""},null,null,null,{"$f":"IF(D490=\"\",\"\",IF(D490<0,\"DEBITO\",\"CREDITO\"))","v":""},null,false,false,0,{"$f":"IF($A490=I$3,AND($A490=I$3,$D490<0),0)","v":0},0,{"$f":"IF($A490=K$3,AND($A490=K$3,$D490<0),0)","v":0},0,{"$f":"IF($A490=M$3,AND($A490=M$3,$D490<0),0)","v":0},0,{"$f":"IF($A490=O$3,AND($A490=O$3,$D490<0),0)","v":0},0,0,0,0,0,0,0,{"$f":"IF($A490=W$3,AND($A490=W$3,$D490<0),0)","v":0},0,{"$f":"IF($A490=Y$3,AND($A490=Y$3,$D490<0),0)","v":0},0,{"$f":"IF($A490=AA$3,AND($A490=AA$3,$D490<0),0)","v":0},0,{"$f":"IF($A490=AC$3,AND($A490=AC$3,$D490<0),0)","v":0},0,0]
[{"$f":"IF(B491=0,\"\",MONTH(B491))","v":""},null,null,null,{"$f":"IF(D491=\"\",\"\",IF(D491<0,\"DEBITO\",\"CREDITO\"))","v":""},null,false,false,0,{"$f":"IF($A491=I$3,AND($A491=I$3,$D491<0),0)","v":0},0,{"$f":"IF($A491=K$3,AND($A491=K$3,$D491<0),0)","v":0},0,{"$f":"IF($A491=M$3,AND($A491=M$3,$D491<0),0)","v":0},0,{"$f":"IF($A491=O$3,AND($A491=O$3,$D491<0),0)","v":0},0,0,0,0,0,0,0,{"$f":"IF($A491=W$3,AND($A491=W$3,$D491<0),0)","v":0},0,{"$f":"IF($A491=Y$3,AND($A491=Y$3,$D491<0),0)","v":0},0,{"$f":"IF($A491=AA$3,AND($A491=AA$3,$D491<0),0)","v":0},0,{"$f":"IF($A491=AC$3,AND($A491=AC$3,$D491<0),0)","v":0},0,0]
[{"$f":"IF(B492=0,\"\",MONTH(B492))","v":""},null,null,null,{"$f":"IF(D492=\"\",\"\",IF(D492<0,\"DEBITO\",\"CREDITO\"))","v":""},null,false,false,0,{"$f":"IF($A492=I$3,AND($A492=I$3,$D492<0),0)","v":0},0,{"$f":"IF($A492=K$3,AND($A492=K$3,$D492<0),0)","v":0},0,{"$f":"IF($A492=M$3,AND($A492=M$3,$D492<0),0)","v":0},0,{"$f":"IF($A492=O$3,AND($A492=O$3,$D492<0),0)","v":0},0,0,0,0,0,0,0,{"$f":"IF($A492=W$3,AND($A492=W$3,$D492<0),0)","v":0},0,{"$f":"IF($A492=Y$3,AND($A492=Y$3,$D492<0),0)","v":0},0,{"$f":"IF($A492=AA$3,AND($A492=AA$3,$D492<0),0)","v":0},0,{"$f":"IF($A492=AC$3,AND($A492=AC$3,$D492<0),0)","v":0},0,0]
[{"$f":"IF(B493=0,\"\",MONTH(B493))","v":""},null,null,null,{"$f":"IF(D493=\"\",\"\",IF(D493<0,\"DEBITO\",\"CREDITO\"))","v":""},null,false,false,0,{"$f":"IF($A493=I$3,AND($A493=I$3,$D493<0),0)","v":0},0,{"$f":"IF($A493=K$3,AND($A493=K$3,$D493<0),0)","v":0},0,{"$f":"IF($A493=M$3,AND($A493=M$3,$D493<0),0)","v":0},0,{"$f":"IF($A493=O$3,AND($A493=O$3,$D493<0),0)","v":0},0,0,0,0,0,0,0,{"$f":"IF($A493=W$3,AND($A493=W$3,$D493<0),0)","v":0},0,{"$f":"IF($A493=Y$3,AND($A493=Y$3,$D493<0),0)","v":0},0,{"$f":"IF($A493=AA$3,AND($A493=AA$3,$D493<0),0)","v":0},0,{"$f":"IF($A493=AC$3,AND($A493=AC$3,$D493<0),0)","v":0},0,0]
[{"$f":"IF(B494=0,\"\",MONTH(B494))","v":""},null,null,null,{"$f":"IF(D494=\"\",\"\",IF(D494<0,\"DEBITO\",\"CREDITO\"))","v":""},null,false,false,0,{"$f":"IF($A494=I$3,AND($A494=I$3,$D494<0),0)","v":0},0,{"$f":"IF($A494=K$3,AND($A494=K$3,$D494<0),0)","v":0},0,{"$f":"IF($A494=M$3,AND($A494=M$3,$D494<0),0)","v":0},0,{"$f":"IF($A494=O$3,AND($A494=O$3,$D494<0),0)","v":0},0,0,0,0,0,0,0,{"$f":"IF($A494=W$3,AND($A494=W$3,$D494<0),0)","v":0},0,{"$f":"IF($A494=Y$3,AND($A494=Y$3,$D494<0),0)","v":0},0,{"$f":"IF($A494=AA$3,AND($A494=AA$3,$D494<0),0)","v":0},0,{"$f":"IF($A494=AC$3,AND($A494=AC$3,$D494<0),0)","v":0},0,0]
[{"$f":"IF(B495=0,\"\",MONTH(B495))","v":""},null,null,null,{"$f":"IF(D495=\"\",\"\",IF(D495<0,\"DEBITO\",\"CREDITO\"))","v":""},null,false,false,0,{"$f":"IF($A495=I$3,AND($A495=I$3,$D495<0),0)","v":0},0,{"$f":"IF($A495=K$3,AND($A495=K$3,$D495<0),0)","v":0},0,{"$f":"IF($A495=M$3,AND($A495=M$3,$D495<0),0)","v":0},0,{"$f":"IF($A495=O$3,AND($A495=O$3,$D495<0),0)","v":0},0,0,0,0,0,0,0,{"$f":"IF($A495=W$3,AND($A495=W$3,$D495<0),0)","v":0},0,{"$f":"IF($A495=Y$3,AND($A495=Y$3,$D495<0),0)","v":0},0,{"$f":"IF($A495=AA$3,AND($A495=AA$3,$D495<0),0)","v":0},0,{"$f":"IF($A495=AC$3,AND($A495=AC$3,$D495<0),0)","v":0},0,0]
[{"$f":"IF(B496=0,\"\",MONTH(B496))","v":""},null,null,null,{"$f":"IF(D496=\"\",\"\",IF(D496<0,\"DEBITO\",\"CREDITO\"))","v":""},null,false,false,0,{"$f":"IF($A496=I$3,AND($A496=I$3,$D496<0),0)","v":0},0,{"$f":"IF($A496=K$3,AND($A496=K$3,$D496<0),0)","v":0},0,{"$f":"IF($A496=M$3,AND($A496=M$3,$D496<0),0)","v":0},0,{"$f":"IF($A496=O$3,AND($A496=O$3,$D496<0),0)","v":0},0,0,0,0,0,0,0,{"$f":"IF($A496=W$3,AND($A496=W$3,$D496<0),0)","v":0},0,{"$f":"IF($A496=Y$3,AND($A496=Y$3,$D496<0),0)","v":0},0,{"$f":"IF($A496=AA$3,AND($A496=AA$3,$D496<0),0)","v":0},0,{"$f":"IF($A496=AC$3,AND($A496=AC$3,$D496<0),0)","v":0},0,0]
[{"$f":"IF(B497=0,\"\",MONTH(B497))","v":""},null,null,null,{"$f":"IF(D497=\"\",\"\",IF(D497<0,\"DEBITO\",\"CREDITO\"))","v":""},null,false,false,0,{"$f":"IF($A497=I$3,AND($A497=I$3,$D497<0),0)","v":0},0,{"$f":"IF($A497=K$3,AND($A497=K$3,$D497<0),0)","v":0},0,{"$f":"IF($A497=M$3,AND($A497=M$3,$D497<0),0)","v":0},0,{"$f":"IF($A497=O$3,AND($A497=O$3,$D497<0),0)","v":0},0,0,0,0,0,0,0,{"$f":"IF($A497=W$3,AND($A497=W$3,$D497<0),0)","v":0},0,{"$f":"IF($A497=Y$3,AND($A497=Y$3,$D497<0),0)","v":0},0,{"$f":"IF($A497=AA$3,AND($A497=AA$3,$D497<0),0)","v":0},0,{"$f":"IF($A497=AC$3,AND($A497=AC$3,$D497<0),0)","v":0},0,0]
[{"$f":"IF(B498=0,\"\",MONTH(B498))","v":""},null,null,null,{"$f":"IF(D498=\"\",\"\",IF(D498<0,\"DEBITO\",\"CREDITO\"))","v":""},null,false,false,0,{"$f":"IF($A498=I$3,AND($A498=I$3,$D498<0),0)","v":0},0,{"$f":"IF($A498=K$3,AND($A498=K$3,$D498<0),0)","v":0},0,{"$f":"IF($A498=M$3,AND($A498=M$3,$D498<0),0)","v":0},0,{"$f":"IF($A498=O$3,AND($A498=O$3,$D498<0),0)","v":0},0,0,0,0,0,0,0,{"$f":"IF($A498=W$3,AND($A498=W$3,$D498<0),0)","v":0},0,{"$f":"IF($A498=Y$3,AND($A498=Y$3,$D498<0),0)","v":0},0,{"$f":"IF($A498=AA$3,AND($A498=AA$3,$D498<0),0)","v":0},0,{"$f":"IF($A498=AC$3,AND($A498=AC$3,$D498<0),0)","v":0},0,0]
[{"$f":"IF(B499=0,\"\",MONTH(B499))","v":""},null,null,null,{"$f":"IF(D499=\"\",\"\",IF(D499<0,\"DEBITO\",\"CREDITO\"))","v":""},null,false,false,0,{"$f":"IF($A499=I$3,AND($A499=I$3,$D499<0),0)","v":0},0,{"$f":"IF($A499=K$3,AND($A499=K$3,$D499<0),0)","v":0},0,{"$f":"IF($A499=M$3,AND($A499=M$3,$D499<0),0)","v":0},0,{"$f":"IF($A499=O$3,AND($A499=O$3,$D499<0),0)","v":0},0,0,0,0,0,0,0,{"$f":"IF($A499=W$3,AND($A499=W$3,$D499<0),0)","v":0},0,{"$f":"IF($A499=Y$3,AND($A499=Y$3,$D499<0),0)","v":0},0,{"$f":"IF($A499=AA$3,AND($A499=AA$3,$D499<0),0)","v":0},0,{"$f":"IF($A499=AC$3,AND($A499=AC$3,$D499<0),0)","v":0},0,0]
[{"$f":"IF(B500=0,\"\",MONTH(B500))","v":""},null,null,null,{"$f":"IF(D500=\"\",\"\",IF(D500<0,\"DEBITO\",\"CREDITO\"))","v":""},null,false,false,0,{"$f":"IF($A500=I$3,AND($A500=I$3,$D500<0),0)","v":0},0,{"$f":"IF($A500=K$3,AND($A500=K$3,$D500<0),0)","v":0},0,{"$f":"IF($A500=M$3,AND($A500=M$3,$D500<0),0)","v":0},0,{"$f":"IF($A500=O$3,AND($A500=O$3,$D500<0),0)","v":0},0,0,0,0,0,0,0,{"$f":"IF($A500=W$3,AND($A500=W$3,$D500<0),0)","v":0},0,{"$f":"IF($A500=Y$3,AND($A500=Y$3,$D500<0),0)","v":0},0,{"$f":"IF($A500=AA$3,AND($A500=AA$3,$D500<0),0)","v":0},0,{"$f":"IF($A500=AC$3,AND($A500=AC$3,$D500<0),0)","v":0},0,0]
[{"$f":"IF(B501=0,\"\",MONTH(B501))","v":""},null,null,null,{"$f":"IF(D501=\"\",\"\",IF(D501<0,\"DEBITO\",\"CREDITO\"))","v":""},null,false,false,0,{"$f":"IF($A501=I$3,AND($A501=I$3,$D501<0),0)","v":0},0,{"$f":"IF($A501=K$3,AND($A501=K$3,$D501<0),0)","v":0},0,{"$f":"IF($A501=M$3,AND($A501=M$3,$D501<0),0)","v":0},0,{"$f":"IF($A501=O$3,AND($A501=O$3,$D501<0),0)","v":0},0,0,0,0,0,0,0,{"$f":"IF($A501=W$3,AND($A501=W$3,$D501<0),0)","v":0},0,{"$f":"IF($A501=Y$3,AND($A501=Y$3,$D501<0),0)","v":0},0,{"$f":"IF($A501=AA$3,AND($A501=AA$3,$D501<0),0)","v":0},0,{"$f":"IF($A501=AC$3,AND($A501=AC$3,$D501<0),0)","v":0},0,0]
[{"$f":"IF(B502=0,\"\",MONTH(B502))","v":""},null,null,null,{"$f":"IF(D502=\"\",\"\",IF(D502<0,\"DEBITO\",\"CREDITO\"))","v":""},null,false,false,0,{"$f":"IF($A502=I$3,AND($A502=I$3,$D502<0),0)","v":0},0,{"$f":"IF($A502=K$3,AND($A502=K$3,$D502<0),0)","v":0},0,{"$f":"IF($A502=M$3,AND($A502=M$3,$D502<0),0)","v":0},0,{"$f":"IF($A502=O$3,AND($A502=O$3,$D502<0),0)","v":0},0,0,0,0,0,0,0,{"$f":"IF($A502=W$3,AND($A502=W$3,$D502<0),0)","v":0},0,{"$f":"IF($A502=Y$3,AND($A502=Y$3,$D502<0),0)","v":0},0,{"$f":"IF($A502=AA$3,AND($A502=AA$3,$D502<0),0)","v":0},0,{"$f":"IF($A502=AC$3,AND($A502=AC$3,$D502<0),0)","v":0},0,0]
[{"$f":"IF(B503=0,\"\",MONTH(B503))","v":""},null,null,null,{"$f":"IF(D503=\"\",\"\",IF(D503<0,\"DEBITO\",\"CREDITO\"))","v":""},null,false,false,0,{"$f":"IF($A503=I$3,AND($A503=I$3,$D503<0),0)","v":0},0,{"$f":"IF($A503=K$3,AND($A503=K$3,$D503<0),0)","v":0},0,{"$f":"IF($A503=M$3,AND($A503=M$3,$D503<0),0)","v":0},0,{"$f":"IF($A503=O$3,AND($A503=O$3,$D503<0),0)","v":0},0,0,0,0,0,0,0,{"$f":"IF($A503=W$3,AND($A503=W$3,$D503<0),0)","v":0},0,{"$f":"IF($A503=Y$3,AND($A503=Y$3,$D503<0),0)","v":0},0,{"$f":"IF($A503=AA$3,AND($A503=AA$3,$D503<0),0)","v":0},0,{"$f":"IF($A503=AC$3,AND($A503=AC$3,$D503<0),0)","v":0},0,0]
[{"$f":"IF(B504=0,\"\",MONTH(B504))","v":""},null,null,null,{"$f":"IF(D504=\"\",\"\",IF(D504<0,\"DEBITO\",\"CREDITO\"))","v":""},null,false,false,0,{"$f":"IF($A504=I$3,AND($A504=I$3,$D504<0),0)","v":0},0,{"$f":"IF($A504=K$3,AND($A504=K$3,$D504<0),0)","v":0},0,{"$f":"IF($A504=M$3,AND($A504=M$3,$D504<0),0)","v":0},0,{"$f":"IF($A504=O$3,AND($A504=O$3,$D504<0),0)","v":0},0,0,0,0,0,0,0,{"$f":"IF($A504=W$3,AND($A504=W$3,$D504<0),0)","v":0},0,{"$f":"IF($A504=Y$3,AND($A504=Y$3,$D504<0),0)","v":0},0,{"$f":"IF($A504=AA$3,AND($A504=AA$3,$D504<0),0)","v":0},0,{"$f":"IF($A504=AC$3,AND($A504=AC$3,$D504<0),0)","v":0},0,0]
[{"$f":"IF(B505=0,\"\",MONTH(B505))","v":""},null,null,null,{"$f":"IF(D505=\"\",\"\",IF(D505<0,\"DEBITO\",\"CREDITO\"))","v":""},null,false,false,0,{"$f":"IF($A505=I$3,AND($A505=I$3,$D505<0),0)","v":0},0,{"$f":"IF($A505=K$3,AND($A505=K$3,$D505<0),0)","v":0},0,{"$f":"IF($A505=M$3,AND($A505=M$3,$D505<0),0)","v":0},0,{"$f":"IF($A505=O$3,AND($A505=O$3,$D505<0),0)","v":0},0,0,0,0,0,0,0,{"$f":"IF($A505=W$3,AND($A505=W$3,$D505<0),0)","v":0},0,{"$f":"IF($A505=Y$3,AND($A505=Y$3,$D505<0),0)","v":0},0,{"$f":"IF($A505=AA$3,AND($A505=AA$3,$D505<0),0)","v":0},0,{"$f":"IF($A505=AC$3,AND($A505=AC$3,$D505<0),0)","v":0},0,0]
[{"$f":"IF(B506=0,\"\",MONTH(B506))","v":""},null,null,null,{"$f":"IF(D506=\"\",\"\",IF(D506<0,\"DEBITO\",\"CREDITO\"))","v":""},null,false,false,0,{"$f":"IF($A506=I$3,AND($A506=I$3,$D506<0),0)","v":0},0,{"$f":"IF($A506=K$3,AND($A506=K$3,$D506<0),0)","v":0},0,{"$f":"IF($A506=M$3,AND($A506=M$3,$D506<0),0)","v":0},0,{"$f":"IF($A506=O$3,AND($A506=O$3,$D506<0),0)","v":0},0,0,0,0,0,0,0,{"$f":"IF($A506=W$3,AND($A506=W$3,$D506<0),0)","v":0},0,{"$f":"IF($A506=Y$3,AND($A506=Y$3,$D506<0),0)","v":0},0,{"$f":"IF($A506=AA$3,AND($A506=AA$3,$D506<0),0)","v":0},0,{"$f":"IF($A506=AC$3,AND($A506=AC$3,$D506<0),0)","v":0},0,0]
[{"$f":"IF(B507=0,\"\",MONTH(B507))","v":""},null,null,null,{"$f":"IF(D507=\"\",\"\",IF(D507<0,\"DEBITO\",\"CREDITO\"))","v":""},null,false,false,0,{"$f":"IF($A507=I$3,AND($A507=I$3,$D507<0),0)","v":0},0,{"$f":"IF($A507=K$3,AND($A507=K$3,$D507<0),0)","v":0},0,{"$f":"IF($A507=M$3,AND($A507=M$3,$D507<0),0)","v":0},0,{"$f":"IF($A507=O$3,AND($A507=O$3,$D507<0),0)","v":0},0,0,0,0,0,0,0,{"$f":"IF($A507=W$3,AND($A507=W$3,$D507<0),0)","v":0},0,{"$f":"IF($A507=Y$3,AND($A507=Y$3,$D507<0),0)","v":0},0,{"$f":"IF($A507=AA$3,AND($A507=AA$3,$D507<0),0)","v":0},0,{"$f":"IF($A507=AC$3,AND($A507=AC$3,$D507<0),0)","v":0},0,0]
[{"$f":"IF(B508=0,\"\",MONTH(B508))","v":""},null,null,null,{"$f":"IF(D508=\"\",\"\",IF(D508<0,\"DEBITO\",\"CREDITO\"))","v":""},null,false,false,0,{"$f":"IF($A508=I$3,AND($A508=I$3,$D508<0),0)","v":0},0,{"$f":"IF($A508=K$3,AND($A508=K$3,$D508<0),0)","v":0},0,{"$f":"IF($A508=M$3,AND($A508=M$3,$D508<0),0)","v":0},0,{"$f":"IF($A508=O$3,AND($A508=O$3,$D508<0),0)","v":0},0,0,0,0,0,0,0,{"$f":"IF($A508=W$3,AND($A508=W$3,$D508<0),0)","v":0},0,{"$f":"IF($A508=Y$3,AND($A508=Y$3,$D508<0),0)","v":0},0,{"$f":"IF($A508=AA$3,AND($A508=AA$3,$D508<0),0)","v":0},0,{"$f":"IF($A508=AC$3,AND($A508=AC$3,$D508<0),0)","v":0},0,0]
[{"$f":"IF(B509=0,\"\",MONTH(B509))","v":""},null,null,null,{"$f":"IF(D509=\"\",\"\",IF(D509<0,\"DEBITO\",\"CREDITO\"))","v":""},null,false,false,0,{"$f":"IF($A509=I$3,AND($A509=I$3,$D509<0),0)","v":0},0,{"$f":"IF($A509=K$3,AND($A509=K$3,$D509<0),0)","v":0},0,{"$f":"IF($A509=M$3,AND($A509=M$3,$D509<0),0)","v":0},0,{"$f":"IF($A509=O$3,AND($A509=O$3,$D509<0),0)","v":0},0,0,0,0,0,0,0,{"$f":"IF($A509=W$3,AND($A509=W$3,$D509<0),0)","v":0},0,{"$f":"IF($A509=Y$3,AND($A509=Y$3,$D509<0),0)","v":0},0,{"$f":"IF($A509=AA$3,AND($A509=AA$3,$D509<0),0)","v":0},0,{"$f":"IF($A509=AC$3,AND($A509=AC$3,$D509<0),0)","v":0},0,0]
[{"$f":"IF(B510=0,\"\",MONTH(B510))","v":""},null,null,null,{"$f":"IF(D510=\"\",\"\",IF(D510<0,\"DEBITO\",\"CREDITO\"))","v":""},null,false,false,0,{"$f":"IF($A510=I$3,AND($A510=I$3,$D510<0),0)","v":0},0,{"$f":"IF($A510=K$3,AND($A510=K$3,$D510<0),0)","v":0},0,{"$f":"IF($A510=M$3,AND($A510=M$3,$D510<0),0)","v":0},0,{"$f":"IF($A510=O$3,AND($A510=O$3,$D510<0),0)","v":0},0,0,0,0,0,0,0,{"$f":"IF($A510=W$3,AND($A510=W$3,$D510<0),0)","v":0},0,{"$f":"IF($A510=Y$3,AND($A510=Y$3,$D510<0),0)","v":0},0,{"$f":"IF($A510=AA$3,AND($A510=AA$3,$D510<0),0)","v":0},0,{"$f":"IF($A510=AC$3,AND($A510=AC$3,$D510<0),0)","v":0},0,0]
[{"$f":"IF(B511=0,\"\",MONTH(B511))","v":""},null,null,null,{"$f":"IF(D511=\"\",\"\",IF(D511<0,\"DEBITO\",\"CREDITO\"))","v":""},null,false,false,0,{"$f":"IF($A511=I$3,AND($A511=I$3,$D511<0),0)","v":0},0,{"$f":"IF($A511=K$3,AND($A511=K$3,$D511<0),0)","v":0},0,{"$f":"IF($A511=M$3,AND($A511=M$3,$D511<0),0)","v":0},0,{"$f":"IF($A511=O$3,AND($A511=O$3,$D511<0),0)","v":0},0,0,0,0,0,0,0,{"$f":"IF($A511=W$3,AND($A511=W$3,$D511<0),0)","v":0},0,{"$f":"IF($A511=Y$3,AND($A511=Y$3,$D511<0),0)","v":0},0,{"$f":"IF($A511=AA$3,AND($A511=AA$3,$D511<0),0)","v":0},0,{"$f":"IF($A511=AC$3,AND($A511=AC$3,$D511<0),0)","v":0},0,0]
[{"$f":"IF(B512=0,\"\",MONTH(B512))","v":""},null,null,null,{"$f":"IF(D512=\"\",\"\",IF(D512<0,\"DEBITO\",\"CREDITO\"))","v":""},null,false,false,0,{"$f":"IF($A512=I$3,AND($A512=I$3,$D512<0),0)","v":0},0,{"$f":"IF($A512=K$3,AND($A512=K$3,$D512<0),0)","v":0},0,{"$f":"IF($A512=M$3,AND($A512=M$3,$D512<0),0)","v":0},0,{"$f":"IF($A512=O$3,AND($A512=O$3,$D512<0),0)","v":0},0,0,0,0,0,0,0,{"$f":"IF($A512=W$3,AND($A512=W$3,$D512<0),0)","v":0},0,{"$f":"IF($A512=Y$3,AND($A512=Y$3,$D512<0),0)","v":0},0,{"$f":"IF($A512=AA$3,AND($A512=AA$3,$D512<0),0)","v":0},0,{"$f":"IF($A512=AC$3,AND($A512=AC$3,$D512<0),0)","v":0},0,0]
[{"$f":"IF(B513=0,\"\",MONTH(B513))","v":""},null,null,null,{"$f":"IF(D513=\"\",\"\",IF(D513<0,\"DEBITO\",\"CREDITO\"))","v":""},null,false,false,0,{"$f":"IF($A513=I$3,AND($A513=I$3,$D513<0),0)","v":0},0,{"$f":"IF($A513=K$3,AND($A513=K$3,$D513<0),0)","v":0},0,{"$f":"IF($A513=M$3,AND($A513=M$3,$D513<0),0)","v":0},0,{"$f":"IF($A513=O$3,AND($A513=O$3,$D513<0),0)","v":0},0,0,0,0,0,0,0,{"$f":"IF($A513=W$3,AND($A513=W$3,$D513<0),0)","v":0},0,{"$f":"IF($A513=Y$3,AND($A513=Y$3,$D513<0),0)","v":0},0,{"$f":"IF($A513=AA$3,AND($A513=AA$3,$D513<0),0)","v":0},0,{"$f":"IF($A513=AC$3,AND($A513=AC$3,$D513<0),0)","v":0},0,0]
[{"$f":"IF(B514=0,\"\",MONTH(B514))","v":""},null,null,null,{"$f":"IF(D514=\"\",\"\",IF(D514<0,\"DEBITO\",\"CREDITO\"))","v":""},null,false,false,0,{"$f":"IF($A514=I$3,AND($A514=I$3,$D514<0),0)","v":0},0,{"$f":"IF($A514=K$3,AND($A514=K$3,$D514<0),0)","v":0},0,{"$f":"IF($A514=M$3,AND($A514=M$3,$D514<0),0)","v":0},0,{"$f":"IF($A514=O$3,AND($A514=O$3,$D514<0),0)","v":0},0,0,0,0,0,0,0,{"$f":"IF($A514=W$3,AND($A514=W$3,$D514<0),0)","v":0},0,{"$f":"IF($A514=Y$3,AND($A514=Y$3,$D514<0),0)","v":0},0,{"$f":"IF($A514=AA$3,AND($A514=AA$3,$D514<0),0)","v":0},0,{"$f":"IF($A514=AC$3,AND($A514=AC$3,$D514<0),0)","v":0},0,0]
[{"$f":"IF(B515=0,\"\",MONTH(B515))","v":""},null,null,null,{"$f":"IF(D515=\"\",\"\",IF(D515<0,\"DEBITO\",\"CREDITO\"))","v":""},null,false,false,0,{"$f":"IF($A515=I$3,AND($A515=I$3,$D515<0),0)","v":0},0,{"$f":"IF($A515=K$3,AND($A515=K$3,$D515<0),0)","v":0},0,{"$f":"IF($A515=M$3,AND($A515=M$3,$D515<0),0)","v":0},0,{"$f":"IF($A515=O$3,AND($A515=O$3,$D515<0),0)","v":0},0,0,0,0,0,0,0,{"$f":"IF($A515=W$3,AND($A515=W$3,$D515<0),0)","v":0},0,{"$f":"IF($A515=Y$3,AND($A515=Y$3,$D515<0),0)","v":0},0,{"$f":"IF($A515=AA$3,AND($A515=AA$3,$D515<0),0)","v":0},0,{"$f":"IF($A515=AC$3,AND($A515=AC$3,$D515<0),0)","v":0},0,0]
[{"$f":"IF(B516=0,\"\",MONTH(B516))","v":""},null,null,null,{"$f":"IF(D516=\"\",\"\",IF(D516<0,\"DEBITO\",\"CREDITO\"))","v":""},null,false,false,0,{"$f":"IF($A516=I$3,AND($A516=I$3,$D516<0),0)","v":0},0,{"$f":"IF($A516=K$3,AND($A516=K$3,$D516<0),0)","v":0},0,{"$f":"IF($A516=M$3,AND($A516=M$3,$D516<0),0)","v":0},0,{"$f":"IF($A516=O$3,AND($A516=O$3,$D516<0),0)","v":0},0,0,0,0,0,0,0,{"$f":"IF($A516=W$3,AND($A516=W$3,$D516<0),0)","v":0},0,{"$f":"IF($A516=Y$3,AND($A516=Y$3,$D516<0),0)","v":0},0,{"$f":"IF($A516=AA$3,AND($A516=AA$3,$D516<0),0)","v":0},0,{"$f":"IF($A516=AC$3,AND($A516=AC$3,$D516<0),0)","v":0},0,0]
[{"$f":"IF(B517=0,\"\",MONTH(B517))","v":""},null,null,null,{"$f":"IF(D517=\"\",\"\",IF(D517<0,\"DEBITO\",\"CREDITO\"))","v":""},null,false,false,0,{"$f":"IF($A517=I$3,AND($A517=I$3,$D517<0),0)","v":0},0,{"$f":"IF($A517=K$3,AND($A517=K$3,$D517<0),0)","v":0},0,{"$f":"IF($A517=M$3,AND($A517=M$3,$D517<0),0)","v":0},0,{"$f":"IF($A517=O$3,AND($A517=O$3,$D517<0),0)","v":0},0,0,0,0,0,0,0,{"$f":"IF($A517=W$3,AND($A517=W$3,$D517<0),0)","v":0},0,{"$f":"IF($A517=Y$3,AND($A517=Y$3,$D517<0),0)","v":0},0,{"$f":"IF($A517=AA$3,AND($A517=AA$3,$D517<0),0)","v":0},0,{"$f":"IF($A517=AC$3,AND($A517=AC$3,$D517<0),0)","v":0},0,0]
[{"$f":"IF(B518=0,\"\",MONTH(B518))","v":""},null,null,null,{"$f":"IF(D518=\"\",\"\",IF(D518<0,\"DEBITO\",\"CREDITO\"))","v":""},null,false,false,0,{"$f":"IF($A518=I$3,AND($A518=I$3,$D518<0),0)","v":0},0,{"$f":"IF($A518=K$3,AND($A518=K$3,$D518<0),0)","v":0},0,{"$f":"IF($A518=M$3,AND($A518=M$3,$D518<0),0)","v":0},0,{"$f":"IF($A518=O$3,AND($A518=O$3,$D518<0),0)","v":0},0,0,0,0,0,0,0,{"$f":"IF($A518=W$3,AND($A518=W$3,$D518<0),0)","v":0},0,{"$f":"IF($A518=Y$3,AND($A518=Y$3,$D518<0),0)","v":0},0,{"$f":"IF($A518=AA$3,AND($A518=AA$3,$D518<0),0)","v":0},0,{"$f":"IF($A518=AC$3,AND($A518=AC$3,$D518<0),0)","v":0},0,0]
[{"$f":"IF(B519=0,\"\",MONTH(B519))","v":""},null,null,null,{"$f":"IF(D519=\"\",\"\",IF(D519<0,\"DEBITO\",\"CREDITO\"))","v":""},null,false,false,0,{"$f":"IF($A519=I$3,AND($A519=I$3,$D519<0),0)","v":0},0,{"$f":"IF($A519=K$3,AND($A519=K$3,$D519<0),0)","v":0},0,{"$f":"IF($A519=M$3,AND($A519=M$3,$D519<0),0)","v":0},0,{"$f":"IF($A519=O$3,AND($A519=O$3,$D519<0),0)","v":0},0,0,0,0,0,0,0,{"$f":"IF($A519=W$3,AND($A519=W$3,$D519<0),0)","v":0},0,{"$f":"IF($A519=Y$3,AND($A519=Y$3,$D519<0),0)","v":0},0,{"$f":"IF($A519=AA$3,AND($A519=AA$3,$D519<0),0)","v":0},0,{"$f":"IF($A519=AC$3,AND($A519=AC$3,$D519<0),0)","v":0},0,0]
[{"$f":"IF(B520=0,\"\",MONTH(B520))","v":""},null,null,null,{"$f":"IF(D520=\"\",\"\",IF(D520<0,\"DEBITO\",\"CREDITO\"))","v":""},null,false,false,0,{"$f":"IF($A520=I$3,AND($A520=I$3,$D520<0),0)","v":0},0,{"$f":"IF($A520=K$3,AND($A520=K$3,$D520<0),0)","v":0},0,{"$f":"IF($A520=M$3,AND($A520=M$3,$D520<0),0)","v":0},0,{"$f":"IF($A520=O$3,AND($A520=O$3,$D520<0),0)","v":0},0,0,0,0,0,0,0,{"$f":"IF($A520=W$3,AND($A520=W$3,$D520<0),0)","v":0},0,{"$f":"IF($A520=Y$3,AND($A520=Y$3,$D520<0),0)","v":0},0,{"$f":"IF($A520=AA$3,AND($A520=AA$3,$D520<0),0)","v":0},0,{"$f":"IF($A520=AC$3,AND($A520=AC$3,$D520<0),0)","v":0},0,0]
[{"$f":"IF(B521=0,\"\",MONTH(B521))","v":""},null,null,null,{"$f":"IF(D521=\"\",\"\",IF(D521<0,\"DEBITO\",\"CREDITO\"))","v":""},null,{"$f":"AND(A521=$E$3,D521>0)","v":false},{"$f":"AND(A521=$E$3,D521<0)","v":false},0,{"$f":"IF($A521=I$3,AND($A521=I$3,$D521<0),0)","v":0},0,{"$f":"IF($A521=K$3,AND($A521=K$3,$D521<0),0)","v":0},0,{"$f":"IF($A521=M$3,AND($A521=M$3,$D521<0),0)","v":0},0,{"$f":"IF($A521=O$3,AND($A521=O$3,$D521<0),0)","v":0},0,{"$f":"IF($A521=Q$3,AND($A521=Q$3,$D521<0),0)","v":0},0,0,0,0,0,{"$f":"IF($A521=W$3,AND($A521=W$3,$D521<0),0)","v":0},0,{"$f":"IF($A521=Y$3,AND($A521=Y$3,$D521<0),0)","v":0},0,{"$f":"IF($A521=AA$3,AND($A521=AA$3,$D521<0),0)","v":0},0,{"$f":"IF($A521=AC$3,AND($A521=AC$3,$D521<0),0)","v":0},0,{"$f":"IF($A521=AE$3,AND($A521=AE$3,$D521<0),0)","v":0}]
[{"$f":"IF(B522=0,\"\",MONTH(B522))","v":""},null,null,null,{"$f":"IF(D522=\"\",\"\",IF(D522<0,\"DEBITO\",\"CREDITO\"))","v":""},null,false,false,0,{"$f":"IF($A522=I$3,AND($A522=I$3,$D522<0),0)","v":0},0,{"$f":"IF($A522=K$3,AND($A522=K$3,$D522<0),0)","v":0},0,{"$f":"IF($A522=M$3,AND($A522=M$3,$D522<0),0)","v":0},0,{"$f":"IF($A522=O$3,AND($A522=O$3,$D522<0),0)","v":0},0,0,{"$f":"IF($A522=S$3,AND($A522=S$3,$D522>0),0)","v":0},{"$f":"IF($A522=S$3,AND($A522=S$3,$D522<0),0)","v":0},{"$f":"IF($A522=U$3,AND($A522=U$3,$D522>0),0)","v":0},{"$f":"IF($A522=U$3,AND($A522=U$3,$D522<0),0)","v":0},0,{"$f":"IF($A522=W$3,AND($A522=W$3,$D522<0),0)","v":0},0,{"$f":"IF($A522=Y$3,AND($A522=Y$3,$D522<0),0)","v":0},0,{"$f":"IF($A522=AA$3,AND($A522=AA$3,$D522<0),0)","v":0},0,{"$f":"IF($A522=AC$3,AND($A522=AC$3,$D522<0),0)","v":0},0,0]
[{"$f":"IF(B523=0,\"\",MONTH(B523))","v":""},null,null,null,{"$f":"IF(D523=\"\",\"\",IF(D523<0,\"DEBITO\",\"CREDITO\"))","v":""},null,false,false,0,{"$f":"IF($A523=I$3,AND($A523=I$3,$D523<0),0)","v":0},0,{"$f":"IF($A523=K$3,AND($A523=K$3,$D523<0),0)","v":0},0,{"$f":"IF($A523=M$3,AND($A523=M$3,$D523<0),0)","v":0},0,{"$f":"IF($A523=O$3,AND($A523=O$3,$D523<0),0)","v":0},0,0,0,0,0,0,0,{"$f":"IF($A523=W$3,AND($A523=W$3,$D523<0),0)","v":0},0,{"$f":"IF($A523=Y$3,AND($A523=Y$3,$D523<0),0)","v":0},0,{"$f":"IF($A523=AA$3,AND($A523=AA$3,$D523<0),0)","v":0},0,{"$f":"IF($A523=AC$3,AND($A523=AC$3,$D523<0),0)","v":0},0,0]
[{"$f":"IF(B524=0,\"\",MONTH(B524))","v":""},null,null,null,{"$f":"IF(D524=\"\",\"\",IF(D524<0,\"DEBITO\",\"CREDITO\"))","v":""},null,false,false,0,{"$f":"IF($A524=I$3,AND($A524=I$3,$D524<0),0)","v":0},0,{"$f":"IF($A524=K$3,AND($A524=K$3,$D524<0),0)","v":0},0,{"$f":"IF($A524=M$3,AND($A524=M$3,$D524<0),0)","v":0},0,{"$f":"IF($A524=O$3,AND($A524=O$3,$D524<0),0)","v":0},0,0,0,0,0,0,0,{"$f":"IF($A524=W$3,AND($A524=W$3,$D524<0),0)","v":0},0,{"$f":"IF($A524=Y$3,AND($A524=Y$3,$D524<0),0)","v":0},0,{"$f":"IF($A524=AA$3,AND($A524=AA$3,$D524<0),0)","v":0},0,{"$f":"IF($A524=AC$3,AND($A524=AC$3,$D524<0),0)","v":0},0,0]
[{"$f":"IF(B525=0,\"\",MONTH(B525))","v":""},null,null,null,{"$f":"IF(D525=\"\",\"\",IF(D525<0,\"DEBITO\",\"CREDITO\"))","v":""},null,false,false,0,{"$f":"IF($A525=I$3,AND($A525=I$3,$D525<0),0)","v":0},0,{"$f":"IF($A525=K$3,AND($A525=K$3,$D525<0),0)","v":0},0,{"$f":"IF($A525=M$3,AND($A525=M$3,$D525<0),0)","v":0},0,{"$f":"IF($A525=O$3,AND($A525=O$3,$D525<0),0)","v":0},0,0,0,0,0,0,0,{"$f":"IF($A525=W$3,AND($A525=W$3,$D525<0),0)","v":0},0,{"$f":"IF($A525=Y$3,AND($A525=Y$3,$D525<0),0)","v":0},0,{"$f":"IF($A525=AA$3,AND($A525=AA$3,$D525<0),0)","v":0},0,{"$f":"IF($A525=AC$3,AND($A525=AC$3,$D525<0),0)","v":0},0,0]
[{"$f":"IF(B526=0,\"\",MONTH(B526))","v":""},null,null,null,{"$f":"IF(D526=\"\",\"\",IF(D526<0,\"DEBITO\",\"CREDITO\"))","v":""},null,false,false,0,{"$f":"IF($A526=I$3,AND($A526=I$3,$D526<0),0)","v":0},0,{"$f":"IF($A526=K$3,AND($A526=K$3,$D526<0),0)","v":0},0,{"$f":"IF($A526=M$3,AND($A526=M$3,$D526<0),0)","v":0},0,{"$f":"IF($A526=O$3,AND($A526=O$3,$D526<0),0)","v":0},0,0,0,0,0,0,0,{"$f":"IF($A526=W$3,AND($A526=W$3,$D526<0),0)","v":0},0,{"$f":"IF($A526=Y$3,AND($A526=Y$3,$D526<0),0)","v":0},0,{"$f":"IF($A526=AA$3,AND($A526=AA$3,$D526<0),0)","v":0},0,{"$f":"IF($A526=AC$3,AND($A526=AC$3,$D526<0),0)","v":0},0,0]
[{"$f":"IF(B527=0,\"\",MONTH(B527))","v":""},null,null,null,{"$f":"IF(D527=\"\",\"\",IF(D527<0,\"DEBITO\",\"CREDITO\"))","v":""},null,false,false,0,{"$f":"IF($A527=I$3,AND($A527=I$3,$D527<0),0)","v":0},0,{"$f":"IF($A527=K$3,AND($A527=K$3,$D527<0),0)","v":0},0,{"$f":"IF($A527=M$3,AND($A527=M$3,$D527<0),0)","v":0},0,{"$f":"IF($A527=O$3,AND($A527=O$3,$D527<0),0)","v":0},0,0,0,0,0,0,0,{"$f":"IF($A527=W$3,AND($A527=W$3,$D527<0),0)","v":0},0,{"$f":"IF($A527=Y$3,AND($A527=Y$3,$D527<0),0)","v":0},0,{"$f":"IF($A527=AA$3,AND($A527=AA$3,$D527<0),0)","v":0},0,{"$f":"IF($A527=AC$3,AND($A527=AC$3,$D527<0),0)","v":0},0,0]
[{"$f":"IF(B528=0,\"\",MONTH(B528))","v":""},null,null,null,{"$f":"IF(D528=\"\",\"\",IF(D528<0,\"DEBITO\",\"CREDITO\"))","v":""},null,false,false,0,{"$f":"IF($A528=I$3,AND($A528=I$3,$D528<0),0)","v":0},0,{"$f":"IF($A528=K$3,AND($A528=K$3,$D528<0),0)","v":0},0,{"$f":"IF($A528=M$3,AND($A528=M$3,$D528<0),0)","v":0},0,{"$f":"IF($A528=O$3,AND($A528=O$3,$D528<0),0)","v":0},0,0,0,0,0,0,0,{"$f":"IF($A528=W$3,AND($A528=W$3,$D528<0),0)","v":0},0,{"$f":"IF($A528=Y$3,AND($A528=Y$3,$D528<0),0)","v":0},0,{"$f":"IF($A528=AA$3,AND($A528=AA$3,$D528<0),0)","v":0},0,{"$f":"IF($A528=AC$3,AND($A528=AC$3,$D528<0),0)","v":0},0,0]
[{"$f":"IF(B529=0,\"\",MONTH(B529))","v":""},null,null,null,{"$f":"IF(D529=\"\",\"\",IF(D529<0,\"DEBITO\",\"CREDITO\"))","v":""},null,false,false,0,{"$f":"IF($A529=I$3,AND($A529=I$3,$D529<0),0)","v":0},0,{"$f":"IF($A529=K$3,AND($A529=K$3,$D529<0),0)","v":0},0,{"$f":"IF($A529=M$3,AND($A529=M$3,$D529<0),0)","v":0},0,{"$f":"IF($A529=O$3,AND($A529=O$3,$D529<0),0)","v":0},0,0,0,0,0,0,0,{"$f":"IF($A529=W$3,AND($A529=W$3,$D529<0),0)","v":0},0,{"$f":"IF($A529=Y$3,AND($A529=Y$3,$D529<0),0)","v":0},0,{"$f":"IF($A529=AA$3,AND($A529=AA$3,$D529<0),0)","v":0},0,{"$f":"IF($A529=AC$3,AND($A529=AC$3,$D529<0),0)","v":0},0,0]
[{"$f":"IF(B530=0,\"\",MONTH(B530))","v":""},null,null,null,{"$f":"IF(D530=\"\",\"\",IF(D530<0,\"DEBITO\",\"CREDITO\"))","v":""},null,false,false,0,{"$f":"IF($A530=I$3,AND($A530=I$3,$D530<0),0)","v":0},0,{"$f":"IF($A530=K$3,AND($A530=K$3,$D530<0),0)","v":0},0,{"$f":"IF($A530=M$3,AND($A530=M$3,$D530<0),0)","v":0},0,{"$f":"IF($A530=O$3,AND($A530=O$3,$D530<0),0)","v":0},0,0,0,0,0,0,0,{"$f":"IF($A530=W$3,AND($A530=W$3,$D530<0),0)","v":0},0,{"$f":"IF($A530=Y$3,AND($A530=Y$3,$D530<0),0)","v":0},0,{"$f":"IF($A530=AA$3,AND($A530=AA$3,$D530<0),0)","v":0},0,{"$f":"IF($A530=AC$3,AND($A530=AC$3,$D530<0),0)","v":0},0,0]
[{"$f":"IF(B531=0,\"\",MONTH(B531))","v":""},null,null,null,{"$f":"IF(D531=\"\",\"\",IF(D531<0,\"DEBITO\",\"CREDITO\"))","v":""},null,false,false,0,{"$f":"IF($A531=I$3,AND($A531=I$3,$D531<0),0)","v":0},0,{"$f":"IF($A531=K$3,AND($A531=K$3,$D531<0),0)","v":0},0,{"$f":"IF($A531=M$3,AND($A531=M$3,$D531<0),0)","v":0},0,{"$f":"IF($A531=O$3,AND($A531=O$3,$D531<0),0)","v":0},0,0,0,0,0,0,0,{"$f":"IF($A531=W$3,AND($A531=W$3,$D531<0),0)","v":0},0,{"$f":"IF($A531=Y$3,AND($A531=Y$3,$D531<0),0)","v":0},0,{"$f":"IF($A531=AA$3,AND($A531=AA$3,$D531<0),0)","v":0},0,{"$f":"IF($A531=AC$3,AND($A531=AC$3,$D531<0),0)","v":0},0,0]
[{"$f":"IF(B532=0,\"\",MONTH(B532))","v":""},null,null,null,{"$f":"IF(D532=\"\",\"\",IF(D532<0,\"DEBITO\",\"CREDITO\"))","v":""},null,false,false,0,{"$f":"IF($A532=I$3,AND($A532=I$3,$D532<0),0)","v":0},0,{"$f":"IF($A532=K$3,AND($A532=K$3,$D532<0),0)","v":0},0,{"$f":"IF($A532=M$3,AND($A532=M$3,$D532<0),0)","v":0},0,{"$f":"IF($A532=O$3,AND($A532=O$3,$D532<0),0)","v":0},0,0,0,0,0,0,0,{"$f":"IF($A532=W$3,AND($A532=W$3,$D532<0),0)","v":0},0,{"$f":"IF($A532=Y$3,AND($A532=Y$3,$D532<0),0)","v":0},0,{"$f":"IF($A532=AA$3,AND($A532=AA$3,$D532<0),0)","v":0},0,{"$f":"IF($A532=AC$3,AND($A532=AC$3,$D532<0),0)","v":0},0,0]
[{"$f":"IF(B533=0,\"\",MONTH(B533))","v":""},null,null,null,{"$f":"IF(D533=\"\",\"\",IF(D533<0,\"DEBITO\",\"CREDITO\"))","v":""},null,false,false,0,{"$f":"IF($A533=I$3,AND($A533=I$3,$D533<0),0)","v":0},0,{"$f":"IF($A533=K$3,AND($A533=K$3,$D533<0),0)","v":0},0,{"$f":"IF($A533=M$3,AND($A533=M$3,$D533<0),0)","v":0},0,{"$f":"IF($A533=O$3,AND($A533=O$3,$D533<0),0)","v":0},0,0,0,0,0,0,0,{"$f":"IF($A533=W$3,AND($A533=W$3,$D533<0),0)","v":0},0,{"$f":"IF($A533=Y$3,AND($A533=Y$3,$D533<0),0)","v":0},0,{"$f":"IF($A533=AA$3,AND($A533=AA$3,$D533<0),0)","v":0},0,{"$f":"IF($A533=AC$3,AND($A533=AC$3,$D533<0),0)","v":0},0,0]
[{"$f":"IF(B534=0,\"\",MONTH(B534))","v":""},null,null,null,{"$f":"IF(D534=\"\",\"\",IF(D534<0,\"DEBITO\",\"CREDITO\"))","v":""},null,false,false,0,{"$f":"IF($A534=I$3,AND($A534=I$3,$D534<0),0)","v":0},0,{"$f":"IF($A534=K$3,AND($A534=K$3,$D534<0),0)","v":0},0,{"$f":"IF($A534=M$3,AND($A534=M$3,$D534<0),0)","v":0},0,{"$f":"IF($A534=O$3,AND($A534=O$3,$D534<0),0)","v":0},0,0,0,0,0,0,0,{"$f":"IF($A534=W$3,AND($A534=W$3,$D534<0),0)","v":0},0,{"$f":"IF($A534=Y$3,AND($A534=Y$3,$D534<0),0)","v":0},0,{"$f":"IF($A534=AA$3,AND($A534=AA$3,$D534<0),0)","v":0},0,{"$f":"IF($A534=AC$3,AND($A534=AC$3,$D534<0),0)","v":0},0,0]
[{"$f":"IF(B535=0,\"\",MONTH(B535))","v":""},null,null,null,{"$f":"IF(D535=\"\",\"\",IF(D535<0,\"DEBITO\",\"CREDITO\"))","v":""},null,false,false,0,{"$f":"IF($A535=I$3,AND($A535=I$3,$D535<0),0)","v":0},0,{"$f":"IF($A535=K$3,AND($A535=K$3,$D535<0),0)","v":0},0,{"$f":"IF($A535=M$3,AND($A535=M$3,$D535<0),0)","v":0},0,{"$f":"IF($A535=O$3,AND($A535=O$3,$D535<0),0)","v":0},0,0,0,0,0,0,0,{"$f":"IF($A535=W$3,AND($A535=W$3,$D535<0),0)","v":0},0,{"$f":"IF($A535=Y$3,AND($A535=Y$3,$D535<0),0)","v":0},0,{"$f":"IF($A535=AA$3,AND($A535=AA$3,$D535<0),0)","v":0},0,{"$f":"IF($A535=AC$3,AND($A535=AC$3,$D535<0),0)","v":0},0,0]
[{"$f":"IF(B536=0,\"\",MONTH(B536))","v":""},null,null,null,{"$f":"IF(D536=\"\",\"\",IF(D536<0,\"DEBITO\",\"CREDITO\"))","v":""},null,false,false,0,{"$f":"IF($A536=I$3,AND($A536=I$3,$D536<0),0)","v":0},0,{"$f":"IF($A536=K$3,AND($A536=K$3,$D536<0),0)","v":0},0,{"$f":"IF($A536=M$3,AND($A536=M$3,$D536<0),0)","v":0},0,{"$f":"IF($A536=O$3,AND($A536=O$3,$D536<0),0)","v":0},0,0,0,0,0,0,0,{"$f":"IF($A536=W$3,AND($A536=W$3,$D536<0),0)","v":0},0,{"$f":"IF($A536=Y$3,AND($A536=Y$3,$D536<0),0)","v":0},0,{"$f":"IF($A536=AA$3,AND($A536=AA$3,$D536<0),0)","v":0},0,{"$f":"IF($A536=AC$3,AND($A536=AC$3,$D536<0),0)","v":0},0,0]
[{"$f":"IF(B537=0,\"\",MONTH(B537))","v":""},null,null,null,{"$f":"IF(D537=\"\",\"\",IF(D537<0,\"DEBITO\",\"CREDITO\"))","v":""},null,false,false,{"$f":"IF($A537=I$3,AND($A537=I$3,$D537>0),0)","v":0},{"$f":"IF($A537=I$3,AND($A537=I$3,$D537<0),0)","v":0},{"$f":"IF($A537=K$3,AND($A537=K$3,$D537>0),0)","v":0},{"$f":"IF($A537=K$3,AND($A537=K$3,$D537<0),0)","v":0},{"$f":"IF($A537=M$3,AND($A537=M$3,$D537>0),0)","v":0},{"$f":"IF($A537=M$3,AND($A537=M$3,$D537<0),0)","v":0},{"$f":"IF($A537=O$3,AND($A537=O$3,$D537>0),0)","v":0},{"$f":"IF($A537=O$3,AND($A537=O$3,$D537<0),0)","v":0},{"$f":"IF($A537=Q$3,AND($A537=Q$3,$D537>0),0)","v":0},0,0,0,0,0,{"$f":"IF($A537=W$3,AND($A537=W$3,$D537>0),0)","v":0},{"$f":"IF($A537=W$3,AND($A537=W$3,$D537<0),0)","v":0},{"$f":"IF($A537=Y$3,AND($A537=Y$3,$D537>0),0)","v":0},{"$f":"IF($A537=Y$3,AND($A537=Y$3,$D537<0),0)","v":0},{"$f":"IF($A537=AA$3,AND($A537=AA$3,$D537>0),0)","v":0},{"$f":"IF($A537=AA$3,AND($A537=AA$3,$D537<0),0)","v":0},{"$f":"IF($A537=AC$3,AND($A537=AC$3,$D537>0),0)","v":0},{"$f":"IF($A537=AC$3,AND($A537=AC$3,$D537<0),0)","v":0},{"$f":"IF($A537=AE$3,AND($A537=AE$3,$D537>0),0)","v":0},0]
[{"$f":"IF(B538=0,\"\",MONTH(B538))","v":""},null,null,null,{"$f":"IF(D538=\"\",\"\",IF(D538<0,\"DEBITO\",\"CREDITO\"))","v":""},null,false,false,0,{"$f":"IF($A538=I$3,AND($A538=I$3,$D538<0),0)","v":0},0,{"$f":"IF($A538=K$3,AND($A538=K$3,$D538<0),0)","v":0},0,{"$f":"IF($A538=M$3,AND($A538=M$3,$D538<0),0)","v":0},0,{"$f":"IF($A538=O$3,AND($A538=O$3,$D538<0),0)","v":0},0,0,0,0,0,0,0,{"$f":"IF($A538=W$3,AND($A538=W$3,$D538<0),0)","v":0},0,{"$f":"IF($A538=Y$3,AND($A538=Y$3,$D538<0),0)","v":0},0,{"$f":"IF($A538=AA$3,AND($A538=AA$3,$D538<0),0)","v":0},0,{"$f":"IF($A538=AC$3,AND($A538=AC$3,$D538<0),0)","v":0},0,0]
[{"$f":"IF(B539=0,\"\",MONTH(B539))","v":""},null,null,null,{"$f":"IF(D539=\"\",\"\",IF(D539<0,\"DEBITO\",\"CREDITO\"))","v":""},null,false,false,0,{"$f":"IF($A539=I$3,AND($A539=I$3,$D539<0),0)","v":0},0,{"$f":"IF($A539=K$3,AND($A539=K$3,$D539<0),0)","v":0},0,{"$f":"IF($A539=M$3,AND($A539=M$3,$D539<0),0)","v":0},0,{"$f":"IF($A539=O$3,AND($A539=O$3,$D539<0),0)","v":0},0,0,0,0,0,0,0,{"$f":"IF($A539=W$3,AND($A539=W$3,$D539<0),0)","v":0},0,{"$f":"IF($A539=Y$3,AND($A539=Y$3,$D539<0),0)","v":0},0,{"$f":"IF($A539=AA$3,AND($A539=AA$3,$D539<0),0)","v":0},0,{"$f":"IF($A539=AC$3,AND($A539=AC$3,$D539<0),0)","v":0},0,0]
[{"$f":"IF(B540=0,\"\",MONTH(B540))","v":""},null,null,null,{"$f":"IF(D540=\"\",\"\",IF(D540<0,\"DEBITO\",\"CREDITO\"))","v":""},null,false,false,0,{"$f":"IF($A540=I$3,AND($A540=I$3,$D540<0),0)","v":0},0,{"$f":"IF($A540=K$3,AND($A540=K$3,$D540<0),0)","v":0},0,{"$f":"IF($A540=M$3,AND($A540=M$3,$D540<0),0)","v":0},0,{"$f":"IF($A540=O$3,AND($A540=O$3,$D540<0),0)","v":0},0,0,0,0,0,0,0,{"$f":"IF($A540=W$3,AND($A540=W$3,$D540<0),0)","v":0},0,{"$f":"IF($A540=Y$3,AND($A540=Y$3,$D540<0),0)","v":0},0,{"$f":"IF($A540=AA$3,AND($A540=AA$3,$D540<0),0)","v":0},0,{"$f":"IF($A540=AC$3,AND($A540=AC$3,$D540<0),0)","v":0},0,0]
[{"$f":"IF(B541=0,\"\",MONTH(B541))","v":""},null,null,null,{"$f":"IF(D541=\"\",\"\",IF(D541<0,\"DEBITO\",\"CREDITO\"))","v":""},null,false,false,0,{"$f":"IF($A541=I$3,AND($A541=I$3,$D541<0),0)","v":0},0,{"$f":"IF($A541=K$3,AND($A541=K$3,$D541<0),0)","v":0},0,{"$f":"IF($A541=M$3,AND($A541=M$3,$D541<0),0)","v":0},0,{"$f":"IF($A541=O$3,AND($A541=O$3,$D541<0),0)","v":0},0,0,0,0,0,0,0,{"$f":"IF($A541=W$3,AND($A541=W$3,$D541<0),0)","v":0},0,{"$f":"IF($A541=Y$3,AND($A541=Y$3,$D541<0),0)","v":0},0,{"$f":"IF($A541=AA$3,AND($A541=AA$3,$D541<0),0)","v":0},0,{"$f":"IF($A541=AC$3,AND($A541=AC$3,$D541<0),0)","v":0},0,0]
[{"$f":"IF(B542=0,\"\",MONTH(B542))","v":""},null,null,null,{"$f":"IF(D542=\"\",\"\",IF(D542<0,\"DEBITO\",\"CREDITO\"))","v":""},null,false,false,0,{"$f":"IF($A542=I$3,AND($A542=I$3,$D542<0),0)","v":0},0,{"$f":"IF($A542=K$3,AND($A542=K$3,$D542<0),0)","v":0},0,{"$f":"IF($A542=M$3,AND($A542=M$3,$D542<0),0)","v":0},0,{"$f":"IF($A542=O$3,AND($A542=O$3,$D542<0),0)","v":0},0,0,0,0,0,0,0,{"$f":"IF($A542=W$3,AND($A542=W$3,$D542<0),0)","v":0},0,{"$f":"IF($A542=Y$3,AND($A542=Y$3,$D542<0),0)","v":0},0,{"$f":"IF($A542=AA$3,AND($A542=AA$3,$D542<0),0)","v":0},0,{"$f":"IF($A542=AC$3,AND($A542=AC$3,$D542<0),0)","v":0},0,0]
[{"$f":"IF(B543=0,\"\",MONTH(B543))","v":""},null,null,null,{"$f":"IF(D543=\"\",\"\",IF(D543<0,\"DEBITO\",\"CREDITO\"))","v":""},null,false,false,0,{"$f":"IF($A543=I$3,AND($A543=I$3,$D543<0),0)","v":0},0,{"$f":"IF($A543=K$3,AND($A543=K$3,$D543<0),0)","v":0},0,{"$f":"IF($A543=M$3,AND($A543=M$3,$D543<0),0)","v":0},0,{"$f":"IF($A543=O$3,AND($A543=O$3,$D543<0),0)","v":0},0,0,0,0,0,0,0,{"$f":"IF($A543=W$3,AND($A543=W$3,$D543<0),0)","v":0},0,{"$f":"IF($A543=Y$3,AND($A543=Y$3,$D543<0),0)","v":0},0,{"$f":"IF($A543=AA$3,AND($A543=AA$3,$D543<0),0)","v":0},0,{"$f":"IF($A543=AC$3,AND($A543=AC$3,$D543<0),0)","v":0},0,0]
[{"$f":"IF(B544=0,\"\",MONTH(B544))","v":""},null,null,null,{"$f":"IF(D544=\"\",\"\",IF(D544<0,\"DEBITO\",\"CREDITO\"))","v":""},null,false,false,0,{"$f":"IF($A544=I$3,AND($A544=I$3,$D544<0),0)","v":0},0,{"$f":"IF($A544=K$3,AND($A544=K$3,$D544<0),0)","v":0},0,{"$f":"IF($A544=M$3,AND($A544=M$3,$D544<0),0)","v":0},0,{"$f":"IF($A544=O$3,AND($A544=O$3,$D544<0),0)","v":0},0,0,0,0,0,0,0,{"$f":"IF($A544=W$3,AND($A544=W$3,$D544<0),0)","v":0},0,{"$f":"IF($A544=Y$3,AND($A544=Y$3,$D544<0),0)","v":0},0,{"$f":"IF($A544=AA$3,AND($A544=AA$3,$D544<0),0)","v":0},0,{"$f":"IF($A544=AC$3,AND($A544=AC$3,$D544<0),0)","v":0},0,0]
[{"$f":"IF(B545=0,\"\",MONTH(B545))","v":""},null,null,null,{"$f":"IF(D545=\"\",\"\",IF(D545<0,\"DEBITO\",\"CREDITO\"))","v":""},null,false,false,0,{"$f":"IF($A545=I$3,AND($A545=I$3,$D545<0),0)","v":0},0,{"$f":"IF($A545=K$3,AND($A545=K$3,$D545<0),0)","v":0},0,{"$f":"IF($A545=M$3,AND($A545=M$3,$D545<0),0)","v":0},0,{"$f":"IF($A545=O$3,AND($A545=O$3,$D545<0),0)","v":0},0,0,0,0,0,0,0,{"$f":"IF($A545=W$3,AND($A545=W$3,$D545<0),0)","v":0},0,{"$f":"IF($A545=Y$3,AND($A545=Y$3,$D545<0),0)","v":0},0,{"$f":"IF($A545=AA$3,AND($A545=AA$3,$D545<0),0)","v":0},0,{"$f":"IF($A545=AC$3,AND($A545=AC$3,$D545<0),0)","v":0},0,0]
[{"$f":"IF(B546=0,\"\",MONTH(B546))","v":""},null,null,null,{"$f":"IF(D546=\"\",\"\",IF(D546<0,\"DEBITO\",\"CREDITO\"))","v":""},null,false,false,0,{"$f":"IF($A546=I$3,AND($A546=I$3,$D546<0),0)","v":0},0,{"$f":"IF($A546=K$3,AND($A546=K$3,$D546<0),0)","v":0},0,{"$f":"IF($A546=M$3,AND($A546=M$3,$D546<0),0)","v":0},0,{"$f":"IF($A546=O$3,AND($A546=O$3,$D546<0),0)","v":0},0,0,0,0,0,0,0,{"$f":"IF($A546=W$3,AND($A546=W$3,$D546<0),0)","v":0},0,{"$f":"IF($A546=Y$3,AND($A546=Y$3,$D546<0),0)","v":0},0,{"$f":"IF($A546=AA$3,AND($A546=AA$3,$D546<0),0)","v":0},0,{"$f":"IF($A546=AC$3,AND($A546=AC$3,$D546<0),0)","v":0},0,0]
[{"$f":"IF(B547=0,\"\",MONTH(B547))","v":""},null,null,null,{"$f":"IF(D547=\"\",\"\",IF(D547<0,\"DEBITO\",\"CREDITO\"))","v":""},null,false,false,0,{"$f":"IF($A547=I$3,AND($A547=I$3,$D547<0),0)","v":0},0,{"$f":"IF($A547=K$3,AND($A547=K$3,$D547<0),0)","v":0},0,{"$f":"IF($A547=M$3,AND($A547=M$3,$D547<0),0)","v":0},0,{"$f":"IF($A547=O$3,AND($A547=O$3,$D547<0),0)","v":0},0,0,0,0,0,0,0,{"$f":"IF($A547=W$3,AND($A547=W$3,$D547<0),0)","v":0},0,{"$f":"IF($A547=Y$3,AND($A547=Y$3,$D547<0),0)","v":0},0,{"$f":"IF($A547=AA$3,AND($A547=AA$3,$D547<0),0)","v":0},0,{"$f":"IF($A547=AC$3,AND($A547=AC$3,$D547<0),0)","v":0},0,0]
[{"$f":"IF(B548=0,\"\",MONTH(B548))","v":""},null,null,null,{"$f":"IF(D548=\"\",\"\",IF(D548<0,\"DEBITO\",\"CREDITO\"))","v":""},null,false,false,0,{"$f":"IF($A548=I$3,AND($A548=I$3,$D548<0),0)","v":0},0,{"$f":"IF($A548=K$3,AND($A548=K$3,$D548<0),0)","v":0},0,{"$f":"IF($A548=M$3,AND($A548=M$3,$D548<0),0)","v":0},0,{"$f":"IF($A548=O$3,AND($A548=O$3,$D548<0),0)","v":0},0,0,0,0,0,0,0,{"$f":"IF($A548=W$3,AND($A548=W$3,$D548<0),0)","v":0},0,{"$f":"IF($A548=Y$3,AND($A548=Y$3,$D548<0),0)","v":0},0,{"$f":"IF($A548=AA$3,AND($A548=AA$3,$D548<0),0)","v":0},0,{"$f":"IF($A548=AC$3,AND($A548=AC$3,$D548<0),0)","v":0},0,0]
[{"$f":"IF(B549=0,\"\",MONTH(B549))","v":""},null,null,null,{"$f":"IF(D549=\"\",\"\",IF(D549<0,\"DEBITO\",\"CREDITO\"))","v":""},null,false,false,0,{"$f":"IF($A549=I$3,AND($A549=I$3,$D549<0),0)","v":0},0,{"$f":"IF($A549=K$3,AND($A549=K$3,$D549<0),0)","v":0},0,{"$f":"IF($A549=M$3,AND($A549=M$3,$D549<0),0)","v":0},0,{"$f":"IF($A549=O$3,AND($A549=O$3,$D549<0),0)","v":0},0,0,0,0,0,0,0,{"$f":"IF($A549=W$3,AND($A549=W$3,$D549<0),0)","v":0},0,{"$f":"IF($A549=Y$3,AND($A549=Y$3,$D549<0),0)","v":0},0,{"$f":"IF($A549=AA$3,AND($A549=AA$3,$D549<0),0)","v":0},0,{"$f":"IF($A549=AC$3,AND($A549=AC$3,$D549<0),0)","v":0},0,0]
[{"$f":"IF(B550=0,\"\",MONTH(B550))","v":""},null,null,null,{"$f":"IF(D550=\"\",\"\",IF(D550<0,\"DEBITO\",\"CREDITO\"))","v":""},null,false,false,0,{"$f":"IF($A550=I$3,AND($A550=I$3,$D550<0),0)","v":0},0,{"$f":"IF($A550=K$3,AND($A550=K$3,$D550<0),0)","v":0},0,{"$f":"IF($A550=M$3,AND($A550=M$3,$D550<0),0)","v":0},0,{"$f":"IF($A550=O$3,AND($A550=O$3,$D550<0),0)","v":0},0,0,0,0,0,0,0,{"$f":"IF($A550=W$3,AND($A550=W$3,$D550<0),0)","v":0},0,{"$f":"IF($A550=Y$3,AND($A550=Y$3,$D550<0),0)","v":0},0,{"$f":"IF($A550=AA$3,AND($A550=AA$3,$D550<0),0)","v":0},0,{"$f":"IF($A550=AC$3,AND($A550=AC$3,$D550<0),0)","v":0},0,0]
[{"$f":"IF(B551=0,\"\",MONTH(B551))","v":""},null,null,null,{"$f":"IF(D551=\"\",\"\",IF(D551<0,\"DEBITO\",\"CREDITO\"))","v":""},null,false,false,0,{"$f":"IF($A551=I$3,AND($A551=I$3,$D551<0),0)","v":0},0,{"$f":"IF($A551=K$3,AND($A551=K$3,$D551<0),0)","v":0},0,{"$f":"IF($A551=M$3,AND($A551=M$3,$D551<0),0)","v":0},0,{"$f":"IF($A551=O$3,AND($A551=O$3,$D551<0),0)","v":0},0,0,0,0,0,0,0,{"$f":"IF($A551=W$3,AND($A551=W$3,$D551<0),0)","v":0},0,{"$f":"IF($A551=Y$3,AND($A551=Y$3,$D551<0),0)","v":0},0,{"$f":"IF($A551=AA$3,AND($A551=AA$3,$D551<0),0)","v":0},0,{"$f":"IF($A551=AC$3,AND($A551=AC$3,$D551<0),0)","v":0},0,0]
[{"$f":"IF(B552=0,\"\",MONTH(B552))","v":""},null,null,null,{"$f":"IF(D552=\"\",\"\",IF(D552<0,\"DEBITO\",\"CREDITO\"))","v":""},null,false,false,0,{"$f":"IF($A552=I$3,AND($A552=I$3,$D552<0),0)","v":0},0,{"$f":"IF($A552=K$3,AND($A552=K$3,$D552<0),0)","v":0},0,{"$f":"IF($A552=M$3,AND($A552=M$3,$D552<0),0)","v":0},0,{"$f":"IF($A552=O$3,AND($A552=O$3,$D552<0),0)","v":0},0,0,0,0,0,0,0,{"$f":"IF($A552=W$3,AND($A552=W$3,$D552<0),0)","v":0},0,{"$f":"IF($A552=Y$3,AND($A552=Y$3,$D552<0),0)","v":0},0,{"$f":"IF($A552=AA$3,AND($A552=AA$3,$D552<0),0)","v":0},0,{"$f":"IF($A552=AC$3,AND($A552=AC$3,$D552<0),0)","v":0},0,0]
[{"$f":"IF(B553=0,\"\",MONTH(B553))","v":""},null,null,null,{"$f":"IF(D553=\"\",\"\",IF(D553<0,\"DEBITO\",\"CREDITO\"))","v":""},null,false,false,0,{"$f":"IF($A553=I$3,AND($A553=I$3,$D553<0),0)","v":0},0,{"$f":"IF($A553=K$3,AND($A553=K$3,$D553<0),0)","v":0},0,{"$f":"IF($A553=M$3,AND($A553=M$3,$D553<0),0)","v":0},0,{"$f":"IF($A553=O$3,AND($A553=O$3,$D553<0),0)","v":0},0,0,0,0,0,0,0,{"$f":"IF($A553=W$3,AND($A553=W$3,$D553<0),0)","v":0},0,{"$f":"IF($A553=Y$3,AND($A553=Y$3,$D553<0),0)","v":0},0,{"$f":"IF($A553=AA$3,AND($A553=AA$3,$D553<0),0)","v":0},0,{"$f":"IF($A553=AC$3,AND($A553=AC$3,$D553<0),0)","v":0},0,0]
[{"$f":"IF(B554=0,\"\",MONTH(B554))","v":""},null,null,null,{"$f":"IF(D554=\"\",\"\",IF(D554<0,\"DEBITO\",\"CREDITO\"))","v":""},null,false,false,0,{"$f":"IF($A554=I$3,AND($A554=I$3,$D554<0),0)","v":0},0,{"$f":"IF($A554=K$3,AND($A554=K$3,$D554<0),0)","v":0},0,{"$f":"IF($A554=M$3,AND($A554=M$3,$D554<0),0)","v":0},0,{"$f":"IF($A554=O$3,AND($A554=O$3,$D554<0),0)","v":0},0,0,0,0,0,0,0,{"$f":"IF($A554=W$3,AND($A554=W$3,$D554<0),0)","v":0},0,{"$f":"IF($A554=Y$3,AND($A554=Y$3,$D554<0),0)","v":0},0,{"$f":"IF($A554=AA$3,AND($A554=AA$3,$D554<0),0)","v":0},0,{"$f":"IF($A554=AC$3,AND($A554=AC$3,$D554<0),0)","v":0},0,0]
[{"$f":"IF(B555=0,\"\",MONTH(B555))","v":""},null,null,null,{"$f":"IF(D555=\"\",\"\",IF(D555<0,\"DEBITO\",\"CREDITO\"))","v":""},null,false,false,0,{"$f":"IF($A555=I$3,AND($A555=I$3,$D555<0),0)","v":0},0,{"$f":"IF($A555=K$3,AND($A555=K$3,$D555<0),0)","v":0},0,{"$f":"IF($A555=M$3,AND($A555=M$3,$D555<0),0)","v":0},0,{"$f":"IF($A555=O$3,AND($A555=O$3,$D555<0),0)","v":0},0,0,0,0,0,0,0,{"$f":"IF($A555=W$3,AND($A555=W$3,$D555<0),0)","v":0},0,{"$f":"IF($A555=Y$3,AND($A555=Y$3,$D555<0),0)","v":0},0,{"$f":"IF($A555=AA$3,AND($A555=AA$3,$D555<0),0)","v":0},0,{"$f":"IF($A555=AC$3,AND($A555=AC$3,$D555<0),0)","v":0},0,0]
[{"$f":"IF(B556=0,\"\",MONTH(B556))","v":""},null,null,null,{"$f":"IF(D556=\"\",\"\",IF(D556<0,\"DEBITO\",\"CREDITO\"))","v":""},null,false,false,0,{"$f":"IF($A556=I$3,AND($A556=I$3,$D556<0),0)","v":0},0,{"$f":"IF($A556=K$3,AND($A556=K$3,$D556<0),0)","v":0},0,{"$f":"IF($A556=M$3,AND($A556=M$3,$D556<0),0)","v":0},0,{"$f":"IF($A556=O$3,AND($A556=O$3,$D556<0),0)","v":0},0,0,0,0,0,0,0,{"$f":"IF($A556=W$3,AND($A556=W$3,$D556<0),0)","v":0},0,{"$f":"IF($A556=Y$3,AND($A556=Y$3,$D556<0),0)","v":0},0,{"$f":"IF($A556=AA$3,AND($A556=AA$3,$D556<0),0)","v":0},0,{"$f":"IF($A556=AC$3,AND($A556=AC$3,$D556<0),0)","v":0},0,0]
[{"$f":"IF(B557=0,\"\",MONTH(B557))","v":""},null,null,null,{"$f":"IF(D557=\"\",\"\",IF(D557<0,\"DEBITO\",\"CREDITO\"))","v":""},null,false,false,0,{"$f":"IF($A557=I$3,AND($A557=I$3,$D557<0),0)","v":0},0,{"$f":"IF($A557=K$3,AND($A557=K$3,$D557<0),0)","v":0},0,{"$f":"IF($A557=M$3,AND($A557=M$3,$D557<0),0)","v":0},0,{"$f":"IF($A557=O$3,AND($A557=O$3,$D557<0),0)","v":0},0,0,0,0,0,0,0,{"$f":"IF($A557=W$3,AND($A557=W$3,$D557<0),0)","v":0},0,{"$f":"IF($A557=Y$3,AND($A557=Y$3,$D557<0),0)","v":0},0,{"$f":"IF($A557=AA$3,AND($A557=AA$3,$D557<0),0)","v":0},0,{"$f":"IF($A557=AC$3,AND($A557=AC$3,$D557<0),0)","v":0},0,0]
[{"$f":"IF(B558=0,\"\",MONTH(B558))","v":""},null,null,null,{"$f":"IF(D558=\"\",\"\",IF(D558<0,\"DEBITO\",\"CREDITO\"))","v":""},null,false,false,0,{"$f":"IF($A558=I$3,AND($A558=I$3,$D558<0),0)","v":0},0,{"$f":"IF($A558=K$3,AND($A558=K$3,$D558<0),0)","v":0},0,{"$f":"IF($A558=M$3,AND($A558=M$3,$D558<0),0)","v":0},0,{"$f":"IF($A558=O$3,AND($A558=O$3,$D558<0),0)","v":0},0,0,0,0,0,0,0,{"$f":"IF($A558=W$3,AND($A558=W$3,$D558<0),0)","v":0},0,{"$f":"IF($A558=Y$3,AND($A558=Y$3,$D558<0),0)","v":0},0,{"$f":"IF($A558=AA$3,AND($A558=AA$3,$D558<0),0)","v":0},0,{"$f":"IF($A558=AC$3,AND($A558=AC$3,$D558<0),0)","v":0},0,0]
[{"$f":"IF(B559=0,\"\",MONTH(B559))","v":""},null,null,null,{"$f":"IF(D559=\"\",\"\",IF(D559<0,\"DEBITO\",\"CREDITO\"))","v":""},null,false,false,0,{"$f":"IF($A559=I$3,AND($A559=I$3,$D559<0),0)","v":0},0,{"$f":"IF($A559=K$3,AND($A559=K$3,$D559<0),0)","v":0},0,{"$f":"IF($A559=M$3,AND($A559=M$3,$D559<0),0)","v":0},0,{"$f":"IF($A559=O$3,AND($A559=O$3,$D559<0),0)","v":0},0,0,0,0,0,0,0,{"$f":"IF($A559=W$3,AND($A559=W$3,$D559<0),0)","v":0},0,{"$f":"IF($A559=Y$3,AND($A559=Y$3,$D559<0),0)","v":0},0,{"$f":"IF($A559=AA$3,AND($A559=AA$3,$D559<0),0)","v":0},0,{"$f":"IF($A559=AC$3,AND($A559=AC$3,$D559<0),0)","v":0},0,0]
[{"$f":"IF(B560=0,\"\",MONTH(B560))","v":""},null,null,null,{"$f":"IF(D560=\"\",\"\",IF(D560<0,\"DEBITO\",\"CREDITO\"))","v":""},null,false,false,0,{"$f":"IF($A560=I$3,AND($A560=I$3,$D560<0),0)","v":0},0,{"$f":"IF($A560=K$3,AND($A560=K$3,$D560<0),0)","v":0},0,{"$f":"IF($A560=M$3,AND($A560=M$3,$D560<0),0)","v":0},0,{"$f":"IF($A560=O$3,AND($A560=O$3,$D560<0),0)","v":0},0,0,0,0,0,0,0,{"$f":"IF($A560=W$3,AND($A560=W$3,$D560<0),0)","v":0},0,{"$f":"IF($A560=Y$3,AND($A560=Y$3,$D560<0),0)","v":0},0,{"$f":"IF($A560=AA$3,AND($A560=AA$3,$D560<0),0)","v":0},0,{"$f":"IF($A560=AC$3,AND($A560=AC$3,$D560<0),0)","v":0},0,0]
[{"$f":"IF(B561=0,\"\",MONTH(B561))","v":""},null,null,null,{"$f":"IF(D561=\"\",\"\",IF(D561<0,\"DEBITO\",\"CREDITO\"))","v":""},null,false,false,0,{"$f":"IF($A561=I$3,AND($A561=I$3,$D561<0),0)","v":0},0,{"$f":"IF($A561=K$3,AND($A561=K$3,$D561<0),0)","v":0},0,{"$f":"IF($A561=M$3,AND($A561=M$3,$D561<0),0)","v":0},0,{"$f":"IF($A561=O$3,AND($A561=O$3,$D561<0),0)","v":0},0,0,0,0,0,0,0,{"$f":"IF($A561=W$3,AND($A561=W$3,$D561<0),0)","v":0},0,{"$f":"IF($A561=Y$3,AND($A561=Y$3,$D561<0),0)","v":0},0,{"$f":"IF($A561=AA$3,AND($A561=AA$3,$D561<0),0)","v":0},0,{"$f":"IF($A561=AC$3,AND($A561=AC$3,$D561<0),0)","v":0},0,0]
[{"$f":"IF(B562=0,\"\",MONTH(B562))","v":""},null,null,null,{"$f":"IF(D562=\"\",\"\",IF(D562<0,\"DEBITO\",\"CREDITO\"))","v":""},null,false,false,0,{"$f":"IF($A562=I$3,AND($A562=I$3,$D562<0),0)","v":0},0,{"$f":"IF($A562=K$3,AND($A562=K$3,$D562<0),0)","v":0},0,{"$f":"IF($A562=M$3,AND($A562=M$3,$D562<0),0)","v":0},0,{"$f":"IF($A562=O$3,AND($A562=O$3,$D562<0),0)","v":0},0,0,0,0,0,0,0,{"$f":"IF($A562=W$3,AND($A562=W$3,$D562<0),0)","v":0},0,{"$f":"IF($A562=Y$3,AND($A562=Y$3,$D562<0),0)","v":0},0,{"$f":"IF($A562=AA$3,AND($A562=AA$3,$D562<0),0)","v":0},0,{"$f":"IF($A562=AC$3,AND($A562=AC$3,$D562<0),0)","v":0},0,0]
[{"$f":"IF(B563=0,\"\",MONTH(B563))","v":""},null,null,null,{"$f":"IF(D563=\"\",\"\",IF(D563<0,\"DEBITO\",\"CREDITO\"))","v":""},null,false,false,0,{"$f":"IF($A563=I$3,AND($A563=I$3,$D563<0),0)","v":0},0,{"$f":"IF($A563=K$3,AND($A563=K$3,$D563<0),0)","v":0},0,{"$f":"IF($A563=M$3,AND($A563=M$3,$D563<0),0)","v":0},0,{"$f":"IF($A563=O$3,AND($A563=O$3,$D563<0),0)","v":0},0,0,0,0,0,0,0,{"$f":"IF($A563=W$3,AND($A563=W$3,$D563<0),0)","v":0},0,{"$f":"IF($A563=Y$3,AND($A563=Y$3,$D563<0),0)","v":0},0,{"$f":"IF($A563=AA$3,AND($A563=AA$3,$D563<0),0)","v":0},0,{"$f":"IF($A563=AC$3,AND($A563=AC$3,$D563<0),0)","v":0},0,0]
[{"$f":"IF(B564=0,\"\",MONTH(B564))","v":""},null,null,null,{"$f":"IF(D564=\"\",\"\",IF(D564<0,\"DEBITO\",\"CREDITO\"))","v":""},null,false,false,0,{"$f":"IF($A564=I$3,AND($A564=I$3,$D564<0),0)","v":0},0,{"$f":"IF($A564=K$3,AND($A564=K$3,$D564<0),0)","v":0},0,{"$f":"IF($A564=M$3,AND($A564=M$3,$D564<0),0)","v":0},0,{"$f":"IF($A564=O$3,AND($A564=O$3,$D564<0),0)","v":0},0,0,0,0,0,0,0,{"$f":"IF($A564=W$3,AND($A564=W$3,$D564<0),0)","v":0},0,{"$f":"IF($A564=Y$3,AND($A564=Y$3,$D564<0),0)","v":0},0,{"$f":"IF($A564=AA$3,AND($A564=AA$3,$D564<0),0)","v":0},0,{"$f":"IF($A564=AC$3,AND($A564=AC$3,$D564<0),0)","v":0},0,0]
[{"$f":"IF(B565=0,\"\",MONTH(B565))","v":""},null,null,null,{"$f":"IF(D565=\"\",\"\",IF(D565<0,\"DEBITO\",\"CREDITO\"))","v":""},null,false,false,0,{"$f":"IF($A565=I$3,AND($A565=I$3,$D565<0),0)","v":0},0,{"$f":"IF($A565=K$3,AND($A565=K$3,$D565<0),0)","v":0},0,{"$f":"IF($A565=M$3,AND($A565=M$3,$D565<0),0)","v":0},0,{"$f":"IF($A565=O$3,AND($A565=O$3,$D565<0),0)","v":0},0,0,0,0,0,0,0,{"$f":"IF($A565=W$3,AND($A565=W$3,$D565<0),0)","v":0},0,{"$f":"IF($A565=Y$3,AND($A565=Y$3,$D565<0),0)","v":0},0,{"$f":"IF($A565=AA$3,AND($A565=AA$3,$D565<0),0)","v":0},0,{"$f":"IF($A565=AC$3,AND($A565=AC$3,$D565<0),0)","v":0},0,0]
[{"$f":"IF(B566=0,\"\",MONTH(B566))","v":""},null,null,null,{"$f":"IF(D566=\"\",\"\",IF(D566<0,\"DEBITO\",\"CREDITO\"))","v":""},null,false,false,0,{"$f":"IF($A566=I$3,AND($A566=I$3,$D566<0),0)","v":0},0,{"$f":"IF($A566=K$3,AND($A566=K$3,$D566<0),0)","v":0},0,{"$f":"IF($A566=M$3,AND($A566=M$3,$D566<0),0)","v":0},0,{"$f":"IF($A566=O$3,AND($A566=O$3,$D566<0),0)","v":0},0,0,0,0,0,0,0,{"$f":"IF($A566=W$3,AND($A566=W$3,$D566<0),0)","v":0},0,{"$f":"IF($A566=Y$3,AND($A566=Y$3,$D566<0),0)","v":0},0,{"$f":"IF($A566=AA$3,AND($A566=AA$3,$D566<0),0)","v":0},0,{"$f":"IF($A566=AC$3,AND($A566=AC$3,$D566<0),0)","v":0},0,0]
[{"$f":"IF(B567=0,\"\",MONTH(B567))","v":""},null,null,null,{"$f":"IF(D567=\"\",\"\",IF(D567<0,\"DEBITO\",\"CREDITO\"))","v":""},null,false,false,0,{"$f":"IF($A567=I$3,AND($A567=I$3,$D567<0),0)","v":0},0,{"$f":"IF($A567=K$3,AND($A567=K$3,$D567<0),0)","v":0},0,{"$f":"IF($A567=M$3,AND($A567=M$3,$D567<0),0)","v":0},0,{"$f":"IF($A567=O$3,AND($A567=O$3,$D567<0),0)","v":0},0,0,0,0,0,0,0,{"$f":"IF($A567=W$3,AND($A567=W$3,$D567<0),0)","v":0},0,{"$f":"IF($A567=Y$3,AND($A567=Y$3,$D567<0),0)","v":0},0,{"$f":"IF($A567=AA$3,AND($A567=AA$3,$D567<0),0)","v":0},0,{"$f":"IF($A567=AC$3,AND($A567=AC$3,$D567<0),0)","v":0},0,0]
[{"$f":"IF(B568=0,\"\",MONTH(B568))","v":""},null,null,null,{"$f":"IF(D568=\"\",\"\",IF(D568<0,\"DEBITO\",\"CREDITO\"))","v":""},null,false,false,0,{"$f":"IF($A568=I$3,AND($A568=I$3,$D568<0),0)","v":0},0,{"$f":"IF($A568=K$3,AND($A568=K$3,$D568<0),0)","v":0},0,{"$f":"IF($A568=M$3,AND($A568=M$3,$D568<0),0)","v":0},0,{"$f":"IF($A568=O$3,AND($A568=O$3,$D568<0),0)","v":0},0,0,0,0,0,0,0,{"$f":"IF($A568=W$3,AND($A568=W$3,$D568<0),0)","v":0},0,{"$f":"IF($A568=Y$3,AND($A568=Y$3,$D568<0),0)","v":0},0,{"$f":"IF($A568=AA$3,AND($A568=AA$3,$D568<0),0)","v":0},0,{"$f":"IF($A568=AC$3,AND($A568=AC$3,$D568<0),0)","v":0},0,0]
[{"$f":"IF(B569=0,\"\",MONTH(B569))","v":""},null,null,null,{"$f":"IF(D569=\"\",\"\",IF(D569<0,\"DEBITO\",\"CREDITO\"))","v":""},null,false,false,0,{"$f":"IF($A569=I$3,AND($A569=I$3,$D569<0),0)","v":0},0,{"$f":"IF($A569=K$3,AND($A569=K$3,$D569<0),0)","v":0},0,{"$f":"IF($A569=M$3,AND($A569=M$3,$D569<0),0)","v":0},0,{"$f":"IF($A569=O$3,AND($A569=O$3,$D569<0),0)","v":0},0,0,0,0,0,0,0,{"$f":"IF($A569=W$3,AND($A569=W$3,$D569<0),0)","v":0},0,{"$f":"IF($A569=Y$3,AND($A569=Y$3,$D569<0),0)","v":0},0,{"$f":"IF($A569=AA$3,AND($A569=AA$3,$D569<0),0)","v":0},0,{"$f":"IF($A569=AC$3,AND($A569=AC$3,$D569<0),0)","v":0},0,0]
[{"$f":"IF(B570=0,\"\",MONTH(B570))","v":""},null,null,null,{"$f":"IF(D570=\"\",\"\",IF(D570<0,\"DEBITO\",\"CREDITO\"))","v":""},null,false,false,0,{"$f":"IF($A570=I$3,AND($A570=I$3,$D570<0),0)","v":0},0,{"$f":"IF($A570=K$3,AND($A570=K$3,$D570<0),0)","v":0},0,{"$f":"IF($A570=M$3,AND($A570=M$3,$D570<0),0)","v":0},0,{"$f":"IF($A570=O$3,AND($A570=O$3,$D570<0),0)","v":0},0,0,0,0,0,0,0,{"$f":"IF($A570=W$3,AND($A570=W$3,$D570<0),0)","v":0},0,{"$f":"IF($A570=Y$3,AND($A570=Y$3,$D570<0),0)","v":0},0,{"$f":"IF($A570=AA$3,AND($A570=AA$3,$D570<0),0)","v":0},0,{"$f":"IF($A570=AC$3,AND($A570=AC$3,$D570<0),0)","v":0},0,0]
[{"$f":"IF(B571=0,\"\",MONTH(B571))","v":""},null,null,null,{"$f":"IF(D571=\"\",\"\",IF(D571<0,\"DEBITO\",\"CREDITO\"))","v":""},null,false,false,0,{"$f":"IF($A571=I$3,AND($A571=I$3,$D571<0),0)","v":0},0,{"$f":"IF($A571=K$3,AND($A571=K$3,$D571<0),0)","v":0},0,{"$f":"IF($A571=M$3,AND($A571=M$3,$D571<0),0)","v":0},0,{"$f":"IF($A571=O$3,AND($A571=O$3,$D571<0),0)","v":0},0,0,0,0,0,0,0,{"$f":"IF($A571=W$3,AND($A571=W$3,$D571<0),0)","v":0},0,{"$f":"IF($A571=Y$3,AND($A571=Y$3,$D571<0),0)","v":0},0,{"$f":"IF($A571=AA$3,AND($A571=AA$3,$D571<0),0)","v":0},0,{"$f":"IF($A571=AC$3,AND($A571=AC$3,$D571<0),0)","v":0},0,0]
[{"$f":"IF(B572=0,\"\",MONTH(B572))","v":""},null,null,null,{"$f":"IF(D572=\"\",\"\",IF(D572<0,\"DEBITO\",\"CREDITO\"))","v":""},null,false,false,0,{"$f":"IF($A572=I$3,AND($A572=I$3,$D572<0),0)","v":0},0,{"$f":"IF($A572=K$3,AND($A572=K$3,$D572<0),0)","v":0},0,{"$f":"IF($A572=M$3,AND($A572=M$3,$D572<0),0)","v":0},0,{"$f":"IF($A572=O$3,AND($A572=O$3,$D572<0),0)","v":0},0,0,0,0,0,0,0,{"$f":"IF($A572=W$3,AND($A572=W$3,$D572<0),0)","v":0},0,{"$f":"IF($A572=Y$3,AND($A572=Y$3,$D572<0),0)","v":0},0,{"$f":"IF($A572=AA$3,AND($A572=AA$3,$D572<0),0)","v":0},0,{"$f":"IF($A572=AC$3,AND($A572=AC$3,$D572<0),0)","v":0},0,0]
[{"$f":"IF(B573=0,\"\",MONTH(B573))","v":""},null,null,null,{"$f":"IF(D573=\"\",\"\",IF(D573<0,\"DEBITO\",\"CREDITO\"))","v":""},null,false,false,0,{"$f":"IF($A573=I$3,AND($A573=I$3,$D573<0),0)","v":0},0,{"$f":"IF($A573=K$3,AND($A573=K$3,$D573<0),0)","v":0},0,{"$f":"IF($A573=M$3,AND($A573=M$3,$D573<0),0)","v":0},0,{"$f":"IF($A573=O$3,AND($A573=O$3,$D573<0),0)","v":0},0,0,0,0,0,0,0,{"$f":"IF($A573=W$3,AND($A573=W$3,$D573<0),0)","v":0},0,{"$f":"IF($A573=Y$3,AND($A573=Y$3,$D573<0),0)","v":0},0,{"$f":"IF($A573=AA$3,AND($A573=AA$3,$D573<0),0)","v":0},0,{"$f":"IF($A573=AC$3,AND($A573=AC$3,$D573<0),0)","v":0},0,0]
[{"$f":"IF(B574=0,\"\",MONTH(B574))","v":""},null,null,null,{"$f":"IF(D574=\"\",\"\",IF(D574<0,\"DEBITO\",\"CREDITO\"))","v":""},null,false,false,0,{"$f":"IF($A574=I$3,AND($A574=I$3,$D574<0),0)","v":0},0,{"$f":"IF($A574=K$3,AND($A574=K$3,$D574<0),0)","v":0},0,{"$f":"IF($A574=M$3,AND($A574=M$3,$D574<0),0)","v":0},0,{"$f":"IF($A574=O$3,AND($A574=O$3,$D574<0),0)","v":0},0,0,0,0,0,0,0,{"$f":"IF($A574=W$3,AND($A574=W$3,$D574<0),0)","v":0},0,{"$f":"IF($A574=Y$3,AND($A574=Y$3,$D574<0),0)","v":0},0,{"$f":"IF($A574=AA$3,AND($A574=AA$3,$D574<0),0)","v":0},0,{"$f":"IF($A574=AC$3,AND($A574=AC$3,$D574<0),0)","v":0},0,0]
[{"$f":"IF(B575=0,\"\",MONTH(B575))","v":""},null,null,null,{"$f":"IF(D575=\"\",\"\",IF(D575<0,\"DEBITO\",\"CREDITO\"))","v":""},null,false,false,0,{"$f":"IF($A575=I$3,AND($A575=I$3,$D575<0),0)","v":0},0,{"$f":"IF($A575=K$3,AND($A575=K$3,$D575<0),0)","v":0},0,{"$f":"IF($A575=M$3,AND($A575=M$3,$D575<0),0)","v":0},0,{"$f":"IF($A575=O$3,AND($A575=O$3,$D575<0),0)","v":0},0,0,0,0,0,0,0,{"$f":"IF($A575=W$3,AND($A575=W$3,$D575<0),0)","v":0},0,{"$f":"IF($A575=Y$3,AND($A575=Y$3,$D575<0),0)","v":0},0,{"$f":"IF($A575=AA$3,AND($A575=AA$3,$D575<0),0)","v":0},0,{"$f":"IF($A575=AC$3,AND($A575=AC$3,$D575<0),0)","v":0},0,0]
[{"$f":"IF(B576=0,\"\",MONTH(B576))","v":""},null,null,null,{"$f":"IF(D576=\"\",\"\",IF(D576<0,\"DEBITO\",\"CREDITO\"))","v":""},null,false,false,0,{"$f":"IF($A576=I$3,AND($A576=I$3,$D576<0),0)","v":0},0,{"$f":"IF($A576=K$3,AND($A576=K$3,$D576<0),0)","v":0},0,{"$f":"IF($A576=M$3,AND($A576=M$3,$D576<0),0)","v":0},0,{"$f":"IF($A576=O$3,AND($A576=O$3,$D576<0),0)","v":0},0,0,0,0,0,0,0,{"$f":"IF($A576=W$3,AND($A576=W$3,$D576<0),0)","v":0},0,{"$f":"IF($A576=Y$3,AND($A576=Y$3,$D576<0),0)","v":0},0,{"$f":"IF($A576=AA$3,AND($A576=AA$3,$D576<0),0)","v":0},0,{"$f":"IF($A576=AC$3,AND($A576=AC$3,$D576<0),0)","v":0},0,0]
[{"$f":"IF(B577=0,\"\",MONTH(B577))","v":""},null,null,null,{"$f":"IF(D577=\"\",\"\",IF(D577<0,\"DEBITO\",\"CREDITO\"))","v":""},null,false,false,0,{"$f":"IF($A577=I$3,AND($A577=I$3,$D577<0),0)","v":0},0,{"$f":"IF($A577=K$3,AND($A577=K$3,$D577<0),0)","v":0},0,{"$f":"IF($A577=M$3,AND($A577=M$3,$D577<0),0)","v":0},0,{"$f":"IF($A577=O$3,AND($A577=O$3,$D577<0),0)","v":0},0,0,0,0,0,0,0,{"$f":"IF($A577=W$3,AND($A577=W$3,$D577<0),0)","v":0},0,{"$f":"IF($A577=Y$3,AND($A577=Y$3,$D577<0),0)","v":0},0,{"$f":"IF($A577=AA$3,AND($A577=AA$3,$D577<0),0)","v":0},0,{"$f":"IF($A577=AC$3,AND($A577=AC$3,$D577<0),0)","v":0},0,0]
[{"$f":"IF(B578=0,\"\",MONTH(B578))","v":""},null,null,null,{"$f":"IF(D578=\"\",\"\",IF(D578<0,\"DEBITO\",\"CREDITO\"))","v":""},null,false,false,0,{"$f":"IF($A578=I$3,AND($A578=I$3,$D578<0),0)","v":0},0,{"$f":"IF($A578=K$3,AND($A578=K$3,$D578<0),0)","v":0},0,{"$f":"IF($A578=M$3,AND($A578=M$3,$D578<0),0)","v":0},0,{"$f":"IF($A578=O$3,AND($A578=O$3,$D578<0),0)","v":0},0,0,0,0,0,0,0,{"$f":"IF($A578=W$3,AND($A578=W$3,$D578<0),0)","v":0},0,{"$f":"IF($A578=Y$3,AND($A578=Y$3,$D578<0),0)","v":0},0,{"$f":"IF($A578=AA$3,AND($A578=AA$3,$D578<0),0)","v":0},0,{"$f":"IF($A578=AC$3,AND($A578=AC$3,$D578<0),0)","v":0},0,0]
[{"$f":"IF(B579=0,\"\",MONTH(B579))","v":""},null,null,null,{"$f":"IF(D579=\"\",\"\",IF(D579<0,\"DEBITO\",\"CREDITO\"))","v":""},null,false,false,0,{"$f":"IF($A579=I$3,AND($A579=I$3,$D579<0),0)","v":0},0,{"$f":"IF($A579=K$3,AND($A579=K$3,$D579<0),0)","v":0},0,{"$f":"IF($A579=M$3,AND($A579=M$3,$D579<0),0)","v":0},0,{"$f":"IF($A579=O$3,AND($A579=O$3,$D579<0),0)","v":0},0,0,0,0,0,0,0,{"$f":"IF($A579=W$3,AND($A579=W$3,$D579<0),0)","v":0},0,{"$f":"IF($A579=Y$3,AND($A579=Y$3,$D579<0),0)","v":0},0,{"$f":"IF($A579=AA$3,AND($A579=AA$3,$D579<0),0)","v":0},0,{"$f":"IF($A579=AC$3,AND($A579=AC$3,$D579<0),0)","v":0},0,0]
[{"$f":"IF(B580=0,\"\",MONTH(B580))","v":""},null,null,null,{"$f":"IF(D580=\"\",\"\",IF(D580<0,\"DEBITO\",\"CREDITO\"))","v":""},null,false,false,0,{"$f":"IF($A580=I$3,AND($A580=I$3,$D580<0),0)","v":0},0,{"$f":"IF($A580=K$3,AND($A580=K$3,$D580<0),0)","v":0},0,{"$f":"IF($A580=M$3,AND($A580=M$3,$D580<0),0)","v":0},0,{"$f":"IF($A580=O$3,AND($A580=O$3,$D580<0),0)","v":0},0,0,0,0,0,0,0,{"$f":"IF($A580=W$3,AND($A580=W$3,$D580<0),0)","v":0},0,{"$f":"IF($A580=Y$3,AND($A580=Y$3,$D580<0),0)","v":0},0,{"$f":"IF($A580=AA$3,AND($A580=AA$3,$D580<0),0)","v":0},0,{"$f":"IF($A580=AC$3,AND($A580=AC$3,$D580<0),0)","v":0},0,0]
[{"$f":"IF(B581=0,\"\",MONTH(B581))","v":""},null,null,null,{"$f":"IF(D581=\"\",\"\",IF(D581<0,\"DEBITO\",\"CREDITO\"))","v":""},null,false,false,0,{"$f":"IF($A581=I$3,AND($A581=I$3,$D581<0),0)","v":0},0,{"$f":"IF($A581=K$3,AND($A581=K$3,$D581<0),0)","v":0},0,{"$f":"IF($A581=M$3,AND($A581=M$3,$D581<0),0)","v":0},0,{"$f":"IF($A581=O$3,AND($A581=O$3,$D581<0),0)","v":0},0,0,0,0,0,0,0,{"$f":"IF($A581=W$3,AND($A581=W$3,$D581<0),0)","v":0},0,{"$f":"IF($A581=Y$3,AND($A581=Y$3,$D581<0),0)","v":0},0,{"$f":"IF($A581=AA$3,AND($A581=AA$3,$D581<0),0)","v":0},0,{"$f":"IF($A581=AC$3,AND($A581=AC$3,$D581<0),0)","v":0},0,0]
[{"$f":"IF(B582=0,\"\",MONTH(B582))","v":""},null,null,null,{"$f":"IF(D582=\"\",\"\",IF(D582<0,\"DEBITO\",\"CREDITO\"))","v":""},null,false,false,0,{"$f":"IF($A582=I$3,AND($A582=I$3,$D582<0),0)","v":0},0,{"$f":"IF($A582=K$3,AND($A582=K$3,$D582<0),0)","v":0},0,{"$f":"IF($A582=M$3,AND($A582=M$3,$D582<0),0)","v":0},0,{"$f":"IF($A582=O$3,AND($A582=O$3,$D582<0),0)","v":0},0,0,0,0,0,0,0,{"$f":"IF($A582=W$3,AND($A582=W$3,$D582<0),0)","v":0},0,{"$f":"IF($A582=Y$3,AND($A582=Y$3,$D582<0),0)","v":0},0,{"$f":"IF($A582=AA$3,AND($A582=AA$3,$D582<0),0)","v":0},0,{"$f":"IF($A582=AC$3,AND($A582=AC$3,$D582<0),0)","v":0},0,0]
[{"$f":"IF(B583=0,\"\",MONTH(B583))","v":""},null,null,null,{"$f":"IF(D583=\"\",\"\",IF(D583<0,\"DEBITO\",\"CREDITO\"))","v":""},null,false,false,0,{"$f":"IF($A583=I$3,AND($A583=I$3,$D583<0),0)","v":0},0,{"$f":"IF($A583=K$3,AND($A583=K$3,$D583<0),0)","v":0},0,{"$f":"IF($A583=M$3,AND($A583=M$3,$D583<0),0)","v":0},0,{"$f":"IF($A583=O$3,AND($A583=O$3,$D583<0),0)","v":0},0,0,0,0,0,0,0,{"$f":"IF($A583=W$3,AND($A583=W$3,$D583<0),0)","v":0},0,{"$f":"IF($A583=Y$3,AND($A583=Y$3,$D583<0),0)","v":0},0,{"$f":"IF($A583=AA$3,AND($A583=AA$3,$D583<0),0)","v":0},0,{"$f":"IF($A583=AC$3,AND($A583=AC$3,$D583<0),0)","v":0},0,0]
[{"$f":"IF(B584=0,\"\",MONTH(B584))","v":""},null,null,null,{"$f":"IF(D584=\"\",\"\",IF(D584<0,\"DEBITO\",\"CREDITO\"))","v":""},null,false,false,0,{"$f":"IF($A584=I$3,AND($A584=I$3,$D584<0),0)","v":0},0,{"$f":"IF($A584=K$3,AND($A584=K$3,$D584<0),0)","v":0},0,{"$f":"IF($A584=M$3,AND($A584=M$3,$D584<0),0)","v":0},0,{"$f":"IF($A584=O$3,AND($A584=O$3,$D584<0),0)","v":0},0,0,0,0,0,0,0,{"$f":"IF($A584=W$3,AND($A584=W$3,$D584<0),0)","v":0},0,{"$f":"IF($A584=Y$3,AND($A584=Y$3,$D584<0),0)","v":0},0,{"$f":"IF($A584=AA$3,AND($A584=AA$3,$D584<0),0)","v":0},0,{"$f":"IF($A584=AC$3,AND($A584=AC$3,$D584<0),0)","v":0},0,0]
[{"$f":"IF(B585=0,\"\",MONTH(B585))","v":""},null,null,null,{"$f":"IF(D585=\"\",\"\",IF(D585<0,\"DEBITO\",\"CREDITO\"))","v":""},null,{"$f":"AND(A585=$E$3,D585>0)","v":false},{"$f":"AND(A585=$E$3,D585<0)","v":false},0,{"$f":"IF($A585=I$3,AND($A585=I$3,$D585<0),0)","v":0},0,{"$f":"IF($A585=K$3,AND($A585=K$3,$D585<0),0)","v":0},0,{"$f":"IF($A585=M$3,AND($A585=M$3,$D585<0),0)","v":0},0,{"$f":"IF($A585=O$3,AND($A585=O$3,$D585<0),0)","v":0},0,{"$f":"IF($A585=Q$3,AND($A585=Q$3,$D585<0),0)","v":0},0,0,0,0,0,{"$f":"IF($A585=W$3,AND($A585=W$3,$D585<0),0)","v":0},0,{"$f":"IF($A585=Y$3,AND($A585=Y$3,$D585<0),0)","v":0},0,{"$f":"IF($A585=AA$3,AND($A585=AA$3,$D585<0),0)","v":0},0,{"$f":"IF($A585=AC$3,AND($A585=AC$3,$D585<0),0)","v":0},0,{"$f":"IF($A585=AE$3,AND($A585=AE$3,$D585<0),0)","v":0}]
[{"$f":"IF(B586=0,\"\",MONTH(B586))","v":""},null,null,null,{"$f":"IF(D586=\"\",\"\",IF(D586<0,\"DEBITO\",\"CREDITO\"))","v":""},null,false,false,0,{"$f":"IF($A586=I$3,AND($A586=I$3,$D586<0),0)","v":0},0,{"$f":"IF($A586=K$3,AND($A586=K$3,$D586<0),0)","v":0},0,{"$f":"IF($A586=M$3,AND($A586=M$3,$D586<0),0)","v":0},0,{"$f":"IF($A586=O$3,AND($A586=O$3,$D586<0),0)","v":0},0,0,{"$f":"IF($A586=S$3,AND($A586=S$3,$D586>0),0)","v":0},{"$f":"IF($A586=S$3,AND($A586=S$3,$D586<0),0)","v":0},{"$f":"IF($A586=U$3,AND($A586=U$3,$D586>0),0)","v":0},{"$f":"IF($A586=U$3,AND($A586=U$3,$D586<0),0)","v":0},0,{"$f":"IF($A586=W$3,AND($A586=W$3,$D586<0),0)","v":0},0,{"$f":"IF($A586=Y$3,AND($A586=Y$3,$D586<0),0)","v":0},0,{"$f":"IF($A586=AA$3,AND($A586=AA$3,$D586<0),0)","v":0},0,{"$f":"IF($A586=AC$3,AND($A586=AC$3,$D586<0),0)","v":0},0,0]
[{"$f":"IF(B587=0,\"\",MONTH(B587))","v":""},null,null,null,{"$f":"IF(D587=\"\",\"\",IF(D587<0,\"DEBITO\",\"CREDITO\"))","v":""},null,false,false,0,{"$f":"IF($A587=I$3,AND($A587=I$3,$D587<0),0)","v":0},0,{"$f":"IF($A587=K$3,AND($A587=K$3,$D587<0),0)","v":0},0,{"$f":"IF($A587=M$3,AND($A587=M$3,$D587<0),0)","v":0},0,{"$f":"IF($A587=O$3,AND($A587=O$3,$D587<0),0)","v":0},0,0,0,0,0,0,0,{"$f":"IF($A587=W$3,AND($A587=W$3,$D587<0),0)","v":0},0,{"$f":"IF($A587=Y$3,AND($A587=Y$3,$D587<0),0)","v":0},0,{"$f":"IF($A587=AA$3,AND($A587=AA$3,$D587<0),0)","v":0},0,{"$f":"IF($A587=AC$3,AND($A587=AC$3,$D587<0),0)","v":0},0,0]
[{"$f":"IF(B588=0,\"\",MONTH(B588))","v":""},null,null,null,{"$f":"IF(D588=\"\",\"\",IF(D588<0,\"DEBITO\",\"CREDITO\"))","v":""},null,false,false,0,{"$f":"IF($A588=I$3,AND($A588=I$3,$D588<0),0)","v":0},0,{"$f":"IF($A588=K$3,AND($A588=K$3,$D588<0),0)","v":0},0,{"$f":"IF($A588=M$3,AND($A588=M$3,$D588<0),0)","v":0},0,{"$f":"IF($A588=O$3,AND($A588=O$3,$D588<0),0)","v":0},0,0,0,0,0,0,0,{"$f":"IF($A588=W$3,AND($A588=W$3,$D588<0),0)","v":0},0,{"$f":"IF($A588=Y$3,AND($A588=Y$3,$D588<0),0)","v":0},0,{"$f":"IF($A588=AA$3,AND($A588=AA$3,$D588<0),0)","v":0},0,{"$f":"IF($A588=AC$3,AND($A588=AC$3,$D588<0),0)","v":0},0,0]
[{"$f":"IF(B589=0,\"\",MONTH(B589))","v":""},null,null,null,{"$f":"IF(D589=\"\",\"\",IF(D589<0,\"DEBITO\",\"CREDITO\"))","v":""},null,false,false,0,{"$f":"IF($A589=I$3,AND($A589=I$3,$D589<0),0)","v":0},0,{"$f":"IF($A589=K$3,AND($A589=K$3,$D589<0),0)","v":0},0,{"$f":"IF($A589=M$3,AND($A589=M$3,$D589<0),0)","v":0},0,{"$f":"IF($A589=O$3,AND($A589=O$3,$D589<0),0)","v":0},0,0,0,0,0,0,0,{"$f":"IF($A589=W$3,AND($A589=W$3,$D589<0),0)","v":0},0,{"$f":"IF($A589=Y$3,AND($A589=Y$3,$D589<0),0)","v":0},0,{"$f":"IF($A589=AA$3,AND($A589=AA$3,$D589<0),0)","v":0},0,{"$f":"IF($A589=AC$3,AND($A589=AC$3,$D589<0),0)","v":0},0,0]
[{"$f":"IF(B590=0,\"\",MONTH(B590))","v":""},null,null,null,{"$f":"IF(D590=\"\",\"\",IF(D590<0,\"DEBITO\",\"CREDITO\"))","v":""},null,false,false,0,{"$f":"IF($A590=I$3,AND($A590=I$3,$D590<0),0)","v":0},0,{"$f":"IF($A590=K$3,AND($A590=K$3,$D590<0),0)","v":0},0,{"$f":"IF($A590=M$3,AND($A590=M$3,$D590<0),0)","v":0},0,{"$f":"IF($A590=O$3,AND($A590=O$3,$D590<0),0)","v":0},0,0,0,0,0,0,0,{"$f":"IF($A590=W$3,AND($A590=W$3,$D590<0),0)","v":0},0,{"$f":"IF($A590=Y$3,AND($A590=Y$3,$D590<0),0)","v":0},0,{"$f":"IF($A590=AA$3,AND($A590=AA$3,$D590<0),0)","v":0},0,{"$f":"IF($A590=AC$3,AND($A590=AC$3,$D590<0),0)","v":0},0,0]
[{"$f":"IF(B591=0,\"\",MONTH(B591))","v":""},null,null,null,{"$f":"IF(D591=\"\",\"\",IF(D591<0,\"DEBITO\",\"CREDITO\"))","v":""},null,false,false,0,{"$f":"IF($A591=I$3,AND($A591=I$3,$D591<0),0)","v":0},0,{"$f":"IF($A591=K$3,AND($A591=K$3,$D591<0),0)","v":0},0,{"$f":"IF($A591=M$3,AND($A591=M$3,$D591<0),0)","v":0},0,{"$f":"IF($A591=O$3,AND($A591=O$3,$D591<0),0)","v":0},0,0,0,0,0,0,0,{"$f":"IF($A591=W$3,AND($A591=W$3,$D591<0),0)","v":0},0,{"$f":"IF($A591=Y$3,AND($A591=Y$3,$D591<0),0)","v":0},0,{"$f":"IF($A591=AA$3,AND($A591=AA$3,$D591<0),0)","v":0},0,{"$f":"IF($A591=AC$3,AND($A591=AC$3,$D591<0),0)","v":0},0,0]
[{"$f":"IF(B592=0,\"\",MONTH(B592))","v":""},null,null,null,{"$f":"IF(D592=\"\",\"\",IF(D592<0,\"DEBITO\",\"CREDITO\"))","v":""},null,false,false,0,{"$f":"IF($A592=I$3,AND($A592=I$3,$D592<0),0)","v":0},0,{"$f":"IF($A592=K$3,AND($A592=K$3,$D592<0),0)","v":0},0,{"$f":"IF($A592=M$3,AND($A592=M$3,$D592<0),0)","v":0},0,{"$f":"IF($A592=O$3,AND($A592=O$3,$D592<0),0)","v":0},0,0,0,0,0,0,0,{"$f":"IF($A592=W$3,AND($A592=W$3,$D592<0),0)","v":0},0,{"$f":"IF($A592=Y$3,AND($A592=Y$3,$D592<0),0)","v":0},0,{"$f":"IF($A592=AA$3,AND($A592=AA$3,$D592<0),0)","v":0},0,{"$f":"IF($A592=AC$3,AND($A592=AC$3,$D592<0),0)","v":0},0,0]
[{"$f":"IF(B593=0,\"\",MONTH(B593))","v":""},null,null,null,{"$f":"IF(D593=\"\",\"\",IF(D593<0,\"DEBITO\",\"CREDITO\"))","v":""},null,false,false,0,{"$f":"IF($A593=I$3,AND($A593=I$3,$D593<0),0)","v":0},0,{"$f":"IF($A593=K$3,AND($A593=K$3,$D593<0),0)","v":0},0,{"$f":"IF($A593=M$3,AND($A593=M$3,$D593<0),0)","v":0},0,{"$f":"IF($A593=O$3,AND($A593=O$3,$D593<0),0)","v":0},0,0,0,0,0,0,0,{"$f":"IF($A593=W$3,AND($A593=W$3,$D593<0),0)","v":0},0,{"$f":"IF($A593=Y$3,AND($A593=Y$3,$D593<0),0)","v":0},0,{"$f":"IF($A593=AA$3,AND($A593=AA$3,$D593<0),0)","v":0},0,{"$f":"IF($A593=AC$3,AND($A593=AC$3,$D593<0),0)","v":0},0,0]
[{"$f":"IF(B594=0,\"\",MONTH(B594))","v":""},null,null,null,{"$f":"IF(D594=\"\",\"\",IF(D594<0,\"DEBITO\",\"CREDITO\"))","v":""},null,false,false,0,{"$f":"IF($A594=I$3,AND($A594=I$3,$D594<0),0)","v":0},0,{"$f":"IF($A594=K$3,AND($A594=K$3,$D594<0),0)","v":0},0,{"$f":"IF($A594=M$3,AND($A594=M$3,$D594<0),0)","v":0},0,{"$f":"IF($A594=O$3,AND($A594=O$3,$D594<0),0)","v":0},0,0,0,0,0,0,0,{"$f":"IF($A594=W$3,AND($A594=W$3,$D594<0),0)","v":0},0,{"$f":"IF($A594=Y$3,AND($A594=Y$3,$D594<0),0)","v":0},0,{"$f":"IF($A594=AA$3,AND($A594=AA$3,$D594<0),0)","v":0},0,{"$f":"IF($A594=AC$3,AND($A594=AC$3,$D594<0),0)","v":0},0,0]
[{"$f":"IF(B595=0,\"\",MONTH(B595))","v":""},null,null,null,{"$f":"IF(D595=\"\",\"\",IF(D595<0,\"DEBITO\",\"CREDITO\"))","v":""},null,false,false,0,{"$f":"IF($A595=I$3,AND($A595=I$3,$D595<0),0)","v":0},0,{"$f":"IF($A595=K$3,AND($A595=K$3,$D595<0),0)","v":0},0,{"$f":"IF($A595=M$3,AND($A595=M$3,$D595<0),0)","v":0},0,{"$f":"IF($A595=O$3,AND($A595=O$3,$D595<0),0)","v":0},0,0,0,0,0,0,0,{"$f":"IF($A595=W$3,AND($A595=W$3,$D595<0),0)","v":0},0,{"$f":"IF($A595=Y$3,AND($A595=Y$3,$D595<0),0)","v":0},0,{"$f":"IF($A595=AA$3,AND($A595=AA$3,$D595<0),0)","v":0},0,{"$f":"IF($A595=AC$3,AND($A595=AC$3,$D595<0),0)","v":0},0,0]
[{"$f":"IF(B596=0,\"\",MONTH(B596))","v":""},null,null,null,{"$f":"IF(D596=\"\",\"\",IF(D596<0,\"DEBITO\",\"CREDITO\"))","v":""},null,false,false,0,{"$f":"IF($A596=I$3,AND($A596=I$3,$D596<0),0)","v":0},0,{"$f":"IF($A596=K$3,AND($A596=K$3,$D596<0),0)","v":0},0,{"$f":"IF($A596=M$3,AND($A596=M$3,$D596<0),0)","v":0},0,{"$f":"IF($A596=O$3,AND($A596=O$3,$D596<0),0)","v":0},0,0,0,0,0,0,0,{"$f":"IF($A596=W$3,AND($A596=W$3,$D596<0),0)","v":0},0,{"$f":"IF($A596=Y$3,AND($A596=Y$3,$D596<0),0)","v":0},0,{"$f":"IF($A596=AA$3,AND($A596=AA$3,$D596<0),0)","v":0},0,{"$f":"IF($A596=AC$3,AND($A596=AC$3,$D596<0),0)","v":0},0,0]
[{"$f":"IF(B597=0,\"\",MONTH(B597))","v":""},null,null,null,{"$f":"IF(D597=\"\",\"\",IF(D597<0,\"DEBITO\",\"CREDITO\"))","v":""},null,false,false,0,{"$f":"IF($A597=I$3,AND($A597=I$3,$D597<0),0)","v":0},0,{"$f":"IF($A597=K$3,AND($A597=K$3,$D597<0),0)","v":0},0,{"$f":"IF($A597=M$3,AND($A597=M$3,$D597<0),0)","v":0},0,{"$f":"IF($A597=O$3,AND($A597=O$3,$D597<0),0)","v":0},0,0,0,0,0,0,0,{"$f":"IF($A597=W$3,AND($A597=W$3,$D597<0),0)","v":0},0,{"$f":"IF($A597=Y$3,AND($A597=Y$3,$D597<0),0)","v":0},0,{"$f":"IF($A597=AA$3,AND($A597=AA$3,$D597<0),0)","v":0},0,{"$f":"IF($A597=AC$3,AND($A597=AC$3,$D597<0),0)","v":0},0,0]
[{"$f":"IF(B598=0,\"\",MONTH(B598))","v":""},null,null,null,{"$f":"IF(D598=\"\",\"\",IF(D598<0,\"DEBITO\",\"CREDITO\"))","v":""},null,false,false,0,{"$f":"IF($A598=I$3,AND($A598=I$3,$D598<0),0)","v":0},0,{"$f":"IF($A598=K$3,AND($A598=K$3,$D598<0),0)","v":0},0,{"$f":"IF($A598=M$3,AND($A598=M$3,$D598<0),0)","v":0},0,{"$f":"IF($A598=O$3,AND($A598=O$3,$D598<0),0)","v":0},0,0,0,0,0,0,0,{"$f":"IF($A598=W$3,AND($A598=W$3,$D598<0),0)","v":0},0,{"$f":"IF($A598=Y$3,AND($A598=Y$3,$D598<0),0)","v":0},0,{"$f":"IF($A598=AA$3,AND($A598=AA$3,$D598<0),0)","v":0},0,{"$f":"IF($A598=AC$3,AND($A598=AC$3,$D598<0),0)","v":0},0,0]
[{"$f":"IF(B599=0,\"\",MONTH(B599))","v":""},null,null,null,{"$f":"IF(D599=\"\",\"\",IF(D599<0,\"DEBITO\",\"CREDITO\"))","v":""},null,false,false,0,{"$f":"IF($A599=I$3,AND($A599=I$3,$D599<0),0)","v":0},0,{"$f":"IF($A599=K$3,AND($A599=K$3,$D599<0),0)","v":0},0,{"$f":"IF($A599=M$3,AND($A599=M$3,$D599<0),0)","v":0},0,{"$f":"IF($A599=O$3,AND($A599=O$3,$D599<0),0)","v":0},0,0,0,0,0,0,0,{"$f":"IF($A599=W$3,AND($A599=W$3,$D599<0),0)","v":0},0,{"$f":"IF($A599=Y$3,AND($A599=Y$3,$D599<0),0)","v":0},0,{"$f":"IF($A599=AA$3,AND($A599=AA$3,$D599<0),0)","v":0},0,{"$f":"IF($A599=AC$3,AND($A599=AC$3,$D599<0),0)","v":0},0,0]
[{"$f":"IF(B600=0,\"\",MONTH(B600))","v":""},null,null,null,{"$f":"IF(D600=\"\",\"\",IF(D600<0,\"DEBITO\",\"CREDITO\"))","v":""},null,false,false,0,{"$f":"IF($A600=I$3,AND($A600=I$3,$D600<0),0)","v":0},0,{"$f":"IF($A600=K$3,AND($A600=K$3,$D600<0),0)","v":0},0,{"$f":"IF($A600=M$3,AND($A600=M$3,$D600<0),0)","v":0},0,{"$f":"IF($A600=O$3,AND($A600=O$3,$D600<0),0)","v":0},0,0,0,0,0,0,0,{"$f":"IF($A600=W$3,AND($A600=W$3,$D600<0),0)","v":0},0,{"$f":"IF($A600=Y$3,AND($A600=Y$3,$D600<0),0)","v":0},0,{"$f":"IF($A600=AA$3,AND($A600=AA$3,$D600<0),0)","v":0},0,{"$f":"IF($A600=AC$3,AND($A600=AC$3,$D600<0),0)","v":0},0,0]
[{"$f":"IF(B601=0,\"\",MONTH(B601))","v":""},null,null,null,{"$f":"IF(D601=\"\",\"\",IF(D601<0,\"DEBITO\",\"CREDITO\"))","v":""},null,false,false,{"$f":"IF($A601=I$3,AND($A601=I$3,$D601>0),0)","v":0},{"$f":"IF($A601=I$3,AND($A601=I$3,$D601<0),0)","v":0},{"$f":"IF($A601=K$3,AND($A601=K$3,$D601>0),0)","v":0},{"$f":"IF($A601=K$3,AND($A601=K$3,$D601<0),0)","v":0},{"$f":"IF($A601=M$3,AND($A601=M$3,$D601>0),0)","v":0},{"$f":"IF($A601=M$3,AND($A601=M$3,$D601<0),0)","v":0},{"$f":"IF($A601=O$3,AND($A601=O$3,$D601>0),0)","v":0},{"$f":"IF($A601=O$3,AND($A601=O$3,$D601<0),0)","v":0},{"$f":"IF($A601=Q$3,AND($A601=Q$3,$D601>0),0)","v":0},0,0,0,0,0,{"$f":"IF($A601=W$3,AND($A601=W$3,$D601>0),0)","v":0},{"$f":"IF($A601=W$3,AND($A601=W$3,$D601<0),0)","v":0},{"$f":"IF($A601=Y$3,AND($A601=Y$3,$D601>0),0)","v":0},{"$f":"IF($A601=Y$3,AND($A601=Y$3,$D601<0),0)","v":0},{"$f":"IF($A601=AA$3,AND($A601=AA$3,$D601>0),0)","v":0},{"$f":"IF($A601=AA$3,AND($A601=AA$3,$D601<0),0)","v":0},{"$f":"IF($A601=AC$3,AND($A601=AC$3,$D601>0),0)","v":0},{"$f":"IF($A601=AC$3,AND($A601=AC$3,$D601<0),0)","v":0},{"$f":"IF($A601=AE$3,AND($A601=AE$3,$D601>0),0)","v":0},0]
[{"$f":"IF(B602=0,\"\",MONTH(B602))","v":""},null,null,null,{"$f":"IF(D602=\"\",\"\",IF(D602<0,\"DEBITO\",\"CREDITO\"))","v":""},null,false,false,0,{"$f":"IF($A602=I$3,AND($A602=I$3,$D602<0),0)","v":0},0,{"$f":"IF($A602=K$3,AND($A602=K$3,$D602<0),0)","v":0},0,{"$f":"IF($A602=M$3,AND($A602=M$3,$D602<0),0)","v":0},0,{"$f":"IF($A602=O$3,AND($A602=O$3,$D602<0),0)","v":0},0,0,0,0,0,0,0,{"$f":"IF($A602=W$3,AND($A602=W$3,$D602<0),0)","v":0},0,{"$f":"IF($A602=Y$3,AND($A602=Y$3,$D602<0),0)","v":0},0,{"$f":"IF($A602=AA$3,AND($A602=AA$3,$D602<0),0)","v":0},0,{"$f":"IF($A602=AC$3,AND($A602=AC$3,$D602<0),0)","v":0},0,0]
[{"$f":"IF(B603=0,\"\",MONTH(B603))","v":""},null,null,null,{"$f":"IF(D603=\"\",\"\",IF(D603<0,\"DEBITO\",\"CREDITO\"))","v":""},null,false,false,0,{"$f":"IF($A603=I$3,AND($A603=I$3,$D603<0),0)","v":0},0,{"$f":"IF($A603=K$3,AND($A603=K$3,$D603<0),0)","v":0},0,{"$f":"IF($A603=M$3,AND($A603=M$3,$D603<0),0)","v":0},0,{"$f":"IF($A603=O$3,AND($A603=O$3,$D603<0),0)","v":0},0,0,0,0,0,0,0,{"$f":"IF($A603=W$3,AND($A603=W$3,$D603<0),0)","v":0},0,{"$f":"IF($A603=Y$3,AND($A603=Y$3,$D603<0),0)","v":0},0,{"$f":"IF($A603=AA$3,AND($A603=AA$3,$D603<0),0)","v":0},0,{"$f":"IF($A603=AC$3,AND($A603=AC$3,$D603<0),0)","v":0},0,0]
[{"$f":"IF(B604=0,\"\",MONTH(B604))","v":""},null,null,null,{"$f":"IF(D604=\"\",\"\",IF(D604<0,\"DEBITO\",\"CREDITO\"))","v":""},null,false,false,0,{"$f":"IF($A604=I$3,AND($A604=I$3,$D604<0),0)","v":0},0,{"$f":"IF($A604=K$3,AND($A604=K$3,$D604<0),0)","v":0},0,{"$f":"IF($A604=M$3,AND($A604=M$3,$D604<0),0)","v":0},0,{"$f":"IF($A604=O$3,AND($A604=O$3,$D604<0),0)","v":0},0,0,0,0,0,0,0,{"$f":"IF($A604=W$3,AND($A604=W$3,$D604<0),0)","v":0},0,{"$f":"IF($A604=Y$3,AND($A604=Y$3,$D604<0),0)","v":0},0,{"$f":"IF($A604=AA$3,AND($A604=AA$3,$D604<0),0)","v":0},0,{"$f":"IF($A604=AC$3,AND($A604=AC$3,$D604<0),0)","v":0},0,0]
[{"$f":"IF(B605=0,\"\",MONTH(B605))","v":""},null,null,null,{"$f":"IF(D605=\"\",\"\",IF(D605<0,\"DEBITO\",\"CREDITO\"))","v":""},null,false,false,0,{"$f":"IF($A605=I$3,AND($A605=I$3,$D605<0),0)","v":0},0,{"$f":"IF($A605=K$3,AND($A605=K$3,$D605<0),0)","v":0},0,{"$f":"IF($A605=M$3,AND($A605=M$3,$D605<0),0)","v":0},0,{"$f":"IF($A605=O$3,AND($A605=O$3,$D605<0),0)","v":0},0,0,0,0,0,0,0,{"$f":"IF($A605=W$3,AND($A605=W$3,$D605<0),0)","v":0},0,{"$f":"IF($A605=Y$3,AND($A605=Y$3,$D605<0),0)","v":0},0,{"$f":"IF($A605=AA$3,AND($A605=AA$3,$D605<0),0)","v":0},0,{"$f":"IF($A605=AC$3,AND($A605=AC$3,$D605<0),0)","v":0},0,0]
[{"$f":"IF(B606=0,\"\",MONTH(B606))","v":""},null,null,null,{"$f":"IF(D606=\"\",\"\",IF(D606<0,\"DEBITO\",\"CREDITO\"))","v":""},null,false,false,0,{"$f":"IF($A606=I$3,AND($A606=I$3,$D606<0),0)","v":0},0,{"$f":"IF($A606=K$3,AND($A606=K$3,$D606<0),0)","v":0},0,{"$f":"IF($A606=M$3,AND($A606=M$3,$D606<0),0)","v":0},0,{"$f":"IF($A606=O$3,AND($A606=O$3,$D606<0),0)","v":0},0,0,0,0,0,0,0,{"$f":"IF($A606=W$3,AND($A606=W$3,$D606<0),0)","v":0},0,{"$f":"IF($A606=Y$3,AND($A606=Y$3,$D606<0),0)","v":0},0,{"$f":"IF($A606=AA$3,AND($A606=AA$3,$D606<0),0)","v":0},0,{"$f":"IF($A606=AC$3,AND($A606=AC$3,$D606<0),0)","v":0},0,0]
[{"$f":"IF(B607=0,\"\",MONTH(B607))","v":""},null,null,null,{"$f":"IF(D607=\"\",\"\",IF(D607<0,\"DEBITO\",\"CREDITO\"))","v":""},null,false,false,0,{"$f":"IF($A607=I$3,AND($A607=I$3,$D607<0),0)","v":0},0,{"$f":"IF($A607=K$3,AND($A607=K$3,$D607<0),0)","v":0},0,{"$f":"IF($A607=M$3,AND($A607=M$3,$D607<0),0)","v":0},0,{"$f":"IF($A607=O$3,AND($A607=O$3,$D607<0),0)","v":0},0,0,0,0,0,0,0,{"$f":"IF($A607=W$3,AND($A607=W$3,$D607<0),0)","v":0},0,{"$f":"IF($A607=Y$3,AND($A607=Y$3,$D607<0),0)","v":0},0,{"$f":"IF($A607=AA$3,AND($A607=AA$3,$D607<0),0)","v":0},0,{"$f":"IF($A607=AC$3,AND($A607=AC$3,$D607<0),0)","v":0},0,0]
[{"$f":"IF(B608=0,\"\",MONTH(B608))","v":""},null,null,null,{"$f":"IF(D608=\"\",\"\",IF(D608<0,\"DEBITO\",\"CREDITO\"))","v":""},null,false,false,0,{"$f":"IF($A608=I$3,AND($A608=I$3,$D608<0),0)","v":0},0,{"$f":"IF($A608=K$3,AND($A608=K$3,$D608<0),0)","v":0},0,{"$f":"IF($A608=M$3,AND($A608=M$3,$D608<0),0)","v":0},0,{"$f":"IF($A608=O$3,AND($A608=O$3,$D608<0),0)","v":0},0,0,0,0,0,0,0,{"$f":"IF($A608=W$3,AND($A608=W$3,$D608<0),0)","v":0},0,{"$f":"IF($A608=Y$3,AND($A608=Y$3,$D608<0),0)","v":0},0,{"$f":"IF($A608=AA$3,AND($A608=AA$3,$D608<0),0)","v":0},0,{"$f":"IF($A608=AC$3,AND($A608=AC$3,$D608<0),0)","v":0},0,0]
[{"$f":"IF(B609=0,\"\",MONTH(B609))","v":""},null,null,null,{"$f":"IF(D609=\"\",\"\",IF(D609<0,\"DEBITO\",\"CREDITO\"))","v":""},null,false,false,0,{"$f":"IF($A609=I$3,AND($A609=I$3,$D609<0),0)","v":0},0,{"$f":"IF($A609=K$3,AND($A609=K$3,$D609<0),0)","v":0},0,{"$f":"IF($A609=M$3,AND($A609=M$3,$D609<0),0)","v":0},0,{"$f":"IF($A609=O$3,AND($A609=O$3,$D609<0),0)","v":0},0,0,0,0,0,0,0,{"$f":"IF($A609=W$3,AND($A609=W$3,$D609<0),0)","v":0},0,{"$f":"IF($A609=Y$3,AND($A609=Y$3,$D609<0),0)","v":0},0,{"$f":"IF($A609=AA$3,AND($A609=AA$3,$D609<0),0)","v":0},0,{"$f":"IF($A609=AC$3,AND($A609=AC$3,$D609<0),0)","v":0},0,0]
[{"$f":"IF(B610=0,\"\",MONTH(B610))","v":""},null,null,null,{"$f":"IF(D610=\"\",\"\",IF(D610<0,\"DEBITO\",\"CREDITO\"))","v":""},null,false,false,0,{"$f":"IF($A610=I$3,AND($A610=I$3,$D610<0),0)","v":0},0,{"$f":"IF($A610=K$3,AND($A610=K$3,$D610<0),0)","v":0},0,{"$f":"IF($A610=M$3,AND($A610=M$3,$D610<0),0)","v":0},0,{"$f":"IF($A610=O$3,AND($A610=O$3,$D610<0),0)","v":0},0,0,0,0,0,0,0,{"$f":"IF($A610=W$3,AND($A610=W$3,$D610<0),0)","v":0},0,{"$f":"IF($A610=Y$3,AND($A610=Y$3,$D610<0),0)","v":0},0,{"$f":"IF($A610=AA$3,AND($A610=AA$3,$D610<0),0)","v":0},0,{"$f":"IF($A610=AC$3,AND($A610=AC$3,$D610<0),0)","v":0},0,0]
[{"$f":"IF(B611=0,\"\",MONTH(B611))","v":""},null,null,null,{"$f":"IF(D611=\"\",\"\",IF(D611<0,\"DEBITO\",\"CREDITO\"))","v":""},null,false,false,0,{"$f":"IF($A611=I$3,AND($A611=I$3,$D611<0),0)","v":0},0,{"$f":"IF($A611=K$3,AND($A611=K$3,$D611<0),0)","v":0},0,{"$f":"IF($A611=M$3,AND($A611=M$3,$D611<0),0)","v":0},0,{"$f":"IF($A611=O$3,AND($A611=O$3,$D611<0),0)","v":0},0,0,0,0,0,0,0,{"$f":"IF($A611=W$3,AND($A611=W$3,$D611<0),0)","v":0},0,{"$f":"IF($A611=Y$3,AND($A611=Y$3,$D611<0),0)","v":0},0,{"$f":"IF($A611=AA$3,AND($A611=AA$3,$D611<0),0)","v":0},0,{"$f":"IF($A611=AC$3,AND($A611=AC$3,$D611<0),0)","v":0},0,0]
[{"$f":"IF(B612=0,\"\",MONTH(B612))","v":""},null,null,null,{"$f":"IF(D612=\"\",\"\",IF(D612<0,\"DEBITO\",\"CREDITO\"))","v":""},null,false,false,0,{"$f":"IF($A612=I$3,AND($A612=I$3,$D612<0),0)","v":0},0,{"$f":"IF($A612=K$3,AND($A612=K$3,$D612<0),0)","v":0},0,{"$f":"IF($A612=M$3,AND($A612=M$3,$D612<0),0)","v":0},0,{"$f":"IF($A612=O$3,AND($A612=O$3,$D612<0),0)","v":0},0,0,0,0,0,0,0,{"$f":"IF($A612=W$3,AND($A612=W$3,$D612<0),0)","v":0},0,{"$f":"IF($A612=Y$3,AND($A612=Y$3,$D612<0),0)","v":0},0,{"$f":"IF($A612=AA$3,AND($A612=AA$3,$D612<0),0)","v":0},0,{"$f":"IF($A612=AC$3,AND($A612=AC$3,$D612<0),0)","v":0},0,0]
[{"$f":"IF(B613=0,\"\",MONTH(B613))","v":""},null,null,null,{"$f":"IF(D613=\"\",\"\",IF(D613<0,\"DEBITO\",\"CREDITO\"))","v":""},null,false,false,0,{"$f":"IF($A613=I$3,AND($A613=I$3,$D613<0),0)","v":0},0,{"$f":"IF($A613=K$3,AND($A613=K$3,$D613<0),0)","v":0},0,{"$f":"IF($A613=M$3,AND($A613=M$3,$D613<0),0)","v":0},0,{"$f":"IF($A613=O$3,AND($A613=O$3,$D613<0),0)","v":0},0,0,0,0,0,0,0,{"$f":"IF($A613=W$3,AND($A613=W$3,$D613<0),0)","v":0},0,{"$f":"IF($A613=Y$3,AND($A613=Y$3,$D613<0),0)","v":0},0,{"$f":"IF($A613=AA$3,AND($A613=AA$3,$D613<0),0)","v":0},0,{"$f":"IF($A613=AC$3,AND($A613=AC$3,$D613<0),0)","v":0},0,0]
[{"$f":"IF(B614=0,\"\",MONTH(B614))","v":""},null,null,null,{"$f":"IF(D614=\"\",\"\",IF(D614<0,\"DEBITO\",\"CREDITO\"))","v":""},null,false,false,0,{"$f":"IF($A614=I$3,AND($A614=I$3,$D614<0),0)","v":0},0,{"$f":"IF($A614=K$3,AND($A614=K$3,$D614<0),0)","v":0},0,{"$f":"IF($A614=M$3,AND($A614=M$3,$D614<0),0)","v":0},0,{"$f":"IF($A614=O$3,AND($A614=O$3,$D614<0),0)","v":0},0,0,0,0,0,0,0,{"$f":"IF($A614=W$3,AND($A614=W$3,$D614<0),0)","v":0},0,{"$f":"IF($A614=Y$3,AND($A614=Y$3,$D614<0),0)","v":0},0,{"$f":"IF($A614=AA$3,AND($A614=AA$3,$D614<0),0)","v":0},0,{"$f":"IF($A614=AC$3,AND($A614=AC$3,$D614<0),0)","v":0},0,0]
[{"$f":"IF(B615=0,\"\",MONTH(B615))","v":""},null,null,null,{"$f":"IF(D615=\"\",\"\",IF(D615<0,\"DEBITO\",\"CREDITO\"))","v":""},null,false,false,0,{"$f":"IF($A615=I$3,AND($A615=I$3,$D615<0),0)","v":0},0,{"$f":"IF($A615=K$3,AND($A615=K$3,$D615<0),0)","v":0},0,{"$f":"IF($A615=M$3,AND($A615=M$3,$D615<0),0)","v":0},0,{"$f":"IF($A615=O$3,AND($A615=O$3,$D615<0),0)","v":0},0,0,0,0,0,0,0,{"$f":"IF($A615=W$3,AND($A615=W$3,$D615<0),0)","v":0},0,{"$f":"IF($A615=Y$3,AND($A615=Y$3,$D615<0),0)","v":0},0,{"$f":"IF($A615=AA$3,AND($A615=AA$3,$D615<0),0)","v":0},0,{"$f":"IF($A615=AC$3,AND($A615=AC$3,$D615<0),0)","v":0},0,0]
[{"$f":"IF(B616=0,\"\",MONTH(B616))","v":""},null,null,null,{"$f":"IF(D616=\"\",\"\",IF(D616<0,\"DEBITO\",\"CREDITO\"))","v":""},null,false,false,0,{"$f":"IF($A616=I$3,AND($A616=I$3,$D616<0),0)","v":0},0,{"$f":"IF($A616=K$3,AND($A616=K$3,$D616<0),0)","v":0},0,{"$f":"IF($A616=M$3,AND($A616=M$3,$D616<0),0)","v":0},0,{"$f":"IF($A616=O$3,AND($A616=O$3,$D616<0),0)","v":0},0,0,0,0,0,0,0,{"$f":"IF($A616=W$3,AND($A616=W$3,$D616<0),0)","v":0},0,{"$f":"IF($A616=Y$3,AND($A616=Y$3,$D616<0),0)","v":0},0,{"$f":"IF($A616=AA$3,AND($A616=AA$3,$D616<0),0)","v":0},0,{"$f":"IF($A616=AC$3,AND($A616=AC$3,$D616<0),0)","v":0},0,0]
[{"$f":"IF(B617=0,\"\",MONTH(B617))","v":""},null,null,null,{"$f":"IF(D617=\"\",\"\",IF(D617<0,\"DEBITO\",\"CREDITO\"))","v":""},null,false,false,0,{"$f":"IF($A617=I$3,AND($A617=I$3,$D617<0),0)","v":0},0,{"$f":"IF($A617=K$3,AND($A617=K$3,$D617<0),0)","v":0},0,{"$f":"IF($A617=M$3,AND($A617=M$3,$D617<0),0)","v":0},0,{"$f":"IF($A617=O$3,AND($A617=O$3,$D617<0),0)","v":0},0,0,0,0,0,0,0,{"$f":"IF($A617=W$3,AND($A617=W$3,$D617<0),0)","v":0},0,{"$f":"IF($A617=Y$3,AND($A617=Y$3,$D617<0),0)","v":0},0,{"$f":"IF($A617=AA$3,AND($A617=AA$3,$D617<0),0)","v":0},0,{"$f":"IF($A617=AC$3,AND($A617=AC$3,$D617<0),0)","v":0},0,0]
[{"$f":"IF(B618=0,\"\",MONTH(B618))","v":""},null,null,null,{"$f":"IF(D618=\"\",\"\",IF(D618<0,\"DEBITO\",\"CREDITO\"))","v":""},null,false,false,0,{"$f":"IF($A618=I$3,AND($A618=I$3,$D618<0),0)","v":0},0,{"$f":"IF($A618=K$3,AND($A618=K$3,$D618<0),0)","v":0},0,{"$f":"IF($A618=M$3,AND($A618=M$3,$D618<0),0)","v":0},0,{"$f":"IF($A618=O$3,AND($A618=O$3,$D618<0),0)","v":0},0,0,0,0,0,0,0,{"$f":"IF($A618=W$3,AND($A618=W$3,$D618<0),0)","v":0},0,{"$f":"IF($A618=Y$3,AND($A618=Y$3,$D618<0),0)","v":0},0,{"$f":"IF($A618=AA$3,AND($A618=AA$3,$D618<0),0)","v":0},0,{"$f":"IF($A618=AC$3,AND($A618=AC$3,$D618<0),0)","v":0},0,0]
[{"$f":"IF(B619=0,\"\",MONTH(B619))","v":""},null,null,null,{"$f":"IF(D619=\"\",\"\",IF(D619<0,\"DEBITO\",\"CREDITO\"))","v":""},null,false,false,0,{"$f":"IF($A619=I$3,AND($A619=I$3,$D619<0),0)","v":0},0,{"$f":"IF($A619=K$3,AND($A619=K$3,$D619<0),0)","v":0},0,{"$f":"IF($A619=M$3,AND($A619=M$3,$D619<0),0)","v":0},0,{"$f":"IF($A619=O$3,AND($A619=O$3,$D619<0),0)","v":0},0,0,0,0,0,0,0,{"$f":"IF($A619=W$3,AND($A619=W$3,$D619<0),0)","v":0},0,{"$f":"IF($A619=Y$3,AND($A619=Y$3,$D619<0),0)","v":0},0,{"$f":"IF($A619=AA$3,AND($A619=AA$3,$D619<0),0)","v":0},0,{"$f":"IF($A619=AC$3,AND($A619=AC$3,$D619<0),0)","v":0},0,0]
[{"$f":"IF(B620=0,\"\",MONTH(B620))","v":""},null,null,null,{"$f":"IF(D620=\"\",\"\",IF(D620<0,\"DEBITO\",\"CREDITO\"))","v":""},null,false,false,0,{"$f":"IF($A620=I$3,AND($A620=I$3,$D620<0),0)","v":0},0,{"$f":"IF($A620=K$3,AND($A620=K$3,$D620<0),0)","v":0},0,{"$f":"IF($A620=M$3,AND($A620=M$3,$D620<0),0)","v":0},0,{"$f":"IF($A620=O$3,AND($A620=O$3,$D620<0),0)","v":0},0,0,0,0,0,0,0,{"$f":"IF($A620=W$3,AND($A620=W$3,$D620<0),0)","v":0},0,{"$f":"IF($A620=Y$3,AND($A620=Y$3,$D620<0),0)","v":0},0,{"$f":"IF($A620=AA$3,AND($A620=AA$3,$D620<0),0)","v":0},0,{"$f":"IF($A620=AC$3,AND($A620=AC$3,$D620<0),0)","v":0},0,0]
[{"$f":"IF(B621=0,\"\",MONTH(B621))","v":""},null,null,null,{"$f":"IF(D621=\"\",\"\",IF(D621<0,\"DEBITO\",\"CREDITO\"))","v":""},null,false,false,0,{"$f":"IF($A621=I$3,AND($A621=I$3,$D621<0),0)","v":0},0,{"$f":"IF($A621=K$3,AND($A621=K$3,$D621<0),0)","v":0},0,{"$f":"IF($A621=M$3,AND($A621=M$3,$D621<0),0)","v":0},0,{"$f":"IF($A621=O$3,AND($A621=O$3,$D621<0),0)","v":0},0,0,0,0,0,0,0,{"$f":"IF($A621=W$3,AND($A621=W$3,$D621<0),0)","v":0},0,{"$f":"IF($A621=Y$3,AND($A621=Y$3,$D621<0),0)","v":0},0,{"$f":"IF($A621=AA$3,AND($A621=AA$3,$D621<0),0)","v":0},0,{"$f":"IF($A621=AC$3,AND($A621=AC$3,$D621<0),0)","v":0},0,0]
[{"$f":"IF(B622=0,\"\",MONTH(B622))","v":""},null,null,null,{"$f":"IF(D622=\"\",\"\",IF(D622<0,\"DEBITO\",\"CREDITO\"))","v":""},null,false,false,0,{"$f":"IF($A622=I$3,AND($A622=I$3,$D622<0),0)","v":0},0,{"$f":"IF($A622=K$3,AND($A622=K$3,$D622<0),0)","v":0},0,{"$f":"IF($A622=M$3,AND($A622=M$3,$D622<0),0)","v":0},0,{"$f":"IF($A622=O$3,AND($A622=O$3,$D622<0),0)","v":0},0,0,0,0,0,0,0,{"$f":"IF($A622=W$3,AND($A622=W$3,$D622<0),0)","v":0},0,{"$f":"IF($A622=Y$3,AND($A622=Y$3,$D622<0),0)","v":0},0,{"$f":"IF($A622=AA$3,AND($A622=AA$3,$D622<0),0)","v":0},0,{"$f":"IF($A622=AC$3,AND($A622=AC$3,$D622<0),0)","v":0},0,0]
[{"$f":"IF(B623=0,\"\",MONTH(B623))","v":""},null,null,null,{"$f":"IF(D623=\"\",\"\",IF(D623<0,\"DEBITO\",\"CREDITO\"))","v":""},null,false,false,0,{"$f":"IF($A623=I$3,AND($A623=I$3,$D623<0),0)","v":0},0,{"$f":"IF($A623=K$3,AND($A623=K$3,$D623<0),0)","v":0},0,{"$f":"IF($A623=M$3,AND($A623=M$3,$D623<0),0)","v":0},0,{"$f":"IF($A623=O$3,AND($A623=O$3,$D623<0),0)","v":0},0,0,0,0,0,0,0,{"$f":"IF($A623=W$3,AND($A623=W$3,$D623<0),0)","v":0},0,{"$f":"IF($A623=Y$3,AND($A623=Y$3,$D623<0),0)","v":0},0,{"$f":"IF($A623=AA$3,AND($A623=AA$3,$D623<0),0)","v":0},0,{"$f":"IF($A623=AC$3,AND($A623=AC$3,$D623<0),0)","v":0},0,0]
[{"$f":"IF(B624=0,\"\",MONTH(B624))","v":""},null,null,null,{"$f":"IF(D624=\"\",\"\",IF(D624<0,\"DEBITO\",\"CREDITO\"))","v":""},null,false,false,0,{"$f":"IF($A624=I$3,AND($A624=I$3,$D624<0),0)","v":0},0,{"$f":"IF($A624=K$3,AND($A624=K$3,$D624<0),0)","v":0},0,{"$f":"IF($A624=M$3,AND($A624=M$3,$D624<0),0)","v":0},0,{"$f":"IF($A624=O$3,AND($A624=O$3,$D624<0),0)","v":0},0,0,0,0,0,0,0,{"$f":"IF($A624=W$3,AND($A624=W$3,$D624<0),0)","v":0},0,{"$f":"IF($A624=Y$3,AND($A624=Y$3,$D624<0),0)","v":0},0,{"$f":"IF($A624=AA$3,AND($A624=AA$3,$D624<0),0)","v":0},0,{"$f":"IF($A624=AC$3,AND($A624=AC$3,$D624<0),0)","v":0},0,0]
[{"$f":"IF(B625=0,\"\",MONTH(B625))","v":""},null,null,null,{"$f":"IF(D625=\"\",\"\",IF(D625<0,\"DEBITO\",\"CREDITO\"))","v":""},null,false,false,0,{"$f":"IF($A625=I$3,AND($A625=I$3,$D625<0),0)","v":0},0,{"$f":"IF($A625=K$3,AND($A625=K$3,$D625<0),0)","v":0},0,{"$f":"IF($A625=M$3,AND($A625=M$3,$D625<0),0)","v":0},0,{"$f":"IF($A625=O$3,AND($A625=O$3,$D625<0),0)","v":0},0,0,0,0,0,0,0,{"$f":"IF($A625=W$3,AND($A625=W$3,$D625<0),0)","v":0},0,{"$f":"IF($A625=Y$3,AND($A625=Y$3,$D625<0),0)","v":0},0,{"$f":"IF($A625=AA$3,AND($A625=AA$3,$D625<0),0)","v":0},0,{"$f":"IF($A625=AC$3,AND($A625=AC$3,$D625<0),0)","v":0},0,0]
[{"$f":"IF(B626=0,\"\",MONTH(B626))","v":""},null,null,null,{"$f":"IF(D626=\"\",\"\",IF(D626<0,\"DEBITO\",\"CREDITO\"))","v":""},null,false,false,0,{"$f":"IF($A626=I$3,AND($A626=I$3,$D626<0),0)","v":0},0,{"$f":"IF($A626=K$3,AND($A626=K$3,$D626<0),0)","v":0},0,{"$f":"IF($A626=M$3,AND($A626=M$3,$D626<0),0)","v":0},0,{"$f":"IF($A626=O$3,AND($A626=O$3,$D626<0),0)","v":0},0,0,0,0,0,0,0,{"$f":"IF($A626=W$3,AND($A626=W$3,$D626<0),0)","v":0},0,{"$f":"IF($A626=Y$3,AND($A626=Y$3,$D626<0),0)","v":0},0,{"$f":"IF($A626=AA$3,AND($A626=AA$3,$D626<0),0)","v":0},0,{"$f":"IF($A626=AC$3,AND($A626=AC$3,$D626<0),0)","v":0},0,0]
[{"$f":"IF(B627=0,\"\",MONTH(B627))","v":""},null,null,null,{"$f":"IF(D627=\"\",\"\",IF(D627<0,\"DEBITO\",\"CREDITO\"))","v":""},null,false,false,0,{"$f":"IF($A627=I$3,AND($A627=I$3,$D627<0),0)","v":0},0,{"$f":"IF($A627=K$3,AND($A627=K$3,$D627<0),0)","v":0},0,{"$f":"IF($A627=M$3,AND($A627=M$3,$D627<0),0)","v":0},0,{"$f":"IF($A627=O$3,AND($A627=O$3,$D627<0),0)","v":0},0,0,0,0,0,0,0,{"$f":"IF($A627=W$3,AND($A627=W$3,$D627<0),0)","v":0},0,{"$f":"IF($A627=Y$3,AND($A627=Y$3,$D627<0),0)","v":0},0,{"$f":"IF($A627=AA$3,AND($A627=AA$3,$D627<0),0)","v":0},0,{"$f":"IF($A627=AC$3,AND($A627=AC$3,$D627<0),0)","v":0},0,0]
[{"$f":"IF(B628=0,\"\",MONTH(B628))","v":""},null,null,null,{"$f":"IF(D628=\"\",\"\",IF(D628<0,\"DEBITO\",\"CREDITO\"))","v":""},null,false,false,0,{"$f":"IF($A628=I$3,AND($A628=I$3,$D628<0),0)","v":0},0,{"$f":"IF($A628=K$3,AND($A628=K$3,$D628<0),0)","v":0},0,{"$f":"IF($A628=M$3,AND($A628=M$3,$D628<0),0)","v":0},0,{"$f":"IF($A628=O$3,AND($A628=O$3,$D628<0),0)","v":0},0,0,0,0,0,0,0,{"$f":"IF($A628=W$3,AND($A628=W$3,$D628<0),0)","v":0},0,{"$f":"IF($A628=Y$3,AND($A628=Y$3,$D628<0),0)","v":0},0,{"$f":"IF($A628=AA$3,AND($A628=AA$3,$D628<0),0)","v":0},0,{"$f":"IF($A628=AC$3,AND($A628=AC$3,$D628<0),0)","v":0},0,0]
[{"$f":"IF(B629=0,\"\",MONTH(B629))","v":""},null,null,null,{"$f":"IF(D629=\"\",\"\",IF(D629<0,\"DEBITO\",\"CREDITO\"))","v":""},null,false,false,0,{"$f":"IF($A629=I$3,AND($A629=I$3,$D629<0),0)","v":0},0,{"$f":"IF($A629=K$3,AND($A629=K$3,$D629<0),0)","v":0},0,{"$f":"IF($A629=M$3,AND($A629=M$3,$D629<0),0)","v":0},0,{"$f":"IF($A629=O$3,AND($A629=O$3,$D629<0),0)","v":0},0,0,0,0,0,0,0,{"$f":"IF($A629=W$3,AND($A629=W$3,$D629<0),0)","v":0},0,{"$f":"IF($A629=Y$3,AND($A629=Y$3,$D629<0),0)","v":0},0,{"$f":"IF($A629=AA$3,AND($A629=AA$3,$D629<0),0)","v":0},0,{"$f":"IF($A629=AC$3,AND($A629=AC$3,$D629<0),0)","v":0},0,0]
[{"$f":"IF(B630=0,\"\",MONTH(B630))","v":""},null,null,null,{"$f":"IF(D630=\"\",\"\",IF(D630<0,\"DEBITO\",\"CREDITO\"))","v":""},null,false,false,0,{"$f":"IF($A630=I$3,AND($A630=I$3,$D630<0),0)","v":0},0,{"$f":"IF($A630=K$3,AND($A630=K$3,$D630<0),0)","v":0},0,{"$f":"IF($A630=M$3,AND($A630=M$3,$D630<0),0)","v":0},0,{"$f":"IF($A630=O$3,AND($A630=O$3,$D630<0),0)","v":0},0,0,0,0,0,0,0,{"$f":"IF($A630=W$3,AND($A630=W$3,$D630<0),0)","v":0},0,{"$f":"IF($A630=Y$3,AND($A630=Y$3,$D630<0),0)","v":0},0,{"$f":"IF($A630=AA$3,AND($A630=AA$3,$D630<0),0)","v":0},0,{"$f":"IF($A630=AC$3,AND($A630=AC$3,$D630<0),0)","v":0},0,0]
[{"$f":"IF(B631=0,\"\",MONTH(B631))","v":""},null,null,null,{"$f":"IF(D631=\"\",\"\",IF(D631<0,\"DEBITO\",\"CREDITO\"))","v":""},null,false,false,0,{"$f":"IF($A631=I$3,AND($A631=I$3,$D631<0),0)","v":0},0,{"$f":"IF($A631=K$3,AND($A631=K$3,$D631<0),0)","v":0},0,{"$f":"IF($A631=M$3,AND($A631=M$3,$D631<0),0)","v":0},0,{"$f":"IF($A631=O$3,AND($A631=O$3,$D631<0),0)","v":0},0,0,0,0,0,0,0,{"$f":"IF($A631=W$3,AND($A631=W$3,$D631<0),0)","v":0},0,{"$f":"IF($A631=Y$3,AND($A631=Y$3,$D631<0),0)","v":0},0,{"$f":"IF($A631=AA$3,AND($A631=AA$3,$D631<0),0)","v":0},0,{"$f":"IF($A631=AC$3,AND($A631=AC$3,$D631<0),0)","v":0},0,0]
[{"$f":"IF(B632=0,\"\",MONTH(B632))","v":""},null,null,null,{"$f":"IF(D632=\"\",\"\",IF(D632<0,\"DEBITO\",\"CREDITO\"))","v":""},null,false,false,0,{"$f":"IF($A632=I$3,AND($A632=I$3,$D632<0),0)","v":0},0,{"$f":"IF($A632=K$3,AND($A632=K$3,$D632<0),0)","v":0},0,{"$f":"IF($A632=M$3,AND($A632=M$3,$D632<0),0)","v":0},0,{"$f":"IF($A632=O$3,AND($A632=O$3,$D632<0),0)","v":0},0,0,0,0,0,0,0,{"$f":"IF($A632=W$3,AND($A632=W$3,$D632<0),0)","v":0},0,{"$f":"IF($A632=Y$3,AND($A632=Y$3,$D632<0),0)","v":0},0,{"$f":"IF($A632=AA$3,AND($A632=AA$3,$D632<0),0)","v":0},0,{"$f":"IF($A632=AC$3,AND($A632=AC$3,$D632<0),0)","v":0},0,0]
[{"$f":"IF(B633=0,\"\",MONTH(B633))","v":""},null,null,null,{"$f":"IF(D633=\"\",\"\",IF(D633<0,\"DEBITO\",\"CREDITO\"))","v":""},null,false,false,0,{"$f":"IF($A633=I$3,AND($A633=I$3,$D633<0),0)","v":0},0,{"$f":"IF($A633=K$3,AND($A633=K$3,$D633<0),0)","v":0},0,{"$f":"IF($A633=M$3,AND($A633=M$3,$D633<0),0)","v":0},0,{"$f":"IF($A633=O$3,AND($A633=O$3,$D633<0),0)","v":0},0,0,0,0,0,0,0,{"$f":"IF($A633=W$3,AND($A633=W$3,$D633<0),0)","v":0},0,{"$f":"IF($A633=Y$3,AND($A633=Y$3,$D633<0),0)","v":0},0,{"$f":"IF($A633=AA$3,AND($A633=AA$3,$D633<0),0)","v":0},0,{"$f":"IF($A633=AC$3,AND($A633=AC$3,$D633<0),0)","v":0},0,0]
[{"$f":"IF(B634=0,\"\",MONTH(B634))","v":""},null,null,null,{"$f":"IF(D634=\"\",\"\",IF(D634<0,\"DEBITO\",\"CREDITO\"))","v":""},null,false,false,0,{"$f":"IF($A634=I$3,AND($A634=I$3,$D634<0),0)","v":0},0,{"$f":"IF($A634=K$3,AND($A634=K$3,$D634<0),0)","v":0},0,{"$f":"IF($A634=M$3,AND($A634=M$3,$D634<0),0)","v":0},0,{"$f":"IF($A634=O$3,AND($A634=O$3,$D634<0),0)","v":0},0,0,0,0,0,0,0,{"$f":"IF($A634=W$3,AND($A634=W$3,$D634<0),0)","v":0},0,{"$f":"IF($A634=Y$3,AND($A634=Y$3,$D634<0),0)","v":0},0,{"$f":"IF($A634=AA$3,AND($A634=AA$3,$D634<0),0)","v":0},0,{"$f":"IF($A634=AC$3,AND($A634=AC$3,$D634<0),0)","v":0},0,0]
[{"$f":"IF(B635=0,\"\",MONTH(B635))","v":""},null,null,null,{"$f":"IF(D635=\"\",\"\",IF(D635<0,\"DEBITO\",\"CREDITO\"))","v":""},null,false,false,0,{"$f":"IF($A635=I$3,AND($A635=I$3,$D635<0),0)","v":0},0,{"$f":"IF($A635=K$3,AND($A635=K$3,$D635<0),0)","v":0},0,{"$f":"IF($A635=M$3,AND($A635=M$3,$D635<0),0)","v":0},0,{"$f":"IF($A635=O$3,AND($A635=O$3,$D635<0),0)","v":0},0,0,0,0,0,0,0,{"$f":"IF($A635=W$3,AND($A635=W$3,$D635<0),0)","v":0},0,{"$f":"IF($A635=Y$3,AND($A635=Y$3,$D635<0),0)","v":0},0,{"$f":"IF($A635=AA$3,AND($A635=AA$3,$D635<0),0)","v":0},0,{"$f":"IF($A635=AC$3,AND($A635=AC$3,$D635<0),0)","v":0},0,0]
[{"$f":"IF(B636=0,\"\",MONTH(B636))","v":""},null,null,null,{"$f":"IF(D636=\"\",\"\",IF(D636<0,\"DEBITO\",\"CREDITO\"))","v":""},null,false,false,0,{"$f":"IF($A636=I$3,AND($A636=I$3,$D636<0),0)","v":0},0,{"$f":"IF($A636=K$3,AND($A636=K$3,$D636<0),0)","v":0},0,{"$f":"IF($A636=M$3,AND($A636=M$3,$D636<0),0)","v":0},0,{"$f":"IF($A636=O$3,AND($A636=O$3,$D636<0),0)","v":0},0,0,0,0,0,0,0,{"$f":"IF($A636=W$3,AND($A636=W$3,$D636<0),0)","v":0},0,{"$f":"IF($A636=Y$3,AND($A636=Y$3,$D636<0),0)","v":0},0,{"$f":"IF($A636=AA$3,AND($A636=AA$3,$D636<0),0)","v":0},0,{"$f":"IF($A636=AC$3,AND($A636=AC$3,$D636<0),0)","v":0},0,0]
[{"$f":"IF(B637=0,\"\",MONTH(B637))","v":""},null,null,null,{"$f":"IF(D637=\"\",\"\",IF(D637<0,\"DEBITO\",\"CREDITO\"))","v":""},null,false,false,0,{"$f":"IF($A637=I$3,AND($A637=I$3,$D637<0),0)","v":0},0,{"$f":"IF($A637=K$3,AND($A637=K$3,$D637<0),0)","v":0},0,{"$f":"IF($A637=M$3,AND($A637=M$3,$D637<0),0)","v":0},0,{"$f":"IF($A637=O$3,AND($A637=O$3,$D637<0),0)","v":0},0,0,0,0,0,0,0,{"$f":"IF($A637=W$3,AND($A637=W$3,$D637<0),0)","v":0},0,{"$f":"IF($A637=Y$3,AND($A637=Y$3,$D637<0),0)","v":0},0,{"$f":"IF($A637=AA$3,AND($A637=AA$3,$D637<0),0)","v":0},0,{"$f":"IF($A637=AC$3,AND($A637=AC$3,$D637<0),0)","v":0},0,0]
[{"$f":"IF(B638=0,\"\",MONTH(B638))","v":""},null,null,null,{"$f":"IF(D638=\"\",\"\",IF(D638<0,\"DEBITO\",\"CREDITO\"))","v":""},null,false,false,0,{"$f":"IF($A638=I$3,AND($A638=I$3,$D638<0),0)","v":0},0,{"$f":"IF($A638=K$3,AND($A638=K$3,$D638<0),0)","v":0},0,{"$f":"IF($A638=M$3,AND($A638=M$3,$D638<0),0)","v":0},0,{"$f":"IF($A638=O$3,AND($A638=O$3,$D638<0),0)","v":0},0,0,0,0,0,0,0,{"$f":"IF($A638=W$3,AND($A638=W$3,$D638<0),0)","v":0},0,{"$f":"IF($A638=Y$3,AND($A638=Y$3,$D638<0),0)","v":0},0,{"$f":"IF($A638=AA$3,AND($A638=AA$3,$D638<0),0)","v":0},0,{"$f":"IF($A638=AC$3,AND($A638=AC$3,$D638<0),0)","v":0},0,0]
[{"$f":"IF(B639=0,\"\",MONTH(B639))","v":""},null,null,null,{"$f":"IF(D639=\"\",\"\",IF(D639<0,\"DEBITO\",\"CREDITO\"))","v":""},null,false,false,0,{"$f":"IF($A639=I$3,AND($A639=I$3,$D639<0),0)","v":0},0,{"$f":"IF($A639=K$3,AND($A639=K$3,$D639<0),0)","v":0},0,{"$f":"IF($A639=M$3,AND($A639=M$3,$D639<0),0)","v":0},0,{"$f":"IF($A639=O$3,AND($A639=O$3,$D639<0),0)","v":0},0,0,0,0,0,0,0,{"$f":"IF($A639=W$3,AND($A639=W$3,$D639<0),0)","v":0},0,{"$f":"IF($A639=Y$3,AND($A639=Y$3,$D639<0),0)","v":0},0,{"$f":"IF($A639=AA$3,AND($A639=AA$3,$D639<0),0)","v":0},0,{"$f":"IF($A639=AC$3,AND($A639=AC$3,$D639<0),0)","v":0},0,0]
[{"$f":"IF(B640=0,\"\",MONTH(B640))","v":""},null,null,null,{"$f":"IF(D640=\"\",\"\",IF(D640<0,\"DEBITO\",\"CREDITO\"))","v":""},null,false,false,0,{"$f":"IF($A640=I$3,AND($A640=I$3,$D640<0),0)","v":0},0,{"$f":"IF($A640=K$3,AND($A640=K$3,$D640<0),0)","v":0},0,{"$f":"IF($A640=M$3,AND($A640=M$3,$D640<0),0)","v":0},0,{"$f":"IF($A640=O$3,AND($A640=O$3,$D640<0),0)","v":0},0,0,0,0,0,0,0,{"$f":"IF($A640=W$3,AND($A640=W$3,$D640<0),0)","v":0},0,{"$f":"IF($A640=Y$3,AND($A640=Y$3,$D640<0),0)","v":0},0,{"$f":"IF($A640=AA$3,AND($A640=AA$3,$D640<0),0)","v":0},0,{"$f":"IF($A640=AC$3,AND($A640=AC$3,$D640<0),0)","v":0},0,0]
[{"$f":"IF(B641=0,\"\",MONTH(B641))","v":""},null,null,null,{"$f":"IF(D641=\"\",\"\",IF(D641<0,\"DEBITO\",\"CREDITO\"))","v":""},null,false,false,0,{"$f":"IF($A641=I$3,AND($A641=I$3,$D641<0),0)","v":0},0,{"$f":"IF($A641=K$3,AND($A641=K$3,$D641<0),0)","v":0},0,{"$f":"IF($A641=M$3,AND($A641=M$3,$D641<0),0)","v":0},0,{"$f":"IF($A641=O$3,AND($A641=O$3,$D641<0),0)","v":0},0,0,0,0,0,0,0,{"$f":"IF($A641=W$3,AND($A641=W$3,$D641<0),0)","v":0},0,{"$f":"IF($A641=Y$3,AND($A641=Y$3,$D641<0),0)","v":0},0,{"$f":"IF($A641=AA$3,AND($A641=AA$3,$D641<0),0)","v":0},0,{"$f":"IF($A641=AC$3,AND($A641=AC$3,$D641<0),0)","v":0},0,0]
[{"$f":"IF(B642=0,\"\",MONTH(B642))","v":""},null,null,null,{"$f":"IF(D642=\"\",\"\",IF(D642<0,\"DEBITO\",\"CREDITO\"))","v":""},null,false,false,0,{"$f":"IF($A642=I$3,AND($A642=I$3,$D642<0),0)","v":0},0,{"$f":"IF($A642=K$3,AND($A642=K$3,$D642<0),0)","v":0},0,{"$f":"IF($A642=M$3,AND($A642=M$3,$D642<0),0)","v":0},0,{"$f":"IF($A642=O$3,AND($A642=O$3,$D642<0),0)","v":0},0,0,0,0,0,0,0,{"$f":"IF($A642=W$3,AND($A642=W$3,$D642<0),0)","v":0},0,{"$f":"IF($A642=Y$3,AND($A642=Y$3,$D642<0),0)","v":0},0,{"$f":"IF($A642=AA$3,AND($A642=AA$3,$D642<0),0)","v":0},0,{"$f":"IF($A642=AC$3,AND($A642=AC$3,$D642<0),0)","v":0},0,0]
[{"$f":"IF(B643=0,\"\",MONTH(B643))","v":""},null,null,null,{"$f":"IF(D643=\"\",\"\",IF(D643<0,\"DEBITO\",\"CREDITO\"))","v":""},null,false,false,0,{"$f":"IF($A643=I$3,AND($A643=I$3,$D643<0),0)","v":0},0,{"$f":"IF($A643=K$3,AND($A643=K$3,$D643<0),0)","v":0},0,{"$f":"IF($A643=M$3,AND($A643=M$3,$D643<0),0)","v":0},0,{"$f":"IF($A643=O$3,AND($A643=O$3,$D643<0),0)","v":0},0,0,0,0,0,0,0,{"$f":"IF($A643=W$3,AND($A643=W$3,$D643<0),0)","v":0},0,{"$f":"IF($A643=Y$3,AND($A643=Y$3,$D643<0),0)","v":0},0,{"$f":"IF($A643=AA$3,AND($A643=AA$3,$D643<0),0)","v":0},0,{"$f":"IF($A643=AC$3,AND($A643=AC$3,$D643<0),0)","v":0},0,0]
[{"$f":"IF(B644=0,\"\",MONTH(B644))","v":""},null,null,null,{"$f":"IF(D644=\"\",\"\",IF(D644<0,\"DEBITO\",\"CREDITO\"))","v":""},null,false,false,0,{"$f":"IF($A644=I$3,AND($A644=I$3,$D644<0),0)","v":0},0,{"$f":"IF($A644=K$3,AND($A644=K$3,$D644<0),0)","v":0},0,{"$f":"IF($A644=M$3,AND($A644=M$3,$D644<0),0)","v":0},0,{"$f":"IF($A644=O$3,AND($A644=O$3,$D644<0),0)","v":0},0,0,0,0,0,0,0,{"$f":"IF($A644=W$3,AND($A644=W$3,$D644<0),0)","v":0},0,{"$f":"IF($A644=Y$3,AND($A644=Y$3,$D644<0),0)","v":0},0,{"$f":"IF($A644=AA$3,AND($A644=AA$3,$D644<0),0)","v":0},0,{"$f":"IF($A644=AC$3,AND($A644=AC$3,$D644<0),0)","v":0},0,0]
[{"$f":"IF(B645=0,\"\",MONTH(B645))","v":""},null,null,null,{"$f":"IF(D645=\"\",\"\",IF(D645<0,\"DEBITO\",\"CREDITO\"))","v":""},null,false,false,0,{"$f":"IF($A645=I$3,AND($A645=I$3,$D645<0),0)","v":0},0,{"$f":"IF($A645=K$3,AND($A645=K$3,$D645<0),0)","v":0},0,{"$f":"IF($A645=M$3,AND($A645=M$3,$D645<0),0)","v":0},0,{"$f":"IF($A645=O$3,AND($A645=O$3,$D645<0),0)","v":0},0,0,0,0,0,0,0,{"$f":"IF($A645=W$3,AND($A645=W$3,$D645<0),0)","v":0},0,{"$f":"IF($A645=Y$3,AND($A645=Y$3,$D645<0),0)","v":0},0,{"$f":"IF($A645=AA$3,AND($A645=AA$3,$D645<0),0)","v":0},0,{"$f":"IF($A645=AC$3,AND($A645=AC$3,$D645<0),0)","v":0},0,0]
[{"$f":"IF(B646=0,\"\",MONTH(B646))","v":""},null,null,null,{"$f":"IF(D646=\"\",\"\",IF(D646<0,\"DEBITO\",\"CREDITO\"))","v":""},null,false,false,0,{"$f":"IF($A646=I$3,AND($A646=I$3,$D646<0),0)","v":0},0,{"$f":"IF($A646=K$3,AND($A646=K$3,$D646<0),0)","v":0},0,{"$f":"IF($A646=M$3,AND($A646=M$3,$D646<0),0)","v":0},0,{"$f":"IF($A646=O$3,AND($A646=O$3,$D646<0),0)","v":0},0,0,0,0,0,0,0,{"$f":"IF($A646=W$3,AND($A646=W$3,$D646<0),0)","v":0},0,{"$f":"IF($A646=Y$3,AND($A646=Y$3,$D646<0),0)","v":0},0,{"$f":"IF($A646=AA$3,AND($A646=AA$3,$D646<0),0)","v":0},0,{"$f":"IF($A646=AC$3,AND($A646=AC$3,$D646<0),0)","v":0},0,0]
[{"$f":"IF(B647=0,\"\",MONTH(B647))","v":""},null,null,null,{"$f":"IF(D647=\"\",\"\",IF(D647<0,\"DEBITO\",\"CREDITO\"))","v":""},null,false,false,0,{"$f":"IF($A647=I$3,AND($A647=I$3,$D647<0),0)","v":0},0,{"$f":"IF($A647=K$3,AND($A647=K$3,$D647<0),0)","v":0},0,{"$f":"IF($A647=M$3,AND($A647=M$3,$D647<0),0)","v":0},0,{"$f":"IF($A647=O$3,AND($A647=O$3,$D647<0),0)","v":0},0,0,0,0,0,0,0,{"$f":"IF($A647=W$3,AND($A647=W$3,$D647<0),0)","v":0},0,{"$f":"IF($A647=Y$3,AND($A647=Y$3,$D647<0),0)","v":0},0,{"$f":"IF($A647=AA$3,AND($A647=AA$3,$D647<0),0)","v":0},0,{"$f":"IF($A647=AC$3,AND($A647=AC$3,$D647<0),0)","v":0},0,0]
[{"$f":"IF(B648=0,\"\",MONTH(B648))","v":""},null,null,null,{"$f":"IF(D648=\"\",\"\",IF(D648<0,\"DEBITO\",\"CREDITO\"))","v":""},null,false,false,0,{"$f":"IF($A648=I$3,AND($A648=I$3,$D648<0),0)","v":0},0,{"$f":"IF($A648=K$3,AND($A648=K$3,$D648<0),0)","v":0},0,{"$f":"IF($A648=M$3,AND($A648=M$3,$D648<0),0)","v":0},0,{"$f":"IF($A648=O$3,AND($A648=O$3,$D648<0),0)","v":0},0,0,0,0,0,0,0,{"$f":"IF($A648=W$3,AND($A648=W$3,$D648<0),0)","v":0},0,{"$f":"IF($A648=Y$3,AND($A648=Y$3,$D648<0),0)","v":0},0,{"$f":"IF($A648=AA$3,AND($A648=AA$3,$D648<0),0)","v":0},0,{"$f":"IF($A648=AC$3,AND($A648=AC$3,$D648<0),0)","v":0},0,0]
[{"$f":"IF(B649=0,\"\",MONTH(B649))","v":""},null,null,null,{"$f":"IF(D649=\"\",\"\",IF(D649<0,\"DEBITO\",\"CREDITO\"))","v":""},null,{"$f":"AND(A649=$E$3,D649>0)","v":false},{"$f":"AND(A649=$E$3,D649<0)","v":false},0,{"$f":"IF($A649=I$3,AND($A649=I$3,$D649<0),0)","v":0},0,{"$f":"IF($A649=K$3,AND($A649=K$3,$D649<0),0)","v":0},0,{"$f":"IF($A649=M$3,AND($A649=M$3,$D649<0),0)","v":0},0,{"$f":"IF($A649=O$3,AND($A649=O$3,$D649<0),0)","v":0},0,{"$f":"IF($A649=Q$3,AND($A649=Q$3,$D649<0),0)","v":0},0,0,0,0,0,{"$f":"IF($A649=W$3,AND($A649=W$3,$D649<0),0)","v":0},0,{"$f":"IF($A649=Y$3,AND($A649=Y$3,$D649<0),0)","v":0},0,{"$f":"IF($A649=AA$3,AND($A649=AA$3,$D649<0),0)","v":0},0,{"$f":"IF($A649=AC$3,AND($A649=AC$3,$D649<0),0)","v":0},0,{"$f":"IF($A649=AE$3,AND($A649=AE$3,$D649<0),0)","v":0}]
[{"$f":"IF(B650=0,\"\",MONTH(B650))","v":""},null,null,null,{"$f":"IF(D650=\"\",\"\",IF(D650<0,\"DEBITO\",\"CREDITO\"))","v":""},null,false,false,0,{"$f":"IF($A650=I$3,AND($A650=I$3,$D650<0),0)","v":0},0,{"$f":"IF($A650=K$3,AND($A650=K$3,$D650<0),0)","v":0},0,{"$f":"IF($A650=M$3,AND($A650=M$3,$D650<0),0)","v":0},0,{"$f":"IF($A650=O$3,AND($A650=O$3,$D650<0),0)","v":0},0,0,{"$f":"IF($A650=S$3,AND($A650=S$3,$D650>0),0)","v":0},{"$f":"IF($A650=S$3,AND($A650=S$3,$D650<0),0)","v":0},{"$f":"IF($A650=U$3,AND($A650=U$3,$D650>0),0)","v":0},{"$f":"IF($A650=U$3,AND($A650=U$3,$D650<0),0)","v":0},0,{"$f":"IF($A650=W$3,AND($A650=W$3,$D650<0),0)","v":0},0,{"$f":"IF($A650=Y$3,AND($A650=Y$3,$D650<0),0)","v":0},0,{"$f":"IF($A650=AA$3,AND($A650=AA$3,$D650<0),0)","v":0},0,{"$f":"IF($A650=AC$3,AND($A650=AC$3,$D650<0),0)","v":0},0,0]
[{"$f":"IF(B651=0,\"\",MONTH(B651))","v":""},null,null,null,{"$f":"IF(D651=\"\",\"\",IF(D651<0,\"DEBITO\",\"CREDITO\"))","v":""},null,false,false,0,{"$f":"IF($A651=I$3,AND($A651=I$3,$D651<0),0)","v":0},0,{"$f":"IF($A651=K$3,AND($A651=K$3,$D651<0),0)","v":0},0,{"$f":"IF($A651=M$3,AND($A651=M$3,$D651<0),0)","v":0},0,{"$f":"IF($A651=O$3,AND($A651=O$3,$D651<0),0)","v":0},0,0,0,0,0,0,0,{"$f":"IF($A651=W$3,AND($A651=W$3,$D651<0),0)","v":0},0,{"$f":"IF($A651=Y$3,AND($A651=Y$3,$D651<0),0)","v":0},0,{"$f":"IF($A651=AA$3,AND($A651=AA$3,$D651<0),0)","v":0},0,{"$f":"IF($A651=AC$3,AND($A651=AC$3,$D651<0),0)","v":0},0,0]
[{"$f":"IF(B652=0,\"\",MONTH(B652))","v":""},null,null,null,{"$f":"IF(D652=\"\",\"\",IF(D652<0,\"DEBITO\",\"CREDITO\"))","v":""},null,false,false,0,{"$f":"IF($A652=I$3,AND($A652=I$3,$D652<0),0)","v":0},0,{"$f":"IF($A652=K$3,AND($A652=K$3,$D652<0),0)","v":0},0,{"$f":"IF($A652=M$3,AND($A652=M$3,$D652<0),0)","v":0},0,{"$f":"IF($A652=O$3,AND($A652=O$3,$D652<0),0)","v":0},0,0,0,0,0,0,0,{"$f":"IF($A652=W$3,AND($A652=W$3,$D652<0),0)","v":0},0,{"$f":"IF($A652=Y$3,AND($A652=Y$3,$D652<0),0)","v":0},0,{"$f":"IF($A652=AA$3,AND($A652=AA$3,$D652<0),0)","v":0},0,{"$f":"IF($A652=AC$3,AND($A652=AC$3,$D652<0),0)","v":0},0,0]
[{"$f":"IF(B653=0,\"\",MONTH(B653))","v":""},null,null,null,{"$f":"IF(D653=\"\",\"\",IF(D653<0,\"DEBITO\",\"CREDITO\"))","v":""},null,false,false,0,{"$f":"IF($A653=I$3,AND($A653=I$3,$D653<0),0)","v":0},0,{"$f":"IF($A653=K$3,AND($A653=K$3,$D653<0),0)","v":0},0,{"$f":"IF($A653=M$3,AND($A653=M$3,$D653<0),0)","v":0},0,{"$f":"IF($A653=O$3,AND($A653=O$3,$D653<0),0)","v":0},0,0,0,0,0,0,0,{"$f":"IF($A653=W$3,AND($A653=W$3,$D653<0),0)","v":0},0,{"$f":"IF($A653=Y$3,AND($A653=Y$3,$D653<0),0)","v":0},0,{"$f":"IF($A653=AA$3,AND($A653=AA$3,$D653<0),0)","v":0},0,{"$f":"IF($A653=AC$3,AND($A653=AC$3,$D653<0),0)","v":0},0,0]
[{"$f":"IF(B654=0,\"\",MONTH(B654))","v":""},null,null,null,{"$f":"IF(D654=\"\",\"\",IF(D654<0,\"DEBITO\",\"CREDITO\"))","v":""},null,false,false,0,{"$f":"IF($A654=I$3,AND($A654=I$3,$D654<0),0)","v":0},0,{"$f":"IF($A654=K$3,AND($A654=K$3,$D654<0),0)","v":0},0,{"$f":"IF($A654=M$3,AND($A654=M$3,$D654<0),0)","v":0},0,{"$f":"IF($A654=O$3,AND($A654=O$3,$D654<0),0)","v":0},0,0,0,0,0,0,0,{"$f":"IF($A654=W$3,AND($A654=W$3,$D654<0),0)","v":0},0,{"$f":"IF($A654=Y$3,AND($A654=Y$3,$D654<0),0)","v":0},0,{"$f":"IF($A654=AA$3,AND($A654=AA$3,$D654<0),0)","v":0},0,{"$f":"IF($A654=AC$3,AND($A654=AC$3,$D654<0),0)","v":0},0,0]
[{"$f":"IF(B655=0,\"\",MONTH(B655))","v":""},null,null,null,{"$f":"IF(D655=\"\",\"\",IF(D655<0,\"DEBITO\",\"CREDITO\"))","v":""},null,false,false,0,{"$f":"IF($A655=I$3,AND($A655=I$3,$D655<0),0)","v":0},0,{"$f":"IF($A655=K$3,AND($A655=K$3,$D655<0),0)","v":0},0,{"$f":"IF($A655=M$3,AND($A655=M$3,$D655<0),0)","v":0},0,{"$f":"IF($A655=O$3,AND($A655=O$3,$D655<0),0)","v":0},0,0,0,0,0,0,0,{"$f":"IF($A655=W$3,AND($A655=W$3,$D655<0),0)","v":0},0,{"$f":"IF($A655=Y$3,AND($A655=Y$3,$D655<0),0)","v":0},0,{"$f":"IF($A655=AA$3,AND($A655=AA$3,$D655<0),0)","v":0},0,{"$f":"IF($A655=AC$3,AND($A655=AC$3,$D655<0),0)","v":0},0,0]
[{"$f":"IF(B656=0,\"\",MONTH(B656))","v":""},null,null,null,{"$f":"IF(D656=\"\",\"\",IF(D656<0,\"DEBITO\",\"CREDITO\"))","v":""},null,false,false,0,{"$f":"IF($A656=I$3,AND($A656=I$3,$D656<0),0)","v":0},0,{"$f":"IF($A656=K$3,AND($A656=K$3,$D656<0),0)","v":0},0,{"$f":"IF($A656=M$3,AND($A656=M$3,$D656<0),0)","v":0},0,{"$f":"IF($A656=O$3,AND($A656=O$3,$D656<0),0)","v":0},0,0,0,0,0,0,0,{"$f":"IF($A656=W$3,AND($A656=W$3,$D656<0),0)","v":0},0,{"$f":"IF($A656=Y$3,AND($A656=Y$3,$D656<0),0)","v":0},0,{"$f":"IF($A656=AA$3,AND($A656=AA$3,$D656<0),0)","v":0},0,{"$f":"IF($A656=AC$3,AND($A656=AC$3,$D656<0),0)","v":0},0,0]
[{"$f":"IF(B657=0,\"\",MONTH(B657))","v":""},null,null,null,{"$f":"IF(D657=\"\",\"\",IF(D657<0,\"DEBITO\",\"CREDITO\"))","v":""},null,false,false,0,{"$f":"IF($A657=I$3,AND($A657=I$3,$D657<0),0)","v":0},0,{"$f":"IF($A657=K$3,AND($A657=K$3,$D657<0),0)","v":0},0,{"$f":"IF($A657=M$3,AND($A657=M$3,$D657<0),0)","v":0},0,{"$f":"IF($A657=O$3,AND($A657=O$3,$D657<0),0)","v":0},0,0,0,0,0,0,0,{"$f":"IF($A657=W$3,AND($A657=W$3,$D657<0),0)","v":0},0,{"$f":"IF($A657=Y$3,AND($A657=Y$3,$D657<0),0)","v":0},0,{"$f":"IF($A657=AA$3,AND($A657=AA$3,$D657<0),0)","v":0},0,{"$f":"IF($A657=AC$3,AND($A657=AC$3,$D657<0),0)","v":0},0,0]
[{"$f":"IF(B658=0,\"\",MONTH(B658))","v":""},null,null,null,{"$f":"IF(D658=\"\",\"\",IF(D658<0,\"DEBITO\",\"CREDITO\"))","v":""},null,false,false,0,{"$f":"IF($A658=I$3,AND($A658=I$3,$D658<0),0)","v":0},0,{"$f":"IF($A658=K$3,AND($A658=K$3,$D658<0),0)","v":0},0,{"$f":"IF($A658=M$3,AND($A658=M$3,$D658<0),0)","v":0},0,{"$f":"IF($A658=O$3,AND($A658=O$3,$D658<0),0)","v":0},0,0,0,0,0,0,0,{"$f":"IF($A658=W$3,AND($A658=W$3,$D658<0),0)","v":0},0,{"$f":"IF($A658=Y$3,AND($A658=Y$3,$D658<0),0)","v":0},0,{"$f":"IF($A658=AA$3,AND($A658=AA$3,$D658<0),0)","v":0},0,{"$f":"IF($A658=AC$3,AND($A658=AC$3,$D658<0),0)","v":0},0,0]
[{"$f":"IF(B659=0,\"\",MONTH(B659))","v":""},null,null,null,{"$f":"IF(D659=\"\",\"\",IF(D659<0,\"DEBITO\",\"CREDITO\"))","v":""},null,false,false,0,{"$f":"IF($A659=I$3,AND($A659=I$3,$D659<0),0)","v":0},0,{"$f":"IF($A659=K$3,AND($A659=K$3,$D659<0),0)","v":0},0,{"$f":"IF($A659=M$3,AND($A659=M$3,$D659<0),0)","v":0},0,{"$f":"IF($A659=O$3,AND($A659=O$3,$D659<0),0)","v":0},0,0,0,0,0,0,0,{"$f":"IF($A659=W$3,AND($A659=W$3,$D659<0),0)","v":0},0,{"$f":"IF($A659=Y$3,AND($A659=Y$3,$D659<0),0)","v":0},0,{"$f":"IF($A659=AA$3,AND($A659=AA$3,$D659<0),0)","v":0},0,{"$f":"IF($A659=AC$3,AND($A659=AC$3,$D659<0),0)","v":0},0,0]
[{"$f":"IF(B660=0,\"\",MONTH(B660))","v":""},null,null,null,{"$f":"IF(D660=\"\",\"\",IF(D660<0,\"DEBITO\",\"CREDITO\"))","v":""},null,false,false,0,{"$f":"IF($A660=I$3,AND($A660=I$3,$D660<0),0)","v":0},0,{"$f":"IF($A660=K$3,AND($A660=K$3,$D660<0),0)","v":0},0,{"$f":"IF($A660=M$3,AND($A660=M$3,$D660<0),0)","v":0},0,{"$f":"IF($A660=O$3,AND($A660=O$3,$D660<0),0)","v":0},0,0,0,0,0,0,0,{"$f":"IF($A660=W$3,AND($A660=W$3,$D660<0),0)","v":0},0,{"$f":"IF($A660=Y$3,AND($A660=Y$3,$D660<0),0)","v":0},0,{"$f":"IF($A660=AA$3,AND($A660=AA$3,$D660<0),0)","v":0},0,{"$f":"IF($A660=AC$3,AND($A660=AC$3,$D660<0),0)","v":0},0,0]
[{"$f":"IF(B661=0,\"\",MONTH(B661))","v":""},null,null,null,{"$f":"IF(D661=\"\",\"\",IF(D661<0,\"DEBITO\",\"CREDITO\"))","v":""},null,false,false,0,{"$f":"IF($A661=I$3,AND($A661=I$3,$D661<0),0)","v":0},0,{"$f":"IF($A661=K$3,AND($A661=K$3,$D661<0),0)","v":0},0,{"$f":"IF($A661=M$3,AND($A661=M$3,$D661<0),0)","v":0},0,{"$f":"IF($A661=O$3,AND($A661=O$3,$D661<0),0)","v":0},0,0,0,0,0,0,0,{"$f":"IF($A661=W$3,AND($A661=W$3,$D661<0),0)","v":0},0,{"$f":"IF($A661=Y$3,AND($A661=Y$3,$D661<0),0)","v":0},0,{"$f":"IF($A661=AA$3,AND($A661=AA$3,$D661<0),0)","v":0},0,{"$f":"IF($A661=AC$3,AND($A661=AC$3,$D661<0),0)","v":0},0,0]
[{"$f":"IF(B662=0,\"\",MONTH(B662))","v":""},null,null,null,{"$f":"IF(D662=\"\",\"\",IF(D662<0,\"DEBITO\",\"CREDITO\"))","v":""},null,false,false,0,{"$f":"IF($A662=I$3,AND($A662=I$3,$D662<0),0)","v":0},0,{"$f":"IF($A662=K$3,AND($A662=K$3,$D662<0),0)","v":0},0,{"$f":"IF($A662=M$3,AND($A662=M$3,$D662<0),0)","v":0},0,{"$f":"IF($A662=O$3,AND($A662=O$3,$D662<0),0)","v":0},0,0,0,0,0,0,0,{"$f":"IF($A662=W$3,AND($A662=W$3,$D662<0),0)","v":0},0,{"$f":"IF($A662=Y$3,AND($A662=Y$3,$D662<0),0)","v":0},0,{"$f":"IF($A662=AA$3,AND($A662=AA$3,$D662<0),0)","v":0},0,{"$f":"IF($A662=AC$3,AND($A662=AC$3,$D662<0),0)","v":0},0,0]
[{"$f":"IF(B663=0,\"\",MONTH(B663))","v":""},null,null,null,{"$f":"IF(D663=\"\",\"\",IF(D663<0,\"DEBITO\",\"CREDITO\"))","v":""},null,false,false,0,{"$f":"IF($A663=I$3,AND($A663=I$3,$D663<0),0)","v":0},0,{"$f":"IF($A663=K$3,AND($A663=K$3,$D663<0),0)","v":0},0,{"$f":"IF($A663=M$3,AND($A663=M$3,$D663<0),0)","v":0},0,{"$f":"IF($A663=O$3,AND($A663=O$3,$D663<0),0)","v":0},0,0,0,0,0,0,0,{"$f":"IF($A663=W$3,AND($A663=W$3,$D663<0),0)","v":0},0,{"$f":"IF($A663=Y$3,AND($A663=Y$3,$D663<0),0)","v":0},0,{"$f":"IF($A663=AA$3,AND($A663=AA$3,$D663<0),0)","v":0},0,{"$f":"IF($A663=AC$3,AND($A663=AC$3,$D663<0),0)","v":0},0,0]
[{"$f":"IF(B664=0,\"\",MONTH(B664))","v":""},null,null,null,{"$f":"IF(D664=\"\",\"\",IF(D664<0,\"DEBITO\",\"CREDITO\"))","v":""},null,false,false,0,{"$f":"IF($A664=I$3,AND($A664=I$3,$D664<0),0)","v":0},0,{"$f":"IF($A664=K$3,AND($A664=K$3,$D664<0),0)","v":0},0,{"$f":"IF($A664=M$3,AND($A664=M$3,$D664<0),0)","v":0},0,{"$f":"IF($A664=O$3,AND($A664=O$3,$D664<0),0)","v":0},0,0,0,0,0,0,0,{"$f":"IF($A664=W$3,AND($A664=W$3,$D664<0),0)","v":0},0,{"$f":"IF($A664=Y$3,AND($A664=Y$3,$D664<0),0)","v":0},0,{"$f":"IF($A664=AA$3,AND($A664=AA$3,$D664<0),0)","v":0},0,{"$f":"IF($A664=AC$3,AND($A664=AC$3,$D664<0),0)","v":0},0,0]
[{"$f":"IF(B665=0,\"\",MONTH(B665))","v":""},null,null,null,{"$f":"IF(D665=\"\",\"\",IF(D665<0,\"DEBITO\",\"CREDITO\"))","v":""},null,false,false,{"$f":"IF($A665=I$3,AND($A665=I$3,$D665>0),0)","v":0},{"$f":"IF($A665=I$3,AND($A665=I$3,$D665<0),0)","v":0},{"$f":"IF($A665=K$3,AND($A665=K$3,$D665>0),0)","v":0},{"$f":"IF($A665=K$3,AND($A665=K$3,$D665<0),0)","v":0},{"$f":"IF($A665=M$3,AND($A665=M$3,$D665>0),0)","v":0},{"$f":"IF($A665=M$3,AND($A665=M$3,$D665<0),0)","v":0},{"$f":"IF($A665=O$3,AND($A665=O$3,$D665>0),0)","v":0},{"$f":"IF($A665=O$3,AND($A665=O$3,$D665<0),0)","v":0},{"$f":"IF($A665=Q$3,AND($A665=Q$3,$D665>0),0)","v":0},0,0,0,0,0,{"$f":"IF($A665=W$3,AND($A665=W$3,$D665>0),0)","v":0},{"$f":"IF($A665=W$3,AND($A665=W$3,$D665<0),0)","v":0},{"$f":"IF($A665=Y$3,AND($A665=Y$3,$D665>0),0)","v":0},{"$f":"IF($A665=Y$3,AND($A665=Y$3,$D665<0),0)","v":0},{"$f":"IF($A665=AA$3,AND($A665=AA$3,$D665>0),0)","v":0},{"$f":"IF($A665=AA$3,AND($A665=AA$3,$D665<0),0)","v":0},{"$f":"IF($A665=AC$3,AND($A665=AC$3,$D665>0),0)","v":0},{"$f":"IF($A665=AC$3,AND($A665=AC$3,$D665<0),0)","v":0},{"$f":"IF($A665=AE$3,AND($A665=AE$3,$D665>0),0)","v":0},0]
[{"$f":"IF(B666=0,\"\",MONTH(B666))","v":""},null,null,null,{"$f":"IF(D666=\"\",\"\",IF(D666<0,\"DEBITO\",\"CREDITO\"))","v":""},null,false,false,0,{"$f":"IF($A666=I$3,AND($A666=I$3,$D666<0),0)","v":0},0,{"$f":"IF($A666=K$3,AND($A666=K$3,$D666<0),0)","v":0},0,{"$f":"IF($A666=M$3,AND($A666=M$3,$D666<0),0)","v":0},0,{"$f":"IF($A666=O$3,AND($A666=O$3,$D666<0),0)","v":0},0,0,0,0,0,0,0,{"$f":"IF($A666=W$3,AND($A666=W$3,$D666<0),0)","v":0},0,{"$f":"IF($A666=Y$3,AND($A666=Y$3,$D666<0),0)","v":0},0,{"$f":"IF($A666=AA$3,AND($A666=AA$3,$D666<0),0)","v":0},0,{"$f":"IF($A666=AC$3,AND($A666=AC$3,$D666<0),0)","v":0},0,0]
[{"$f":"IF(B667=0,\"\",MONTH(B667))","v":""},null,null,null,{"$f":"IF(D667=\"\",\"\",IF(D667<0,\"DEBITO\",\"CREDITO\"))","v":""},null,false,false,0,{"$f":"IF($A667=I$3,AND($A667=I$3,$D667<0),0)","v":0},0,{"$f":"IF($A667=K$3,AND($A667=K$3,$D667<0),0)","v":0},0,{"$f":"IF($A667=M$3,AND($A667=M$3,$D667<0),0)","v":0},0,{"$f":"IF($A667=O$3,AND($A667=O$3,$D667<0),0)","v":0},0,0,0,0,0,0,0,{"$f":"IF($A667=W$3,AND($A667=W$3,$D667<0),0)","v":0},0,{"$f":"IF($A667=Y$3,AND($A667=Y$3,$D667<0),0)","v":0},0,{"$f":"IF($A667=AA$3,AND($A667=AA$3,$D667<0),0)","v":0},0,{"$f":"IF($A667=AC$3,AND($A667=AC$3,$D667<0),0)","v":0},0,0]
[{"$f":"IF(B668=0,\"\",MONTH(B668))","v":""},null,null,null,{"$f":"IF(D668=\"\",\"\",IF(D668<0,\"DEBITO\",\"CREDITO\"))","v":""},null,false,false,0,{"$f":"IF($A668=I$3,AND($A668=I$3,$D668<0),0)","v":0},0,{"$f":"IF($A668=K$3,AND($A668=K$3,$D668<0),0)","v":0},0,{"$f":"IF($A668=M$3,AND($A668=M$3,$D668<0),0)","v":0},0,{"$f":"IF($A668=O$3,AND($A668=O$3,$D668<0),0)","v":0},0,0,0,0,0,0,0,{"$f":"IF($A668=W$3,AND($A668=W$3,$D668<0),0)","v":0},0,{"$f":"IF($A668=Y$3,AND($A668=Y$3,$D668<0),0)","v":0},0,{"$f":"IF($A668=AA$3,AND($A668=AA$3,$D668<0),0)","v":0},0,{"$f":"IF($A668=AC$3,AND($A668=AC$3,$D668<0),0)","v":0},0,0]
[{"$f":"IF(B669=0,\"\",MONTH(B669))","v":""},null,null,null,{"$f":"IF(D669=\"\",\"\",IF(D669<0,\"DEBITO\",\"CREDITO\"))","v":""},null,false,false,0,{"$f":"IF($A669=I$3,AND($A669=I$3,$D669<0),0)","v":0},0,{"$f":"IF($A669=K$3,AND($A669=K$3,$D669<0),0)","v":0},0,{"$f":"IF($A669=M$3,AND($A669=M$3,$D669<0),0)","v":0},0,{"$f":"IF($A669=O$3,AND($A669=O$3,$D669<0),0)","v":0},0,0,0,0,0,0,0,{"$f":"IF($A669=W$3,AND($A669=W$3,$D669<0),0)","v":0},0,{"$f":"IF($A669=Y$3,AND($A669=Y$3,$D669<0),0)","v":0},0,{"$f":"IF($A669=AA$3,AND($A669=AA$3,$D669<0),0)","v":0},0,{"$f":"IF($A669=AC$3,AND($A669=AC$3,$D669<0),0)","v":0},0,0]
[{"$f":"IF(B670=0,\"\",MONTH(B670))","v":""},null,null,null,{"$f":"IF(D670=\"\",\"\",IF(D670<0,\"DEBITO\",\"CREDITO\"))","v":""},null,false,false,0,{"$f":"IF($A670=I$3,AND($A670=I$3,$D670<0),0)","v":0},0,{"$f":"IF($A670=K$3,AND($A670=K$3,$D670<0),0)","v":0},0,{"$f":"IF($A670=M$3,AND($A670=M$3,$D670<0),0)","v":0},0,{"$f":"IF($A670=O$3,AND($A670=O$3,$D670<0),0)","v":0},0,0,0,0,0,0,0,{"$f":"IF($A670=W$3,AND($A670=W$3,$D670<0),0)","v":0},0,{"$f":"IF($A670=Y$3,AND($A670=Y$3,$D670<0),0)","v":0},0,{"$f":"IF($A670=AA$3,AND($A670=AA$3,$D670<0),0)","v":0},0,{"$f":"IF($A670=AC$3,AND($A670=AC$3,$D670<0),0)","v":0},0,0]
[{"$f":"IF(B671=0,\"\",MONTH(B671))","v":""},null,null,null,{"$f":"IF(D671=\"\",\"\",IF(D671<0,\"DEBITO\",\"CREDITO\"))","v":""},null,false,false,0,{"$f":"IF($A671=I$3,AND($A671=I$3,$D671<0),0)","v":0},0,{"$f":"IF($A671=K$3,AND($A671=K$3,$D671<0),0)","v":0},0,{"$f":"IF($A671=M$3,AND($A671=M$3,$D671<0),0)","v":0},0,{"$f":"IF($A671=O$3,AND($A671=O$3,$D671<0),0)","v":0},0,0,0,0,0,0,0,{"$f":"IF($A671=W$3,AND($A671=W$3,$D671<0),0)","v":0},0,{"$f":"IF($A671=Y$3,AND($A671=Y$3,$D671<0),0)","v":0},0,{"$f":"IF($A671=AA$3,AND($A671=AA$3,$D671<0),0)","v":0},0,{"$f":"IF($A671=AC$3,AND($A671=AC$3,$D671<0),0)","v":0},0,0]
[{"$f":"IF(B672=0,\"\",MONTH(B672))","v":""},null,null,null,{"$f":"IF(D672=\"\",\"\",IF(D672<0,\"DEBITO\",\"CREDITO\"))","v":""},null,false,false,0,{"$f":"IF($A672=I$3,AND($A672=I$3,$D672<0),0)","v":0},0,{"$f":"IF($A672=K$3,AND($A672=K$3,$D672<0),0)","v":0},0,{"$f":"IF($A672=M$3,AND($A672=M$3,$D672<0),0)","v":0},0,{"$f":"IF($A672=O$3,AND($A672=O$3,$D672<0),0)","v":0},0,0,0,0,0,0,0,{"$f":"IF($A672=W$3,AND($A672=W$3,$D672<0),0)","v":0},0,{"$f":"IF($A672=Y$3,AND($A672=Y$3,$D672<0),0)","v":0},0,{"$f":"IF($A672=AA$3,AND($A672=AA$3,$D672<0),0)","v":0},0,{"$f":"IF($A672=AC$3,AND($A672=AC$3,$D672<0),0)","v":0},0,0]
[{"$f":"IF(B673=0,\"\",MONTH(B673))","v":""},null,null,null,{"$f":"IF(D673=\"\",\"\",IF(D673<0,\"DEBITO\",\"CREDITO\"))","v":""},null,false,false,0,{"$f":"IF($A673=I$3,AND($A673=I$3,$D673<0),0)","v":0},0,{"$f":"IF($A673=K$3,AND($A673=K$3,$D673<0),0)","v":0},0,{"$f":"IF($A673=M$3,AND($A673=M$3,$D673<0),0)","v":0},0,{"$f":"IF($A673=O$3,AND($A673=O$3,$D673<0),0)","v":0},0,0,0,0,0,0,0,{"$f":"IF($A673=W$3,AND($A673=W$3,$D673<0),0)","v":0},0,{"$f":"IF($A673=Y$3,AND($A673=Y$3,$D673<0),0)","v":0},0,{"$f":"IF($A673=AA$3,AND($A673=AA$3,$D673<0),0)","v":0},0,{"$f":"IF($A673=AC$3,AND($A673=AC$3,$D673<0),0)","v":0},0,0]
[{"$f":"IF(B674=0,\"\",MONTH(B674))","v":""},null,null,null,{"$f":"IF(D674=\"\",\"\",IF(D674<0,\"DEBITO\",\"CREDITO\"))","v":""},null,false,false,0,{"$f":"IF($A674=I$3,AND($A674=I$3,$D674<0),0)","v":0},0,{"$f":"IF($A674=K$3,AND($A674=K$3,$D674<0),0)","v":0},0,{"$f":"IF($A674=M$3,AND($A674=M$3,$D674<0),0)","v":0},0,{"$f":"IF($A674=O$3,AND($A674=O$3,$D674<0),0)","v":0},0,0,0,0,0,0,0,{"$f":"IF($A674=W$3,AND($A674=W$3,$D674<0),0)","v":0},0,{"$f":"IF($A674=Y$3,AND($A674=Y$3,$D674<0),0)","v":0},0,{"$f":"IF($A674=AA$3,AND($A674=AA$3,$D674<0),0)","v":0},0,{"$f":"IF($A674=AC$3,AND($A674=AC$3,$D674<0),0)","v":0},0,0]
[{"$f":"IF(B675=0,\"\",MONTH(B675))","v":""},null,null,null,{"$f":"IF(D675=\"\",\"\",IF(D675<0,\"DEBITO\",\"CREDITO\"))","v":""},null,false,false,0,{"$f":"IF($A675=I$3,AND($A675=I$3,$D675<0),0)","v":0},0,{"$f":"IF($A675=K$3,AND($A675=K$3,$D675<0),0)","v":0},0,{"$f":"IF($A675=M$3,AND($A675=M$3,$D675<0),0)","v":0},0,{"$f":"IF($A675=O$3,AND($A675=O$3,$D675<0),0)","v":0},0,0,0,0,0,0,0,{"$f":"IF($A675=W$3,AND($A675=W$3,$D675<0),0)","v":0},0,{"$f":"IF($A675=Y$3,AND($A675=Y$3,$D675<0),0)","v":0},0,{"$f":"IF($A675=AA$3,AND($A675=AA$3,$D675<0),0)","v":0},0,{"$f":"IF($A675=AC$3,AND($A675=AC$3,$D675<0),0)","v":0},0,0]
[{"$f":"IF(B676=0,\"\",MONTH(B676))","v":""},null,null,null,{"$f":"IF(D676=\"\",\"\",IF(D676<0,\"DEBITO\",\"CREDITO\"))","v":""},null,false,false,0,{"$f":"IF($A676=I$3,AND($A676=I$3,$D676<0),0)","v":0},0,{"$f":"IF($A676=K$3,AND($A676=K$3,$D676<0),0)","v":0},0,{"$f":"IF($A676=M$3,AND($A676=M$3,$D676<0),0)","v":0},0,{"$f":"IF($A676=O$3,AND($A676=O$3,$D676<0),0)","v":0},0,0,0,0,0,0,0,{"$f":"IF($A676=W$3,AND($A676=W$3,$D676<0),0)","v":0},0,{"$f":"IF($A676=Y$3,AND($A676=Y$3,$D676<0),0)","v":0},0,{"$f":"IF($A676=AA$3,AND($A676=AA$3,$D676<0),0)","v":0},0,{"$f":"IF($A676=AC$3,AND($A676=AC$3,$D676<0),0)","v":0},0,0]
[{"$f":"IF(B677=0,\"\",MONTH(B677))","v":""},null,null,null,{"$f":"IF(D677=\"\",\"\",IF(D677<0,\"DEBITO\",\"CREDITO\"))","v":""},null,false,false,0,{"$f":"IF($A677=I$3,AND($A677=I$3,$D677<0),0)","v":0},0,{"$f":"IF($A677=K$3,AND($A677=K$3,$D677<0),0)","v":0},0,{"$f":"IF($A677=M$3,AND($A677=M$3,$D677<0),0)","v":0},0,{"$f":"IF($A677=O$3,AND($A677=O$3,$D677<0),0)","v":0},0,0,0,0,0,0,0,{"$f":"IF($A677=W$3,AND($A677=W$3,$D677<0),0)","v":0},0,{"$f":"IF($A677=Y$3,AND($A677=Y$3,$D677<0),0)","v":0},0,{"$f":"IF($A677=AA$3,AND($A677=AA$3,$D677<0),0)","v":0},0,{"$f":"IF($A677=AC$3,AND($A677=AC$3,$D677<0),0)","v":0},0,0]
[{"$f":"IF(B678=0,\"\",MONTH(B678))","v":""},null,null,null,{"$f":"IF(D678=\"\",\"\",IF(D678<0,\"DEBITO\",\"CREDITO\"))","v":""},null,false,false,0,{"$f":"IF($A678=I$3,AND($A678=I$3,$D678<0),0)","v":0},0,{"$f":"IF($A678=K$3,AND($A678=K$3,$D678<0),0)","v":0},0,{"$f":"IF($A678=M$3,AND($A678=M$3,$D678<0),0)","v":0},0,{"$f":"IF($A678=O$3,AND($A678=O$3,$D678<0),0)","v":0},0,0,0,0,0,0,0,{"$f":"IF($A678=W$3,AND($A678=W$3,$D678<0),0)","v":0},0,{"$f":"IF($A678=Y$3,AND($A678=Y$3,$D678<0),0)","v":0},0,{"$f":"IF($A678=AA$3,AND($A678=AA$3,$D678<0),0)","v":0},0,{"$f":"IF($A678=AC$3,AND($A678=AC$3,$D678<0),0)","v":0},0,0]
[{"$f":"IF(B679=0,\"\",MONTH(B679))","v":""},null,null,null,{"$f":"IF(D679=\"\",\"\",IF(D679<0,\"DEBITO\",\"CREDITO\"))","v":""},null,false,false,0,{"$f":"IF($A679=I$3,AND($A679=I$3,$D679<0),0)","v":0},0,{"$f":"IF($A679=K$3,AND($A679=K$3,$D679<0),0)","v":0},0,{"$f":"IF($A679=M$3,AND($A679=M$3,$D679<0),0)","v":0},0,{"$f":"IF($A679=O$3,AND($A679=O$3,$D679<0),0)","v":0},0,0,0,0,0,0,0,{"$f":"IF($A679=W$3,AND($A679=W$3,$D679<0),0)","v":0},0,{"$f":"IF($A679=Y$3,AND($A679=Y$3,$D679<0),0)","v":0},0,{"$f":"IF($A679=AA$3,AND($A679=AA$3,$D679<0),0)","v":0},0,{"$f":"IF($A679=AC$3,AND($A679=AC$3,$D679<0),0)","v":0},0,0]
[{"$f":"IF(B680=0,\"\",MONTH(B680))","v":""},null,null,null,{"$f":"IF(D680=\"\",\"\",IF(D680<0,\"DEBITO\",\"CREDITO\"))","v":""},null,false,false,0,{"$f":"IF($A680=I$3,AND($A680=I$3,$D680<0),0)","v":0},0,{"$f":"IF($A680=K$3,AND($A680=K$3,$D680<0),0)","v":0},0,{"$f":"IF($A680=M$3,AND($A680=M$3,$D680<0),0)","v":0},0,{"$f":"IF($A680=O$3,AND($A680=O$3,$D680<0),0)","v":0},0,0,0,0,0,0,0,{"$f":"IF($A680=W$3,AND($A680=W$3,$D680<0),0)","v":0},0,{"$f":"IF($A680=Y$3,AND($A680=Y$3,$D680<0),0)","v":0},0,{"$f":"IF($A680=AA$3,AND($A680=AA$3,$D680<0),0)","v":0},0,{"$f":"IF($A680=AC$3,AND($A680=AC$3,$D680<0),0)","v":0},0,0]
[{"$f":"IF(B681=0,\"\",MONTH(B681))","v":""},null,null,null,{"$f":"IF(D681=\"\",\"\",IF(D681<0,\"DEBITO\",\"CREDITO\"))","v":""},null,false,false,0,{"$f":"IF($A681=I$3,AND($A681=I$3,$D681<0),0)","v":0},0,{"$f":"IF($A681=K$3,AND($A681=K$3,$D681<0),0)","v":0},0,{"$f":"IF($A681=M$3,AND($A681=M$3,$D681<0),0)","v":0},0,{"$f":"IF($A681=O$3,AND($A681=O$3,$D681<0),0)","v":0},0,0,0,0,0,0,0,{"$f":"IF($A681=W$3,AND($A681=W$3,$D681<0),0)","v":0},0,{"$f":"IF($A681=Y$3,AND($A681=Y$3,$D681<0),0)","v":0},0,{"$f":"IF($A681=AA$3,AND($A681=AA$3,$D681<0),0)","v":0},0,{"$f":"IF($A681=AC$3,AND($A681=AC$3,$D681<0),0)","v":0},0,0]
[{"$f":"IF(B682=0,\"\",MONTH(B682))","v":""},null,null,null,{"$f":"IF(D682=\"\",\"\",IF(D682<0,\"DEBITO\",\"CREDITO\"))","v":""},null,false,false,0,{"$f":"IF($A682=I$3,AND($A682=I$3,$D682<0),0)","v":0},0,{"$f":"IF($A682=K$3,AND($A682=K$3,$D682<0),0)","v":0},0,{"$f":"IF($A682=M$3,AND($A682=M$3,$D682<0),0)","v":0},0,{"$f":"IF($A682=O$3,AND($A682=O$3,$D682<0),0)","v":0},0,0,0,0,0,0,0,{"$f":"IF($A682=W$3,AND($A682=W$3,$D682<0),0)","v":0},0,{"$f":"IF($A682=Y$3,AND($A682=Y$3,$D682<0),0)","v":0},0,{"$f":"IF($A682=AA$3,AND($A682=AA$3,$D682<0),0)","v":0},0,{"$f":"IF($A682=AC$3,AND($A682=AC$3,$D682<0),0)","v":0},0,0]
[{"$f":"IF(B683=0,\"\",MONTH(B683))","v":""},null,null,null,{"$f":"IF(D683=\"\",\"\",IF(D683<0,\"DEBITO\",\"CREDITO\"))","v":""},null,false,false,0,{"$f":"IF($A683=I$3,AND($A683=I$3,$D683<0),0)","v":0},0,{"$f":"IF($A683=K$3,AND($A683=K$3,$D683<0),0)","v":0},0,{"$f":"IF($A683=M$3,AND($A683=M$3,$D683<0),0)","v":0},0,{"$f":"IF($A683=O$3,AND($A683=O$3,$D683<0),0)","v":0},0,0,0,0,0,0,0,{"$f":"IF($A683=W$3,AND($A683=W$3,$D683<0),0)","v":0},0,{"$f":"IF($A683=Y$3,AND($A683=Y$3,$D683<0),0)","v":0},0,{"$f":"IF($A683=AA$3,AND($A683=AA$3,$D683<0),0)","v":0},0,{"$f":"IF($A683=AC$3,AND($A683=AC$3,$D683<0),0)","v":0},0,0]
[{"$f":"IF(B684=0,\"\",MONTH(B684))","v":""},null,null,null,{"$f":"IF(D684=\"\",\"\",IF(D684<0,\"DEBITO\",\"CREDITO\"))","v":""},null,false,false,0,{"$f":"IF($A684=I$3,AND($A684=I$3,$D684<0),0)","v":0},0,{"$f":"IF($A684=K$3,AND($A684=K$3,$D684<0),0)","v":0},0,{"$f":"IF($A684=M$3,AND($A684=M$3,$D684<0),0)","v":0},0,{"$f":"IF($A684=O$3,AND($A684=O$3,$D684<0),0)","v":0},0,0,0,0,0,0,0,{"$f":"IF($A684=W$3,AND($A684=W$3,$D684<0),0)","v":0},0,{"$f":"IF($A684=Y$3,AND($A684=Y$3,$D684<0),0)","v":0},0,{"$f":"IF($A684=AA$3,AND($A684=AA$3,$D684<0),0)","v":0},0,{"$f":"IF($A684=AC$3,AND($A684=AC$3,$D684<0),0)","v":0},0,0]
[{"$f":"IF(B685=0,\"\",MONTH(B685))","v":""},null,null,null,{"$f":"IF(D685=\"\",\"\",IF(D685<0,\"DEBITO\",\"CREDITO\"))","v":""},null,false,false,0,{"$f":"IF($A685=I$3,AND($A685=I$3,$D685<0),0)","v":0},0,{"$f":"IF($A685=K$3,AND($A685=K$3,$D685<0),0)","v":0},0,{"$f":"IF($A685=M$3,AND($A685=M$3,$D685<0),0)","v":0},0,{"$f":"IF($A685=O$3,AND($A685=O$3,$D685<0),0)","v":0},0,0,0,0,0,0,0,{"$f":"IF($A685=W$3,AND($A685=W$3,$D685<0),0)","v":0},0,{"$f":"IF($A685=Y$3,AND($A685=Y$3,$D685<0),0)","v":0},0,{"$f":"IF($A685=AA$3,AND($A685=AA$3,$D685<0),0)","v":0},0,{"$f":"IF($A685=AC$3,AND($A685=AC$3,$D685<0),0)","v":0},0,0]
[{"$f":"IF(B686=0,\"\",MONTH(B686))","v":""},null,null,null,{"$f":"IF(D686=\"\",\"\",IF(D686<0,\"DEBITO\",\"CREDITO\"))","v":""},null,false,false,0,{"$f":"IF($A686=I$3,AND($A686=I$3,$D686<0),0)","v":0},0,{"$f":"IF($A686=K$3,AND($A686=K$3,$D686<0),0)","v":0},0,{"$f":"IF($A686=M$3,AND($A686=M$3,$D686<0),0)","v":0},0,{"$f":"IF($A686=O$3,AND($A686=O$3,$D686<0),0)","v":0},0,0,0,0,0,0,0,{"$f":"IF($A686=W$3,AND($A686=W$3,$D686<0),0)","v":0},0,{"$f":"IF($A686=Y$3,AND($A686=Y$3,$D686<0),0)","v":0},0,{"$f":"IF($A686=AA$3,AND($A686=AA$3,$D686<0),0)","v":0},0,{"$f":"IF($A686=AC$3,AND($A686=AC$3,$D686<0),0)","v":0},0,0]
[{"$f":"IF(B687=0,\"\",MONTH(B687))","v":""},null,null,null,{"$f":"IF(D687=\"\",\"\",IF(D687<0,\"DEBITO\",\"CREDITO\"))","v":""},null,false,false,0,{"$f":"IF($A687=I$3,AND($A687=I$3,$D687<0),0)","v":0},0,{"$f":"IF($A687=K$3,AND($A687=K$3,$D687<0),0)","v":0},0,{"$f":"IF($A687=M$3,AND($A687=M$3,$D687<0),0)","v":0},0,{"$f":"IF($A687=O$3,AND($A687=O$3,$D687<0),0)","v":0},0,0,0,0,0,0,0,{"$f":"IF($A687=W$3,AND($A687=W$3,$D687<0),0)","v":0},0,{"$f":"IF($A687=Y$3,AND($A687=Y$3,$D687<0),0)","v":0},0,{"$f":"IF($A687=AA$3,AND($A687=AA$3,$D687<0),0)","v":0},0,{"$f":"IF($A687=AC$3,AND($A687=AC$3,$D687<0),0)","v":0},0,0]
[{"$f":"IF(B688=0,\"\",MONTH(B688))","v":""},null,null,null,{"$f":"IF(D688=\"\",\"\",IF(D688<0,\"DEBITO\",\"CREDITO\"))","v":""},null,false,false,0,{"$f":"IF($A688=I$3,AND($A688=I$3,$D688<0),0)","v":0},0,{"$f":"IF($A688=K$3,AND($A688=K$3,$D688<0),0)","v":0},0,{"$f":"IF($A688=M$3,AND($A688=M$3,$D688<0),0)","v":0},0,{"$f":"IF($A688=O$3,AND($A688=O$3,$D688<0),0)","v":0},0,0,0,0,0,0,0,{"$f":"IF($A688=W$3,AND($A688=W$3,$D688<0),0)","v":0},0,{"$f":"IF($A688=Y$3,AND($A688=Y$3,$D688<0),0)","v":0},0,{"$f":"IF($A688=AA$3,AND($A688=AA$3,$D688<0),0)","v":0},0,{"$f":"IF($A688=AC$3,AND($A688=AC$3,$D688<0),0)","v":0},0,0]
[{"$f":"IF(B689=0,\"\",MONTH(B689))","v":""},null,null,null,{"$f":"IF(D689=\"\",\"\",IF(D689<0,\"DEBITO\",\"CREDITO\"))","v":""},null,false,false,0,{"$f":"IF($A689=I$3,AND($A689=I$3,$D689<0),0)","v":0},0,{"$f":"IF($A689=K$3,AND($A689=K$3,$D689<0),0)","v":0},0,{"$f":"IF($A689=M$3,AND($A689=M$3,$D689<0),0)","v":0},0,{"$f":"IF($A689=O$3,AND($A689=O$3,$D689<0),0)","v":0},0,0,0,0,0,0,0,{"$f":"IF($A689=W$3,AND($A689=W$3,$D689<0),0)","v":0},0,{"$f":"IF($A689=Y$3,AND($A689=Y$3,$D689<0),0)","v":0},0,{"$f":"IF($A689=AA$3,AND($A689=AA$3,$D689<0),0)","v":0},0,{"$f":"IF($A689=AC$3,AND($A689=AC$3,$D689<0),0)","v":0},0,0]
[{"$f":"IF(B690=0,\"\",MONTH(B690))","v":""},null,null,null,{"$f":"IF(D690=\"\",\"\",IF(D690<0,\"DEBITO\",\"CREDITO\"))","v":""},null,false,false,0,{"$f":"IF($A690=I$3,AND($A690=I$3,$D690<0),0)","v":0},0,{"$f":"IF($A690=K$3,AND($A690=K$3,$D690<0),0)","v":0},0,{"$f":"IF($A690=M$3,AND($A690=M$3,$D690<0),0)","v":0},0,{"$f":"IF($A690=O$3,AND($A690=O$3,$D690<0),0)","v":0},0,0,0,0,0,0,0,{"$f":"IF($A690=W$3,AND($A690=W$3,$D690<0),0)","v":0},0,{"$f":"IF($A690=Y$3,AND($A690=Y$3,$D690<0),0)","v":0},0,{"$f":"IF($A690=AA$3,AND($A690=AA$3,$D690<0),0)","v":0},0,{"$f":"IF($A690=AC$3,AND($A690=AC$3,$D690<0),0)","v":0},0,0]
[{"$f":"IF(B691=0,\"\",MONTH(B691))","v":""},null,null,null,{"$f":"IF(D691=\"\",\"\",IF(D691<0,\"DEBITO\",\"CREDITO\"))","v":""},null,false,false,0,{"$f":"IF($A691=I$3,AND($A691=I$3,$D691<0),0)","v":0},0,{"$f":"IF($A691=K$3,AND($A691=K$3,$D691<0),0)","v":0},0,{"$f":"IF($A691=M$3,AND($A691=M$3,$D691<0),0)","v":0},0,{"$f":"IF($A691=O$3,AND($A691=O$3,$D691<0),0)","v":0},0,0,0,0,0,0,0,{"$f":"IF($A691=W$3,AND($A691=W$3,$D691<0),0)","v":0},0,{"$f":"IF($A691=Y$3,AND($A691=Y$3,$D691<0),0)","v":0},0,{"$f":"IF($A691=AA$3,AND($A691=AA$3,$D691<0),0)","v":0},0,{"$f":"IF($A691=AC$3,AND($A691=AC$3,$D691<0),0)","v":0},0,0]
[{"$f":"IF(B692=0,\"\",MONTH(B692))","v":""},null,null,null,{"$f":"IF(D692=\"\",\"\",IF(D692<0,\"DEBITO\",\"CREDITO\"))","v":""},null,false,false,0,{"$f":"IF($A692=I$3,AND($A692=I$3,$D692<0),0)","v":0},0,{"$f":"IF($A692=K$3,AND($A692=K$3,$D692<0),0)","v":0},0,{"$f":"IF($A692=M$3,AND($A692=M$3,$D692<0),0)","v":0},0,{"$f":"IF($A692=O$3,AND($A692=O$3,$D692<0),0)","v":0},0,0,0,0,0,0,0,{"$f":"IF($A692=W$3,AND($A692=W$3,$D692<0),0)","v":0},0,{"$f":"IF($A692=Y$3,AND($A692=Y$3,$D692<0),0)","v":0},0,{"$f":"IF($A692=AA$3,AND($A692=AA$3,$D692<0),0)","v":0},0,{"$f":"IF($A692=AC$3,AND($A692=AC$3,$D692<0),0)","v":0},0,0]
[{"$f":"IF(B693=0,\"\",MONTH(B693))","v":""},null,null,null,{"$f":"IF(D693=\"\",\"\",IF(D693<0,\"DEBITO\",\"CREDITO\"))","v":""},null,false,false,0,{"$f":"IF($A693=I$3,AND($A693=I$3,$D693<0),0)","v":0},0,{"$f":"IF($A693=K$3,AND($A693=K$3,$D693<0),0)","v":0},0,{"$f":"IF($A693=M$3,AND($A693=M$3,$D693<0),0)","v":0},0,{"$f":"IF($A693=O$3,AND($A693=O$3,$D693<0),0)","v":0},0,0,0,0,0,0,0,{"$f":"IF($A693=W$3,AND($A693=W$3,$D693<0),0)","v":0},0,{"$f":"IF($A693=Y$3,AND($A693=Y$3,$D693<0),0)","v":0},0,{"$f":"IF($A693=AA$3,AND($A693=AA$3,$D693<0),0)","v":0},0,{"$f":"IF($A693=AC$3,AND($A693=AC$3,$D693<0),0)","v":0},0,0]
[{"$f":"IF(B694=0,\"\",MONTH(B694))","v":""},null,null,null,{"$f":"IF(D694=\"\",\"\",IF(D694<0,\"DEBITO\",\"CREDITO\"))","v":""},null,false,false,0,{"$f":"IF($A694=I$3,AND($A694=I$3,$D694<0),0)","v":0},0,{"$f":"IF($A694=K$3,AND($A694=K$3,$D694<0),0)","v":0},0,{"$f":"IF($A694=M$3,AND($A694=M$3,$D694<0),0)","v":0},0,{"$f":"IF($A694=O$3,AND($A694=O$3,$D694<0),0)","v":0},0,0,0,0,0,0,0,{"$f":"IF($A694=W$3,AND($A694=W$3,$D694<0),0)","v":0},0,{"$f":"IF($A694=Y$3,AND($A694=Y$3,$D694<0),0)","v":0},0,{"$f":"IF($A694=AA$3,AND($A694=AA$3,$D694<0),0)","v":0},0,{"$f":"IF($A694=AC$3,AND($A694=AC$3,$D694<0),0)","v":0},0,0]
[{"$f":"IF(B695=0,\"\",MONTH(B695))","v":""},null,null,null,{"$f":"IF(D695=\"\",\"\",IF(D695<0,\"DEBITO\",\"CREDITO\"))","v":""},null,false,false,0,{"$f":"IF($A695=I$3,AND($A695=I$3,$D695<0),0)","v":0},0,{"$f":"IF($A695=K$3,AND($A695=K$3,$D695<0),0)","v":0},0,{"$f":"IF($A695=M$3,AND($A695=M$3,$D695<0),0)","v":0},0,{"$f":"IF($A695=O$3,AND($A695=O$3,$D695<0),0)","v":0},0,0,0,0,0,0,0,{"$f":"IF($A695=W$3,AND($A695=W$3,$D695<0),0)","v":0},0,{"$f":"IF($A695=Y$3,AND($A695=Y$3,$D695<0),0)","v":0},0,{"$f":"IF($A695=AA$3,AND($A695=AA$3,$D695<0),0)","v":0},0,{"$f":"IF($A695=AC$3,AND($A695=AC$3,$D695<0),0)","v":0},0,0]
[{"$f":"IF(B696=0,\"\",MONTH(B696))","v":""},null,null,null,{"$f":"IF(D696=\"\",\"\",IF(D696<0,\"DEBITO\",\"CREDITO\"))","v":""},null,false,false,0,{"$f":"IF($A696=I$3,AND($A696=I$3,$D696<0),0)","v":0},0,{"$f":"IF($A696=K$3,AND($A696=K$3,$D696<0),0)","v":0},0,{"$f":"IF($A696=M$3,AND($A696=M$3,$D696<0),0)","v":0},0,{"$f":"IF($A696=O$3,AND($A696=O$3,$D696<0),0)","v":0},0,0,0,0,0,0,0,{"$f":"IF($A696=W$3,AND($A696=W$3,$D696<0),0)","v":0},0,{"$f":"IF($A696=Y$3,AND($A696=Y$3,$D696<0),0)","v":0},0,{"$f":"IF($A696=AA$3,AND($A696=AA$3,$D696<0),0)","v":0},0,{"$f":"IF($A696=AC$3,AND($A696=AC$3,$D696<0),0)","v":0},0,0]
[{"$f":"IF(B697=0,\"\",MONTH(B697))","v":""},null,null,null,{"$f":"IF(D697=\"\",\"\",IF(D697<0,\"DEBITO\",\"CREDITO\"))","v":""},null,false,false,0,{"$f":"IF($A697=I$3,AND($A697=I$3,$D697<0),0)","v":0},0,{"$f":"IF($A697=K$3,AND($A697=K$3,$D697<0),0)","v":0},0,{"$f":"IF($A697=M$3,AND($A697=M$3,$D697<0),0)","v":0},0,{"$f":"IF($A697=O$3,AND($A697=O$3,$D697<0),0)","v":0},0,0,0,0,0,0,0,{"$f":"IF($A697=W$3,AND($A697=W$3,$D697<0),0)","v":0},0,{"$f":"IF($A697=Y$3,AND($A697=Y$3,$D697<0),0)","v":0},0,{"$f":"IF($A697=AA$3,AND($A697=AA$3,$D697<0),0)","v":0},0,{"$f":"IF($A697=AC$3,AND($A697=AC$3,$D697<0),0)","v":0},0,0]
[{"$f":"IF(B698=0,\"\",MONTH(B698))","v":""},null,null,null,{"$f":"IF(D698=\"\",\"\",IF(D698<0,\"DEBITO\",\"CREDITO\"))","v":""},null,false,false,0,{"$f":"IF($A698=I$3,AND($A698=I$3,$D698<0),0)","v":0},0,{"$f":"IF($A698=K$3,AND($A698=K$3,$D698<0),0)","v":0},0,{"$f":"IF($A698=M$3,AND($A698=M$3,$D698<0),0)","v":0},0,{"$f":"IF($A698=O$3,AND($A698=O$3,$D698<0),0)","v":0},0,0,0,0,0,0,0,{"$f":"IF($A698=W$3,AND($A698=W$3,$D698<0),0)","v":0},0,{"$f":"IF($A698=Y$3,AND($A698=Y$3,$D698<0),0)","v":0},0,{"$f":"IF($A698=AA$3,AND($A698=AA$3,$D698<0),0)","v":0},0,{"$f":"IF($A698=AC$3,AND($A698=AC$3,$D698<0),0)","v":0},0,0]
[{"$f":"IF(B699=0,\"\",MONTH(B699))","v":""},null,null,null,{"$f":"IF(D699=\"\",\"\",IF(D699<0,\"DEBITO\",\"CREDITO\"))","v":""},null,false,false,0,{"$f":"IF($A699=I$3,AND($A699=I$3,$D699<0),0)","v":0},0,{"$f":"IF($A699=K$3,AND($A699=K$3,$D699<0),0)","v":0},0,{"$f":"IF($A699=M$3,AND($A699=M$3,$D699<0),0)","v":0},0,{"$f":"IF($A699=O$3,AND($A699=O$3,$D699<0),0)","v":0},0,0,0,0,0,0,0,{"$f":"IF($A699=W$3,AND($A699=W$3,$D699<0),0)","v":0},0,{"$f":"IF($A699=Y$3,AND($A699=Y$3,$D699<0),0)","v":0},0,{"$f":"IF($A699=AA$3,AND($A699=AA$3,$D699<0),0)","v":0},0,{"$f":"IF($A699=AC$3,AND($A699=AC$3,$D699<0),0)","v":0},0,0]
[{"$f":"IF(B700=0,\"\",MONTH(B700))","v":""},null,null,null,{"$f":"IF(D700=\"\",\"\",IF(D700<0,\"DEBITO\",\"CREDITO\"))","v":""},null,false,false,0,{"$f":"IF($A700=I$3,AND($A700=I$3,$D700<0),0)","v":0},0,{"$f":"IF($A700=K$3,AND($A700=K$3,$D700<0),0)","v":0},0,{"$f":"IF($A700=M$3,AND($A700=M$3,$D700<0),0)","v":0},0,{"$f":"IF($A700=O$3,AND($A700=O$3,$D700<0),0)","v":0},0,0,0,0,0,0,0,{"$f":"IF($A700=W$3,AND($A700=W$3,$D700<0),0)","v":0},0,{"$f":"IF($A700=Y$3,AND($A700=Y$3,$D700<0),0)","v":0},0,{"$f":"IF($A700=AA$3,AND($A700=AA$3,$D700<0),0)","v":0},0,{"$f":"IF($A700=AC$3,AND($A700=AC$3,$D700<0),0)","v":0},0,0]
[{"$f":"IF(B701=0,\"\",MONTH(B701))","v":""},null,null,null,{"$f":"IF(D701=\"\",\"\",IF(D701<0,\"DEBITO\",\"CREDITO\"))","v":""},null,false,false,0,{"$f":"IF($A701=I$3,AND($A701=I$3,$D701<0),0)","v":0},0,{"$f":"IF($A701=K$3,AND($A701=K$3,$D701<0),0)","v":0},0,{"$f":"IF($A701=M$3,AND($A701=M$3,$D701<0),0)","v":0},0,{"$f":"IF($A701=O$3,AND($A701=O$3,$D701<0),0)","v":0},0,0,0,0,0,0,0,{"$f":"IF($A701=W$3,AND($A701=W$3,$D701<0),0)","v":0},0,{"$f":"IF($A701=Y$3,AND($A701=Y$3,$D701<0),0)","v":0},0,{"$f":"IF($A701=AA$3,AND($A701=AA$3,$D701<0),0)","v":0},0,{"$f":"IF($A701=AC$3,AND($A701=AC$3,$D701<0),0)","v":0},0,0]
[{"$f":"IF(B702=0,\"\",MONTH(B702))","v":""},null,null,null,{"$f":"IF(D702=\"\",\"\",IF(D702<0,\"DEBITO\",\"CREDITO\"))","v":""},null,false,false,0,{"$f":"IF($A702=I$3,AND($A702=I$3,$D702<0),0)","v":0},0,{"$f":"IF($A702=K$3,AND($A702=K$3,$D702<0),0)","v":0},0,{"$f":"IF($A702=M$3,AND($A702=M$3,$D702<0),0)","v":0},0,{"$f":"IF($A702=O$3,AND($A702=O$3,$D702<0),0)","v":0},0,0,0,0,0,0,0,{"$f":"IF($A702=W$3,AND($A702=W$3,$D702<0),0)","v":0},0,{"$f":"IF($A702=Y$3,AND($A702=Y$3,$D702<0),0)","v":0},0,{"$f":"IF($A702=AA$3,AND($A702=AA$3,$D702<0),0)","v":0},0,{"$f":"IF($A702=AC$3,AND($A702=AC$3,$D702<0),0)","v":0},0,0]
[{"$f":"IF(B703=0,\"\",MONTH(B703))","v":""},null,null,null,{"$f":"IF(D703=\"\",\"\",IF(D703<0,\"DEBITO\",\"CREDITO\"))","v":""},null,false,false,0,{"$f":"IF($A703=I$3,AND($A703=I$3,$D703<0),0)","v":0},0,{"$f":"IF($A703=K$3,AND($A703=K$3,$D703<0),0)","v":0},0,{"$f":"IF($A703=M$3,AND($A703=M$3,$D703<0),0)","v":0},0,{"$f":"IF($A703=O$3,AND($A703=O$3,$D703<0),0)","v":0},0,0,0,0,0,0,0,{"$f":"IF($A703=W$3,AND($A703=W$3,$D703<0),0)","v":0},0,{"$f":"IF($A703=Y$3,AND($A703=Y$3,$D703<0),0)","v":0},0,{"$f":"IF($A703=AA$3,AND($A703=AA$3,$D703<0),0)","v":0},0,{"$f":"IF($A703=AC$3,AND($A703=AC$3,$D703<0),0)","v":0},0,0]
[{"$f":"IF(B704=0,\"\",MONTH(B704))","v":""},null,null,null,{"$f":"IF(D704=\"\",\"\",IF(D704<0,\"DEBITO\",\"CREDITO\"))","v":""},null,false,false,0,{"$f":"IF($A704=I$3,AND($A704=I$3,$D704<0),0)","v":0},0,{"$f":"IF($A704=K$3,AND($A704=K$3,$D704<0),0)","v":0},0,{"$f":"IF($A704=M$3,AND($A704=M$3,$D704<0),0)","v":0},0,{"$f":"IF($A704=O$3,AND($A704=O$3,$D704<0),0)","v":0},0,0,0,0,0,0,0,{"$f":"IF($A704=W$3,AND($A704=W$3,$D704<0),0)","v":0},0,{"$f":"IF($A704=Y$3,AND($A704=Y$3,$D704<0),0)","v":0},0,{"$f":"IF($A704=AA$3,AND($A704=AA$3,$D704<0),0)","v":0},0,{"$f":"IF($A704=AC$3,AND($A704=AC$3,$D704<0),0)","v":0},0,0]
[{"$f":"IF(B705=0,\"\",MONTH(B705))","v":""},null,null,null,{"$f":"IF(D705=\"\",\"\",IF(D705<0,\"DEBITO\",\"CREDITO\"))","v":""},null,false,false,0,{"$f":"IF($A705=I$3,AND($A705=I$3,$D705<0),0)","v":0},0,{"$f":"IF($A705=K$3,AND($A705=K$3,$D705<0),0)","v":0},0,{"$f":"IF($A705=M$3,AND($A705=M$3,$D705<0),0)","v":0},0,{"$f":"IF($A705=O$3,AND($A705=O$3,$D705<0),0)","v":0},0,0,0,0,0,0,0,{"$f":"IF($A705=W$3,AND($A705=W$3,$D705<0),0)","v":0},0,{"$f":"IF($A705=Y$3,AND($A705=Y$3,$D705<0),0)","v":0},0,{"$f":"IF($A705=AA$3,AND($A705=AA$3,$D705<0),0)","v":0},0,{"$f":"IF($A705=AC$3,AND($A705=AC$3,$D705<0),0)","v":0},0,0]
[{"$f":"IF(B706=0,\"\",MONTH(B706))","v":""},null,null,null,{"$f":"IF(D706=\"\",\"\",IF(D706<0,\"DEBITO\",\"CREDITO\"))","v":""},null,false,false,0,{"$f":"IF($A706=I$3,AND($A706=I$3,$D706<0),0)","v":0},0,{"$f":"IF($A706=K$3,AND($A706=K$3,$D706<0),0)","v":0},0,{"$f":"IF($A706=M$3,AND($A706=M$3,$D706<0),0)","v":0},0,{"$f":"IF($A706=O$3,AND($A706=O$3,$D706<0),0)","v":0},0,0,0,0,0,0,0,{"$f":"IF($A706=W$3,AND($A706=W$3,$D706<0),0)","v":0},0,{"$f":"IF($A706=Y$3,AND($A706=Y$3,$D706<0),0)","v":0},0,{"$f":"IF($A706=AA$3,AND($A706=AA$3,$D706<0),0)","v":0},0,{"$f":"IF($A706=AC$3,AND($A706=AC$3,$D706<0),0)","v":0},0,0]
[{"$f":"IF(B707=0,\"\",MONTH(B707))","v":""},null,null,null,{"$f":"IF(D707=\"\",\"\",IF(D707<0,\"DEBITO\",\"CREDITO\"))","v":""},null,false,false,0,{"$f":"IF($A707=I$3,AND($A707=I$3,$D707<0),0)","v":0},0,{"$f":"IF($A707=K$3,AND($A707=K$3,$D707<0),0)","v":0},0,{"$f":"IF($A707=M$3,AND($A707=M$3,$D707<0),0)","v":0},0,{"$f":"IF($A707=O$3,AND($A707=O$3,$D707<0),0)","v":0},0,0,0,0,0,0,0,{"$f":"IF($A707=W$3,AND($A707=W$3,$D707<0),0)","v":0},0,{"$f":"IF($A707=Y$3,AND($A707=Y$3,$D707<0),0)","v":0},0,{"$f":"IF($A707=AA$3,AND($A707=AA$3,$D707<0),0)","v":0},0,{"$f":"IF($A707=AC$3,AND($A707=AC$3,$D707<0),0)","v":0},0,0]
[{"$f":"IF(B708=0,\"\",MONTH(B708))","v":""},null,null,null,{"$f":"IF(D708=\"\",\"\",IF(D708<0,\"DEBITO\",\"CREDITO\"))","v":""},null,false,false,0,{"$f":"IF($A708=I$3,AND($A708=I$3,$D708<0),0)","v":0},0,{"$f":"IF($A708=K$3,AND($A708=K$3,$D708<0),0)","v":0},0,{"$f":"IF($A708=M$3,AND($A708=M$3,$D708<0),0)","v":0},0,{"$f":"IF($A708=O$3,AND($A708=O$3,$D708<0),0)","v":0},0,0,0,0,0,0,0,{"$f":"IF($A708=W$3,AND($A708=W$3,$D708<0),0)","v":0},0,{"$f":"IF($A708=Y$3,AND($A708=Y$3,$D708<0),0)","v":0},0,{"$f":"IF($A708=AA$3,AND($A708=AA$3,$D708<0),0)","v":0},0,{"$f":"IF($A708=AC$3,AND($A708=AC$3,$D708<0),0)","v":0},0,0]
[{"$f":"IF(B709=0,\"\",MONTH(B709))","v":""},null,null,null,{"$f":"IF(D709=\"\",\"\",IF(D709<0,\"DEBITO\",\"CREDITO\"))","v":""},null,false,false,0,{"$f":"IF($A709=I$3,AND($A709=I$3,$D709<0),0)","v":0},0,{"$f":"IF($A709=K$3,AND($A709=K$3,$D709<0),0)","v":0},0,{"$f":"IF($A709=M$3,AND($A709=M$3,$D709<0),0)","v":0},0,{"$f":"IF($A709=O$3,AND($A709=O$3,$D709<0),0)","v":0},0,0,0,0,0,0,0,{"$f":"IF($A709=W$3,AND($A709=W$3,$D709<0),0)","v":0},0,{"$f":"IF($A709=Y$3,AND($A709=Y$3,$D709<0),0)","v":0},0,{"$f":"IF($A709=AA$3,AND($A709=AA$3,$D709<0),0)","v":0},0,{"$f":"IF($A709=AC$3,AND($A709=AC$3,$D709<0),0)","v":0},0,0]
[{"$f":"IF(B710=0,\"\",MONTH(B710))","v":""},null,null,null,{"$f":"IF(D710=\"\",\"\",IF(D710<0,\"DEBITO\",\"CREDITO\"))","v":""},null,false,false,0,{"$f":"IF($A710=I$3,AND($A710=I$3,$D710<0),0)","v":0},0,{"$f":"IF($A710=K$3,AND($A710=K$3,$D710<0),0)","v":0},0,{"$f":"IF($A710=M$3,AND($A710=M$3,$D710<0),0)","v":0},0,{"$f":"IF($A710=O$3,AND($A710=O$3,$D710<0),0)","v":0},0,0,0,0,0,0,0,{"$f":"IF($A710=W$3,AND($A710=W$3,$D710<0),0)","v":0},0,{"$f":"IF($A710=Y$3,AND($A710=Y$3,$D710<0),0)","v":0},0,{"$f":"IF($A710=AA$3,AND($A710=AA$3,$D710<0),0)","v":0},0,{"$f":"IF($A710=AC$3,AND($A710=AC$3,$D710<0),0)","v":0},0,0]
[{"$f":"IF(B711=0,\"\",MONTH(B711))","v":""},null,null,null,{"$f":"IF(D711=\"\",\"\",IF(D711<0,\"DEBITO\",\"CREDITO\"))","v":""},null,false,false,0,{"$f":"IF($A711=I$3,AND($A711=I$3,$D711<0),0)","v":0},0,{"$f":"IF($A711=K$3,AND($A711=K$3,$D711<0),0)","v":0},0,{"$f":"IF($A711=M$3,AND($A711=M$3,$D711<0),0)","v":0},0,{"$f":"IF($A711=O$3,AND($A711=O$3,$D711<0),0)","v":0},0,0,0,0,0,0,0,{"$f":"IF($A711=W$3,AND($A711=W$3,$D711<0),0)","v":0},0,{"$f":"IF($A711=Y$3,AND($A711=Y$3,$D711<0),0)","v":0},0,{"$f":"IF($A711=AA$3,AND($A711=AA$3,$D711<0),0)","v":0},0,{"$f":"IF($A711=AC$3,AND($A711=AC$3,$D711<0),0)","v":0},0,0]
[{"$f":"IF(B712=0,\"\",MONTH(B712))","v":""},null,null,null,{"$f":"IF(D712=\"\",\"\",IF(D712<0,\"DEBITO\",\"CREDITO\"))","v":""},null,false,false,0,{"$f":"IF($A712=I$3,AND($A712=I$3,$D712<0),0)","v":0},0,{"$f":"IF($A712=K$3,AND($A712=K$3,$D712<0),0)","v":0},0,{"$f":"IF($A712=M$3,AND($A712=M$3,$D712<0),0)","v":0},0,{"$f":"IF($A712=O$3,AND($A712=O$3,$D712<0),0)","v":0},0,0,0,0,0,0,0,{"$f":"IF($A712=W$3,AND($A712=W$3,$D712<0),0)","v":0},0,{"$f":"IF($A712=Y$3,AND($A712=Y$3,$D712<0),0)","v":0},0,{"$f":"IF($A712=AA$3,AND($A712=AA$3,$D712<0),0)","v":0},0,{"$f":"IF($A712=AC$3,AND($A712=AC$3,$D712<0),0)","v":0},0,0]
[{"$f":"IF(B713=0,\"\",MONTH(B713))","v":""},null,null,null,{"$f":"IF(D713=\"\",\"\",IF(D713<0,\"DEBITO\",\"CREDITO\"))","v":""},null,{"$f":"AND(A713=$E$3,D713>0)","v":false},{"$f":"AND(A713=$E$3,D713<0)","v":false},0,{"$f":"IF($A713=I$3,AND($A713=I$3,$D713<0),0)","v":0},0,{"$f":"IF($A713=K$3,AND($A713=K$3,$D713<0),0)","v":0},0,{"$f":"IF($A713=M$3,AND($A713=M$3,$D713<0),0)","v":0},0,{"$f":"IF($A713=O$3,AND($A713=O$3,$D713<0),0)","v":0},0,{"$f":"IF($A713=Q$3,AND($A713=Q$3,$D713<0),0)","v":0},0,0,0,0,0,{"$f":"IF($A713=W$3,AND($A713=W$3,$D713<0),0)","v":0},0,{"$f":"IF($A713=Y$3,AND($A713=Y$3,$D713<0),0)","v":0},0,{"$f":"IF($A713=AA$3,AND($A713=AA$3,$D713<0),0)","v":0},0,{"$f":"IF($A713=AC$3,AND($A713=AC$3,$D713<0),0)","v":0},0,{"$f":"IF($A713=AE$3,AND($A713=AE$3,$D713<0),0)","v":0}]
[{"$f":"IF(B714=0,\"\",MONTH(B714))","v":""},null,null,null,{"$f":"IF(D714=\"\",\"\",IF(D714<0,\"DEBITO\",\"CREDITO\"))","v":""},null,false,false,0,{"$f":"IF($A714=I$3,AND($A714=I$3,$D714<0),0)","v":0},0,{"$f":"IF($A714=K$3,AND($A714=K$3,$D714<0),0)","v":0},0,{"$f":"IF($A714=M$3,AND($A714=M$3,$D714<0),0)","v":0},0,{"$f":"IF($A714=O$3,AND($A714=O$3,$D714<0),0)","v":0},0,0,{"$f":"IF($A714=S$3,AND($A714=S$3,$D714>0),0)","v":0},{"$f":"IF($A714=S$3,AND($A714=S$3,$D714<0),0)","v":0},{"$f":"IF($A714=U$3,AND($A714=U$3,$D714>0),0)","v":0},{"$f":"IF($A714=U$3,AND($A714=U$3,$D714<0),0)","v":0},0,{"$f":"IF($A714=W$3,AND($A714=W$3,$D714<0),0)","v":0},0,{"$f":"IF($A714=Y$3,AND($A714=Y$3,$D714<0),0)","v":0},0,{"$f":"IF($A714=AA$3,AND($A714=AA$3,$D714<0),0)","v":0},0,{"$f":"IF($A714=AC$3,AND($A714=AC$3,$D714<0),0)","v":0},0,0]
[{"$f":"IF(B715=0,\"\",MONTH(B715))","v":""},null,null,null,{"$f":"IF(D715=\"\",\"\",IF(D715<0,\"DEBITO\",\"CREDITO\"))","v":""},null,false,false,0,{"$f":"IF($A715=I$3,AND($A715=I$3,$D715<0),0)","v":0},0,{"$f":"IF($A715=K$3,AND($A715=K$3,$D715<0),0)","v":0},0,{"$f":"IF($A715=M$3,AND($A715=M$3,$D715<0),0)","v":0},0,{"$f":"IF($A715=O$3,AND($A715=O$3,$D715<0),0)","v":0},0,0,0,0,0,0,0,{"$f":"IF($A715=W$3,AND($A715=W$3,$D715<0),0)","v":0},0,{"$f":"IF($A715=Y$3,AND($A715=Y$3,$D715<0),0)","v":0},0,{"$f":"IF($A715=AA$3,AND($A715=AA$3,$D715<0),0)","v":0},0,{"$f":"IF($A715=AC$3,AND($A715=AC$3,$D715<0),0)","v":0},0,0]
[{"$f":"IF(B716=0,\"\",MONTH(B716))","v":""},null,null,null,{"$f":"IF(D716=\"\",\"\",IF(D716<0,\"DEBITO\",\"CREDITO\"))","v":""},null,false,false,0,{"$f":"IF($A716=I$3,AND($A716=I$3,$D716<0),0)","v":0},0,{"$f":"IF($A716=K$3,AND($A716=K$3,$D716<0),0)","v":0},0,{"$f":"IF($A716=M$3,AND($A716=M$3,$D716<0),0)","v":0},0,{"$f":"IF($A716=O$3,AND($A716=O$3,$D716<0),0)","v":0},0,0,0,0,0,0,0,{"$f":"IF($A716=W$3,AND($A716=W$3,$D716<0),0)","v":0},0,{"$f":"IF($A716=Y$3,AND($A716=Y$3,$D716<0),0)","v":0},0,{"$f":"IF($A716=AA$3,AND($A716=AA$3,$D716<0),0)","v":0},0,{"$f":"IF($A716=AC$3,AND($A716=AC$3,$D716<0),0)","v":0},0,0]
[{"$f":"IF(B717=0,\"\",MONTH(B717))","v":""},null,null,null,{"$f":"IF(D717=\"\",\"\",IF(D717<0,\"DEBITO\",\"CREDITO\"))","v":""},null,false,false,0,{"$f":"IF($A717=I$3,AND($A717=I$3,$D717<0),0)","v":0},0,{"$f":"IF($A717=K$3,AND($A717=K$3,$D717<0),0)","v":0},0,{"$f":"IF($A717=M$3,AND($A717=M$3,$D717<0),0)","v":0},0,{"$f":"IF($A717=O$3,AND($A717=O$3,$D717<0),0)","v":0},0,0,0,0,0,0,0,{"$f":"IF($A717=W$3,AND($A717=W$3,$D717<0),0)","v":0},0,{"$f":"IF($A717=Y$3,AND($A717=Y$3,$D717<0),0)","v":0},0,{"$f":"IF($A717=AA$3,AND($A717=AA$3,$D717<0),0)","v":0},0,{"$f":"IF($A717=AC$3,AND($A717=AC$3,$D717<0),0)","v":0},0,0]
[{"$f":"IF(B718=0,\"\",MONTH(B718))","v":""},null,null,null,{"$f":"IF(D718=\"\",\"\",IF(D718<0,\"DEBITO\",\"CREDITO\"))","v":""},null,false,false,0,{"$f":"IF($A718=I$3,AND($A718=I$3,$D718<0),0)","v":0},0,{"$f":"IF($A718=K$3,AND($A718=K$3,$D718<0),0)","v":0},0,{"$f":"IF($A718=M$3,AND($A718=M$3,$D718<0),0)","v":0},0,{"$f":"IF($A718=O$3,AND($A718=O$3,$D718<0),0)","v":0},0,0,0,0,0,0,0,{"$f":"IF($A718=W$3,AND($A718=W$3,$D718<0),0)","v":0},0,{"$f":"IF($A718=Y$3,AND($A718=Y$3,$D718<0),0)","v":0},0,{"$f":"IF($A718=AA$3,AND($A718=AA$3,$D718<0),0)","v":0},0,{"$f":"IF($A718=AC$3,AND($A718=AC$3,$D718<0),0)","v":0},0,0]
[{"$f":"IF(B719=0,\"\",MONTH(B719))","v":""},null,null,null,{"$f":"IF(D719=\"\",\"\",IF(D719<0,\"DEBITO\",\"CREDITO\"))","v":""},null,false,false,0,{"$f":"IF($A719=I$3,AND($A719=I$3,$D719<0),0)","v":0},0,{"$f":"IF($A719=K$3,AND($A719=K$3,$D719<0),0)","v":0},0,{"$f":"IF($A719=M$3,AND($A719=M$3,$D719<0),0)","v":0},0,{"$f":"IF($A719=O$3,AND($A719=O$3,$D719<0),0)","v":0},0,0,0,0,0,0,0,{"$f":"IF($A719=W$3,AND($A719=W$3,$D719<0),0)","v":0},0,{"$f":"IF($A719=Y$3,AND($A719=Y$3,$D719<0),0)","v":0},0,{"$f":"IF($A719=AA$3,AND($A719=AA$3,$D719<0),0)","v":0},0,{"$f":"IF($A719=AC$3,AND($A719=AC$3,$D719<0),0)","v":0},0,0]
[{"$f":"IF(B720=0,\"\",MONTH(B720))","v":""},null,null,null,{"$f":"IF(D720=\"\",\"\",IF(D720<0,\"DEBITO\",\"CREDITO\"))","v":""},null,false,false,0,{"$f":"IF($A720=I$3,AND($A720=I$3,$D720<0),0)","v":0},0,{"$f":"IF($A720=K$3,AND($A720=K$3,$D720<0),0)","v":0},0,{"$f":"IF($A720=M$3,AND($A720=M$3,$D720<0),0)","v":0},0,{"$f":"IF($A720=O$3,AND($A720=O$3,$D720<0),0)","v":0},0,0,0,0,0,0,0,{"$f":"IF($A720=W$3,AND($A720=W$3,$D720<0),0)","v":0},0,{"$f":"IF($A720=Y$3,AND($A720=Y$3,$D720<0),0)","v":0},0,{"$f":"IF($A720=AA$3,AND($A720=AA$3,$D720<0),0)","v":0},0,{"$f":"IF($A720=AC$3,AND($A720=AC$3,$D720<0),0)","v":0},0,0]
[{"$f":"IF(B721=0,\"\",MONTH(B721))","v":""},null,null,null,{"$f":"IF(D721=\"\",\"\",IF(D721<0,\"DEBITO\",\"CREDITO\"))","v":""},null,false,false,0,{"$f":"IF($A721=I$3,AND($A721=I$3,$D721<0),0)","v":0},0,{"$f":"IF($A721=K$3,AND($A721=K$3,$D721<0),0)","v":0},0,{"$f":"IF($A721=M$3,AND($A721=M$3,$D721<0),0)","v":0},0,{"$f":"IF($A721=O$3,AND($A721=O$3,$D721<0),0)","v":0},0,0,0,0,0,0,0,{"$f":"IF($A721=W$3,AND($A721=W$3,$D721<0),0)","v":0},0,{"$f":"IF($A721=Y$3,AND($A721=Y$3,$D721<0),0)","v":0},0,{"$f":"IF($A721=AA$3,AND($A721=AA$3,$D721<0),0)","v":0},0,{"$f":"IF($A721=AC$3,AND($A721=AC$3,$D721<0),0)","v":0},0,0]
[{"$f":"IF(B722=0,\"\",MONTH(B722))","v":""},null,null,null,{"$f":"IF(D722=\"\",\"\",IF(D722<0,\"DEBITO\",\"CREDITO\"))","v":""},null,false,false,0,{"$f":"IF($A722=I$3,AND($A722=I$3,$D722<0),0)","v":0},0,{"$f":"IF($A722=K$3,AND($A722=K$3,$D722<0),0)","v":0},0,{"$f":"IF($A722=M$3,AND($A722=M$3,$D722<0),0)","v":0},0,{"$f":"IF($A722=O$3,AND($A722=O$3,$D722<0),0)","v":0},0,0,0,0,0,0,0,{"$f":"IF($A722=W$3,AND($A722=W$3,$D722<0),0)","v":0},0,{"$f":"IF($A722=Y$3,AND($A722=Y$3,$D722<0),0)","v":0},0,{"$f":"IF($A722=AA$3,AND($A722=AA$3,$D722<0),0)","v":0},0,{"$f":"IF($A722=AC$3,AND($A722=AC$3,$D722<0),0)","v":0},0,0]
[{"$f":"IF(B723=0,\"\",MONTH(B723))","v":""},null,null,null,{"$f":"IF(D723=\"\",\"\",IF(D723<0,\"DEBITO\",\"CREDITO\"))","v":""},null,false,false,0,{"$f":"IF($A723=I$3,AND($A723=I$3,$D723<0),0)","v":0},0,{"$f":"IF($A723=K$3,AND($A723=K$3,$D723<0),0)","v":0},0,{"$f":"IF($A723=M$3,AND($A723=M$3,$D723<0),0)","v":0},0,{"$f":"IF($A723=O$3,AND($A723=O$3,$D723<0),0)","v":0},0,0,0,0,0,0,0,{"$f":"IF($A723=W$3,AND($A723=W$3,$D723<0),0)","v":0},0,{"$f":"IF($A723=Y$3,AND($A723=Y$3,$D723<0),0)","v":0},0,{"$f":"IF($A723=AA$3,AND($A723=AA$3,$D723<0),0)","v":0},0,{"$f":"IF($A723=AC$3,AND($A723=AC$3,$D723<0),0)","v":0},0,0]
[{"$f":"IF(B724=0,\"\",MONTH(B724))","v":""},null,null,null,{"$f":"IF(D724=\"\",\"\",IF(D724<0,\"DEBITO\",\"CREDITO\"))","v":""},null,false,false,0,{"$f":"IF($A724=I$3,AND($A724=I$3,$D724<0),0)","v":0},0,{"$f":"IF($A724=K$3,AND($A724=K$3,$D724<0),0)","v":0},0,{"$f":"IF($A724=M$3,AND($A724=M$3,$D724<0),0)","v":0},0,{"$f":"IF($A724=O$3,AND($A724=O$3,$D724<0),0)","v":0},0,0,0,0,0,0,0,{"$f":"IF($A724=W$3,AND($A724=W$3,$D724<0),0)","v":0},0,{"$f":"IF($A724=Y$3,AND($A724=Y$3,$D724<0),0)","v":0},0,{"$f":"IF($A724=AA$3,AND($A724=AA$3,$D724<0),0)","v":0},0,{"$f":"IF($A724=AC$3,AND($A724=AC$3,$D724<0),0)","v":0},0,0]
[{"$f":"IF(B725=0,\"\",MONTH(B725))","v":""},null,null,null,{"$f":"IF(D725=\"\",\"\",IF(D725<0,\"DEBITO\",\"CREDITO\"))","v":""},null,false,false,0,{"$f":"IF($A725=I$3,AND($A725=I$3,$D725<0),0)","v":0},0,{"$f":"IF($A725=K$3,AND($A725=K$3,$D725<0),0)","v":0},0,{"$f":"IF($A725=M$3,AND($A725=M$3,$D725<0),0)","v":0},0,{"$f":"IF($A725=O$3,AND($A725=O$3,$D725<0),0)","v":0},0,0,0,0,0,0,0,{"$f":"IF($A725=W$3,AND($A725=W$3,$D725<0),0)","v":0},0,{"$f":"IF($A725=Y$3,AND($A725=Y$3,$D725<0),0)","v":0},0,{"$f":"IF($A725=AA$3,AND($A725=AA$3,$D725<0),0)","v":0},0,{"$f":"IF($A725=AC$3,AND($A725=AC$3,$D725<0),0)","v":0},0,0]
[{"$f":"IF(B726=0,\"\",MONTH(B726))","v":""},null,null,null,{"$f":"IF(D726=\"\",\"\",IF(D726<0,\"DEBITO\",\"CREDITO\"))","v":""},null,false,false,0,{"$f":"IF($A726=I$3,AND($A726=I$3,$D726<0),0)","v":0},0,{"$f":"IF($A726=K$3,AND($A726=K$3,$D726<0),0)","v":0},0,{"$f":"IF($A726=M$3,AND($A726=M$3,$D726<0),0)","v":0},0,{"$f":"IF($A726=O$3,AND($A726=O$3,$D726<0),0)","v":0},0,0,0,0,0,0,0,{"$f":"IF($A726=W$3,AND($A726=W$3,$D726<0),0)","v":0},0,{"$f":"IF($A726=Y$3,AND($A726=Y$3,$D726<0),0)","v":0},0,{"$f":"IF($A726=AA$3,AND($A726=AA$3,$D726<0),0)","v":0},0,{"$f":"IF($A726=AC$3,AND($A726=AC$3,$D726<0),0)","v":0},0,0]
[{"$f":"IF(B727=0,\"\",MONTH(B727))","v":""},null,null,null,{"$f":"IF(D727=\"\",\"\",IF(D727<0,\"DEBITO\",\"CREDITO\"))","v":""},null,false,false,0,{"$f":"IF($A727=I$3,AND($A727=I$3,$D727<0),0)","v":0},0,{"$f":"IF($A727=K$3,AND($A727=K$3,$D727<0),0)","v":0},0,{"$f":"IF($A727=M$3,AND($A727=M$3,$D727<0),0)","v":0},0,{"$f":"IF($A727=O$3,AND($A727=O$3,$D727<0),0)","v":0},0,0,0,0,0,0,0,{"$f":"IF($A727=W$3,AND($A727=W$3,$D727<0),0)","v":0},0,{"$f":"IF($A727=Y$3,AND($A727=Y$3,$D727<0),0)","v":0},0,{"$f":"IF($A727=AA$3,AND($A727=AA$3,$D727<0),0)","v":0},0,{"$f":"IF($A727=AC$3,AND($A727=AC$3,$D727<0),0)","v":0},0,0]
[{"$f":"IF(B728=0,\"\",MONTH(B728))","v":""},null,null,null,{"$f":"IF(D728=\"\",\"\",IF(D728<0,\"DEBITO\",\"CREDITO\"))","v":""},null,false,false,0,{"$f":"IF($A728=I$3,AND($A728=I$3,$D728<0),0)","v":0},0,{"$f":"IF($A728=K$3,AND($A728=K$3,$D728<0),0)","v":0},0,{"$f":"IF($A728=M$3,AND($A728=M$3,$D728<0),0)","v":0},0,{"$f":"IF($A728=O$3,AND($A728=O$3,$D728<0),0)","v":0},0,0,0,0,0,0,0,{"$f":"IF($A728=W$3,AND($A728=W$3,$D728<0),0)","v":0},0,{"$f":"IF($A728=Y$3,AND($A728=Y$3,$D728<0),0)","v":0},0,{"$f":"IF($A728=AA$3,AND($A728=AA$3,$D728<0),0)","v":0},0,{"$f":"IF($A728=AC$3,AND($A728=AC$3,$D728<0),0)","v":0},0,0]
[{"$f":"IF(B729=0,\"\",MONTH(B729))","v":""},null,null,null,{"$f":"IF(D729=\"\",\"\",IF(D729<0,\"DEBITO\",\"CREDITO\"))","v":""},null,false,false,{"$f":"IF($A729=I$3,AND($A729=I$3,$D729>0),0)","v":0},{"$f":"IF($A729=I$3,AND($A729=I$3,$D729<0),0)","v":0},{"$f":"IF($A729=K$3,AND($A729=K$3,$D729>0),0)","v":0},{"$f":"IF($A729=K$3,AND($A729=K$3,$D729<0),0)","v":0},{"$f":"IF($A729=M$3,AND($A729=M$3,$D729>0),0)","v":0},{"$f":"IF($A729=M$3,AND($A729=M$3,$D729<0),0)","v":0},{"$f":"IF($A729=O$3,AND($A729=O$3,$D729>0),0)","v":0},{"$f":"IF($A729=O$3,AND($A729=O$3,$D729<0),0)","v":0},{"$f":"IF($A729=Q$3,AND($A729=Q$3,$D729>0),0)","v":0},0,0,0,0,0,{"$f":"IF($A729=W$3,AND($A729=W$3,$D729>0),0)","v":0},{"$f":"IF($A729=W$3,AND($A729=W$3,$D729<0),0)","v":0},{"$f":"IF($A729=Y$3,AND($A729=Y$3,$D729>0),0)","v":0},{"$f":"IF($A729=Y$3,AND($A729=Y$3,$D729<0),0)","v":0},{"$f":"IF($A729=AA$3,AND($A729=AA$3,$D729>0),0)","v":0},{"$f":"IF($A729=AA$3,AND($A729=AA$3,$D729<0),0)","v":0},{"$f":"IF($A729=AC$3,AND($A729=AC$3,$D729>0),0)","v":0},{"$f":"IF($A729=AC$3,AND($A729=AC$3,$D729<0),0)","v":0},{"$f":"IF($A729=AE$3,AND($A729=AE$3,$D729>0),0)","v":0},0]
[{"$f":"IF(B730=0,\"\",MONTH(B730))","v":""},null,null,null,{"$f":"IF(D730=\"\",\"\",IF(D730<0,\"DEBITO\",\"CREDITO\"))","v":""},null,false,false,0,{"$f":"IF($A730=I$3,AND($A730=I$3,$D730<0),0)","v":0},0,{"$f":"IF($A730=K$3,AND($A730=K$3,$D730<0),0)","v":0},0,{"$f":"IF($A730=M$3,AND($A730=M$3,$D730<0),0)","v":0},0,{"$f":"IF($A730=O$3,AND($A730=O$3,$D730<0),0)","v":0},0,0,0,0,0,0,0,{"$f":"IF($A730=W$3,AND($A730=W$3,$D730<0),0)","v":0},0,{"$f":"IF($A730=Y$3,AND($A730=Y$3,$D730<0),0)","v":0},0,{"$f":"IF($A730=AA$3,AND($A730=AA$3,$D730<0),0)","v":0},0,{"$f":"IF($A730=AC$3,AND($A730=AC$3,$D730<0),0)","v":0},0,0]
[{"$f":"IF(B731=0,\"\",MONTH(B731))","v":""},null,null,null,{"$f":"IF(D731=\"\",\"\",IF(D731<0,\"DEBITO\",\"CREDITO\"))","v":""},null,false,false,0,{"$f":"IF($A731=I$3,AND($A731=I$3,$D731<0),0)","v":0},0,{"$f":"IF($A731=K$3,AND($A731=K$3,$D731<0),0)","v":0},0,{"$f":"IF($A731=M$3,AND($A731=M$3,$D731<0),0)","v":0},0,{"$f":"IF($A731=O$3,AND($A731=O$3,$D731<0),0)","v":0},0,0,0,0,0,0,0,{"$f":"IF($A731=W$3,AND($A731=W$3,$D731<0),0)","v":0},0,{"$f":"IF($A731=Y$3,AND($A731=Y$3,$D731<0),0)","v":0},0,{"$f":"IF($A731=AA$3,AND($A731=AA$3,$D731<0),0)","v":0},0,{"$f":"IF($A731=AC$3,AND($A731=AC$3,$D731<0),0)","v":0},0,0]
[{"$f":"IF(B732=0,\"\",MONTH(B732))","v":""},null,null,null,{"$f":"IF(D732=\"\",\"\",IF(D732<0,\"DEBITO\",\"CREDITO\"))","v":""},null,false,false,0,{"$f":"IF($A732=I$3,AND($A732=I$3,$D732<0),0)","v":0},0,{"$f":"IF($A732=K$3,AND($A732=K$3,$D732<0),0)","v":0},0,{"$f":"IF($A732=M$3,AND($A732=M$3,$D732<0),0)","v":0},0,{"$f":"IF($A732=O$3,AND($A732=O$3,$D732<0),0)","v":0},0,0,0,0,0,0,0,{"$f":"IF($A732=W$3,AND($A732=W$3,$D732<0),0)","v":0},0,{"$f":"IF($A732=Y$3,AND($A732=Y$3,$D732<0),0)","v":0},0,{"$f":"IF($A732=AA$3,AND($A732=AA$3,$D732<0),0)","v":0},0,{"$f":"IF($A732=AC$3,AND($A732=AC$3,$D732<0),0)","v":0},0,0]
[{"$f":"IF(B733=0,\"\",MONTH(B733))","v":""},null,null,null,{"$f":"IF(D733=\"\",\"\",IF(D733<0,\"DEBITO\",\"CREDITO\"))","v":""},null,false,false,0,{"$f":"IF($A733=I$3,AND($A733=I$3,$D733<0),0)","v":0},0,{"$f":"IF($A733=K$3,AND($A733=K$3,$D733<0),0)","v":0},0,{"$f":"IF($A733=M$3,AND($A733=M$3,$D733<0),0)","v":0},0,{"$f":"IF($A733=O$3,AND($A733=O$3,$D733<0),0)","v":0},0,0,0,0,0,0,0,{"$f":"IF($A733=W$3,AND($A733=W$3,$D733<0),0)","v":0},0,{"$f":"IF($A733=Y$3,AND($A733=Y$3,$D733<0),0)","v":0},0,{"$f":"IF($A733=AA$3,AND($A733=AA$3,$D733<0),0)","v":0},0,{"$f":"IF($A733=AC$3,AND($A733=AC$3,$D733<0),0)","v":0},0,0]
[{"$f":"IF(B734=0,\"\",MONTH(B734))","v":""},null,null,null,{"$f":"IF(D734=\"\",\"\",IF(D734<0,\"DEBITO\",\"CREDITO\"))","v":""},null,false,false,0,{"$f":"IF($A734=I$3,AND($A734=I$3,$D734<0),0)","v":0},0,{"$f":"IF($A734=K$3,AND($A734=K$3,$D734<0),0)","v":0},0,{"$f":"IF($A734=M$3,AND($A734=M$3,$D734<0),0)","v":0},0,{"$f":"IF($A734=O$3,AND($A734=O$3,$D734<0),0)","v":0},0,0,0,0,0,0,0,{"$f":"IF($A734=W$3,AND($A734=W$3,$D734<0),0)","v":0},0,{"$f":"IF($A734=Y$3,AND($A734=Y$3,$D734<0),0)","v":0},0,{"$f":"IF($A734=AA$3,AND($A734=AA$3,$D734<0),0)","v":0},0,{"$f":"IF($A734=AC$3,AND($A734=AC$3,$D734<0),0)","v":0},0,0]
[{"$f":"IF(B735=0,\"\",MONTH(B735))","v":""},null,null,null,{"$f":"IF(D735=\"\",\"\",IF(D735<0,\"DEBITO\",\"CREDITO\"))","v":""},null,false,false,0,{"$f":"IF($A735=I$3,AND($A735=I$3,$D735<0),0)","v":0},0,{"$f":"IF($A735=K$3,AND($A735=K$3,$D735<0),0)","v":0},0,{"$f":"IF($A735=M$3,AND($A735=M$3,$D735<0),0)","v":0},0,{"$f":"IF($A735=O$3,AND($A735=O$3,$D735<0),0)","v":0},0,0,0,0,0,0,0,{"$f":"IF($A735=W$3,AND($A735=W$3,$D735<0),0)","v":0},0,{"$f":"IF($A735=Y$3,AND($A735=Y$3,$D735<0),0)","v":0},0,{"$f":"IF($A735=AA$3,AND($A735=AA$3,$D735<0),0)","v":0},0,{"$f":"IF($A735=AC$3,AND($A735=AC$3,$D735<0),0)","v":0},0,0]
[{"$f":"IF(B736=0,\"\",MONTH(B736))","v":""},null,null,null,{"$f":"IF(D736=\"\",\"\",IF(D736<0,\"DEBITO\",\"CREDITO\"))","v":""},null,false,false,0,{"$f":"IF($A736=I$3,AND($A736=I$3,$D736<0),0)","v":0},0,{"$f":"IF($A736=K$3,AND($A736=K$3,$D736<0),0)","v":0},0,{"$f":"IF($A736=M$3,AND($A736=M$3,$D736<0),0)","v":0},0,{"$f":"IF($A736=O$3,AND($A736=O$3,$D736<0),0)","v":0},0,0,0,0,0,0,0,{"$f":"IF($A736=W$3,AND($A736=W$3,$D736<0),0)","v":0},0,{"$f":"IF($A736=Y$3,AND($A736=Y$3,$D736<0),0)","v":0},0,{"$f":"IF($A736=AA$3,AND($A736=AA$3,$D736<0),0)","v":0},0,{"$f":"IF($A736=AC$3,AND($A736=AC$3,$D736<0),0)","v":0},0,0]
[{"$f":"IF(B737=0,\"\",MONTH(B737))","v":""},null,null,null,{"$f":"IF(D737=\"\",\"\",IF(D737<0,\"DEBITO\",\"CREDITO\"))","v":""},null,false,false,0,{"$f":"IF($A737=I$3,AND($A737=I$3,$D737<0),0)","v":0},0,{"$f":"IF($A737=K$3,AND($A737=K$3,$D737<0),0)","v":0},0,{"$f":"IF($A737=M$3,AND($A737=M$3,$D737<0),0)","v":0},0,{"$f":"IF($A737=O$3,AND($A737=O$3,$D737<0),0)","v":0},0,0,0,0,0,0,0,{"$f":"IF($A737=W$3,AND($A737=W$3,$D737<0),0)","v":0},0,{"$f":"IF($A737=Y$3,AND($A737=Y$3,$D737<0),0)","v":0},0,{"$f":"IF($A737=AA$3,AND($A737=AA$3,$D737<0),0)","v":0},0,{"$f":"IF($A737=AC$3,AND($A737=AC$3,$D737<0),0)","v":0},0,0]
[{"$f":"IF(B738=0,\"\",MONTH(B738))","v":""},null,null,null,{"$f":"IF(D738=\"\",\"\",IF(D738<0,\"DEBITO\",\"CREDITO\"))","v":""},null,false,false,0,{"$f":"IF($A738=I$3,AND($A738=I$3,$D738<0),0)","v":0},0,{"$f":"IF($A738=K$3,AND($A738=K$3,$D738<0),0)","v":0},0,{"$f":"IF($A738=M$3,AND($A738=M$3,$D738<0),0)","v":0},0,{"$f":"IF($A738=O$3,AND($A738=O$3,$D738<0),0)","v":0},0,0,0,0,0,0,0,{"$f":"IF($A738=W$3,AND($A738=W$3,$D738<0),0)","v":0},0,{"$f":"IF($A738=Y$3,AND($A738=Y$3,$D738<0),0)","v":0},0,{"$f":"IF($A738=AA$3,AND($A738=AA$3,$D738<0),0)","v":0},0,{"$f":"IF($A738=AC$3,AND($A738=AC$3,$D738<0),0)","v":0},0,0]
[{"$f":"IF(B739=0,\"\",MONTH(B739))","v":""},null,null,null,{"$f":"IF(D739=\"\",\"\",IF(D739<0,\"DEBITO\",\"CREDITO\"))","v":""},null,false,false,0,{"$f":"IF($A739=I$3,AND($A739=I$3,$D739<0),0)","v":0},0,{"$f":"IF($A739=K$3,AND($A739=K$3,$D739<0),0)","v":0},0,{"$f":"IF($A739=M$3,AND($A739=M$3,$D739<0),0)","v":0},0,{"$f":"IF($A739=O$3,AND($A739=O$3,$D739<0),0)","v":0},0,0,0,0,0,0,0,{"$f":"IF($A739=W$3,AND($A739=W$3,$D739<0),0)","v":0},0,{"$f":"IF($A739=Y$3,AND($A739=Y$3,$D739<0),0)","v":0},0,{"$f":"IF($A739=AA$3,AND($A739=AA$3,$D739<0),0)","v":0},0,{"$f":"IF($A739=AC$3,AND($A739=AC$3,$D739<0),0)","v":0},0,0]
[{"$f":"IF(B740=0,\"\",MONTH(B740))","v":""},null,null,null,{"$f":"IF(D740=\"\",\"\",IF(D740<0,\"DEBITO\",\"CREDITO\"))","v":""},null,false,false,0,{"$f":"IF($A740=I$3,AND($A740=I$3,$D740<0),0)","v":0},0,{"$f":"IF($A740=K$3,AND($A740=K$3,$D740<0),0)","v":0},0,{"$f":"IF($A740=M$3,AND($A740=M$3,$D740<0),0)","v":0},0,{"$f":"IF($A740=O$3,AND($A740=O$3,$D740<0),0)","v":0},0,0,0,0,0,0,0,{"$f":"IF($A740=W$3,AND($A740=W$3,$D740<0),0)","v":0},0,{"$f":"IF($A740=Y$3,AND($A740=Y$3,$D740<0),0)","v":0},0,{"$f":"IF($A740=AA$3,AND($A740=AA$3,$D740<0),0)","v":0},0,{"$f":"IF($A740=AC$3,AND($A740=AC$3,$D740<0),0)","v":0},0,0]
[{"$f":"IF(B741=0,\"\",MONTH(B741))","v":""},null,null,null,{"$f":"IF(D741=\"\",\"\",IF(D741<0,\"DEBITO\",\"CREDITO\"))","v":""},null,false,false,0,{"$f":"IF($A741=I$3,AND($A741=I$3,$D741<0),0)","v":0},0,{"$f":"IF($A741=K$3,AND($A741=K$3,$D741<0),0)","v":0},0,{"$f":"IF($A741=M$3,AND($A741=M$3,$D741<0),0)","v":0},0,{"$f":"IF($A741=O$3,AND($A741=O$3,$D741<0),0)","v":0},0,0,0,0,0,0,0,{"$f":"IF($A741=W$3,AND($A741=W$3,$D741<0),0)","v":0},0,{"$f":"IF($A741=Y$3,AND($A741=Y$3,$D741<0),0)","v":0},0,{"$f":"IF($A741=AA$3,AND($A741=AA$3,$D741<0),0)","v":0},0,{"$f":"IF($A741=AC$3,AND($A741=AC$3,$D741<0),0)","v":0},0,0]
[{"$f":"IF(B742=0,\"\",MONTH(B742))","v":""},null,null,null,{"$f":"IF(D742=\"\",\"\",IF(D742<0,\"DEBITO\",\"CREDITO\"))","v":""},null,false,false,0,{"$f":"IF($A742=I$3,AND($A742=I$3,$D742<0),0)","v":0},0,{"$f":"IF($A742=K$3,AND($A742=K$3,$D742<0),0)","v":0},0,{"$f":"IF($A742=M$3,AND($A742=M$3,$D742<0),0)","v":0},0,{"$f":"IF($A742=O$3,AND($A742=O$3,$D742<0),0)","v":0},0,0,0,0,0,0,0,{"$f":"IF($A742=W$3,AND($A742=W$3,$D742<0),0)","v":0},0,{"$f":"IF($A742=Y$3,AND($A742=Y$3,$D742<0),0)","v":0},0,{"$f":"IF($A742=AA$3,AND($A742=AA$3,$D742<0),0)","v":0},0,{"$f":"IF($A742=AC$3,AND($A742=AC$3,$D742<0),0)","v":0},0,0]
[{"$f":"IF(B743=0,\"\",MONTH(B743))","v":""},null,null,null,{"$f":"IF(D743=\"\",\"\",IF(D743<0,\"DEBITO\",\"CREDITO\"))","v":""},null,false,false,0,{"$f":"IF($A743=I$3,AND($A743=I$3,$D743<0),0)","v":0},0,{"$f":"IF($A743=K$3,AND($A743=K$3,$D743<0),0)","v":0},0,{"$f":"IF($A743=M$3,AND($A743=M$3,$D743<0),0)","v":0},0,{"$f":"IF($A743=O$3,AND($A743=O$3,$D743<0),0)","v":0},0,0,0,0,0,0,0,{"$f":"IF($A743=W$3,AND($A743=W$3,$D743<0),0)","v":0},0,{"$f":"IF($A743=Y$3,AND($A743=Y$3,$D743<0),0)","v":0},0,{"$f":"IF($A743=AA$3,AND($A743=AA$3,$D743<0),0)","v":0},0,{"$f":"IF($A743=AC$3,AND($A743=AC$3,$D743<0),0)","v":0},0,0]
[{"$f":"IF(B744=0,\"\",MONTH(B744))","v":""},null,null,null,{"$f":"IF(D744=\"\",\"\",IF(D744<0,\"DEBITO\",\"CREDITO\"))","v":""},null,false,false,0,{"$f":"IF($A744=I$3,AND($A744=I$3,$D744<0),0)","v":0},0,{"$f":"IF($A744=K$3,AND($A744=K$3,$D744<0),0)","v":0},0,{"$f":"IF($A744=M$3,AND($A744=M$3,$D744<0),0)","v":0},0,{"$f":"IF($A744=O$3,AND($A744=O$3,$D744<0),0)","v":0},0,0,0,0,0,0,0,{"$f":"IF($A744=W$3,AND($A744=W$3,$D744<0),0)","v":0},0,{"$f":"IF($A744=Y$3,AND($A744=Y$3,$D744<0),0)","v":0},0,{"$f":"IF($A744=AA$3,AND($A744=AA$3,$D744<0),0)","v":0},0,{"$f":"IF($A744=AC$3,AND($A744=AC$3,$D744<0),0)","v":0},0,0]
[{"$f":"IF(B745=0,\"\",MONTH(B745))","v":""},null,null,null,{"$f":"IF(D745=\"\",\"\",IF(D745<0,\"DEBITO\",\"CREDITO\"))","v":""},null,false,false,0,{"$f":"IF($A745=I$3,AND($A745=I$3,$D745<0),0)","v":0},0,{"$f":"IF($A745=K$3,AND($A745=K$3,$D745<0),0)","v":0},0,{"$f":"IF($A745=M$3,AND($A745=M$3,$D745<0),0)","v":0},0,{"$f":"IF($A745=O$3,AND($A745=O$3,$D745<0),0)","v":0},0,0,0,0,0,0,0,{"$f":"IF($A745=W$3,AND($A745=W$3,$D745<0),0)","v":0},0,{"$f":"IF($A745=Y$3,AND($A745=Y$3,$D745<0),0)","v":0},0,{"$f":"IF($A745=AA$3,AND($A745=AA$3,$D745<0),0)","v":0},0,{"$f":"IF($A745=AC$3,AND($A745=AC$3,$D745<0),0)","v":0},0,0]
[{"$f":"IF(B746=0,\"\",MONTH(B746))","v":""},null,null,null,{"$f":"IF(D746=\"\",\"\",IF(D746<0,\"DEBITO\",\"CREDITO\"))","v":""},null,false,false,0,{"$f":"IF($A746=I$3,AND($A746=I$3,$D746<0),0)","v":0},0,{"$f":"IF($A746=K$3,AND($A746=K$3,$D746<0),0)","v":0},0,{"$f":"IF($A746=M$3,AND($A746=M$3,$D746<0),0)","v":0},0,{"$f":"IF($A746=O$3,AND($A746=O$3,$D746<0),0)","v":0},0,0,0,0,0,0,0,{"$f":"IF($A746=W$3,AND($A746=W$3,$D746<0),0)","v":0},0,{"$f":"IF($A746=Y$3,AND($A746=Y$3,$D746<0),0)","v":0},0,{"$f":"IF($A746=AA$3,AND($A746=AA$3,$D746<0),0)","v":0},0,{"$f":"IF($A746=AC$3,AND($A746=AC$3,$D746<0),0)","v":0},0,0]
[{"$f":"IF(B747=0,\"\",MONTH(B747))","v":""},null,null,null,{"$f":"IF(D747=\"\",\"\",IF(D747<0,\"DEBITO\",\"CREDITO\"))","v":""},null,false,false,0,{"$f":"IF($A747=I$3,AND($A747=I$3,$D747<0),0)","v":0},0,{"$f":"IF($A747=K$3,AND($A747=K$3,$D747<0),0)","v":0},0,{"$f":"IF($A747=M$3,AND($A747=M$3,$D747<0),0)","v":0},0,{"$f":"IF($A747=O$3,AND($A747=O$3,$D747<0),0)","v":0},0,0,0,0,0,0,0,{"$f":"IF($A747=W$3,AND($A747=W$3,$D747<0),0)","v":0},0,{"$f":"IF($A747=Y$3,AND($A747=Y$3,$D747<0),0)","v":0},0,{"$f":"IF($A747=AA$3,AND($A747=AA$3,$D747<0),0)","v":0},0,{"$f":"IF($A747=AC$3,AND($A747=AC$3,$D747<0),0)","v":0},0,0]
[{"$f":"IF(B748=0,\"\",MONTH(B748))","v":""},null,null,null,{"$f":"IF(D748=\"\",\"\",IF(D748<0,\"DEBITO\",\"CREDITO\"))","v":""},null,false,false,0,{"$f":"IF($A748=I$3,AND($A748=I$3,$D748<0),0)","v":0},0,{"$f":"IF($A748=K$3,AND($A748=K$3,$D748<0),0)","v":0},0,{"$f":"IF($A748=M$3,AND($A748=M$3,$D748<0),0)","v":0},0,{"$f":"IF($A748=O$3,AND($A748=O$3,$D748<0),0)","v":0},0,0,0,0,0,0,0,{"$f":"IF($A748=W$3,AND($A748=W$3,$D748<0),0)","v":0},0,{"$f":"IF($A748=Y$3,AND($A748=Y$3,$D748<0),0)","v":0},0,{"$f":"IF($A748=AA$3,AND($A748=AA$3,$D748<0),0)","v":0},0,{"$f":"IF($A748=AC$3,AND($A748=AC$3,$D748<0),0)","v":0},0,0]
[{"$f":"IF(B749=0,\"\",MONTH(B749))","v":""},null,null,null,{"$f":"IF(D749=\"\",\"\",IF(D749<0,\"DEBITO\",\"CREDITO\"))","v":""},null,false,false,0,{"$f":"IF($A749=I$3,AND($A749=I$3,$D749<0),0)","v":0},0,{"$f":"IF($A749=K$3,AND($A749=K$3,$D749<0),0)","v":0},0,{"$f":"IF($A749=M$3,AND($A749=M$3,$D749<0),0)","v":0},0,{"$f":"IF($A749=O$3,AND($A749=O$3,$D749<0),0)","v":0},0,0,0,0,0,0,0,{"$f":"IF($A749=W$3,AND($A749=W$3,$D749<0),0)","v":0},0,{"$f":"IF($A749=Y$3,AND($A749=Y$3,$D749<0),0)","v":0},0,{"$f":"IF($A749=AA$3,AND($A749=AA$3,$D749<0),0)","v":0},0,{"$f":"IF($A749=AC$3,AND($A749=AC$3,$D749<0),0)","v":0},0,0]
[{"$f":"IF(B750=0,\"\",MONTH(B750))","v":""},null,null,null,{"$f":"IF(D750=\"\",\"\",IF(D750<0,\"DEBITO\",\"CREDITO\"))","v":""},null,false,false,0,{"$f":"IF($A750=I$3,AND($A750=I$3,$D750<0),0)","v":0},0,{"$f":"IF($A750=K$3,AND($A750=K$3,$D750<0),0)","v":0},0,{"$f":"IF($A750=M$3,AND($A750=M$3,$D750<0),0)","v":0},0,{"$f":"IF($A750=O$3,AND($A750=O$3,$D750<0),0)","v":0},0,0,0,0,0,0,0,{"$f":"IF($A750=W$3,AND($A750=W$3,$D750<0),0)","v":0},0,{"$f":"IF($A750=Y$3,AND($A750=Y$3,$D750<0),0)","v":0},0,{"$f":"IF($A750=AA$3,AND($A750=AA$3,$D750<0),0)","v":0},0,{"$f":"IF($A750=AC$3,AND($A750=AC$3,$D750<0),0)","v":0},0,0]
[{"$f":"IF(B751=0,\"\",MONTH(B751))","v":""},null,null,null,{"$f":"IF(D751=\"\",\"\",IF(D751<0,\"DEBITO\",\"CREDITO\"))","v":""},null,false,false,0,{"$f":"IF($A751=I$3,AND($A751=I$3,$D751<0),0)","v":0},0,{"$f":"IF($A751=K$3,AND($A751=K$3,$D751<0),0)","v":0},0,{"$f":"IF($A751=M$3,AND($A751=M$3,$D751<0),0)","v":0},0,{"$f":"IF($A751=O$3,AND($A751=O$3,$D751<0),0)","v":0},0,0,0,0,0,0,0,{"$f":"IF($A751=W$3,AND($A751=W$3,$D751<0),0)","v":0},0,{"$f":"IF($A751=Y$3,AND($A751=Y$3,$D751<0),0)","v":0},0,{"$f":"IF($A751=AA$3,AND($A751=AA$3,$D751<0),0)","v":0},0,{"$f":"IF($A751=AC$3,AND($A751=AC$3,$D751<0),0)","v":0},0,0]
[{"$f":"IF(B752=0,\"\",MONTH(B752))","v":""},null,null,null,{"$f":"IF(D752=\"\",\"\",IF(D752<0,\"DEBITO\",\"CREDITO\"))","v":""},null,false,false,0,{"$f":"IF($A752=I$3,AND($A752=I$3,$D752<0),0)","v":0},0,{"$f":"IF($A752=K$3,AND($A752=K$3,$D752<0),0)","v":0},0,{"$f":"IF($A752=M$3,AND($A752=M$3,$D752<0),0)","v":0},0,{"$f":"IF($A752=O$3,AND($A752=O$3,$D752<0),0)","v":0},0,0,0,0,0,0,0,{"$f":"IF($A752=W$3,AND($A752=W$3,$D752<0),0)","v":0},0,{"$f":"IF($A752=Y$3,AND($A752=Y$3,$D752<0),0)","v":0},0,{"$f":"IF($A752=AA$3,AND($A752=AA$3,$D752<0),0)","v":0},0,{"$f":"IF($A752=AC$3,AND($A752=AC$3,$D752<0),0)","v":0},0,0]
[{"$f":"IF(B753=0,\"\",MONTH(B753))","v":""},null,null,null,{"$f":"IF(D753=\"\",\"\",IF(D753<0,\"DEBITO\",\"CREDITO\"))","v":""},null,false,false,0,{"$f":"IF($A753=I$3,AND($A753=I$3,$D753<0),0)","v":0},0,{"$f":"IF($A753=K$3,AND($A753=K$3,$D753<0),0)","v":0},0,{"$f":"IF($A753=M$3,AND($A753=M$3,$D753<0),0)","v":0},0,{"$f":"IF($A753=O$3,AND($A753=O$3,$D753<0),0)","v":0},0,0,0,0,0,0,0,{"$f":"IF($A753=W$3,AND($A753=W$3,$D753<0),0)","v":0},0,{"$f":"IF($A753=Y$3,AND($A753=Y$3,$D753<0),0)","v":0},0,{"$f":"IF($A753=AA$3,AND($A753=AA$3,$D753<0),0)","v":0},0,{"$f":"IF($A753=AC$3,AND($A753=AC$3,$D753<0),0)","v":0},0,0]
[{"$f":"IF(B754=0,\"\",MONTH(B754))","v":""},null,null,null,{"$f":"IF(D754=\"\",\"\",IF(D754<0,\"DEBITO\",\"CREDITO\"))","v":""},null,false,false,0,{"$f":"IF($A754=I$3,AND($A754=I$3,$D754<0),0)","v":0},0,{"$f":"IF($A754=K$3,AND($A754=K$3,$D754<0),0)","v":0},0,{"$f":"IF($A754=M$3,AND($A754=M$3,$D754<0),0)","v":0},0,{"$f":"IF($A754=O$3,AND($A754=O$3,$D754<0),0)","v":0},0,0,0,0,0,0,0,{"$f":"IF($A754=W$3,AND($A754=W$3,$D754<0),0)","v":0},0,{"$f":"IF($A754=Y$3,AND($A754=Y$3,$D754<0),0)","v":0},0,{"$f":"IF($A754=AA$3,AND($A754=AA$3,$D754<0),0)","v":0},0,{"$f":"IF($A754=AC$3,AND($A754=AC$3,$D754<0),0)","v":0},0,0]
[{"$f":"IF(B755=0,\"\",MONTH(B755))","v":""},null,null,null,{"$f":"IF(D755=\"\",\"\",IF(D755<0,\"DEBITO\",\"CREDITO\"))","v":""},null,false,false,0,{"$f":"IF($A755=I$3,AND($A755=I$3,$D755<0),0)","v":0},0,{"$f":"IF($A755=K$3,AND($A755=K$3,$D755<0),0)","v":0},0,{"$f":"IF($A755=M$3,AND($A755=M$3,$D755<0),0)","v":0},0,{"$f":"IF($A755=O$3,AND($A755=O$3,$D755<0),0)","v":0},0,0,0,0,0,0,0,{"$f":"IF($A755=W$3,AND($A755=W$3,$D755<0),0)","v":0},0,{"$f":"IF($A755=Y$3,AND($A755=Y$3,$D755<0),0)","v":0},0,{"$f":"IF($A755=AA$3,AND($A755=AA$3,$D755<0),0)","v":0},0,{"$f":"IF($A755=AC$3,AND($A755=AC$3,$D755<0),0)","v":0},0,0]
[{"$f":"IF(B756=0,\"\",MONTH(B756))","v":""},null,null,null,{"$f":"IF(D756=\"\",\"\",IF(D756<0,\"DEBITO\",\"CREDITO\"))","v":""},null,false,false,0,{"$f":"IF($A756=I$3,AND($A756=I$3,$D756<0),0)","v":0},0,{"$f":"IF($A756=K$3,AND($A756=K$3,$D756<0),0)","v":0},0,{"$f":"IF($A756=M$3,AND($A756=M$3,$D756<0),0)","v":0},0,{"$f":"IF($A756=O$3,AND($A756=O$3,$D756<0),0)","v":0},0,0,0,0,0,0,0,{"$f":"IF($A756=W$3,AND($A756=W$3,$D756<0),0)","v":0},0,{"$f":"IF($A756=Y$3,AND($A756=Y$3,$D756<0),0)","v":0},0,{"$f":"IF($A756=AA$3,AND($A756=AA$3,$D756<0),0)","v":0},0,{"$f":"IF($A756=AC$3,AND($A756=AC$3,$D756<0),0)","v":0},0,0]
[{"$f":"IF(B757=0,\"\",MONTH(B757))","v":""},null,null,null,{"$f":"IF(D757=\"\",\"\",IF(D757<0,\"DEBITO\",\"CREDITO\"))","v":""},null,false,false,0,{"$f":"IF($A757=I$3,AND($A757=I$3,$D757<0),0)","v":0},0,{"$f":"IF($A757=K$3,AND($A757=K$3,$D757<0),0)","v":0},0,{"$f":"IF($A757=M$3,AND($A757=M$3,$D757<0),0)","v":0},0,{"$f":"IF($A757=O$3,AND($A757=O$3,$D757<0),0)","v":0},0,0,0,0,0,0,0,{"$f":"IF($A757=W$3,AND($A757=W$3,$D757<0),0)","v":0},0,{"$f":"IF($A757=Y$3,AND($A757=Y$3,$D757<0),0)","v":0},0,{"$f":"IF($A757=AA$3,AND($A757=AA$3,$D757<0),0)","v":0},0,{"$f":"IF($A757=AC$3,AND($A757=AC$3,$D757<0),0)","v":0},0,0]
[{"$f":"IF(B758=0,\"\",MONTH(B758))","v":""},null,null,null,{"$f":"IF(D758=\"\",\"\",IF(D758<0,\"DEBITO\",\"CREDITO\"))","v":""},null,false,false,0,{"$f":"IF($A758=I$3,AND($A758=I$3,$D758<0),0)","v":0},0,{"$f":"IF($A758=K$3,AND($A758=K$3,$D758<0),0)","v":0},0,{"$f":"IF($A758=M$3,AND($A758=M$3,$D758<0),0)","v":0},0,{"$f":"IF($A758=O$3,AND($A758=O$3,$D758<0),0)","v":0},0,0,0,0,0,0,0,{"$f":"IF($A758=W$3,AND($A758=W$3,$D758<0),0)","v":0},0,{"$f":"IF($A758=Y$3,AND($A758=Y$3,$D758<0),0)","v":0},0,{"$f":"IF($A758=AA$3,AND($A758=AA$3,$D758<0),0)","v":0},0,{"$f":"IF($A758=AC$3,AND($A758=AC$3,$D758<0),0)","v":0},0,0]
[{"$f":"IF(B759=0,\"\",MONTH(B759))","v":""},null,null,null,{"$f":"IF(D759=\"\",\"\",IF(D759<0,\"DEBITO\",\"CREDITO\"))","v":""},null,false,false,0,{"$f":"IF($A759=I$3,AND($A759=I$3,$D759<0),0)","v":0},0,{"$f":"IF($A759=K$3,AND($A759=K$3,$D759<0),0)","v":0},0,{"$f":"IF($A759=M$3,AND($A759=M$3,$D759<0),0)","v":0},0,{"$f":"IF($A759=O$3,AND($A759=O$3,$D759<0),0)","v":0},0,0,0,0,0,0,0,{"$f":"IF($A759=W$3,AND($A759=W$3,$D759<0),0)","v":0},0,{"$f":"IF($A759=Y$3,AND($A759=Y$3,$D759<0),0)","v":0},0,{"$f":"IF($A759=AA$3,AND($A759=AA$3,$D759<0),0)","v":0},0,{"$f":"IF($A759=AC$3,AND($A759=AC$3,$D759<0),0)","v":0},0,0]
[{"$f":"IF(B760=0,\"\",MONTH(B760))","v":""},null,null,null,{"$f":"IF(D760=\"\",\"\",IF(D760<0,\"DEBITO\",\"CREDITO\"))","v":""},null,false,false,0,{"$f":"IF($A760=I$3,AND($A760=I$3,$D760<0),0)","v":0},0,{"$f":"IF($A760=K$3,AND($A760=K$3,$D760<0),0)","v":0},0,{"$f":"IF($A760=M$3,AND($A760=M$3,$D760<0),0)","v":0},0,{"$f":"IF($A760=O$3,AND($A760=O$3,$D760<0),0)","v":0},0,0,0,0,0,0,0,{"$f":"IF($A760=W$3,AND($A760=W$3,$D760<0),0)","v":0},0,{"$f":"IF($A760=Y$3,AND($A760=Y$3,$D760<0),0)","v":0},0,{"$f":"IF($A760=AA$3,AND($A760=AA$3,$D760<0),0)","v":0},0,{"$f":"IF($A760=AC$3,AND($A760=AC$3,$D760<0),0)","v":0},0,0]
[{"$f":"IF(B761=0,\"\",MONTH(B761))","v":""},null,null,null,{"$f":"IF(D761=\"\",\"\",IF(D761<0,\"DEBITO\",\"CREDITO\"))","v":""},null,false,false,0,{"$f":"IF($A761=I$3,AND($A761=I$3,$D761<0),0)","v":0},0,{"$f":"IF($A761=K$3,AND($A761=K$3,$D761<0),0)","v":0},0,{"$f":"IF($A761=M$3,AND($A761=M$3,$D761<0),0)","v":0},0,{"$f":"IF($A761=O$3,AND($A761=O$3,$D761<0),0)","v":0},0,0,0,0,0,0,0,{"$f":"IF($A761=W$3,AND($A761=W$3,$D761<0),0)","v":0},0,{"$f":"IF($A761=Y$3,AND($A761=Y$3,$D761<0),0)","v":0},0,{"$f":"IF($A761=AA$3,AND($A761=AA$3,$D761<0),0)","v":0},0,{"$f":"IF($A761=AC$3,AND($A761=AC$3,$D761<0),0)","v":0},0,0]
[{"$f":"IF(B762=0,\"\",MONTH(B762))","v":""},null,null,null,{"$f":"IF(D762=\"\",\"\",IF(D762<0,\"DEBITO\",\"CREDITO\"))","v":""},null,false,false,0,{"$f":"IF($A762=I$3,AND($A762=I$3,$D762<0),0)","v":0},0,{"$f":"IF($A762=K$3,AND($A762=K$3,$D762<0),0)","v":0},0,{"$f":"IF($A762=M$3,AND($A762=M$3,$D762<0),0)","v":0},0,{"$f":"IF($A762=O$3,AND($A762=O$3,$D762<0),0)","v":0},0,0,0,0,0,0,0,{"$f":"IF($A762=W$3,AND($A762=W$3,$D762<0),0)","v":0},0,{"$f":"IF($A762=Y$3,AND($A762=Y$3,$D762<0),0)","v":0},0,{"$f":"IF($A762=AA$3,AND($A762=AA$3,$D762<0),0)","v":0},0,{"$f":"IF($A762=AC$3,AND($A762=AC$3,$D762<0),0)","v":0},0,0]
[{"$f":"IF(B763=0,\"\",MONTH(B763))","v":""},null,null,null,{"$f":"IF(D763=\"\",\"\",IF(D763<0,\"DEBITO\",\"CREDITO\"))","v":""},null,false,false,0,{"$f":"IF($A763=I$3,AND($A763=I$3,$D763<0),0)","v":0},0,{"$f":"IF($A763=K$3,AND($A763=K$3,$D763<0),0)","v":0},0,{"$f":"IF($A763=M$3,AND($A763=M$3,$D763<0),0)","v":0},0,{"$f":"IF($A763=O$3,AND($A763=O$3,$D763<0),0)","v":0},0,0,0,0,0,0,0,{"$f":"IF($A763=W$3,AND($A763=W$3,$D763<0),0)","v":0},0,{"$f":"IF($A763=Y$3,AND($A763=Y$3,$D763<0),0)","v":0},0,{"$f":"IF($A763=AA$3,AND($A763=AA$3,$D763<0),0)","v":0},0,{"$f":"IF($A763=AC$3,AND($A763=AC$3,$D763<0),0)","v":0},0,0]
[{"$f":"IF(B764=0,\"\",MONTH(B764))","v":""},null,null,null,{"$f":"IF(D764=\"\",\"\",IF(D764<0,\"DEBITO\",\"CREDITO\"))","v":""},null,false,false,0,{"$f":"IF($A764=I$3,AND($A764=I$3,$D764<0),0)","v":0},0,{"$f":"IF($A764=K$3,AND($A764=K$3,$D764<0),0)","v":0},0,{"$f":"IF($A764=M$3,AND($A764=M$3,$D764<0),0)","v":0},0,{"$f":"IF($A764=O$3,AND($A764=O$3,$D764<0),0)","v":0},0,0,0,0,0,0,0,{"$f":"IF($A764=W$3,AND($A764=W$3,$D764<0),0)","v":0},0,{"$f":"IF($A764=Y$3,AND($A764=Y$3,$D764<0),0)","v":0},0,{"$f":"IF($A764=AA$3,AND($A764=AA$3,$D764<0),0)","v":0},0,{"$f":"IF($A764=AC$3,AND($A764=AC$3,$D764<0),0)","v":0},0,0]
[{"$f":"IF(B765=0,\"\",MONTH(B765))","v":""},null,null,null,{"$f":"IF(D765=\"\",\"\",IF(D765<0,\"DEBITO\",\"CREDITO\"))","v":""},null,false,false,0,{"$f":"IF($A765=I$3,AND($A765=I$3,$D765<0),0)","v":0},0,{"$f":"IF($A765=K$3,AND($A765=K$3,$D765<0),0)","v":0},0,{"$f":"IF($A765=M$3,AND($A765=M$3,$D765<0),0)","v":0},0,{"$f":"IF($A765=O$3,AND($A765=O$3,$D765<0),0)","v":0},0,0,0,0,0,0,0,{"$f":"IF($A765=W$3,AND($A765=W$3,$D765<0),0)","v":0},0,{"$f":"IF($A765=Y$3,AND($A765=Y$3,$D765<0),0)","v":0},0,{"$f":"IF($A765=AA$3,AND($A765=AA$3,$D765<0),0)","v":0},0,{"$f":"IF($A765=AC$3,AND($A765=AC$3,$D765<0),0)","v":0},0,0]
[{"$f":"IF(B766=0,\"\",MONTH(B766))","v":""},null,null,null,{"$f":"IF(D766=\"\",\"\",IF(D766<0,\"DEBITO\",\"CREDITO\"))","v":""},null,false,false,0,{"$f":"IF($A766=I$3,AND($A766=I$3,$D766<0),0)","v":0},0,{"$f":"IF($A766=K$3,AND($A766=K$3,$D766<0),0)","v":0},0,{"$f":"IF($A766=M$3,AND($A766=M$3,$D766<0),0)","v":0},0,{"$f":"IF($A766=O$3,AND($A766=O$3,$D766<0),0)","v":0},0,0,0,0,0,0,0,{"$f":"IF($A766=W$3,AND($A766=W$3,$D766<0),0)","v":0},0,{"$f":"IF($A766=Y$3,AND($A766=Y$3,$D766<0),0)","v":0},0,{"$f":"IF($A766=AA$3,AND($A766=AA$3,$D766<0),0)","v":0},0,{"$f":"IF($A766=AC$3,AND($A766=AC$3,$D766<0),0)","v":0},0,0]
[{"$f":"IF(B767=0,\"\",MONTH(B767))","v":""},null,null,null,{"$f":"IF(D767=\"\",\"\",IF(D767<0,\"DEBITO\",\"CREDITO\"))","v":""},null,false,false,0,{"$f":"IF($A767=I$3,AND($A767=I$3,$D767<0),0)","v":0},0,{"$f":"IF($A767=K$3,AND($A767=K$3,$D767<0),0)","v":0},0,{"$f":"IF($A767=M$3,AND($A767=M$3,$D767<0),0)","v":0},0,{"$f":"IF($A767=O$3,AND($A767=O$3,$D767<0),0)","v":0},0,0,0,0,0,0,0,{"$f":"IF($A767=W$3,AND($A767=W$3,$D767<0),0)","v":0},0,{"$f":"IF($A767=Y$3,AND($A767=Y$3,$D767<0),0)","v":0},0,{"$f":"IF($A767=AA$3,AND($A767=AA$3,$D767<0),0)","v":0},0,{"$f":"IF($A767=AC$3,AND($A767=AC$3,$D767<0),0)","v":0},0,0]
[{"$f":"IF(B768=0,\"\",MONTH(B768))","v":""},null,null,null,{"$f":"IF(D768=\"\",\"\",IF(D768<0,\"DEBITO\",\"CREDITO\"))","v":""},null,false,false,0,{"$f":"IF($A768=I$3,AND($A768=I$3,$D768<0),0)","v":0},0,{"$f":"IF($A768=K$3,AND($A768=K$3,$D768<0),0)","v":0},0,{"$f":"IF($A768=M$3,AND($A768=M$3,$D768<0),0)","v":0},0,{"$f":"IF($A768=O$3,AND($A768=O$3,$D768<0),0)","v":0},0,0,0,0,0,0,0,{"$f":"IF($A768=W$3,AND($A768=W$3,$D768<0),0)","v":0},0,{"$f":"IF($A768=Y$3,AND($A768=Y$3,$D768<0),0)","v":0},0,{"$f":"IF($A768=AA$3,AND($A768=AA$3,$D768<0),0)","v":0},0,{"$f":"IF($A768=AC$3,AND($A768=AC$3,$D768<0),0)","v":0},0,0]
[{"$f":"IF(B769=0,\"\",MONTH(B769))","v":""},null,null,null,{"$f":"IF(D769=\"\",\"\",IF(D769<0,\"DEBITO\",\"CREDITO\"))","v":""},null,false,false,0,{"$f":"IF($A769=I$3,AND($A769=I$3,$D769<0),0)","v":0},0,{"$f":"IF($A769=K$3,AND($A769=K$3,$D769<0),0)","v":0},0,{"$f":"IF($A769=M$3,AND($A769=M$3,$D769<0),0)","v":0},0,{"$f":"IF($A769=O$3,AND($A769=O$3,$D769<0),0)","v":0},0,0,0,0,0,0,0,{"$f":"IF($A769=W$3,AND($A769=W$3,$D769<0),0)","v":0},0,{"$f":"IF($A769=Y$3,AND($A769=Y$3,$D769<0),0)","v":0},0,{"$f":"IF($A769=AA$3,AND($A769=AA$3,$D769<0),0)","v":0},0,{"$f":"IF($A769=AC$3,AND($A769=AC$3,$D769<0),0)","v":0},0,0]
[{"$f":"IF(B770=0,\"\",MONTH(B770))","v":""},null,null,null,{"$f":"IF(D770=\"\",\"\",IF(D770<0,\"DEBITO\",\"CREDITO\"))","v":""},null,false,false,0,{"$f":"IF($A770=I$3,AND($A770=I$3,$D770<0),0)","v":0},0,{"$f":"IF($A770=K$3,AND($A770=K$3,$D770<0),0)","v":0},0,{"$f":"IF($A770=M$3,AND($A770=M$3,$D770<0),0)","v":0},0,{"$f":"IF($A770=O$3,AND($A770=O$3,$D770<0),0)","v":0},0,0,0,0,0,0,0,{"$f":"IF($A770=W$3,AND($A770=W$3,$D770<0),0)","v":0},0,{"$f":"IF($A770=Y$3,AND($A770=Y$3,$D770<0),0)","v":0},0,{"$f":"IF($A770=AA$3,AND($A770=AA$3,$D770<0),0)","v":0},0,{"$f":"IF($A770=AC$3,AND($A770=AC$3,$D770<0),0)","v":0},0,0]
[{"$f":"IF(B771=0,\"\",MONTH(B771))","v":""},null,null,null,{"$f":"IF(D771=\"\",\"\",IF(D771<0,\"DEBITO\",\"CREDITO\"))","v":""},null,false,false,0,{"$f":"IF($A771=I$3,AND($A771=I$3,$D771<0),0)","v":0},0,{"$f":"IF($A771=K$3,AND($A771=K$3,$D771<0),0)","v":0},0,{"$f":"IF($A771=M$3,AND($A771=M$3,$D771<0),0)","v":0},0,{"$f":"IF($A771=O$3,AND($A771=O$3,$D771<0),0)","v":0},0,0,0,0,0,0,0,{"$f":"IF($A771=W$3,AND($A771=W$3,$D771<0),0)","v":0},0,{"$f":"IF($A771=Y$3,AND($A771=Y$3,$D771<0),0)","v":0},0,{"$f":"IF($A771=AA$3,AND($A771=AA$3,$D771<0),0)","v":0},0,{"$f":"IF($A771=AC$3,AND($A771=AC$3,$D771<0),0)","v":0},0,0]
[{"$f":"IF(B772=0,\"\",MONTH(B772))","v":""},null,null,null,{"$f":"IF(D772=\"\",\"\",IF(D772<0,\"DEBITO\",\"CREDITO\"))","v":""},null,false,false,0,{"$f":"IF($A772=I$3,AND($A772=I$3,$D772<0),0)","v":0},0,{"$f":"IF($A772=K$3,AND($A772=K$3,$D772<0),0)","v":0},0,{"$f":"IF($A772=M$3,AND($A772=M$3,$D772<0),0)","v":0},0,{"$f":"IF($A772=O$3,AND($A772=O$3,$D772<0),0)","v":0},0,0,0,0,0,0,0,{"$f":"IF($A772=W$3,AND($A772=W$3,$D772<0),0)","v":0},0,{"$f":"IF($A772=Y$3,AND($A772=Y$3,$D772<0),0)","v":0},0,{"$f":"IF($A772=AA$3,AND($A772=AA$3,$D772<0),0)","v":0},0,{"$f":"IF($A772=AC$3,AND($A772=AC$3,$D772<0),0)","v":0},0,0]
[{"$f":"IF(B773=0,\"\",MONTH(B773))","v":""},null,null,null,{"$f":"IF(D773=\"\",\"\",IF(D773<0,\"DEBITO\",\"CREDITO\"))","v":""},null,false,false,0,{"$f":"IF($A773=I$3,AND($A773=I$3,$D773<0),0)","v":0},0,{"$f":"IF($A773=K$3,AND($A773=K$3,$D773<0),0)","v":0},0,{"$f":"IF($A773=M$3,AND($A773=M$3,$D773<0),0)","v":0},0,{"$f":"IF($A773=O$3,AND($A773=O$3,$D773<0),0)","v":0},0,0,0,0,0,0,0,{"$f":"IF($A773=W$3,AND($A773=W$3,$D773<0),0)","v":0},0,{"$f":"IF($A773=Y$3,AND($A773=Y$3,$D773<0),0)","v":0},0,{"$f":"IF($A773=AA$3,AND($A773=AA$3,$D773<0),0)","v":0},0,{"$f":"IF($A773=AC$3,AND($A773=AC$3,$D773<0),0)","v":0},0,0]
[{"$f":"IF(B774=0,\"\",MONTH(B774))","v":""},null,null,null,{"$f":"IF(D774=\"\",\"\",IF(D774<0,\"DEBITO\",\"CREDITO\"))","v":""},null,false,false,0,{"$f":"IF($A774=I$3,AND($A774=I$3,$D774<0),0)","v":0},0,{"$f":"IF($A774=K$3,AND($A774=K$3,$D774<0),0)","v":0},0,{"$f":"IF($A774=M$3,AND($A774=M$3,$D774<0),0)","v":0},0,{"$f":"IF($A774=O$3,AND($A774=O$3,$D774<0),0)","v":0},0,0,0,0,0,0,0,{"$f":"IF($A774=W$3,AND($A774=W$3,$D774<0),0)","v":0},0,{"$f":"IF($A774=Y$3,AND($A774=Y$3,$D774<0),0)","v":0},0,{"$f":"IF($A774=AA$3,AND($A774=AA$3,$D774<0),0)","v":0},0,{"$f":"IF($A774=AC$3,AND($A774=AC$3,$D774<0),0)","v":0},0,0]
[{"$f":"IF(B775=0,\"\",MONTH(B775))","v":""},null,null,null,{"$f":"IF(D775=\"\",\"\",IF(D775<0,\"DEBITO\",\"CREDITO\"))","v":""},null,false,false,0,{"$f":"IF($A775=I$3,AND($A775=I$3,$D775<0),0)","v":0},0,{"$f":"IF($A775=K$3,AND($A775=K$3,$D775<0),0)","v":0},0,{"$f":"IF($A775=M$3,AND($A775=M$3,$D775<0),0)","v":0},0,{"$f":"IF($A775=O$3,AND($A775=O$3,$D775<0),0)","v":0},0,0,0,0,0,0,0,{"$f":"IF($A775=W$3,AND($A775=W$3,$D775<0),0)","v":0},0,{"$f":"IF($A775=Y$3,AND($A775=Y$3,$D775<0),0)","v":0},0,{"$f":"IF($A775=AA$3,AND($A775=AA$3,$D775<0),0)","v":0},0,{"$f":"IF($A775=AC$3,AND($A775=AC$3,$D775<0),0)","v":0},0,0]
[{"$f":"IF(B776=0,\"\",MONTH(B776))","v":""},null,null,null,{"$f":"IF(D776=\"\",\"\",IF(D776<0,\"DEBITO\",\"CREDITO\"))","v":""},null,false,false,0,{"$f":"IF($A776=I$3,AND($A776=I$3,$D776<0),0)","v":0},0,{"$f":"IF($A776=K$3,AND($A776=K$3,$D776<0),0)","v":0},0,{"$f":"IF($A776=M$3,AND($A776=M$3,$D776<0),0)","v":0},0,{"$f":"IF($A776=O$3,AND($A776=O$3,$D776<0),0)","v":0},0,0,0,0,0,0,0,{"$f":"IF($A776=W$3,AND($A776=W$3,$D776<0),0)","v":0},0,{"$f":"IF($A776=Y$3,AND($A776=Y$3,$D776<0),0)","v":0},0,{"$f":"IF($A776=AA$3,AND($A776=AA$3,$D776<0),0)","v":0},0,{"$f":"IF($A776=AC$3,AND($A776=AC$3,$D776<0),0)","v":0},0,0]
[{"$f":"IF(B777=0,\"\",MONTH(B777))","v":""},null,null,null,{"$f":"IF(D777=\"\",\"\",IF(D777<0,\"DEBITO\",\"CREDITO\"))","v":""},null,{"$f":"AND(A777=$E$3,D777>0)","v":false},{"$f":"AND(A777=$E$3,D777<0)","v":false},0,{"$f":"IF($A777=I$3,AND($A777=I$3,$D777<0),0)","v":0},0,{"$f":"IF($A777=K$3,AND($A777=K$3,$D777<0),0)","v":0},0,{"$f":"IF($A777=M$3,AND($A777=M$3,$D777<0),0)","v":0},0,{"$f":"IF($A777=O$3,AND($A777=O$3,$D777<0),0)","v":0},0,{"$f":"IF($A777=Q$3,AND($A777=Q$3,$D777<0),0)","v":0},0,0,0,0,0,{"$f":"IF($A777=W$3,AND($A777=W$3,$D777<0),0)","v":0},0,{"$f":"IF($A777=Y$3,AND($A777=Y$3,$D777<0),0)","v":0},0,{"$f":"IF($A777=AA$3,AND($A777=AA$3,$D777<0),0)","v":0},0,{"$f":"IF($A777=AC$3,AND($A777=AC$3,$D777<0),0)","v":0},0,{"$f":"IF($A777=AE$3,AND($A777=AE$3,$D777<0),0)","v":0}]
[{"$f":"IF(B778=0,\"\",MONTH(B778))","v":""},null,null,null,{"$f":"IF(D778=\"\",\"\",IF(D778<0,\"DEBITO\",\"CREDITO\"))","v":""},null,false,false,0,{"$f":"IF($A778=I$3,AND($A778=I$3,$D778<0),0)","v":0},0,{"$f":"IF($A778=K$3,AND($A778=K$3,$D778<0),0)","v":0},0,{"$f":"IF($A778=M$3,AND($A778=M$3,$D778<0),0)","v":0},0,{"$f":"IF($A778=O$3,AND($A778=O$3,$D778<0),0)","v":0},0,0,{"$f":"IF($A778=S$3,AND($A778=S$3,$D778>0),0)","v":0},{"$f":"IF($A778=S$3,AND($A778=S$3,$D778<0),0)","v":0},{"$f":"IF($A778=U$3,AND($A778=U$3,$D778>0),0)","v":0},{"$f":"IF($A778=U$3,AND($A778=U$3,$D778<0),0)","v":0},0,{"$f":"IF($A778=W$3,AND($A778=W$3,$D778<0),0)","v":0},0,{"$f":"IF($A778=Y$3,AND($A778=Y$3,$D778<0),0)","v":0},0,{"$f":"IF($A778=AA$3,AND($A778=AA$3,$D778<0),0)","v":0},0,{"$f":"IF($A778=AC$3,AND($A778=AC$3,$D778<0),0)","v":0},0,0]
[{"$f":"IF(B779=0,\"\",MONTH(B779))","v":""},null,null,null,{"$f":"IF(D779=\"\",\"\",IF(D779<0,\"DEBITO\",\"CREDITO\"))","v":""},null,false,false,0,{"$f":"IF($A779=I$3,AND($A779=I$3,$D779<0),0)","v":0},0,{"$f":"IF($A779=K$3,AND($A779=K$3,$D779<0),0)","v":0},0,{"$f":"IF($A779=M$3,AND($A779=M$3,$D779<0),0)","v":0},0,{"$f":"IF($A779=O$3,AND($A779=O$3,$D779<0),0)","v":0},0,0,0,0,0,0,0,{"$f":"IF($A779=W$3,AND($A779=W$3,$D779<0),0)","v":0},0,{"$f":"IF($A779=Y$3,AND($A779=Y$3,$D779<0),0)","v":0},0,{"$f":"IF($A779=AA$3,AND($A779=AA$3,$D779<0),0)","v":0},0,{"$f":"IF($A779=AC$3,AND($A779=AC$3,$D779<0),0)","v":0},0,0]
[{"$f":"IF(B780=0,\"\",MONTH(B780))","v":""},null,null,null,{"$f":"IF(D780=\"\",\"\",IF(D780<0,\"DEBITO\",\"CREDITO\"))","v":""},null,false,false,0,{"$f":"IF($A780=I$3,AND($A780=I$3,$D780<0),0)","v":0},0,{"$f":"IF($A780=K$3,AND($A780=K$3,$D780<0),0)","v":0},0,{"$f":"IF($A780=M$3,AND($A780=M$3,$D780<0),0)","v":0},0,{"$f":"IF($A780=O$3,AND($A780=O$3,$D780<0),0)","v":0},0,0,0,0,0,0,0,{"$f":"IF($A780=W$3,AND($A780=W$3,$D780<0),0)","v":0},0,{"$f":"IF($A780=Y$3,AND($A780=Y$3,$D780<0),0)","v":0},0,{"$f":"IF($A780=AA$3,AND($A780=AA$3,$D780<0),0)","v":0},0,{"$f":"IF($A780=AC$3,AND($A780=AC$3,$D780<0),0)","v":0},0,0]
[{"$f":"IF(B781=0,\"\",MONTH(B781))","v":""},null,null,null,{"$f":"IF(D781=\"\",\"\",IF(D781<0,\"DEBITO\",\"CREDITO\"))","v":""},null,false,false,0,{"$f":"IF($A781=I$3,AND($A781=I$3,$D781<0),0)","v":0},0,{"$f":"IF($A781=K$3,AND($A781=K$3,$D781<0),0)","v":0},0,{"$f":"IF($A781=M$3,AND($A781=M$3,$D781<0),0)","v":0},0,{"$f":"IF($A781=O$3,AND($A781=O$3,$D781<0),0)","v":0},0,0,0,0,0,0,0,{"$f":"IF($A781=W$3,AND($A781=W$3,$D781<0),0)","v":0},0,{"$f":"IF($A781=Y$3,AND($A781=Y$3,$D781<0),0)","v":0},0,{"$f":"IF($A781=AA$3,AND($A781=AA$3,$D781<0),0)","v":0},0,{"$f":"IF($A781=AC$3,AND($A781=AC$3,$D781<0),0)","v":0},0,0]
[{"$f":"IF(B782=0,\"\",MONTH(B782))","v":""},null,null,null,{"$f":"IF(D782=\"\",\"\",IF(D782<0,\"DEBITO\",\"CREDITO\"))","v":""},null,false,false,0,{"$f":"IF($A782=I$3,AND($A782=I$3,$D782<0),0)","v":0},0,{"$f":"IF($A782=K$3,AND($A782=K$3,$D782<0),0)","v":0},0,{"$f":"IF($A782=M$3,AND($A782=M$3,$D782<0),0)","v":0},0,{"$f":"IF($A782=O$3,AND($A782=O$3,$D782<0),0)","v":0},0,0,0,0,0,0,0,{"$f":"IF($A782=W$3,AND($A782=W$3,$D782<0),0)","v":0},0,{"$f":"IF($A782=Y$3,AND($A782=Y$3,$D782<0),0)","v":0},0,{"$f":"IF($A782=AA$3,AND($A782=AA$3,$D782<0),0)","v":0},0,{"$f":"IF($A782=AC$3,AND($A782=AC$3,$D782<0),0)","v":0},0,0]
[{"$f":"IF(B783=0,\"\",MONTH(B783))","v":""},null,null,null,{"$f":"IF(D783=\"\",\"\",IF(D783<0,\"DEBITO\",\"CREDITO\"))","v":""},null,false,false,0,{"$f":"IF($A783=I$3,AND($A783=I$3,$D783<0),0)","v":0},0,{"$f":"IF($A783=K$3,AND($A783=K$3,$D783<0),0)","v":0},0,{"$f":"IF($A783=M$3,AND($A783=M$3,$D783<0),0)","v":0},0,{"$f":"IF($A783=O$3,AND($A783=O$3,$D783<0),0)","v":0},0,0,0,0,0,0,0,{"$f":"IF($A783=W$3,AND($A783=W$3,$D783<0),0)","v":0},0,{"$f":"IF($A783=Y$3,AND($A783=Y$3,$D783<0),0)","v":0},0,{"$f":"IF($A783=AA$3,AND($A783=AA$3,$D783<0),0)","v":0},0,{"$f":"IF($A783=AC$3,AND($A783=AC$3,$D783<0),0)","v":0},0,0]
[{"$f":"IF(B784=0,\"\",MONTH(B784))","v":""},null,null,null,{"$f":"IF(D784=\"\",\"\",IF(D784<0,\"DEBITO\",\"CREDITO\"))","v":""},null,false,false,0,{"$f":"IF($A784=I$3,AND($A784=I$3,$D784<0),0)","v":0},0,{"$f":"IF($A784=K$3,AND($A784=K$3,$D784<0),0)","v":0},0,{"$f":"IF($A784=M$3,AND($A784=M$3,$D784<0),0)","v":0},0,{"$f":"IF($A784=O$3,AND($A784=O$3,$D784<0),0)","v":0},0,0,0,0,0,0,0,{"$f":"IF($A784=W$3,AND($A784=W$3,$D784<0),0)","v":0},0,{"$f":"IF($A784=Y$3,AND($A784=Y$3,$D784<0),0)","v":0},0,{"$f":"IF($A784=AA$3,AND($A784=AA$3,$D784<0),0)","v":0},0,{"$f":"IF($A784=AC$3,AND($A784=AC$3,$D784<0),0)","v":0},0,0]
[{"$f":"IF(B785=0,\"\",MONTH(B785))","v":""},null,null,null,{"$f":"IF(D785=\"\",\"\",IF(D785<0,\"DEBITO\",\"CREDITO\"))","v":""},null,false,false,0,{"$f":"IF($A785=I$3,AND($A785=I$3,$D785<0),0)","v":0},0,{"$f":"IF($A785=K$3,AND($A785=K$3,$D785<0),0)","v":0},0,{"$f":"IF($A785=M$3,AND($A785=M$3,$D785<0),0)","v":0},0,{"$f":"IF($A785=O$3,AND($A785=O$3,$D785<0),0)","v":0},0,0,0,0,0,0,0,{"$f":"IF($A785=W$3,AND($A785=W$3,$D785<0),0)","v":0},0,{"$f":"IF($A785=Y$3,AND($A785=Y$3,$D785<0),0)","v":0},0,{"$f":"IF($A785=AA$3,AND($A785=AA$3,$D785<0),0)","v":0},0,{"$f":"IF($A785=AC$3,AND($A785=AC$3,$D785<0),0)","v":0},0,0]
[{"$f":"IF(B786=0,\"\",MONTH(B786))","v":""},null,null,null,{"$f":"IF(D786=\"\",\"\",IF(D786<0,\"DEBITO\",\"CREDITO\"))","v":""},null,false,false,0,{"$f":"IF($A786=I$3,AND($A786=I$3,$D786<0),0)","v":0},0,{"$f":"IF($A786=K$3,AND($A786=K$3,$D786<0),0)","v":0},0,{"$f":"IF($A786=M$3,AND($A786=M$3,$D786<0),0)","v":0},0,{"$f":"IF($A786=O$3,AND($A786=O$3,$D786<0),0)","v":0},0,0,0,0,0,0,0,{"$f":"IF($A786=W$3,AND($A786=W$3,$D786<0),0)","v":0},0,{"$f":"IF($A786=Y$3,AND($A786=Y$3,$D786<0),0)","v":0},0,{"$f":"IF($A786=AA$3,AND($A786=AA$3,$D786<0),0)","v":0},0,{"$f":"IF($A786=AC$3,AND($A786=AC$3,$D786<0),0)","v":0},0,0]
[{"$f":"IF(B787=0,\"\",MONTH(B787))","v":""},null,null,null,{"$f":"IF(D787=\"\",\"\",IF(D787<0,\"DEBITO\",\"CREDITO\"))","v":""},null,false,false,0,{"$f":"IF($A787=I$3,AND($A787=I$3,$D787<0),0)","v":0},0,{"$f":"IF($A787=K$3,AND($A787=K$3,$D787<0),0)","v":0},0,{"$f":"IF($A787=M$3,AND($A787=M$3,$D787<0),0)","v":0},0,{"$f":"IF($A787=O$3,AND($A787=O$3,$D787<0),0)","v":0},0,0,0,0,0,0,0,{"$f":"IF($A787=W$3,AND($A787=W$3,$D787<0),0)","v":0},0,{"$f":"IF($A787=Y$3,AND($A787=Y$3,$D787<0),0)","v":0},0,{"$f":"IF($A787=AA$3,AND($A787=AA$3,$D787<0),0)","v":0},0,{"$f":"IF($A787=AC$3,AND($A787=AC$3,$D787<0),0)","v":0},0,0]
[{"$f":"IF(B788=0,\"\",MONTH(B788))","v":""},null,null,null,{"$f":"IF(D788=\"\",\"\",IF(D788<0,\"DEBITO\",\"CREDITO\"))","v":""},null,false,false,0,{"$f":"IF($A788=I$3,AND($A788=I$3,$D788<0),0)","v":0},0,{"$f":"IF($A788=K$3,AND($A788=K$3,$D788<0),0)","v":0},0,{"$f":"IF($A788=M$3,AND($A788=M$3,$D788<0),0)","v":0},0,{"$f":"IF($A788=O$3,AND($A788=O$3,$D788<0),0)","v":0},0,0,0,0,0,0,0,{"$f":"IF($A788=W$3,AND($A788=W$3,$D788<0),0)","v":0},0,{"$f":"IF($A788=Y$3,AND($A788=Y$3,$D788<0),0)","v":0},0,{"$f":"IF($A788=AA$3,AND($A788=AA$3,$D788<0),0)","v":0},0,{"$f":"IF($A788=AC$3,AND($A788=AC$3,$D788<0),0)","v":0},0,0]
[{"$f":"IF(B789=0,\"\",MONTH(B789))","v":""},null,null,null,{"$f":"IF(D789=\"\",\"\",IF(D789<0,\"DEBITO\",\"CREDITO\"))","v":""},null,false,false,0,{"$f":"IF($A789=I$3,AND($A789=I$3,$D789<0),0)","v":0},0,{"$f":"IF($A789=K$3,AND($A789=K$3,$D789<0),0)","v":0},0,{"$f":"IF($A789=M$3,AND($A789=M$3,$D789<0),0)","v":0},0,{"$f":"IF($A789=O$3,AND($A789=O$3,$D789<0),0)","v":0},0,0,0,0,0,0,0,{"$f":"IF($A789=W$3,AND($A789=W$3,$D789<0),0)","v":0},0,{"$f":"IF($A789=Y$3,AND($A789=Y$3,$D789<0),0)","v":0},0,{"$f":"IF($A789=AA$3,AND($A789=AA$3,$D789<0),0)","v":0},0,{"$f":"IF($A789=AC$3,AND($A789=AC$3,$D789<0),0)","v":0},0,0]
[{"$f":"IF(B790=0,\"\",MONTH(B790))","v":""},null,null,null,{"$f":"IF(D790=\"\",\"\",IF(D790<0,\"DEBITO\",\"CREDITO\"))","v":""},null,false,false,0,{"$f":"IF($A790=I$3,AND($A790=I$3,$D790<0),0)","v":0},0,{"$f":"IF($A790=K$3,AND($A790=K$3,$D790<0),0)","v":0},0,{"$f":"IF($A790=M$3,AND($A790=M$3,$D790<0),0)","v":0},0,{"$f":"IF($A790=O$3,AND($A790=O$3,$D790<0),0)","v":0},0,0,0,0,0,0,0,{"$f":"IF($A790=W$3,AND($A790=W$3,$D790<0),0)","v":0},0,{"$f":"IF($A790=Y$3,AND($A790=Y$3,$D790<0),0)","v":0},0,{"$f":"IF($A790=AA$3,AND($A790=AA$3,$D790<0),0)","v":0},0,{"$f":"IF($A790=AC$3,AND($A790=AC$3,$D790<0),0)","v":0},0,0]
[{"$f":"IF(B791=0,\"\",MONTH(B791))","v":""},null,null,null,{"$f":"IF(D791=\"\",\"\",IF(D791<0,\"DEBITO\",\"CREDITO\"))","v":""},null,false,false,0,{"$f":"IF($A791=I$3,AND($A791=I$3,$D791<0),0)","v":0},0,{"$f":"IF($A791=K$3,AND($A791=K$3,$D791<0),0)","v":0},0,{"$f":"IF($A791=M$3,AND($A791=M$3,$D791<0),0)","v":0},0,{"$f":"IF($A791=O$3,AND($A791=O$3,$D791<0),0)","v":0},0,0,0,0,0,0,0,{"$f":"IF($A791=W$3,AND($A791=W$3,$D791<0),0)","v":0},0,{"$f":"IF($A791=Y$3,AND($A791=Y$3,$D791<0),0)","v":0},0,{"$f":"IF($A791=AA$3,AND($A791=AA$3,$D791<0),0)","v":0},0,{"$f":"IF($A791=AC$3,AND($A791=AC$3,$D791<0),0)","v":0},0,0]
[{"$f":"IF(B792=0,\"\",MONTH(B792))","v":""},null,null,null,{"$f":"IF(D792=\"\",\"\",IF(D792<0,\"DEBITO\",\"CREDITO\"))","v":""},null,false,false,0,{"$f":"IF($A792=I$3,AND($A792=I$3,$D792<0),0)","v":0},0,{"$f":"IF($A792=K$3,AND($A792=K$3,$D792<0),0)","v":0},0,{"$f":"IF($A792=M$3,AND($A792=M$3,$D792<0),0)","v":0},0,{"$f":"IF($A792=O$3,AND($A792=O$3,$D792<0),0)","v":0},0,0,0,0,0,0,0,{"$f":"IF($A792=W$3,AND($A792=W$3,$D792<0),0)","v":0},0,{"$f":"IF($A792=Y$3,AND($A792=Y$3,$D792<0),0)","v":0},0,{"$f":"IF($A792=AA$3,AND($A792=AA$3,$D792<0),0)","v":0},0,{"$f":"IF($A792=AC$3,AND($A792=AC$3,$D792<0),0)","v":0},0,0]
[{"$f":"IF(B793=0,\"\",MONTH(B793))","v":""},null,null,null,{"$f":"IF(D793=\"\",\"\",IF(D793<0,\"DEBITO\",\"CREDITO\"))","v":""},null,false,false,{"$f":"IF($A793=I$3,AND($A793=I$3,$D793>0),0)","v":0},{"$f":"IF($A793=I$3,AND($A793=I$3,$D793<0),0)","v":0},{"$f":"IF($A793=K$3,AND($A793=K$3,$D793>0),0)","v":0},{"$f":"IF($A793=K$3,AND($A793=K$3,$D793<0),0)","v":0},{"$f":"IF($A793=M$3,AND($A793=M$3,$D793>0),0)","v":0},{"$f":"IF($A793=M$3,AND($A793=M$3,$D793<0),0)","v":0},{"$f":"IF($A793=O$3,AND($A793=O$3,$D793>0),0)","v":0},{"$f":"IF($A793=O$3,AND($A793=O$3,$D793<0),0)","v":0},{"$f":"IF($A793=Q$3,AND($A793=Q$3,$D793>0),0)","v":0},0,0,0,0,0,{"$f":"IF($A793=W$3,AND($A793=W$3,$D793>0),0)","v":0},{"$f":"IF($A793=W$3,AND($A793=W$3,$D793<0),0)","v":0},{"$f":"IF($A793=Y$3,AND($A793=Y$3,$D793>0),0)","v":0},{"$f":"IF($A793=Y$3,AND($A793=Y$3,$D793<0),0)","v":0},{"$f":"IF($A793=AA$3,AND($A793=AA$3,$D793>0),0)","v":0},{"$f":"IF($A793=AA$3,AND($A793=AA$3,$D793<0),0)","v":0},{"$f":"IF($A793=AC$3,AND($A793=AC$3,$D793>0),0)","v":0},{"$f":"IF($A793=AC$3,AND($A793=AC$3,$D793<0),0)","v":0},{"$f":"IF($A793=AE$3,AND($A793=AE$3,$D793>0),0)","v":0},0]
[{"$f":"IF(B794=0,\"\",MONTH(B794))","v":""},null,null,null,{"$f":"IF(D794=\"\",\"\",IF(D794<0,\"DEBITO\",\"CREDITO\"))","v":""},null,false,false,0,{"$f":"IF($A794=I$3,AND($A794=I$3,$D794<0),0)","v":0},0,{"$f":"IF($A794=K$3,AND($A794=K$3,$D794<0),0)","v":0},0,{"$f":"IF($A794=M$3,AND($A794=M$3,$D794<0),0)","v":0},0,{"$f":"IF($A794=O$3,AND($A794=O$3,$D794<0),0)","v":0},0,0,0,0,0,0,0,{"$f":"IF($A794=W$3,AND($A794=W$3,$D794<0),0)","v":0},0,{"$f":"IF($A794=Y$3,AND($A794=Y$3,$D794<0),0)","v":0},0,{"$f":"IF($A794=AA$3,AND($A794=AA$3,$D794<0),0)","v":0},0,{"$f":"IF($A794=AC$3,AND($A794=AC$3,$D794<0),0)","v":0},0,0]
[{"$f":"IF(B795=0,\"\",MONTH(B795))","v":""},null,null,null,{"$f":"IF(D795=\"\",\"\",IF(D795<0,\"DEBITO\",\"CREDITO\"))","v":""},null,false,false,0,{"$f":"IF($A795=I$3,AND($A795=I$3,$D795<0),0)","v":0},0,{"$f":"IF($A795=K$3,AND($A795=K$3,$D795<0),0)","v":0},0,{"$f":"IF($A795=M$3,AND($A795=M$3,$D795<0),0)","v":0},0,{"$f":"IF($A795=O$3,AND($A795=O$3,$D795<0),0)","v":0},0,0,0,0,0,0,0,{"$f":"IF($A795=W$3,AND($A795=W$3,$D795<0),0)","v":0},0,{"$f":"IF($A795=Y$3,AND($A795=Y$3,$D795<0),0)","v":0},0,{"$f":"IF($A795=AA$3,AND($A795=AA$3,$D795<0),0)","v":0},0,{"$f":"IF($A795=AC$3,AND($A795=AC$3,$D795<0),0)","v":0},0,0]
[{"$f":"IF(B796=0,\"\",MONTH(B796))","v":""},null,null,null,{"$f":"IF(D796=\"\",\"\",IF(D796<0,\"DEBITO\",\"CREDITO\"))","v":""},null,false,false,0,{"$f":"IF($A796=I$3,AND($A796=I$3,$D796<0),0)","v":0},0,{"$f":"IF($A796=K$3,AND($A796=K$3,$D796<0),0)","v":0},0,{"$f":"IF($A796=M$3,AND($A796=M$3,$D796<0),0)","v":0},0,{"$f":"IF($A796=O$3,AND($A796=O$3,$D796<0),0)","v":0},0,0,0,0,0,0,0,{"$f":"IF($A796=W$3,AND($A796=W$3,$D796<0),0)","v":0},0,{"$f":"IF($A796=Y$3,AND($A796=Y$3,$D796<0),0)","v":0},0,{"$f":"IF($A796=AA$3,AND($A796=AA$3,$D796<0),0)","v":0},0,{"$f":"IF($A796=AC$3,AND($A796=AC$3,$D796<0),0)","v":0},0,0]
[{"$f":"IF(B797=0,\"\",MONTH(B797))","v":""},null,null,null,{"$f":"IF(D797=\"\",\"\",IF(D797<0,\"DEBITO\",\"CREDITO\"))","v":""},null,false,false,0,{"$f":"IF($A797=I$3,AND($A797=I$3,$D797<0),0)","v":0},0,{"$f":"IF($A797=K$3,AND($A797=K$3,$D797<0),0)","v":0},0,{"$f":"IF($A797=M$3,AND($A797=M$3,$D797<0),0)","v":0},0,{"$f":"IF($A797=O$3,AND($A797=O$3,$D797<0),0)","v":0},0,0,0,0,0,0,0,{"$f":"IF($A797=W$3,AND($A797=W$3,$D797<0),0)","v":0},0,{"$f":"IF($A797=Y$3,AND($A797=Y$3,$D797<0),0)","v":0},0,{"$f":"IF($A797=AA$3,AND($A797=AA$3,$D797<0),0)","v":0},0,{"$f":"IF($A797=AC$3,AND($A797=AC$3,$D797<0),0)","v":0},0,0]
[{"$f":"IF(B798=0,\"\",MONTH(B798))","v":""},null,null,null,{"$f":"IF(D798=\"\",\"\",IF(D798<0,\"DEBITO\",\"CREDITO\"))","v":""},null,false,false,0,{"$f":"IF($A798=I$3,AND($A798=I$3,$D798<0),0)","v":0},0,{"$f":"IF($A798=K$3,AND($A798=K$3,$D798<0),0)","v":0},0,{"$f":"IF($A798=M$3,AND($A798=M$3,$D798<0),0)","v":0},0,{"$f":"IF($A798=O$3,AND($A798=O$3,$D798<0),0)","v":0},0,0,0,0,0,0,0,{"$f":"IF($A798=W$3,AND($A798=W$3,$D798<0),0)","v":0},0,{"$f":"IF($A798=Y$3,AND($A798=Y$3,$D798<0),0)","v":0},0,{"$f":"IF($A798=AA$3,AND($A798=AA$3,$D798<0),0)","v":0},0,{"$f":"IF($A798=AC$3,AND($A798=AC$3,$D798<0),0)","v":0},0,0]
[{"$f":"IF(B799=0,\"\",MONTH(B799))","v":""},null,null,null,{"$f":"IF(D799=\"\",\"\",IF(D799<0,\"DEBITO\",\"CREDITO\"))","v":""},null,false,false,0,{"$f":"IF($A799=I$3,AND($A799=I$3,$D799<0),0)","v":0},0,{"$f":"IF($A799=K$3,AND($A799=K$3,$D799<0),0)","v":0},0,{"$f":"IF($A799=M$3,AND($A799=M$3,$D799<0),0)","v":0},0,{"$f":"IF($A799=O$3,AND($A799=O$3,$D799<0),0)","v":0},0,0,0,0,0,0,0,{"$f":"IF($A799=W$3,AND($A799=W$3,$D799<0),0)","v":0},0,{"$f":"IF($A799=Y$3,AND($A799=Y$3,$D799<0),0)","v":0},0,{"$f":"IF($A799=AA$3,AND($A799=AA$3,$D799<0),0)","v":0},0,{"$f":"IF($A799=AC$3,AND($A799=AC$3,$D799<0),0)","v":0},0,0]
[{"$f":"IF(B800=0,\"\",MONTH(B800))","v":""},null,null,null,{"$f":"IF(D800=\"\",\"\",IF(D800<0,\"DEBITO\",\"CREDITO\"))","v":""},null,false,false,0,{"$f":"IF($A800=I$3,AND($A800=I$3,$D800<0),0)","v":0},0,{"$f":"IF($A800=K$3,AND($A800=K$3,$D800<0),0)","v":0},0,{"$f":"IF($A800=M$3,AND($A800=M$3,$D800<0),0)","v":0},0,{"$f":"IF($A800=O$3,AND($A800=O$3,$D800<0),0)","v":0},0,0,0,0,0,0,0,{"$f":"IF($A800=W$3,AND($A800=W$3,$D800<0),0)","v":0},0,{"$f":"IF($A800=Y$3,AND($A800=Y$3,$D800<0),0)","v":0},0,{"$f":"IF($A800=AA$3,AND($A800=AA$3,$D800<0),0)","v":0},0,{"$f":"IF($A800=AC$3,AND($A800=AC$3,$D800<0),0)","v":0},0,0]
[{"$f":"IF(B801=0,\"\",MONTH(B801))","v":""},null,null,null,{"$f":"IF(D801=\"\",\"\",IF(D801<0,\"DEBITO\",\"CREDITO\"))","v":""},null,false,false,0,{"$f":"IF($A801=I$3,AND($A801=I$3,$D801<0),0)","v":0},0,{"$f":"IF($A801=K$3,AND($A801=K$3,$D801<0),0)","v":0},0,{"$f":"IF($A801=M$3,AND($A801=M$3,$D801<0),0)","v":0},0,{"$f":"IF($A801=O$3,AND($A801=O$3,$D801<0),0)","v":0},0,0,0,0,0,0,0,{"$f":"IF($A801=W$3,AND($A801=W$3,$D801<0),0)","v":0},0,{"$f":"IF($A801=Y$3,AND($A801=Y$3,$D801<0),0)","v":0},0,{"$f":"IF($A801=AA$3,AND($A801=AA$3,$D801<0),0)","v":0},0,{"$f":"IF($A801=AC$3,AND($A801=AC$3,$D801<0),0)","v":0},0,0]
[{"$f":"IF(B802=0,\"\",MONTH(B802))","v":""},null,null,null,{"$f":"IF(D802=\"\",\"\",IF(D802<0,\"DEBITO\",\"CREDITO\"))","v":""},null,false,false,0,{"$f":"IF($A802=I$3,AND($A802=I$3,$D802<0),0)","v":0},0,{"$f":"IF($A802=K$3,AND($A802=K$3,$D802<0),0)","v":0},0,{"$f":"IF($A802=M$3,AND($A802=M$3,$D802<0),0)","v":0},0,{"$f":"IF($A802=O$3,AND($A802=O$3,$D802<0),0)","v":0},0,0,0,0,0,0,0,{"$f":"IF($A802=W$3,AND($A802=W$3,$D802<0),0)","v":0},0,{"$f":"IF($A802=Y$3,AND($A802=Y$3,$D802<0),0)","v":0},0,{"$f":"IF($A802=AA$3,AND($A802=AA$3,$D802<0),0)","v":0},0,{"$f":"IF($A802=AC$3,AND($A802=AC$3,$D802<0),0)","v":0},0,0]
[{"$f":"IF(B803=0,\"\",MONTH(B803))","v":""},null,null,null,{"$f":"IF(D803=\"\",\"\",IF(D803<0,\"DEBITO\",\"CREDITO\"))","v":""},null,false,false,0,{"$f":"IF($A803=I$3,AND($A803=I$3,$D803<0),0)","v":0},0,{"$f":"IF($A803=K$3,AND($A803=K$3,$D803<0),0)","v":0},0,{"$f":"IF($A803=M$3,AND($A803=M$3,$D803<0),0)","v":0},0,{"$f":"IF($A803=O$3,AND($A803=O$3,$D803<0),0)","v":0},0,0,0,0,0,0,0,{"$f":"IF($A803=W$3,AND($A803=W$3,$D803<0),0)","v":0},0,{"$f":"IF($A803=Y$3,AND($A803=Y$3,$D803<0),0)","v":0},0,{"$f":"IF($A803=AA$3,AND($A803=AA$3,$D803<0),0)","v":0},0,{"$f":"IF($A803=AC$3,AND($A803=AC$3,$D803<0),0)","v":0},0,0]
[{"$f":"IF(B804=0,\"\",MONTH(B804))","v":""},null,null,null,{"$f":"IF(D804=\"\",\"\",IF(D804<0,\"DEBITO\",\"CREDITO\"))","v":""},null,false,false,0,{"$f":"IF($A804=I$3,AND($A804=I$3,$D804<0),0)","v":0},0,{"$f":"IF($A804=K$3,AND($A804=K$3,$D804<0),0)","v":0},0,{"$f":"IF($A804=M$3,AND($A804=M$3,$D804<0),0)","v":0},0,{"$f":"IF($A804=O$3,AND($A804=O$3,$D804<0),0)","v":0},0,0,0,0,0,0,0,{"$f":"IF($A804=W$3,AND($A804=W$3,$D804<0),0)","v":0},0,{"$f":"IF($A804=Y$3,AND($A804=Y$3,$D804<0),0)","v":0},0,{"$f":"IF($A804=AA$3,AND($A804=AA$3,$D804<0),0)","v":0},0,{"$f":"IF($A804=AC$3,AND($A804=AC$3,$D804<0),0)","v":0},0,0]
[{"$f":"IF(B805=0,\"\",MONTH(B805))","v":""},null,null,null,{"$f":"IF(D805=\"\",\"\",IF(D805<0,\"DEBITO\",\"CREDITO\"))","v":""},null,false,false,0,{"$f":"IF($A805=I$3,AND($A805=I$3,$D805<0),0)","v":0},0,{"$f":"IF($A805=K$3,AND($A805=K$3,$D805<0),0)","v":0},0,{"$f":"IF($A805=M$3,AND($A805=M$3,$D805<0),0)","v":0},0,{"$f":"IF($A805=O$3,AND($A805=O$3,$D805<0),0)","v":0},0,0,0,0,0,0,0,{"$f":"IF($A805=W$3,AND($A805=W$3,$D805<0),0)","v":0},0,{"$f":"IF($A805=Y$3,AND($A805=Y$3,$D805<0),0)","v":0},0,{"$f":"IF($A805=AA$3,AND($A805=AA$3,$D805<0),0)","v":0},0,{"$f":"IF($A805=AC$3,AND($A805=AC$3,$D805<0),0)","v":0},0,0]
[{"$f":"IF(B806=0,\"\",MONTH(B806))","v":""},null,null,null,{"$f":"IF(D806=\"\",\"\",IF(D806<0,\"DEBITO\",\"CREDITO\"))","v":""},null,false,false,0,{"$f":"IF($A806=I$3,AND($A806=I$3,$D806<0),0)","v":0},0,{"$f":"IF($A806=K$3,AND($A806=K$3,$D806<0),0)","v":0},0,{"$f":"IF($A806=M$3,AND($A806=M$3,$D806<0),0)","v":0},0,{"$f":"IF($A806=O$3,AND($A806=O$3,$D806<0),0)","v":0},0,0,0,0,0,0,0,{"$f":"IF($A806=W$3,AND($A806=W$3,$D806<0),0)","v":0},0,{"$f":"IF($A806=Y$3,AND($A806=Y$3,$D806<0),0)","v":0},0,{"$f":"IF($A806=AA$3,AND($A806=AA$3,$D806<0),0)","v":0},0,{"$f":"IF($A806=AC$3,AND($A806=AC$3,$D806<0),0)","v":0},0,0]
[{"$f":"IF(B807=0,\"\",MONTH(B807))","v":""},null,null,null,{"$f":"IF(D807=\"\",\"\",IF(D807<0,\"DEBITO\",\"CREDITO\"))","v":""},null,false,false,0,{"$f":"IF($A807=I$3,AND($A807=I$3,$D807<0),0)","v":0},0,{"$f":"IF($A807=K$3,AND($A807=K$3,$D807<0),0)","v":0},0,{"$f":"IF($A807=M$3,AND($A807=M$3,$D807<0),0)","v":0},0,{"$f":"IF($A807=O$3,AND($A807=O$3,$D807<0),0)","v":0},0,0,0,0,0,0,0,{"$f":"IF($A807=W$3,AND($A807=W$3,$D807<0),0)","v":0},0,{"$f":"IF($A807=Y$3,AND($A807=Y$3,$D807<0),0)","v":0},0,{"$f":"IF($A807=AA$3,AND($A807=AA$3,$D807<0),0)","v":0},0,{"$f":"IF($A807=AC$3,AND($A807=AC$3,$D807<0),0)","v":0},0,0]
[{"$f":"IF(B808=0,\"\",MONTH(B808))","v":""},null,null,null,{"$f":"IF(D808=\"\",\"\",IF(D808<0,\"DEBITO\",\"CREDITO\"))","v":""},null,false,false,0,{"$f":"IF($A808=I$3,AND($A808=I$3,$D808<0),0)","v":0},0,{"$f":"IF($A808=K$3,AND($A808=K$3,$D808<0),0)","v":0},0,{"$f":"IF($A808=M$3,AND($A808=M$3,$D808<0),0)","v":0},0,{"$f":"IF($A808=O$3,AND($A808=O$3,$D808<0),0)","v":0},0,0,0,0,0,0,0,{"$f":"IF($A808=W$3,AND($A808=W$3,$D808<0),0)","v":0},0,{"$f":"IF($A808=Y$3,AND($A808=Y$3,$D808<0),0)","v":0},0,{"$f":"IF($A808=AA$3,AND($A808=AA$3,$D808<0),0)","v":0},0,{"$f":"IF($A808=AC$3,AND($A808=AC$3,$D808<0),0)","v":0},0,0]
[{"$f":"IF(B809=0,\"\",MONTH(B809))","v":""},null,null,null,{"$f":"IF(D809=\"\",\"\",IF(D809<0,\"DEBITO\",\"CREDITO\"))","v":""},null,false,false,0,{"$f":"IF($A809=I$3,AND($A809=I$3,$D809<0),0)","v":0},0,{"$f":"IF($A809=K$3,AND($A809=K$3,$D809<0),0)","v":0},0,{"$f":"IF($A809=M$3,AND($A809=M$3,$D809<0),0)","v":0},0,{"$f":"IF($A809=O$3,AND($A809=O$3,$D809<0),0)","v":0},0,0,0,0,0,0,0,{"$f":"IF($A809=W$3,AND($A809=W$3,$D809<0),0)","v":0},0,{"$f":"IF($A809=Y$3,AND($A809=Y$3,$D809<0),0)","v":0},0,{"$f":"IF($A809=AA$3,AND($A809=AA$3,$D809<0),0)","v":0},0,{"$f":"IF($A809=AC$3,AND($A809=AC$3,$D809<0),0)","v":0},0,0]
[{"$f":"IF(B810=0,\"\",MONTH(B810))","v":""},null,null,null,{"$f":"IF(D810=\"\",\"\",IF(D810<0,\"DEBITO\",\"CREDITO\"))","v":""},null,false,false,0,{"$f":"IF($A810=I$3,AND($A810=I$3,$D810<0),0)","v":0},0,{"$f":"IF($A810=K$3,AND($A810=K$3,$D810<0),0)","v":0},0,{"$f":"IF($A810=M$3,AND($A810=M$3,$D810<0),0)","v":0},0,{"$f":"IF($A810=O$3,AND($A810=O$3,$D810<0),0)","v":0},0,0,0,0,0,0,0,{"$f":"IF($A810=W$3,AND($A810=W$3,$D810<0),0)","v":0},0,{"$f":"IF($A810=Y$3,AND($A810=Y$3,$D810<0),0)","v":0},0,{"$f":"IF($A810=AA$3,AND($A810=AA$3,$D810<0),0)","v":0},0,{"$f":"IF($A810=AC$3,AND($A810=AC$3,$D810<0),0)","v":0},0,0]
[{"$f":"IF(B811=0,\"\",MONTH(B811))","v":""},null,null,null,{"$f":"IF(D811=\"\",\"\",IF(D811<0,\"DEBITO\",\"CREDITO\"))","v":""},null,false,false,0,{"$f":"IF($A811=I$3,AND($A811=I$3,$D811<0),0)","v":0},0,{"$f":"IF($A811=K$3,AND($A811=K$3,$D811<0),0)","v":0},0,{"$f":"IF($A811=M$3,AND($A811=M$3,$D811<0),0)","v":0},0,{"$f":"IF($A811=O$3,AND($A811=O$3,$D811<0),0)","v":0},0,0,0,0,0,0,0,{"$f":"IF($A811=W$3,AND($A811=W$3,$D811<0),0)","v":0},0,{"$f":"IF($A811=Y$3,AND($A811=Y$3,$D811<0),0)","v":0},0,{"$f":"IF($A811=AA$3,AND($A811=AA$3,$D811<0),0)","v":0},0,{"$f":"IF($A811=AC$3,AND($A811=AC$3,$D811<0),0)","v":0},0,0]
[{"$f":"IF(B812=0,\"\",MONTH(B812))","v":""},null,null,null,{"$f":"IF(D812=\"\",\"\",IF(D812<0,\"DEBITO\",\"CREDITO\"))","v":""},null,false,false,0,{"$f":"IF($A812=I$3,AND($A812=I$3,$D812<0),0)","v":0},0,{"$f":"IF($A812=K$3,AND($A812=K$3,$D812<0),0)","v":0},0,{"$f":"IF($A812=M$3,AND($A812=M$3,$D812<0),0)","v":0},0,{"$f":"IF($A812=O$3,AND($A812=O$3,$D812<0),0)","v":0},0,0,0,0,0,0,0,{"$f":"IF($A812=W$3,AND($A812=W$3,$D812<0),0)","v":0},0,{"$f":"IF($A812=Y$3,AND($A812=Y$3,$D812<0),0)","v":0},0,{"$f":"IF($A812=AA$3,AND($A812=AA$3,$D812<0),0)","v":0},0,{"$f":"IF($A812=AC$3,AND($A812=AC$3,$D812<0),0)","v":0},0,0]
[{"$f":"IF(B813=0,\"\",MONTH(B813))","v":""},null,null,null,{"$f":"IF(D813=\"\",\"\",IF(D813<0,\"DEBITO\",\"CREDITO\"))","v":""},null,false,false,0,{"$f":"IF($A813=I$3,AND($A813=I$3,$D813<0),0)","v":0},0,{"$f":"IF($A813=K$3,AND($A813=K$3,$D813<0),0)","v":0},0,{"$f":"IF($A813=M$3,AND($A813=M$3,$D813<0),0)","v":0},0,{"$f":"IF($A813=O$3,AND($A813=O$3,$D813<0),0)","v":0},0,0,0,0,0,0,0,{"$f":"IF($A813=W$3,AND($A813=W$3,$D813<0),0)","v":0},0,{"$f":"IF($A813=Y$3,AND($A813=Y$3,$D813<0),0)","v":0},0,{"$f":"IF($A813=AA$3,AND($A813=AA$3,$D813<0),0)","v":0},0,{"$f":"IF($A813=AC$3,AND($A813=AC$3,$D813<0),0)","v":0},0,0]
[{"$f":"IF(B814=0,\"\",MONTH(B814))","v":""},null,null,null,{"$f":"IF(D814=\"\",\"\",IF(D814<0,\"DEBITO\",\"CREDITO\"))","v":""},null,false,false,0,{"$f":"IF($A814=I$3,AND($A814=I$3,$D814<0),0)","v":0},0,{"$f":"IF($A814=K$3,AND($A814=K$3,$D814<0),0)","v":0},0,{"$f":"IF($A814=M$3,AND($A814=M$3,$D814<0),0)","v":0},0,{"$f":"IF($A814=O$3,AND($A814=O$3,$D814<0),0)","v":0},0,0,0,0,0,0,0,{"$f":"IF($A814=W$3,AND($A814=W$3,$D814<0),0)","v":0},0,{"$f":"IF($A814=Y$3,AND($A814=Y$3,$D814<0),0)","v":0},0,{"$f":"IF($A814=AA$3,AND($A814=AA$3,$D814<0),0)","v":0},0,{"$f":"IF($A814=AC$3,AND($A814=AC$3,$D814<0),0)","v":0},0,0]
[{"$f":"IF(B815=0,\"\",MONTH(B815))","v":""},null,null,null,{"$f":"IF(D815=\"\",\"\",IF(D815<0,\"DEBITO\",\"CREDITO\"))","v":""},null,false,false,0,{"$f":"IF($A815=I$3,AND($A815=I$3,$D815<0),0)","v":0},0,{"$f":"IF($A815=K$3,AND($A815=K$3,$D815<0),0)","v":0},0,{"$f":"IF($A815=M$3,AND($A815=M$3,$D815<0),0)","v":0},0,{"$f":"IF($A815=O$3,AND($A815=O$3,$D815<0),0)","v":0},0,0,0,0,0,0,0,{"$f":"IF($A815=W$3,AND($A815=W$3,$D815<0),0)","v":0},0,{"$f":"IF($A815=Y$3,AND($A815=Y$3,$D815<0),0)","v":0},0,{"$f":"IF($A815=AA$3,AND($A815=AA$3,$D815<0),0)","v":0},0,{"$f":"IF($A815=AC$3,AND($A815=AC$3,$D815<0),0)","v":0},0,0]
[{"$f":"IF(B816=0,\"\",MONTH(B816))","v":""},null,null,null,{"$f":"IF(D816=\"\",\"\",IF(D816<0,\"DEBITO\",\"CREDITO\"))","v":""},null,false,false,0,{"$f":"IF($A816=I$3,AND($A816=I$3,$D816<0),0)","v":0},0,{"$f":"IF($A816=K$3,AND($A816=K$3,$D816<0),0)","v":0},0,{"$f":"IF($A816=M$3,AND($A816=M$3,$D816<0),0)","v":0},0,{"$f":"IF($A816=O$3,AND($A816=O$3,$D816<0),0)","v":0},0,0,0,0,0,0,0,{"$f":"IF($A816=W$3,AND($A816=W$3,$D816<0),0)","v":0},0,{"$f":"IF($A816=Y$3,AND($A816=Y$3,$D816<0),0)","v":0},0,{"$f":"IF($A816=AA$3,AND($A816=AA$3,$D816<0),0)","v":0},0,{"$f":"IF($A816=AC$3,AND($A816=AC$3,$D816<0),0)","v":0},0,0]
[{"$f":"IF(B817=0,\"\",MONTH(B817))","v":""},null,null,null,{"$f":"IF(D817=\"\",\"\",IF(D817<0,\"DEBITO\",\"CREDITO\"))","v":""},null,false,false,0,{"$f":"IF($A817=I$3,AND($A817=I$3,$D817<0),0)","v":0},0,{"$f":"IF($A817=K$3,AND($A817=K$3,$D817<0),0)","v":0},0,{"$f":"IF($A817=M$3,AND($A817=M$3,$D817<0),0)","v":0},0,{"$f":"IF($A817=O$3,AND($A817=O$3,$D817<0),0)","v":0},0,0,0,0,0,0,0,{"$f":"IF($A817=W$3,AND($A817=W$3,$D817<0),0)","v":0},0,{"$f":"IF($A817=Y$3,AND($A817=Y$3,$D817<0),0)","v":0},0,{"$f":"IF($A817=AA$3,AND($A817=AA$3,$D817<0),0)","v":0},0,{"$f":"IF($A817=AC$3,AND($A817=AC$3,$D817<0),0)","v":0},0,0]
[{"$f":"IF(B818=0,\"\",MONTH(B818))","v":""},null,null,null,{"$f":"IF(D818=\"\",\"\",IF(D818<0,\"DEBITO\",\"CREDITO\"))","v":""},null,false,false,0,{"$f":"IF($A818=I$3,AND($A818=I$3,$D818<0),0)","v":0},0,{"$f":"IF($A818=K$3,AND($A818=K$3,$D818<0),0)","v":0},0,{"$f":"IF($A818=M$3,AND($A818=M$3,$D818<0),0)","v":0},0,{"$f":"IF($A818=O$3,AND($A818=O$3,$D818<0),0)","v":0},0,0,0,0,0,0,0,{"$f":"IF($A818=W$3,AND($A818=W$3,$D818<0),0)","v":0},0,{"$f":"IF($A818=Y$3,AND($A818=Y$3,$D818<0),0)","v":0},0,{"$f":"IF($A818=AA$3,AND($A818=AA$3,$D818<0),0)","v":0},0,{"$f":"IF($A818=AC$3,AND($A818=AC$3,$D818<0),0)","v":0},0,0]
[{"$f":"IF(B819=0,\"\",MONTH(B819))","v":""},null,null,null,{"$f":"IF(D819=\"\",\"\",IF(D819<0,\"DEBITO\",\"CREDITO\"))","v":""},null,false,false,0,{"$f":"IF($A819=I$3,AND($A819=I$3,$D819<0),0)","v":0},0,{"$f":"IF($A819=K$3,AND($A819=K$3,$D819<0),0)","v":0},0,{"$f":"IF($A819=M$3,AND($A819=M$3,$D819<0),0)","v":0},0,{"$f":"IF($A819=O$3,AND($A819=O$3,$D819<0),0)","v":0},0,0,0,0,0,0,0,{"$f":"IF($A819=W$3,AND($A819=W$3,$D819<0),0)","v":0},0,{"$f":"IF($A819=Y$3,AND($A819=Y$3,$D819<0),0)","v":0},0,{"$f":"IF($A819=AA$3,AND($A819=AA$3,$D819<0),0)","v":0},0,{"$f":"IF($A819=AC$3,AND($A819=AC$3,$D819<0),0)","v":0},0,0]
[{"$f":"IF(B820=0,\"\",MONTH(B820))","v":""},null,null,null,{"$f":"IF(D820=\"\",\"\",IF(D820<0,\"DEBITO\",\"CREDITO\"))","v":""},null,false,false,0,{"$f":"IF($A820=I$3,AND($A820=I$3,$D820<0),0)","v":0},0,{"$f":"IF($A820=K$3,AND($A820=K$3,$D820<0),0)","v":0},0,{"$f":"IF($A820=M$3,AND($A820=M$3,$D820<0),0)","v":0},0,{"$f":"IF($A820=O$3,AND($A820=O$3,$D820<0),0)","v":0},0,0,0,0,0,0,0,{"$f":"IF($A820=W$3,AND($A820=W$3,$D820<0),0)","v":0},0,{"$f":"IF($A820=Y$3,AND($A820=Y$3,$D820<0),0)","v":0},0,{"$f":"IF($A820=AA$3,AND($A820=AA$3,$D820<0),0)","v":0},0,{"$f":"IF($A820=AC$3,AND($A820=AC$3,$D820<0),0)","v":0},0,0]
[{"$f":"IF(B821=0,\"\",MONTH(B821))","v":""},null,null,null,{"$f":"IF(D821=\"\",\"\",IF(D821<0,\"DEBITO\",\"CREDITO\"))","v":""},null,false,false,0,{"$f":"IF($A821=I$3,AND($A821=I$3,$D821<0),0)","v":0},0,{"$f":"IF($A821=K$3,AND($A821=K$3,$D821<0),0)","v":0},0,{"$f":"IF($A821=M$3,AND($A821=M$3,$D821<0),0)","v":0},0,{"$f":"IF($A821=O$3,AND($A821=O$3,$D821<0),0)","v":0},0,0,0,0,0,0,0,{"$f":"IF($A821=W$3,AND($A821=W$3,$D821<0),0)","v":0},0,{"$f":"IF($A821=Y$3,AND($A821=Y$3,$D821<0),0)","v":0},0,{"$f":"IF($A821=AA$3,AND($A821=AA$3,$D821<0),0)","v":0},0,{"$f":"IF($A821=AC$3,AND($A821=AC$3,$D821<0),0)","v":0},0,0]
[{"$f":"IF(B822=0,\"\",MONTH(B822))","v":""},null,null,null,{"$f":"IF(D822=\"\",\"\",IF(D822<0,\"DEBITO\",\"CREDITO\"))","v":""},null,false,false,0,{"$f":"IF($A822=I$3,AND($A822=I$3,$D822<0),0)","v":0},0,{"$f":"IF($A822=K$3,AND($A822=K$3,$D822<0),0)","v":0},0,{"$f":"IF($A822=M$3,AND($A822=M$3,$D822<0),0)","v":0},0,{"$f":"IF($A822=O$3,AND($A822=O$3,$D822<0),0)","v":0},0,0,0,0,0,0,0,{"$f":"IF($A822=W$3,AND($A822=W$3,$D822<0),0)","v":0},0,{"$f":"IF($A822=Y$3,AND($A822=Y$3,$D822<0),0)","v":0},0,{"$f":"IF($A822=AA$3,AND($A822=AA$3,$D822<0),0)","v":0},0,{"$f":"IF($A822=AC$3,AND($A822=AC$3,$D822<0),0)","v":0},0,0]
[{"$f":"IF(B823=0,\"\",MONTH(B823))","v":""},null,null,null,{"$f":"IF(D823=\"\",\"\",IF(D823<0,\"DEBITO\",\"CREDITO\"))","v":""},null,false,false,0,{"$f":"IF($A823=I$3,AND($A823=I$3,$D823<0),0)","v":0},0,{"$f":"IF($A823=K$3,AND($A823=K$3,$D823<0),0)","v":0},0,{"$f":"IF($A823=M$3,AND($A823=M$3,$D823<0),0)","v":0},0,{"$f":"IF($A823=O$3,AND($A823=O$3,$D823<0),0)","v":0},0,0,0,0,0,0,0,{"$f":"IF($A823=W$3,AND($A823=W$3,$D823<0),0)","v":0},0,{"$f":"IF($A823=Y$3,AND($A823=Y$3,$D823<0),0)","v":0},0,{"$f":"IF($A823=AA$3,AND($A823=AA$3,$D823<0),0)","v":0},0,{"$f":"IF($A823=AC$3,AND($A823=AC$3,$D823<0),0)","v":0},0,0]
[{"$f":"IF(B824=0,\"\",MONTH(B824))","v":""},null,null,null,{"$f":"IF(D824=\"\",\"\",IF(D824<0,\"DEBITO\",\"CREDITO\"))","v":""},null,false,false,0,{"$f":"IF($A824=I$3,AND($A824=I$3,$D824<0),0)","v":0},0,{"$f":"IF($A824=K$3,AND($A824=K$3,$D824<0),0)","v":0},0,{"$f":"IF($A824=M$3,AND($A824=M$3,$D824<0),0)","v":0},0,{"$f":"IF($A824=O$3,AND($A824=O$3,$D824<0),0)","v":0},0,0,0,0,0,0,0,{"$f":"IF($A824=W$3,AND($A824=W$3,$D824<0),0)","v":0},0,{"$f":"IF($A824=Y$3,AND($A824=Y$3,$D824<0),0)","v":0},0,{"$f":"IF($A824=AA$3,AND($A824=AA$3,$D824<0),0)","v":0},0,{"$f":"IF($A824=AC$3,AND($A824=AC$3,$D824<0),0)","v":0},0,0]
[{"$f":"IF(B825=0,\"\",MONTH(B825))","v":""},null,null,null,{"$f":"IF(D825=\"\",\"\",IF(D825<0,\"DEBITO\",\"CREDITO\"))","v":""},null,false,false,0,{"$f":"IF($A825=I$3,AND($A825=I$3,$D825<0),0)","v":0},0,{"$f":"IF($A825=K$3,AND($A825=K$3,$D825<0),0)","v":0},0,{"$f":"IF($A825=M$3,AND($A825=M$3,$D825<0),0)","v":0},0,{"$f":"IF($A825=O$3,AND($A825=O$3,$D825<0),0)","v":0},0,0,0,0,0,0,0,{"$f":"IF($A825=W$3,AND($A825=W$3,$D825<0),0)","v":0},0,{"$f":"IF($A825=Y$3,AND($A825=Y$3,$D825<0),0)","v":0},0,{"$f":"IF($A825=AA$3,AND($A825=AA$3,$D825<0),0)","v":0},0,{"$f":"IF($A825=AC$3,AND($A825=AC$3,$D825<0),0)","v":0},0,0]
[{"$f":"IF(B826=0,\"\",MONTH(B826))","v":""},null,null,null,{"$f":"IF(D826=\"\",\"\",IF(D826<0,\"DEBITO\",\"CREDITO\"))","v":""},null,false,false,0,{"$f":"IF($A826=I$3,AND($A826=I$3,$D826<0),0)","v":0},0,{"$f":"IF($A826=K$3,AND($A826=K$3,$D826<0),0)","v":0},0,{"$f":"IF($A826=M$3,AND($A826=M$3,$D826<0),0)","v":0},0,{"$f":"IF($A826=O$3,AND($A826=O$3,$D826<0),0)","v":0},0,0,0,0,0,0,0,{"$f":"IF($A826=W$3,AND($A826=W$3,$D826<0),0)","v":0},0,{"$f":"IF($A826=Y$3,AND($A826=Y$3,$D826<0),0)","v":0},0,{"$f":"IF($A826=AA$3,AND($A826=AA$3,$D826<0),0)","v":0},0,{"$f":"IF($A826=AC$3,AND($A826=AC$3,$D826<0),0)","v":0},0,0]
[{"$f":"IF(B827=0,\"\",MONTH(B827))","v":""},null,null,null,{"$f":"IF(D827=\"\",\"\",IF(D827<0,\"DEBITO\",\"CREDITO\"))","v":""},null,false,false,0,{"$f":"IF($A827=I$3,AND($A827=I$3,$D827<0),0)","v":0},0,{"$f":"IF($A827=K$3,AND($A827=K$3,$D827<0),0)","v":0},0,{"$f":"IF($A827=M$3,AND($A827=M$3,$D827<0),0)","v":0},0,{"$f":"IF($A827=O$3,AND($A827=O$3,$D827<0),0)","v":0},0,0,0,0,0,0,0,{"$f":"IF($A827=W$3,AND($A827=W$3,$D827<0),0)","v":0},0,{"$f":"IF($A827=Y$3,AND($A827=Y$3,$D827<0),0)","v":0},0,{"$f":"IF($A827=AA$3,AND($A827=AA$3,$D827<0),0)","v":0},0,{"$f":"IF($A827=AC$3,AND($A827=AC$3,$D827<0),0)","v":0},0,0]
[{"$f":"IF(B828=0,\"\",MONTH(B828))","v":""},null,null,null,{"$f":"IF(D828=\"\",\"\",IF(D828<0,\"DEBITO\",\"CREDITO\"))","v":""},null,false,false,0,{"$f":"IF($A828=I$3,AND($A828=I$3,$D828<0),0)","v":0},0,{"$f":"IF($A828=K$3,AND($A828=K$3,$D828<0),0)","v":0},0,{"$f":"IF($A828=M$3,AND($A828=M$3,$D828<0),0)","v":0},0,{"$f":"IF($A828=O$3,AND($A828=O$3,$D828<0),0)","v":0},0,0,0,0,0,0,0,{"$f":"IF($A828=W$3,AND($A828=W$3,$D828<0),0)","v":0},0,{"$f":"IF($A828=Y$3,AND($A828=Y$3,$D828<0),0)","v":0},0,{"$f":"IF($A828=AA$3,AND($A828=AA$3,$D828<0),0)","v":0},0,{"$f":"IF($A828=AC$3,AND($A828=AC$3,$D828<0),0)","v":0},0,0]
[{"$f":"IF(B829=0,\"\",MONTH(B829))","v":""},null,null,null,{"$f":"IF(D829=\"\",\"\",IF(D829<0,\"DEBITO\",\"CREDITO\"))","v":""},null,false,false,0,{"$f":"IF($A829=I$3,AND($A829=I$3,$D829<0),0)","v":0},0,{"$f":"IF($A829=K$3,AND($A829=K$3,$D829<0),0)","v":0},0,{"$f":"IF($A829=M$3,AND($A829=M$3,$D829<0),0)","v":0},0,{"$f":"IF($A829=O$3,AND($A829=O$3,$D829<0),0)","v":0},0,0,0,0,0,0,0,{"$f":"IF($A829=W$3,AND($A829=W$3,$D829<0),0)","v":0},0,{"$f":"IF($A829=Y$3,AND($A829=Y$3,$D829<0),0)","v":0},0,{"$f":"IF($A829=AA$3,AND($A829=AA$3,$D829<0),0)","v":0},0,{"$f":"IF($A829=AC$3,AND($A829=AC$3,$D829<0),0)","v":0},0,0]
[{"$f":"IF(B830=0,\"\",MONTH(B830))","v":""},null,null,null,{"$f":"IF(D830=\"\",\"\",IF(D830<0,\"DEBITO\",\"CREDITO\"))","v":""},null,false,false,0,{"$f":"IF($A830=I$3,AND($A830=I$3,$D830<0),0)","v":0},0,{"$f":"IF($A830=K$3,AND($A830=K$3,$D830<0),0)","v":0},0,{"$f":"IF($A830=M$3,AND($A830=M$3,$D830<0),0)","v":0},0,{"$f":"IF($A830=O$3,AND($A830=O$3,$D830<0),0)","v":0},0,0,0,0,0,0,0,{"$f":"IF($A830=W$3,AND($A830=W$3,$D830<0),0)","v":0},0,{"$f":"IF($A830=Y$3,AND($A830=Y$3,$D830<0),0)","v":0},0,{"$f":"IF($A830=AA$3,AND($A830=AA$3,$D830<0),0)","v":0},0,{"$f":"IF($A830=AC$3,AND($A830=AC$3,$D830<0),0)","v":0},0,0]
[{"$f":"IF(B831=0,\"\",MONTH(B831))","v":""},null,null,null,{"$f":"IF(D831=\"\",\"\",IF(D831<0,\"DEBITO\",\"CREDITO\"))","v":""},null,false,false,0,{"$f":"IF($A831=I$3,AND($A831=I$3,$D831<0),0)","v":0},0,{"$f":"IF($A831=K$3,AND($A831=K$3,$D831<0),0)","v":0},0,{"$f":"IF($A831=M$3,AND($A831=M$3,$D831<0),0)","v":0},0,{"$f":"IF($A831=O$3,AND($A831=O$3,$D831<0),0)","v":0},0,0,0,0,0,0,0,{"$f":"IF($A831=W$3,AND($A831=W$3,$D831<0),0)","v":0},0,{"$f":"IF($A831=Y$3,AND($A831=Y$3,$D831<0),0)","v":0},0,{"$f":"IF($A831=AA$3,AND($A831=AA$3,$D831<0),0)","v":0},0,{"$f":"IF($A831=AC$3,AND($A831=AC$3,$D831<0),0)","v":0},0,0]
[{"$f":"IF(B832=0,\"\",MONTH(B832))","v":""},null,null,null,{"$f":"IF(D832=\"\",\"\",IF(D832<0,\"DEBITO\",\"CREDITO\"))","v":""},null,false,false,0,{"$f":"IF($A832=I$3,AND($A832=I$3,$D832<0),0)","v":0},0,{"$f":"IF($A832=K$3,AND($A832=K$3,$D832<0),0)","v":0},0,{"$f":"IF($A832=M$3,AND($A832=M$3,$D832<0),0)","v":0},0,{"$f":"IF($A832=O$3,AND($A832=O$3,$D832<0),0)","v":0},0,0,0,0,0,0,0,{"$f":"IF($A832=W$3,AND($A832=W$3,$D832<0),0)","v":0},0,{"$f":"IF($A832=Y$3,AND($A832=Y$3,$D832<0),0)","v":0},0,{"$f":"IF($A832=AA$3,AND($A832=AA$3,$D832<0),0)","v":0},0,{"$f":"IF($A832=AC$3,AND($A832=AC$3,$D832<0),0)","v":0},0,0]
[{"$f":"IF(B833=0,\"\",MONTH(B833))","v":""},null,null,null,{"$f":"IF(D833=\"\",\"\",IF(D833<0,\"DEBITO\",\"CREDITO\"))","v":""},null,false,false,0,{"$f":"IF($A833=I$3,AND($A833=I$3,$D833<0),0)","v":0},0,{"$f":"IF($A833=K$3,AND($A833=K$3,$D833<0),0)","v":0},0,{"$f":"IF($A833=M$3,AND($A833=M$3,$D833<0),0)","v":0},0,{"$f":"IF($A833=O$3,AND($A833=O$3,$D833<0),0)","v":0},0,0,0,0,0,0,0,{"$f":"IF($A833=W$3,AND($A833=W$3,$D833<0),0)","v":0},0,{"$f":"IF($A833=Y$3,AND($A833=Y$3,$D833<0),0)","v":0},0,{"$f":"IF($A833=AA$3,AND($A833=AA$3,$D833<0),0)","v":0},0,{"$f":"IF($A833=AC$3,AND($A833=AC$3,$D833<0),0)","v":0},0,0]
[{"$f":"IF(B834=0,\"\",MONTH(B834))","v":""},null,null,null,{"$f":"IF(D834=\"\",\"\",IF(D834<0,\"DEBITO\",\"CREDITO\"))","v":""},null,false,false,0,{"$f":"IF($A834=I$3,AND($A834=I$3,$D834<0),0)","v":0},0,{"$f":"IF($A834=K$3,AND($A834=K$3,$D834<0),0)","v":0},0,{"$f":"IF($A834=M$3,AND($A834=M$3,$D834<0),0)","v":0},0,{"$f":"IF($A834=O$3,AND($A834=O$3,$D834<0),0)","v":0},0,0,0,0,0,0,0,{"$f":"IF($A834=W$3,AND($A834=W$3,$D834<0),0)","v":0},0,{"$f":"IF($A834=Y$3,AND($A834=Y$3,$D834<0),0)","v":0},0,{"$f":"IF($A834=AA$3,AND($A834=AA$3,$D834<0),0)","v":0},0,{"$f":"IF($A834=AC$3,AND($A834=AC$3,$D834<0),0)","v":0},0,0]
[{"$f":"IF(B835=0,\"\",MONTH(B835))","v":""},null,null,null,{"$f":"IF(D835=\"\",\"\",IF(D835<0,\"DEBITO\",\"CREDITO\"))","v":""},null,false,false,0,{"$f":"IF($A835=I$3,AND($A835=I$3,$D835<0),0)","v":0},0,{"$f":"IF($A835=K$3,AND($A835=K$3,$D835<0),0)","v":0},0,{"$f":"IF($A835=M$3,AND($A835=M$3,$D835<0),0)","v":0},0,{"$f":"IF($A835=O$3,AND($A835=O$3,$D835<0),0)","v":0},0,0,0,0,0,0,0,{"$f":"IF($A835=W$3,AND($A835=W$3,$D835<0),0)","v":0},0,{"$f":"IF($A835=Y$3,AND($A835=Y$3,$D835<0),0)","v":0},0,{"$f":"IF($A835=AA$3,AND($A835=AA$3,$D835<0),0)","v":0},0,{"$f":"IF($A835=AC$3,AND($A835=AC$3,$D835<0),0)","v":0},0,0]
[{"$f":"IF(B836=0,\"\",MONTH(B836))","v":""},null,null,null,{"$f":"IF(D836=\"\",\"\",IF(D836<0,\"DEBITO\",\"CREDITO\"))","v":""},null,false,false,0,{"$f":"IF($A836=I$3,AND($A836=I$3,$D836<0),0)","v":0},0,{"$f":"IF($A836=K$3,AND($A836=K$3,$D836<0),0)","v":0},0,{"$f":"IF($A836=M$3,AND($A836=M$3,$D836<0),0)","v":0},0,{"$f":"IF($A836=O$3,AND($A836=O$3,$D836<0),0)","v":0},0,0,0,0,0,0,0,{"$f":"IF($A836=W$3,AND($A836=W$3,$D836<0),0)","v":0},0,{"$f":"IF($A836=Y$3,AND($A836=Y$3,$D836<0),0)","v":0},0,{"$f":"IF($A836=AA$3,AND($A836=AA$3,$D836<0),0)","v":0},0,{"$f":"IF($A836=AC$3,AND($A836=AC$3,$D836<0),0)","v":0},0,0]
[{"$f":"IF(B837=0,\"\",MONTH(B837))","v":""},null,null,null,{"$f":"IF(D837=\"\",\"\",IF(D837<0,\"DEBITO\",\"CREDITO\"))","v":""},null,false,false,0,{"$f":"IF($A837=I$3,AND($A837=I$3,$D837<0),0)","v":0},0,{"$f":"IF($A837=K$3,AND($A837=K$3,$D837<0),0)","v":0},0,{"$f":"IF($A837=M$3,AND($A837=M$3,$D837<0),0)","v":0},0,{"$f":"IF($A837=O$3,AND($A837=O$3,$D837<0),0)","v":0},0,0,0,0,0,0,0,{"$f":"IF($A837=W$3,AND($A837=W$3,$D837<0),0)","v":0},0,{"$f":"IF($A837=Y$3,AND($A837=Y$3,$D837<0),0)","v":0},0,{"$f":"IF($A837=AA$3,AND($A837=AA$3,$D837<0),0)","v":0},0,{"$f":"IF($A837=AC$3,AND($A837=AC$3,$D837<0),0)","v":0},0,0]
[{"$f":"IF(B838=0,\"\",MONTH(B838))","v":""},null,null,null,{"$f":"IF(D838=\"\",\"\",IF(D838<0,\"DEBITO\",\"CREDITO\"))","v":""},null,false,false,0,{"$f":"IF($A838=I$3,AND($A838=I$3,$D838<0),0)","v":0},0,{"$f":"IF($A838=K$3,AND($A838=K$3,$D838<0),0)","v":0},0,{"$f":"IF($A838=M$3,AND($A838=M$3,$D838<0),0)","v":0},0,{"$f":"IF($A838=O$3,AND($A838=O$3,$D838<0),0)","v":0},0,0,0,0,0,0,0,{"$f":"IF($A838=W$3,AND($A838=W$3,$D838<0),0)","v":0},0,{"$f":"IF($A838=Y$3,AND($A838=Y$3,$D838<0),0)","v":0},0,{"$f":"IF($A838=AA$3,AND($A838=AA$3,$D838<0),0)","v":0},0,{"$f":"IF($A838=AC$3,AND($A838=AC$3,$D838<0),0)","v":0},0,0]
[{"$f":"IF(B839=0,\"\",MONTH(B839))","v":""},null,null,null,{"$f":"IF(D839=\"\",\"\",IF(D839<0,\"DEBITO\",\"CREDITO\"))","v":""},null,false,false,0,{"$f":"IF($A839=I$3,AND($A839=I$3,$D839<0),0)","v":0},0,{"$f":"IF($A839=K$3,AND($A839=K$3,$D839<0),0)","v":0},0,{"$f":"IF($A839=M$3,AND($A839=M$3,$D839<0),0)","v":0},0,{"$f":"IF($A839=O$3,AND($A839=O$3,$D839<0),0)","v":0},0,0,0,0,0,0,0,{"$f":"IF($A839=W$3,AND($A839=W$3,$D839<0),0)","v":0},0,{"$f":"IF($A839=Y$3,AND($A839=Y$3,$D839<0),0)","v":0},0,{"$f":"IF($A839=AA$3,AND($A839=AA$3,$D839<0),0)","v":0},0,{"$f":"IF($A839=AC$3,AND($A839=AC$3,$D839<0),0)","v":0},0,0]
[{"$f":"IF(B840=0,\"\",MONTH(B840))","v":""},null,null,null,{"$f":"IF(D840=\"\",\"\",IF(D840<0,\"DEBITO\",\"CREDITO\"))","v":""},null,false,false,0,{"$f":"IF($A840=I$3,AND($A840=I$3,$D840<0),0)","v":0},0,{"$f":"IF($A840=K$3,AND($A840=K$3,$D840<0),0)","v":0},0,{"$f":"IF($A840=M$3,AND($A840=M$3,$D840<0),0)","v":0},0,{"$f":"IF($A840=O$3,AND($A840=O$3,$D840<0),0)","v":0},0,0,0,0,0,0,0,{"$f":"IF($A840=W$3,AND($A840=W$3,$D840<0),0)","v":0},0,{"$f":"IF($A840=Y$3,AND($A840=Y$3,$D840<0),0)","v":0},0,{"$f":"IF($A840=AA$3,AND($A840=AA$3,$D840<0),0)","v":0},0,{"$f":"IF($A840=AC$3,AND($A840=AC$3,$D840<0),0)","v":0},0,0]
[{"$f":"IF(B841=0,\"\",MONTH(B841))","v":""},null,null,null,{"$f":"IF(D841=\"\",\"\",IF(D841<0,\"DEBITO\",\"CREDITO\"))","v":""},null,{"$f":"AND(A841=$E$3,D841>0)","v":false},{"$f":"AND(A841=$E$3,D841<0)","v":false},0,{"$f":"IF($A841=I$3,AND($A841=I$3,$D841<0),0)","v":0},0,{"$f":"IF($A841=K$3,AND($A841=K$3,$D841<0),0)","v":0},0,{"$f":"IF($A841=M$3,AND($A841=M$3,$D841<0),0)","v":0},0,{"$f":"IF($A841=O$3,AND($A841=O$3,$D841<0),0)","v":0},0,{"$f":"IF($A841=Q$3,AND($A841=Q$3,$D841<0),0)","v":0},0,0,0,0,0,{"$f":"IF($A841=W$3,AND($A841=W$3,$D841<0),0)","v":0},0,{"$f":"IF($A841=Y$3,AND($A841=Y$3,$D841<0),0)","v":0},0,{"$f":"IF($A841=AA$3,AND($A841=AA$3,$D841<0),0)","v":0},0,{"$f":"IF($A841=AC$3,AND($A841=AC$3,$D841<0),0)","v":0},0,{"$f":"IF($A841=AE$3,AND($A841=AE$3,$D841<0),0)","v":0}]
[{"$f":"IF(B842=0,\"\",MONTH(B842))","v":""},null,null,null,{"$f":"IF(D842=\"\",\"\",IF(D842<0,\"DEBITO\",\"CREDITO\"))","v":""},null,false,false,0,{"$f":"IF($A842=I$3,AND($A842=I$3,$D842<0),0)","v":0},0,{"$f":"IF($A842=K$3,AND($A842=K$3,$D842<0),0)","v":0},0,{"$f":"IF($A842=M$3,AND($A842=M$3,$D842<0),0)","v":0},0,{"$f":"IF($A842=O$3,AND($A842=O$3,$D842<0),0)","v":0},0,0,{"$f":"IF($A842=S$3,AND($A842=S$3,$D842>0),0)","v":0},{"$f":"IF($A842=S$3,AND($A842=S$3,$D842<0),0)","v":0},{"$f":"IF($A842=U$3,AND($A842=U$3,$D842>0),0)","v":0},{"$f":"IF($A842=U$3,AND($A842=U$3,$D842<0),0)","v":0},0,{"$f":"IF($A842=W$3,AND($A842=W$3,$D842<0),0)","v":0},0,{"$f":"IF($A842=Y$3,AND($A842=Y$3,$D842<0),0)","v":0},0,{"$f":"IF($A842=AA$3,AND($A842=AA$3,$D842<0),0)","v":0},0,{"$f":"IF($A842=AC$3,AND($A842=AC$3,$D842<0),0)","v":0},0,0]
[{"$f":"IF(B843=0,\"\",MONTH(B843))","v":""},null,null,null,{"$f":"IF(D843=\"\",\"\",IF(D843<0,\"DEBITO\",\"CREDITO\"))","v":""},null,false,false,0,{"$f":"IF($A843=I$3,AND($A843=I$3,$D843<0),0)","v":0},0,{"$f":"IF($A843=K$3,AND($A843=K$3,$D843<0),0)","v":0},0,{"$f":"IF($A843=M$3,AND($A843=M$3,$D843<0),0)","v":0},0,{"$f":"IF($A843=O$3,AND($A843=O$3,$D843<0),0)","v":0},0,0,0,0,0,0,0,{"$f":"IF($A843=W$3,AND($A843=W$3,$D843<0),0)","v":0},0,{"$f":"IF($A843=Y$3,AND($A843=Y$3,$D843<0),0)","v":0},0,{"$f":"IF($A843=AA$3,AND($A843=AA$3,$D843<0),0)","v":0},0,{"$f":"IF($A843=AC$3,AND($A843=AC$3,$D843<0),0)","v":0},0,0]
[{"$f":"IF(B844=0,\"\",MONTH(B844))","v":""},null,null,null,{"$f":"IF(D844=\"\",\"\",IF(D844<0,\"DEBITO\",\"CREDITO\"))","v":""},null,false,false,0,{"$f":"IF($A844=I$3,AND($A844=I$3,$D844<0),0)","v":0},0,{"$f":"IF($A844=K$3,AND($A844=K$3,$D844<0),0)","v":0},0,{"$f":"IF($A844=M$3,AND($A844=M$3,$D844<0),0)","v":0},0,{"$f":"IF($A844=O$3,AND($A844=O$3,$D844<0),0)","v":0},0,0,0,0,0,0,0,{"$f":"IF($A844=W$3,AND($A844=W$3,$D844<0),0)","v":0},0,{"$f":"IF($A844=Y$3,AND($A844=Y$3,$D844<0),0)","v":0},0,{"$f":"IF($A844=AA$3,AND($A844=AA$3,$D844<0),0)","v":0},0,{"$f":"IF($A844=AC$3,AND($A844=AC$3,$D844<0),0)","v":0},0,0]
[{"$f":"IF(B845=0,\"\",MONTH(B845))","v":""},null,null,null,{"$f":"IF(D845=\"\",\"\",IF(D845<0,\"DEBITO\",\"CREDITO\"))","v":""},null,false,false,0,{"$f":"IF($A845=I$3,AND($A845=I$3,$D845<0),0)","v":0},0,{"$f":"IF($A845=K$3,AND($A845=K$3,$D845<0),0)","v":0},0,{"$f":"IF($A845=M$3,AND($A845=M$3,$D845<0),0)","v":0},0,{"$f":"IF($A845=O$3,AND($A845=O$3,$D845<0),0)","v":0},0,0,0,0,0,0,0,{"$f":"IF($A845=W$3,AND($A845=W$3,$D845<0),0)","v":0},0,{"$f":"IF($A845=Y$3,AND($A845=Y$3,$D845<0),0)","v":0},0,{"$f":"IF($A845=AA$3,AND($A845=AA$3,$D845<0),0)","v":0},0,{"$f":"IF($A845=AC$3,AND($A845=AC$3,$D845<0),0)","v":0},0,0]
[{"$f":"IF(B846=0,\"\",MONTH(B846))","v":""},null,null,null,{"$f":"IF(D846=\"\",\"\",IF(D846<0,\"DEBITO\",\"CREDITO\"))","v":""},null,false,false,0,{"$f":"IF($A846=I$3,AND($A846=I$3,$D846<0),0)","v":0},0,{"$f":"IF($A846=K$3,AND($A846=K$3,$D846<0),0)","v":0},0,{"$f":"IF($A846=M$3,AND($A846=M$3,$D846<0),0)","v":0},0,{"$f":"IF($A846=O$3,AND($A846=O$3,$D846<0),0)","v":0},0,0,0,0,0,0,0,{"$f":"IF($A846=W$3,AND($A846=W$3,$D846<0),0)","v":0},0,{"$f":"IF($A846=Y$3,AND($A846=Y$3,$D846<0),0)","v":0},0,{"$f":"IF($A846=AA$3,AND($A846=AA$3,$D846<0),0)","v":0},0,{"$f":"IF($A846=AC$3,AND($A846=AC$3,$D846<0),0)","v":0},0,0]
[{"$f":"IF(B847=0,\"\",MONTH(B847))","v":""},null,null,null,{"$f":"IF(D847=\"\",\"\",IF(D847<0,\"DEBITO\",\"CREDITO\"))","v":""},null,false,false,0,{"$f":"IF($A847=I$3,AND($A847=I$3,$D847<0),0)","v":0},0,{"$f":"IF($A847=K$3,AND($A847=K$3,$D847<0),0)","v":0},0,{"$f":"IF($A847=M$3,AND($A847=M$3,$D847<0),0)","v":0},0,{"$f":"IF($A847=O$3,AND($A847=O$3,$D847<0),0)","v":0},0,0,0,0,0,0,0,{"$f":"IF($A847=W$3,AND($A847=W$3,$D847<0),0)","v":0},0,{"$f":"IF($A847=Y$3,AND($A847=Y$3,$D847<0),0)","v":0},0,{"$f":"IF($A847=AA$3,AND($A847=AA$3,$D847<0),0)","v":0},0,{"$f":"IF($A847=AC$3,AND($A847=AC$3,$D847<0),0)","v":0},0,0]
[{"$f":"IF(B848=0,\"\",MONTH(B848))","v":""},null,null,null,{"$f":"IF(D848=\"\",\"\",IF(D848<0,\"DEBITO\",\"CREDITO\"))","v":""},null,false,false,0,{"$f":"IF($A848=I$3,AND($A848=I$3,$D848<0),0)","v":0},0,{"$f":"IF($A848=K$3,AND($A848=K$3,$D848<0),0)","v":0},0,{"$f":"IF($A848=M$3,AND($A848=M$3,$D848<0),0)","v":0},0,{"$f":"IF($A848=O$3,AND($A848=O$3,$D848<0),0)","v":0},0,0,0,0,0,0,0,{"$f":"IF($A848=W$3,AND($A848=W$3,$D848<0),0)","v":0},0,{"$f":"IF($A848=Y$3,AND($A848=Y$3,$D848<0),0)","v":0},0,{"$f":"IF($A848=AA$3,AND($A848=AA$3,$D848<0),0)","v":0},0,{"$f":"IF($A848=AC$3,AND($A848=AC$3,$D848<0),0)","v":0},0,0]
[{"$f":"IF(B849=0,\"\",MONTH(B849))","v":""},null,null,null,{"$f":"IF(D849=\"\",\"\",IF(D849<0,\"DEBITO\",\"CREDITO\"))","v":""},null,false,false,0,{"$f":"IF($A849=I$3,AND($A849=I$3,$D849<0),0)","v":0},0,{"$f":"IF($A849=K$3,AND($A849=K$3,$D849<0),0)","v":0},0,{"$f":"IF($A849=M$3,AND($A849=M$3,$D849<0),0)","v":0},0,{"$f":"IF($A849=O$3,AND($A849=O$3,$D849<0),0)","v":0},0,0,0,0,0,0,0,{"$f":"IF($A849=W$3,AND($A849=W$3,$D849<0),0)","v":0},0,{"$f":"IF($A849=Y$3,AND($A849=Y$3,$D849<0),0)","v":0},0,{"$f":"IF($A849=AA$3,AND($A849=AA$3,$D849<0),0)","v":0},0,{"$f":"IF($A849=AC$3,AND($A849=AC$3,$D849<0),0)","v":0},0,0]
[{"$f":"IF(B850=0,\"\",MONTH(B850))","v":""},null,null,null,{"$f":"IF(D850=\"\",\"\",IF(D850<0,\"DEBITO\",\"CREDITO\"))","v":""},null,false,false,0,{"$f":"IF($A850=I$3,AND($A850=I$3,$D850<0),0)","v":0},0,{"$f":"IF($A850=K$3,AND($A850=K$3,$D850<0),0)","v":0},0,{"$f":"IF($A850=M$3,AND($A850=M$3,$D850<0),0)","v":0},0,{"$f":"IF($A850=O$3,AND($A850=O$3,$D850<0),0)","v":0},0,0,0,0,0,0,0,{"$f":"IF($A850=W$3,AND($A850=W$3,$D850<0),0)","v":0},0,{"$f":"IF($A850=Y$3,AND($A850=Y$3,$D850<0),0)","v":0},0,{"$f":"IF($A850=AA$3,AND($A850=AA$3,$D850<0),0)","v":0},0,{"$f":"IF($A850=AC$3,AND($A850=AC$3,$D850<0),0)","v":0},0,0]
[{"$f":"IF(B851=0,\"\",MONTH(B851))","v":""},null,null,null,{"$f":"IF(D851=\"\",\"\",IF(D851<0,\"DEBITO\",\"CREDITO\"))","v":""},null,false,false,0,{"$f":"IF($A851=I$3,AND($A851=I$3,$D851<0),0)","v":0},0,{"$f":"IF($A851=K$3,AND($A851=K$3,$D851<0),0)","v":0},0,{"$f":"IF($A851=M$3,AND($A851=M$3,$D851<0),0)","v":0},0,{"$f":"IF($A851=O$3,AND($A851=O$3,$D851<0),0)","v":0},0,0,0,0,0,0,0,{"$f":"IF($A851=W$3,AND($A851=W$3,$D851<0),0)","v":0},0,{"$f":"IF($A851=Y$3,AND($A851=Y$3,$D851<0),0)","v":0},0,{"$f":"IF($A851=AA$3,AND($A851=AA$3,$D851<0),0)","v":0},0,{"$f":"IF($A851=AC$3,AND($A851=AC$3,$D851<0),0)","v":0},0,0]
[{"$f":"IF(B852=0,\"\",MONTH(B852))","v":""},null,null,null,{"$f":"IF(D852=\"\",\"\",IF(D852<0,\"DEBITO\",\"CREDITO\"))","v":""},null,false,false,0,{"$f":"IF($A852=I$3,AND($A852=I$3,$D852<0),0)","v":0},0,{"$f":"IF($A852=K$3,AND($A852=K$3,$D852<0),0)","v":0},0,{"$f":"IF($A852=M$3,AND($A852=M$3,$D852<0),0)","v":0},0,{"$f":"IF($A852=O$3,AND($A852=O$3,$D852<0),0)","v":0},0,0,0,0,0,0,0,{"$f":"IF($A852=W$3,AND($A852=W$3,$D852<0),0)","v":0},0,{"$f":"IF($A852=Y$3,AND($A852=Y$3,$D852<0),0)","v":0},0,{"$f":"IF($A852=AA$3,AND($A852=AA$3,$D852<0),0)","v":0},0,{"$f":"IF($A852=AC$3,AND($A852=AC$3,$D852<0),0)","v":0},0,0]
[{"$f":"IF(B853=0,\"\",MONTH(B853))","v":""},null,null,null,{"$f":"IF(D853=\"\",\"\",IF(D853<0,\"DEBITO\",\"CREDITO\"))","v":""},null,false,false,0,{"$f":"IF($A853=I$3,AND($A853=I$3,$D853<0),0)","v":0},0,{"$f":"IF($A853=K$3,AND($A853=K$3,$D853<0),0)","v":0},0,{"$f":"IF($A853=M$3,AND($A853=M$3,$D853<0),0)","v":0},0,{"$f":"IF($A853=O$3,AND($A853=O$3,$D853<0),0)","v":0},0,0,0,0,0,0,0,{"$f":"IF($A853=W$3,AND($A853=W$3,$D853<0),0)","v":0},0,{"$f":"IF($A853=Y$3,AND($A853=Y$3,$D853<0),0)","v":0},0,{"$f":"IF($A853=AA$3,AND($A853=AA$3,$D853<0),0)","v":0},0,{"$f":"IF($A853=AC$3,AND($A853=AC$3,$D853<0),0)","v":0},0,0]
[{"$f":"IF(B854=0,\"\",MONTH(B854))","v":""},null,null,null,{"$f":"IF(D854=\"\",\"\",IF(D854<0,\"DEBITO\",\"CREDITO\"))","v":""},null,false,false,0,{"$f":"IF($A854=I$3,AND($A854=I$3,$D854<0),0)","v":0},0,{"$f":"IF($A854=K$3,AND($A854=K$3,$D854<0),0)","v":0},0,{"$f":"IF($A854=M$3,AND($A854=M$3,$D854<0),0)","v":0},0,{"$f":"IF($A854=O$3,AND($A854=O$3,$D854<0),0)","v":0},0,0,0,0,0,0,0,{"$f":"IF($A854=W$3,AND($A854=W$3,$D854<0),0)","v":0},0,{"$f":"IF($A854=Y$3,AND($A854=Y$3,$D854<0),0)","v":0},0,{"$f":"IF($A854=AA$3,AND($A854=AA$3,$D854<0),0)","v":0},0,{"$f":"IF($A854=AC$3,AND($A854=AC$3,$D854<0),0)","v":0},0,0]
[{"$f":"IF(B855=0,\"\",MONTH(B855))","v":""},null,null,null,{"$f":"IF(D855=\"\",\"\",IF(D855<0,\"DEBITO\",\"CREDITO\"))","v":""},null,false,false,0,{"$f":"IF($A855=I$3,AND($A855=I$3,$D855<0),0)","v":0},0,{"$f":"IF($A855=K$3,AND($A855=K$3,$D855<0),0)","v":0},0,{"$f":"IF($A855=M$3,AND($A855=M$3,$D855<0),0)","v":0},0,{"$f":"IF($A855=O$3,AND($A855=O$3,$D855<0),0)","v":0},0,0,0,0,0,0,0,{"$f":"IF($A855=W$3,AND($A855=W$3,$D855<0),0)","v":0},0,{"$f":"IF($A855=Y$3,AND($A855=Y$3,$D855<0),0)","v":0},0,{"$f":"IF($A855=AA$3,AND($A855=AA$3,$D855<0),0)","v":0},0,{"$f":"IF($A855=AC$3,AND($A855=AC$3,$D855<0),0)","v":0},0,0]
[{"$f":"IF(B856=0,\"\",MONTH(B856))","v":""},null,null,null,{"$f":"IF(D856=\"\",\"\",IF(D856<0,\"DEBITO\",\"CREDITO\"))","v":""},null,false,false,0,{"$f":"IF($A856=I$3,AND($A856=I$3,$D856<0),0)","v":0},0,{"$f":"IF($A856=K$3,AND($A856=K$3,$D856<0),0)","v":0},0,{"$f":"IF($A856=M$3,AND($A856=M$3,$D856<0),0)","v":0},0,{"$f":"IF($A856=O$3,AND($A856=O$3,$D856<0),0)","v":0},0,0,0,0,0,0,0,{"$f":"IF($A856=W$3,AND($A856=W$3,$D856<0),0)","v":0},0,{"$f":"IF($A856=Y$3,AND($A856=Y$3,$D856<0),0)","v":0},0,{"$f":"IF($A856=AA$3,AND($A856=AA$3,$D856<0),0)","v":0},0,{"$f":"IF($A856=AC$3,AND($A856=AC$3,$D856<0),0)","v":0},0,0]
[{"$f":"IF(B857=0,\"\",MONTH(B857))","v":""},null,null,null,{"$f":"IF(D857=\"\",\"\",IF(D857<0,\"DEBITO\",\"CREDITO\"))","v":""},null,false,false,{"$f":"IF($A857=I$3,AND($A857=I$3,$D857>0),0)","v":0},{"$f":"IF($A857=I$3,AND($A857=I$3,$D857<0),0)","v":0},{"$f":"IF($A857=K$3,AND($A857=K$3,$D857>0),0)","v":0},{"$f":"IF($A857=K$3,AND($A857=K$3,$D857<0),0)","v":0},{"$f":"IF($A857=M$3,AND($A857=M$3,$D857>0),0)","v":0},{"$f":"IF($A857=M$3,AND($A857=M$3,$D857<0),0)","v":0},{"$f":"IF($A857=O$3,AND($A857=O$3,$D857>0),0)","v":0},{"$f":"IF($A857=O$3,AND($A857=O$3,$D857<0),0)","v":0},{"$f":"IF($A857=Q$3,AND($A857=Q$3,$D857>0),0)","v":0},0,0,0,0,0,{"$f":"IF($A857=W$3,AND($A857=W$3,$D857>0),0)","v":0},{"$f":"IF($A857=W$3,AND($A857=W$3,$D857<0),0)","v":0},{"$f":"IF($A857=Y$3,AND($A857=Y$3,$D857>0),0)","v":0},{"$f":"IF($A857=Y$3,AND($A857=Y$3,$D857<0),0)","v":0},{"$f":"IF($A857=AA$3,AND($A857=AA$3,$D857>0),0)","v":0},{"$f":"IF($A857=AA$3,AND($A857=AA$3,$D857<0),0)","v":0},{"$f":"IF($A857=AC$3,AND($A857=AC$3,$D857>0),0)","v":0},{"$f":"IF($A857=AC$3,AND($A857=AC$3,$D857<0),0)","v":0},{"$f":"IF($A857=AE$3,AND($A857=AE$3,$D857>0),0)","v":0},0]
[{"$f":"IF(B858=0,\"\",MONTH(B858))","v":""},null,null,null,{"$f":"IF(D858=\"\",\"\",IF(D858<0,\"DEBITO\",\"CREDITO\"))","v":""},null,false,false,0,{"$f":"IF($A858=I$3,AND($A858=I$3,$D858<0),0)","v":0},0,{"$f":"IF($A858=K$3,AND($A858=K$3,$D858<0),0)","v":0},0,{"$f":"IF($A858=M$3,AND($A858=M$3,$D858<0),0)","v":0},0,{"$f":"IF($A858=O$3,AND($A858=O$3,$D858<0),0)","v":0},0,0,0,0,0,0,0,{"$f":"IF($A858=W$3,AND($A858=W$3,$D858<0),0)","v":0},0,{"$f":"IF($A858=Y$3,AND($A858=Y$3,$D858<0),0)","v":0},0,{"$f":"IF($A858=AA$3,AND($A858=AA$3,$D858<0),0)","v":0},0,{"$f":"IF($A858=AC$3,AND($A858=AC$3,$D858<0),0)","v":0},0,0]
[{"$f":"IF(B859=0,\"\",MONTH(B859))","v":""},null,null,null,{"$f":"IF(D859=\"\",\"\",IF(D859<0,\"DEBITO\",\"CREDITO\"))","v":""},null,false,false,0,{"$f":"IF($A859=I$3,AND($A859=I$3,$D859<0),0)","v":0},0,{"$f":"IF($A859=K$3,AND($A859=K$3,$D859<0),0)","v":0},0,{"$f":"IF($A859=M$3,AND($A859=M$3,$D859<0),0)","v":0},0,{"$f":"IF($A859=O$3,AND($A859=O$3,$D859<0),0)","v":0},0,0,0,0,0,0,0,{"$f":"IF($A859=W$3,AND($A859=W$3,$D859<0),0)","v":0},0,{"$f":"IF($A859=Y$3,AND($A859=Y$3,$D859<0),0)","v":0},0,{"$f":"IF($A859=AA$3,AND($A859=AA$3,$D859<0),0)","v":0},0,{"$f":"IF($A859=AC$3,AND($A859=AC$3,$D859<0),0)","v":0},0,0]
[{"$f":"IF(B860=0,\"\",MONTH(B860))","v":""},null,null,null,{"$f":"IF(D860=\"\",\"\",IF(D860<0,\"DEBITO\",\"CREDITO\"))","v":""},null,false,false,0,{"$f":"IF($A860=I$3,AND($A860=I$3,$D860<0),0)","v":0},0,{"$f":"IF($A860=K$3,AND($A860=K$3,$D860<0),0)","v":0},0,{"$f":"IF($A860=M$3,AND($A860=M$3,$D860<0),0)","v":0},0,{"$f":"IF($A860=O$3,AND($A860=O$3,$D860<0),0)","v":0},0,0,0,0,0,0,0,{"$f":"IF($A860=W$3,AND($A860=W$3,$D860<0),0)","v":0},0,{"$f":"IF($A860=Y$3,AND($A860=Y$3,$D860<0),0)","v":0},0,{"$f":"IF($A860=AA$3,AND($A860=AA$3,$D860<0),0)","v":0},0,{"$f":"IF($A860=AC$3,AND($A860=AC$3,$D860<0),0)","v":0},0,0]
[{"$f":"IF(B861=0,\"\",MONTH(B861))","v":""},null,null,null,{"$f":"IF(D861=\"\",\"\",IF(D861<0,\"DEBITO\",\"CREDITO\"))","v":""},null,false,false,0,{"$f":"IF($A861=I$3,AND($A861=I$3,$D861<0),0)","v":0},0,{"$f":"IF($A861=K$3,AND($A861=K$3,$D861<0),0)","v":0},0,{"$f":"IF($A861=M$3,AND($A861=M$3,$D861<0),0)","v":0},0,{"$f":"IF($A861=O$3,AND($A861=O$3,$D861<0),0)","v":0},0,0,0,0,0,0,0,{"$f":"IF($A861=W$3,AND($A861=W$3,$D861<0),0)","v":0},0,{"$f":"IF($A861=Y$3,AND($A861=Y$3,$D861<0),0)","v":0},0,{"$f":"IF($A861=AA$3,AND($A861=AA$3,$D861<0),0)","v":0},0,{"$f":"IF($A861=AC$3,AND($A861=AC$3,$D861<0),0)","v":0},0,0]
[{"$f":"IF(B862=0,\"\",MONTH(B862))","v":""},null,null,null,{"$f":"IF(D862=\"\",\"\",IF(D862<0,\"DEBITO\",\"CREDITO\"))","v":""},null,false,false,0,{"$f":"IF($A862=I$3,AND($A862=I$3,$D862<0),0)","v":0},0,{"$f":"IF($A862=K$3,AND($A862=K$3,$D862<0),0)","v":0},0,{"$f":"IF($A862=M$3,AND($A862=M$3,$D862<0),0)","v":0},0,{"$f":"IF($A862=O$3,AND($A862=O$3,$D862<0),0)","v":0},0,0,0,0,0,0,0,{"$f":"IF($A862=W$3,AND($A862=W$3,$D862<0),0)","v":0},0,{"$f":"IF($A862=Y$3,AND($A862=Y$3,$D862<0),0)","v":0},0,{"$f":"IF($A862=AA$3,AND($A862=AA$3,$D862<0),0)","v":0},0,{"$f":"IF($A862=AC$3,AND($A862=AC$3,$D862<0),0)","v":0},0,0]
[{"$f":"IF(B863=0,\"\",MONTH(B863))","v":""},null,null,null,{"$f":"IF(D863=\"\",\"\",IF(D863<0,\"DEBITO\",\"CREDITO\"))","v":""},null,false,false,0,{"$f":"IF($A863=I$3,AND($A863=I$3,$D863<0),0)","v":0},0,{"$f":"IF($A863=K$3,AND($A863=K$3,$D863<0),0)","v":0},0,{"$f":"IF($A863=M$3,AND($A863=M$3,$D863<0),0)","v":0},0,{"$f":"IF($A863=O$3,AND($A863=O$3,$D863<0),0)","v":0},0,0,0,0,0,0,0,{"$f":"IF($A863=W$3,AND($A863=W$3,$D863<0),0)","v":0},0,{"$f":"IF($A863=Y$3,AND($A863=Y$3,$D863<0),0)","v":0},0,{"$f":"IF($A863=AA$3,AND($A863=AA$3,$D863<0),0)","v":0},0,{"$f":"IF($A863=AC$3,AND($A863=AC$3,$D863<0),0)","v":0},0,0]
[{"$f":"IF(B864=0,\"\",MONTH(B864))","v":""},null,null,null,{"$f":"IF(D864=\"\",\"\",IF(D864<0,\"DEBITO\",\"CREDITO\"))","v":""},null,false,false,0,{"$f":"IF($A864=I$3,AND($A864=I$3,$D864<0),0)","v":0},0,{"$f":"IF($A864=K$3,AND($A864=K$3,$D864<0),0)","v":0},0,{"$f":"IF($A864=M$3,AND($A864=M$3,$D864<0),0)","v":0},0,{"$f":"IF($A864=O$3,AND($A864=O$3,$D864<0),0)","v":0},0,0,0,0,0,0,0,{"$f":"IF($A864=W$3,AND($A864=W$3,$D864<0),0)","v":0},0,{"$f":"IF($A864=Y$3,AND($A864=Y$3,$D864<0),0)","v":0},0,{"$f":"IF($A864=AA$3,AND($A864=AA$3,$D864<0),0)","v":0},0,{"$f":"IF($A864=AC$3,AND($A864=AC$3,$D864<0),0)","v":0},0,0]
[{"$f":"IF(B865=0,\"\",MONTH(B865))","v":""},null,null,null,{"$f":"IF(D865=\"\",\"\",IF(D865<0,\"DEBITO\",\"CREDITO\"))","v":""},null,false,false,0,{"$f":"IF($A865=I$3,AND($A865=I$3,$D865<0),0)","v":0},0,{"$f":"IF($A865=K$3,AND($A865=K$3,$D865<0),0)","v":0},0,{"$f":"IF($A865=M$3,AND($A865=M$3,$D865<0),0)","v":0},0,{"$f":"IF($A865=O$3,AND($A865=O$3,$D865<0),0)","v":0},0,0,0,0,0,0,0,{"$f":"IF($A865=W$3,AND($A865=W$3,$D865<0),0)","v":0},0,{"$f":"IF($A865=Y$3,AND($A865=Y$3,$D865<0),0)","v":0},0,{"$f":"IF($A865=AA$3,AND($A865=AA$3,$D865<0),0)","v":0},0,{"$f":"IF($A865=AC$3,AND($A865=AC$3,$D865<0),0)","v":0},0,0]
[{"$f":"IF(B866=0,\"\",MONTH(B866))","v":""},null,null,null,{"$f":"IF(D866=\"\",\"\",IF(D866<0,\"DEBITO\",\"CREDITO\"))","v":""},null,false,false,0,{"$f":"IF($A866=I$3,AND($A866=I$3,$D866<0),0)","v":0},0,{"$f":"IF($A866=K$3,AND($A866=K$3,$D866<0),0)","v":0},0,{"$f":"IF($A866=M$3,AND($A866=M$3,$D866<0),0)","v":0},0,{"$f":"IF($A866=O$3,AND($A866=O$3,$D866<0),0)","v":0},0,0,0,0,0,0,0,{"$f":"IF($A866=W$3,AND($A866=W$3,$D866<0),0)","v":0},0,{"$f":"IF($A866=Y$3,AND($A866=Y$3,$D866<0),0)","v":0},0,{"$f":"IF($A866=AA$3,AND($A866=AA$3,$D866<0),0)","v":0},0,{"$f":"IF($A866=AC$3,AND($A866=AC$3,$D866<0),0)","v":0},0,0]
[{"$f":"IF(B867=0,\"\",MONTH(B867))","v":""},null,null,null,{"$f":"IF(D867=\"\",\"\",IF(D867<0,\"DEBITO\",\"CREDITO\"))","v":""},null,false,false,0,{"$f":"IF($A867=I$3,AND($A867=I$3,$D867<0),0)","v":0},0,{"$f":"IF($A867=K$3,AND($A867=K$3,$D867<0),0)","v":0},0,{"$f":"IF($A867=M$3,AND($A867=M$3,$D867<0),0)","v":0},0,{"$f":"IF($A867=O$3,AND($A867=O$3,$D867<0),0)","v":0},0,0,0,0,0,0,0,{"$f":"IF($A867=W$3,AND($A867=W$3,$D867<0),0)","v":0},0,{"$f":"IF($A867=Y$3,AND($A867=Y$3,$D867<0),0)","v":0},0,{"$f":"IF($A867=AA$3,AND($A867=AA$3,$D867<0),0)","v":0},0,{"$f":"IF($A867=AC$3,AND($A867=AC$3,$D867<0),0)","v":0},0,0]
[{"$f":"IF(B868=0,\"\",MONTH(B868))","v":""},null,null,null,{"$f":"IF(D868=\"\",\"\",IF(D868<0,\"DEBITO\",\"CREDITO\"))","v":""},null,false,false,0,{"$f":"IF($A868=I$3,AND($A868=I$3,$D868<0),0)","v":0},0,{"$f":"IF($A868=K$3,AND($A868=K$3,$D868<0),0)","v":0},0,{"$f":"IF($A868=M$3,AND($A868=M$3,$D868<0),0)","v":0},0,{"$f":"IF($A868=O$3,AND($A868=O$3,$D868<0),0)","v":0},0,0,0,0,0,0,0,{"$f":"IF($A868=W$3,AND($A868=W$3,$D868<0),0)","v":0},0,{"$f":"IF($A868=Y$3,AND($A868=Y$3,$D868<0),0)","v":0},0,{"$f":"IF($A868=AA$3,AND($A868=AA$3,$D868<0),0)","v":0},0,{"$f":"IF($A868=AC$3,AND($A868=AC$3,$D868<0),0)","v":0},0,0]
[{"$f":"IF(B869=0,\"\",MONTH(B869))","v":""},null,null,null,{"$f":"IF(D869=\"\",\"\",IF(D869<0,\"DEBITO\",\"CREDITO\"))","v":""},null,false,false,0,{"$f":"IF($A869=I$3,AND($A869=I$3,$D869<0),0)","v":0},0,{"$f":"IF($A869=K$3,AND($A869=K$3,$D869<0),0)","v":0},0,{"$f":"IF($A869=M$3,AND($A869=M$3,$D869<0),0)","v":0},0,{"$f":"IF($A869=O$3,AND($A869=O$3,$D869<0),0)","v":0},0,0,0,0,0,0,0,{"$f":"IF($A869=W$3,AND($A869=W$3,$D869<0),0)","v":0},0,{"$f":"IF($A869=Y$3,AND($A869=Y$3,$D869<0),0)","v":0},0,{"$f":"IF($A869=AA$3,AND($A869=AA$3,$D869<0),0)","v":0},0,{"$f":"IF($A869=AC$3,AND($A869=AC$3,$D869<0),0)","v":0},0,0]
[{"$f":"IF(B870=0,\"\",MONTH(B870))","v":""},null,null,null,{"$f":"IF(D870=\"\",\"\",IF(D870<0,\"DEBITO\",\"CREDITO\"))","v":""},null,false,false,0,{"$f":"IF($A870=I$3,AND($A870=I$3,$D870<0),0)","v":0},0,{"$f":"IF($A870=K$3,AND($A870=K$3,$D870<0),0)","v":0},0,{"$f":"IF($A870=M$3,AND($A870=M$3,$D870<0),0)","v":0},0,{"$f":"IF($A870=O$3,AND($A870=O$3,$D870<0),0)","v":0},0,0,0,0,0,0,0,{"$f":"IF($A870=W$3,AND($A870=W$3,$D870<0),0)","v":0},0,{"$f":"IF($A870=Y$3,AND($A870=Y$3,$D870<0),0)","v":0},0,{"$f":"IF($A870=AA$3,AND($A870=AA$3,$D870<0),0)","v":0},0,{"$f":"IF($A870=AC$3,AND($A870=AC$3,$D870<0),0)","v":0},0,0]
[{"$f":"IF(B871=0,\"\",MONTH(B871))","v":""},null,null,null,{"$f":"IF(D871=\"\",\"\",IF(D871<0,\"DEBITO\",\"CREDITO\"))","v":""},null,false,false,0,{"$f":"IF($A871=I$3,AND($A871=I$3,$D871<0),0)","v":0},0,{"$f":"IF($A871=K$3,AND($A871=K$3,$D871<0),0)","v":0},0,{"$f":"IF($A871=M$3,AND($A871=M$3,$D871<0),0)","v":0},0,{"$f":"IF($A871=O$3,AND($A871=O$3,$D871<0),0)","v":0},0,0,0,0,0,0,0,{"$f":"IF($A871=W$3,AND($A871=W$3,$D871<0),0)","v":0},0,{"$f":"IF($A871=Y$3,AND($A871=Y$3,$D871<0),0)","v":0},0,{"$f":"IF($A871=AA$3,AND($A871=AA$3,$D871<0),0)","v":0},0,{"$f":"IF($A871=AC$3,AND($A871=AC$3,$D871<0),0)","v":0},0,0]
[{"$f":"IF(B872=0,\"\",MONTH(B872))","v":""},null,null,null,{"$f":"IF(D872=\"\",\"\",IF(D872<0,\"DEBITO\",\"CREDITO\"))","v":""},null,false,false,0,{"$f":"IF($A872=I$3,AND($A872=I$3,$D872<0),0)","v":0},0,{"$f":"IF($A872=K$3,AND($A872=K$3,$D872<0),0)","v":0},0,{"$f":"IF($A872=M$3,AND($A872=M$3,$D872<0),0)","v":0},0,{"$f":"IF($A872=O$3,AND($A872=O$3,$D872<0),0)","v":0},0,0,0,0,0,0,0,{"$f":"IF($A872=W$3,AND($A872=W$3,$D872<0),0)","v":0},0,{"$f":"IF($A872=Y$3,AND($A872=Y$3,$D872<0),0)","v":0},0,{"$f":"IF($A872=AA$3,AND($A872=AA$3,$D872<0),0)","v":0},0,{"$f":"IF($A872=AC$3,AND($A872=AC$3,$D872<0),0)","v":0},0,0]
[{"$f":"IF(B873=0,\"\",MONTH(B873))","v":""},null,null,null,{"$f":"IF(D873=\"\",\"\",IF(D873<0,\"DEBITO\",\"CREDITO\"))","v":""},null,false,false,0,{"$f":"IF($A873=I$3,AND($A873=I$3,$D873<0),0)","v":0},0,{"$f":"IF($A873=K$3,AND($A873=K$3,$D873<0),0)","v":0},0,{"$f":"IF($A873=M$3,AND($A873=M$3,$D873<0),0)","v":0},0,{"$f":"IF($A873=O$3,AND($A873=O$3,$D873<0),0)","v":0},0,0,0,0,0,0,0,{"$f":"IF($A873=W$3,AND($A873=W$3,$D873<0),0)","v":0},0,{"$f":"IF($A873=Y$3,AND($A873=Y$3,$D873<0),0)","v":0},0,{"$f":"IF($A873=AA$3,AND($A873=AA$3,$D873<0),0)","v":0},0,{"$f":"IF($A873=AC$3,AND($A873=AC$3,$D873<0),0)","v":0},0,0]
[{"$f":"IF(B874=0,\"\",MONTH(B874))","v":""},null,null,null,{"$f":"IF(D874=\"\",\"\",IF(D874<0,\"DEBITO\",\"CREDITO\"))","v":""},null,false,false,0,{"$f":"IF($A874=I$3,AND($A874=I$3,$D874<0),0)","v":0},0,{"$f":"IF($A874=K$3,AND($A874=K$3,$D874<0),0)","v":0},0,{"$f":"IF($A874=M$3,AND($A874=M$3,$D874<0),0)","v":0},0,{"$f":"IF($A874=O$3,AND($A874=O$3,$D874<0),0)","v":0},0,0,0,0,0,0,0,{"$f":"IF($A874=W$3,AND($A874=W$3,$D874<0),0)","v":0},0,{"$f":"IF($A874=Y$3,AND($A874=Y$3,$D874<0),0)","v":0},0,{"$f":"IF($A874=AA$3,AND($A874=AA$3,$D874<0),0)","v":0},0,{"$f":"IF($A874=AC$3,AND($A874=AC$3,$D874<0),0)","v":0},0,0]
[{"$f":"IF(B875=0,\"\",MONTH(B875))","v":""},null,null,null,{"$f":"IF(D875=\"\",\"\",IF(D875<0,\"DEBITO\",\"CREDITO\"))","v":""},null,false,false,0,{"$f":"IF($A875=I$3,AND($A875=I$3,$D875<0),0)","v":0},0,{"$f":"IF($A875=K$3,AND($A875=K$3,$D875<0),0)","v":0},0,{"$f":"IF($A875=M$3,AND($A875=M$3,$D875<0),0)","v":0},0,{"$f":"IF($A875=O$3,AND($A875=O$3,$D875<0),0)","v":0},0,0,0,0,0,0,0,{"$f":"IF($A875=W$3,AND($A875=W$3,$D875<0),0)","v":0},0,{"$f":"IF($A875=Y$3,AND($A875=Y$3,$D875<0),0)","v":0},0,{"$f":"IF($A875=AA$3,AND($A875=AA$3,$D875<0),0)","v":0},0,{"$f":"IF($A875=AC$3,AND($A875=AC$3,$D875<0),0)","v":0},0,0]
[{"$f":"IF(B876=0,\"\",MONTH(B876))","v":""},null,null,null,{"$f":"IF(D876=\"\",\"\",IF(D876<0,\"DEBITO\",\"CREDITO\"))","v":""},null,false,false,0,{"$f":"IF($A876=I$3,AND($A876=I$3,$D876<0),0)","v":0},0,{"$f":"IF($A876=K$3,AND($A876=K$3,$D876<0),0)","v":0},0,{"$f":"IF($A876=M$3,AND($A876=M$3,$D876<0),0)","v":0},0,{"$f":"IF($A876=O$3,AND($A876=O$3,$D876<0),0)","v":0},0,0,0,0,0,0,0,{"$f":"IF($A876=W$3,AND($A876=W$3,$D876<0),0)","v":0},0,{"$f":"IF($A876=Y$3,AND($A876=Y$3,$D876<0),0)","v":0},0,{"$f":"IF($A876=AA$3,AND($A876=AA$3,$D876<0),0)","v":0},0,{"$f":"IF($A876=AC$3,AND($A876=AC$3,$D876<0),0)","v":0},0,0]
[{"$f":"IF(B877=0,\"\",MONTH(B877))","v":""},null,null,null,{"$f":"IF(D877=\"\",\"\",IF(D877<0,\"DEBITO\",\"CREDITO\"))","v":""},null,false,false,0,{"$f":"IF($A877=I$3,AND($A877=I$3,$D877<0),0)","v":0},0,{"$f":"IF($A877=K$3,AND($A877=K$3,$D877<0),0)","v":0},0,{"$f":"IF($A877=M$3,AND($A877=M$3,$D877<0),0)","v":0},0,{"$f":"IF($A877=O$3,AND($A877=O$3,$D877<0),0)","v":0},0,0,0,0,0,0,0,{"$f":"IF($A877=W$3,AND($A877=W$3,$D877<0),0)","v":0},0,{"$f":"IF($A877=Y$3,AND($A877=Y$3,$D877<0),0)","v":0},0,{"$f":"IF($A877=AA$3,AND($A877=AA$3,$D877<0),0)","v":0},0,{"$f":"IF($A877=AC$3,AND($A877=AC$3,$D877<0),0)","v":0},0,0]
[{"$f":"IF(B878=0,\"\",MONTH(B878))","v":""},null,null,null,{"$f":"IF(D878=\"\",\"\",IF(D878<0,\"DEBITO\",\"CREDITO\"))","v":""},null,false,false,0,{"$f":"IF($A878=I$3,AND($A878=I$3,$D878<0),0)","v":0},0,{"$f":"IF($A878=K$3,AND($A878=K$3,$D878<0),0)","v":0},0,{"$f":"IF($A878=M$3,AND($A878=M$3,$D878<0),0)","v":0},0,{"$f":"IF($A878=O$3,AND($A878=O$3,$D878<0),0)","v":0},0,0,0,0,0,0,0,{"$f":"IF($A878=W$3,AND($A878=W$3,$D878<0),0)","v":0},0,{"$f":"IF($A878=Y$3,AND($A878=Y$3,$D878<0),0)","v":0},0,{"$f":"IF($A878=AA$3,AND($A878=AA$3,$D878<0),0)","v":0},0,{"$f":"IF($A878=AC$3,AND($A878=AC$3,$D878<0),0)","v":0},0,0]
[{"$f":"IF(B879=0,\"\",MONTH(B879))","v":""},null,null,null,{"$f":"IF(D879=\"\",\"\",IF(D879<0,\"DEBITO\",\"CREDITO\"))","v":""},null,false,false,0,{"$f":"IF($A879=I$3,AND($A879=I$3,$D879<0),0)","v":0},0,{"$f":"IF($A879=K$3,AND($A879=K$3,$D879<0),0)","v":0},0,{"$f":"IF($A879=M$3,AND($A879=M$3,$D879<0),0)","v":0},0,{"$f":"IF($A879=O$3,AND($A879=O$3,$D879<0),0)","v":0},0,0,0,0,0,0,0,{"$f":"IF($A879=W$3,AND($A879=W$3,$D879<0),0)","v":0},0,{"$f":"IF($A879=Y$3,AND($A879=Y$3,$D879<0),0)","v":0},0,{"$f":"IF($A879=AA$3,AND($A879=AA$3,$D879<0),0)","v":0},0,{"$f":"IF($A879=AC$3,AND($A879=AC$3,$D879<0),0)","v":0},0,0]
[{"$f":"IF(B880=0,\"\",MONTH(B880))","v":""},null,null,null,{"$f":"IF(D880=\"\",\"\",IF(D880<0,\"DEBITO\",\"CREDITO\"))","v":""},null,false,false,0,{"$f":"IF($A880=I$3,AND($A880=I$3,$D880<0),0)","v":0},0,{"$f":"IF($A880=K$3,AND($A880=K$3,$D880<0),0)","v":0},0,{"$f":"IF($A880=M$3,AND($A880=M$3,$D880<0),0)","v":0},0,{"$f":"IF($A880=O$3,AND($A880=O$3,$D880<0),0)","v":0},0,0,0,0,0,0,0,{"$f":"IF($A880=W$3,AND($A880=W$3,$D880<0),0)","v":0},0,{"$f":"IF($A880=Y$3,AND($A880=Y$3,$D880<0),0)","v":0},0,{"$f":"IF($A880=AA$3,AND($A880=AA$3,$D880<0),0)","v":0},0,{"$f":"IF($A880=AC$3,AND($A880=AC$3,$D880<0),0)","v":0},0,0]
[{"$f":"IF(B881=0,\"\",MONTH(B881))","v":""},null,null,null,{"$f":"IF(D881=\"\",\"\",IF(D881<0,\"DEBITO\",\"CREDITO\"))","v":""},null,false,false,0,{"$f":"IF($A881=I$3,AND($A881=I$3,$D881<0),0)","v":0},0,{"$f":"IF($A881=K$3,AND($A881=K$3,$D881<0),0)","v":0},0,{"$f":"IF($A881=M$3,AND($A881=M$3,$D881<0),0)","v":0},0,{"$f":"IF($A881=O$3,AND($A881=O$3,$D881<0),0)","v":0},0,0,0,0,0,0,0,{"$f":"IF($A881=W$3,AND($A881=W$3,$D881<0),0)","v":0},0,{"$f":"IF($A881=Y$3,AND($A881=Y$3,$D881<0),0)","v":0},0,{"$f":"IF($A881=AA$3,AND($A881=AA$3,$D881<0),0)","v":0},0,{"$f":"IF($A881=AC$3,AND($A881=AC$3,$D881<0),0)","v":0},0,0]
[{"$f":"IF(B882=0,\"\",MONTH(B882))","v":""},null,null,null,{"$f":"IF(D882=\"\",\"\",IF(D882<0,\"DEBITO\",\"CREDITO\"))","v":""},null,false,false,0,{"$f":"IF($A882=I$3,AND($A882=I$3,$D882<0),0)","v":0},0,{"$f":"IF($A882=K$3,AND($A882=K$3,$D882<0),0)","v":0},0,{"$f":"IF($A882=M$3,AND($A882=M$3,$D882<0),0)","v":0},0,{"$f":"IF($A882=O$3,AND($A882=O$3,$D882<0),0)","v":0},0,0,0,0,0,0,0,{"$f":"IF($A882=W$3,AND($A882=W$3,$D882<0),0)","v":0},0,{"$f":"IF($A882=Y$3,AND($A882=Y$3,$D882<0),0)","v":0},0,{"$f":"IF($A882=AA$3,AND($A882=AA$3,$D882<0),0)","v":0},0,{"$f":"IF($A882=AC$3,AND($A882=AC$3,$D882<0),0)","v":0},0,0]
[{"$f":"IF(B883=0,\"\",MONTH(B883))","v":""},null,null,null,{"$f":"IF(D883=\"\",\"\",IF(D883<0,\"DEBITO\",\"CREDITO\"))","v":""},null,false,false,0,{"$f":"IF($A883=I$3,AND($A883=I$3,$D883<0),0)","v":0},0,{"$f":"IF($A883=K$3,AND($A883=K$3,$D883<0),0)","v":0},0,{"$f":"IF($A883=M$3,AND($A883=M$3,$D883<0),0)","v":0},0,{"$f":"IF($A883=O$3,AND($A883=O$3,$D883<0),0)","v":0},0,0,0,0,0,0,0,{"$f":"IF($A883=W$3,AND($A883=W$3,$D883<0),0)","v":0},0,{"$f":"IF($A883=Y$3,AND($A883=Y$3,$D883<0),0)","v":0},0,{"$f":"IF($A883=AA$3,AND($A883=AA$3,$D883<0),0)","v":0},0,{"$f":"IF($A883=AC$3,AND($A883=AC$3,$D883<0),0)","v":0},0,0]
[{"$f":"IF(B884=0,\"\",MONTH(B884))","v":""},null,null,null,{"$f":"IF(D884=\"\",\"\",IF(D884<0,\"DEBITO\",\"CREDITO\"))","v":""},null,false,false,0,{"$f":"IF($A884=I$3,AND($A884=I$3,$D884<0),0)","v":0},0,{"$f":"IF($A884=K$3,AND($A884=K$3,$D884<0),0)","v":0},0,{"$f":"IF($A884=M$3,AND($A884=M$3,$D884<0),0)","v":0},0,{"$f":"IF($A884=O$3,AND($A884=O$3,$D884<0),0)","v":0},0,0,0,0,0,0,0,{"$f":"IF($A884=W$3,AND($A884=W$3,$D884<0),0)","v":0},0,{"$f":"IF($A884=Y$3,AND($A884=Y$3,$D884<0),0)","v":0},0,{"$f":"IF($A884=AA$3,AND($A884=AA$3,$D884<0),0)","v":0},0,{"$f":"IF($A884=AC$3,AND($A884=AC$3,$D884<0),0)","v":0},0,0]
[{"$f":"IF(B885=0,\"\",MONTH(B885))","v":""},null,null,null,{"$f":"IF(D885=\"\",\"\",IF(D885<0,\"DEBITO\",\"CREDITO\"))","v":""},null,false,false,0,{"$f":"IF($A885=I$3,AND($A885=I$3,$D885<0),0)","v":0},0,{"$f":"IF($A885=K$3,AND($A885=K$3,$D885<0),0)","v":0},0,{"$f":"IF($A885=M$3,AND($A885=M$3,$D885<0),0)","v":0},0,{"$f":"IF($A885=O$3,AND($A885=O$3,$D885<0),0)","v":0},0,0,0,0,0,0,0,{"$f":"IF($A885=W$3,AND($A885=W$3,$D885<0),0)","v":0},0,{"$f":"IF($A885=Y$3,AND($A885=Y$3,$D885<0),0)","v":0},0,{"$f":"IF($A885=AA$3,AND($A885=AA$3,$D885<0),0)","v":0},0,{"$f":"IF($A885=AC$3,AND($A885=AC$3,$D885<0),0)","v":0},0,0]
[{"$f":"IF(B886=0,\"\",MONTH(B886))","v":""},null,null,null,{"$f":"IF(D886=\"\",\"\",IF(D886<0,\"DEBITO\",\"CREDITO\"))","v":""},null,false,false,0,{"$f":"IF($A886=I$3,AND($A886=I$3,$D886<0),0)","v":0},0,{"$f":"IF($A886=K$3,AND($A886=K$3,$D886<0),0)","v":0},0,{"$f":"IF($A886=M$3,AND($A886=M$3,$D886<0),0)","v":0},0,{"$f":"IF($A886=O$3,AND($A886=O$3,$D886<0),0)","v":0},0,0,0,0,0,0,0,{"$f":"IF($A886=W$3,AND($A886=W$3,$D886<0),0)","v":0},0,{"$f":"IF($A886=Y$3,AND($A886=Y$3,$D886<0),0)","v":0},0,{"$f":"IF($A886=AA$3,AND($A886=AA$3,$D886<0),0)","v":0},0,{"$f":"IF($A886=AC$3,AND($A886=AC$3,$D886<0),0)","v":0},0,0]
[{"$f":"IF(B887=0,\"\",MONTH(B887))","v":""},null,null,null,{"$f":"IF(D887=\"\",\"\",IF(D887<0,\"DEBITO\",\"CREDITO\"))","v":""},null,false,false,0,{"$f":"IF($A887=I$3,AND($A887=I$3,$D887<0),0)","v":0},0,{"$f":"IF($A887=K$3,AND($A887=K$3,$D887<0),0)","v":0},0,{"$f":"IF($A887=M$3,AND($A887=M$3,$D887<0),0)","v":0},0,{"$f":"IF($A887=O$3,AND($A887=O$3,$D887<0),0)","v":0},0,0,0,0,0,0,0,{"$f":"IF($A887=W$3,AND($A887=W$3,$D887<0),0)","v":0},0,{"$f":"IF($A887=Y$3,AND($A887=Y$3,$D887<0),0)","v":0},0,{"$f":"IF($A887=AA$3,AND($A887=AA$3,$D887<0),0)","v":0},0,{"$f":"IF($A887=AC$3,AND($A887=AC$3,$D887<0),0)","v":0},0,0]
[{"$f":"IF(B888=0,\"\",MONTH(B888))","v":""},null,null,null,{"$f":"IF(D888=\"\",\"\",IF(D888<0,\"DEBITO\",\"CREDITO\"))","v":""},null,false,false,0,{"$f":"IF($A888=I$3,AND($A888=I$3,$D888<0),0)","v":0},0,{"$f":"IF($A888=K$3,AND($A888=K$3,$D888<0),0)","v":0},0,{"$f":"IF($A888=M$3,AND($A888=M$3,$D888<0),0)","v":0},0,{"$f":"IF($A888=O$3,AND($A888=O$3,$D888<0),0)","v":0},0,0,0,0,0,0,0,{"$f":"IF($A888=W$3,AND($A888=W$3,$D888<0),0)","v":0},0,{"$f":"IF($A888=Y$3,AND($A888=Y$3,$D888<0),0)","v":0},0,{"$f":"IF($A888=AA$3,AND($A888=AA$3,$D888<0),0)","v":0},0,{"$f":"IF($A888=AC$3,AND($A888=AC$3,$D888<0),0)","v":0},0,0]
[{"$f":"IF(B889=0,\"\",MONTH(B889))","v":""},null,null,null,{"$f":"IF(D889=\"\",\"\",IF(D889<0,\"DEBITO\",\"CREDITO\"))","v":""},null,false,false,0,{"$f":"IF($A889=I$3,AND($A889=I$3,$D889<0),0)","v":0},0,{"$f":"IF($A889=K$3,AND($A889=K$3,$D889<0),0)","v":0},0,{"$f":"IF($A889=M$3,AND($A889=M$3,$D889<0),0)","v":0},0,{"$f":"IF($A889=O$3,AND($A889=O$3,$D889<0),0)","v":0},0,0,0,0,0,0,0,{"$f":"IF($A889=W$3,AND($A889=W$3,$D889<0),0)","v":0},0,{"$f":"IF($A889=Y$3,AND($A889=Y$3,$D889<0),0)","v":0},0,{"$f":"IF($A889=AA$3,AND($A889=AA$3,$D889<0),0)","v":0},0,{"$f":"IF($A889=AC$3,AND($A889=AC$3,$D889<0),0)","v":0},0,0]
[{"$f":"IF(B890=0,\"\",MONTH(B890))","v":""},null,null,null,{"$f":"IF(D890=\"\",\"\",IF(D890<0,\"DEBITO\",\"CREDITO\"))","v":""},null,false,false,0,{"$f":"IF($A890=I$3,AND($A890=I$3,$D890<0),0)","v":0},0,{"$f":"IF($A890=K$3,AND($A890=K$3,$D890<0),0)","v":0},0,{"$f":"IF($A890=M$3,AND($A890=M$3,$D890<0),0)","v":0},0,{"$f":"IF($A890=O$3,AND($A890=O$3,$D890<0),0)","v":0},0,0,0,0,0,0,0,{"$f":"IF($A890=W$3,AND($A890=W$3,$D890<0),0)","v":0},0,{"$f":"IF($A890=Y$3,AND($A890=Y$3,$D890<0),0)","v":0},0,{"$f":"IF($A890=AA$3,AND($A890=AA$3,$D890<0),0)","v":0},0,{"$f":"IF($A890=AC$3,AND($A890=AC$3,$D890<0),0)","v":0},0,0]
[{"$f":"IF(B891=0,\"\",MONTH(B891))","v":""},null,null,null,{"$f":"IF(D891=\"\",\"\",IF(D891<0,\"DEBITO\",\"CREDITO\"))","v":""},null,false,false,0,{"$f":"IF($A891=I$3,AND($A891=I$3,$D891<0),0)","v":0},0,{"$f":"IF($A891=K$3,AND($A891=K$3,$D891<0),0)","v":0},0,{"$f":"IF($A891=M$3,AND($A891=M$3,$D891<0),0)","v":0},0,{"$f":"IF($A891=O$3,AND($A891=O$3,$D891<0),0)","v":0},0,0,0,0,0,0,0,{"$f":"IF($A891=W$3,AND($A891=W$3,$D891<0),0)","v":0},0,{"$f":"IF($A891=Y$3,AND($A891=Y$3,$D891<0),0)","v":0},0,{"$f":"IF($A891=AA$3,AND($A891=AA$3,$D891<0),0)","v":0},0,{"$f":"IF($A891=AC$3,AND($A891=AC$3,$D891<0),0)","v":0},0,0]
[{"$f":"IF(B892=0,\"\",MONTH(B892))","v":""},null,null,null,{"$f":"IF(D892=\"\",\"\",IF(D892<0,\"DEBITO\",\"CREDITO\"))","v":""},null,false,false,0,{"$f":"IF($A892=I$3,AND($A892=I$3,$D892<0),0)","v":0},0,{"$f":"IF($A892=K$3,AND($A892=K$3,$D892<0),0)","v":0},0,{"$f":"IF($A892=M$3,AND($A892=M$3,$D892<0),0)","v":0},0,{"$f":"IF($A892=O$3,AND($A892=O$3,$D892<0),0)","v":0},0,0,0,0,0,0,0,{"$f":"IF($A892=W$3,AND($A892=W$3,$D892<0),0)","v":0},0,{"$f":"IF($A892=Y$3,AND($A892=Y$3,$D892<0),0)","v":0},0,{"$f":"IF($A892=AA$3,AND($A892=AA$3,$D892<0),0)","v":0},0,{"$f":"IF($A892=AC$3,AND($A892=AC$3,$D892<0),0)","v":0},0,0]
[{"$f":"IF(B893=0,\"\",MONTH(B893))","v":""},null,null,null,{"$f":"IF(D893=\"\",\"\",IF(D893<0,\"DEBITO\",\"CREDITO\"))","v":""},null,false,false,0,{"$f":"IF($A893=I$3,AND($A893=I$3,$D893<0),0)","v":0},0,{"$f":"IF($A893=K$3,AND($A893=K$3,$D893<0),0)","v":0},0,{"$f":"IF($A893=M$3,AND($A893=M$3,$D893<0),0)","v":0},0,{"$f":"IF($A893=O$3,AND($A893=O$3,$D893<0),0)","v":0},0,0,0,0,0,0,0,{"$f":"IF($A893=W$3,AND($A893=W$3,$D893<0),0)","v":0},0,{"$f":"IF($A893=Y$3,AND($A893=Y$3,$D893<0),0)","v":0},0,{"$f":"IF($A893=AA$3,AND($A893=AA$3,$D893<0),0)","v":0},0,{"$f":"IF($A893=AC$3,AND($A893=AC$3,$D893<0),0)","v":0},0,0]
[{"$f":"IF(B894=0,\"\",MONTH(B894))","v":""},null,null,null,{"$f":"IF(D894=\"\",\"\",IF(D894<0,\"DEBITO\",\"CREDITO\"))","v":""},null,false,false,0,{"$f":"IF($A894=I$3,AND($A894=I$3,$D894<0),0)","v":0},0,{"$f":"IF($A894=K$3,AND($A894=K$3,$D894<0),0)","v":0},0,{"$f":"IF($A894=M$3,AND($A894=M$3,$D894<0),0)","v":0},0,{"$f":"IF($A894=O$3,AND($A894=O$3,$D894<0),0)","v":0},0,0,0,0,0,0,0,{"$f":"IF($A894=W$3,AND($A894=W$3,$D894<0),0)","v":0},0,{"$f":"IF($A894=Y$3,AND($A894=Y$3,$D894<0),0)","v":0},0,{"$f":"IF($A894=AA$3,AND($A894=AA$3,$D894<0),0)","v":0},0,{"$f":"IF($A894=AC$3,AND($A894=AC$3,$D894<0),0)","v":0},0,0]
[{"$f":"IF(B895=0,\"\",MONTH(B895))","v":""},null,null,null,{"$f":"IF(D895=\"\",\"\",IF(D895<0,\"DEBITO\",\"CREDITO\"))","v":""},null,false,false,0,{"$f":"IF($A895=I$3,AND($A895=I$3,$D895<0),0)","v":0},0,{"$f":"IF($A895=K$3,AND($A895=K$3,$D895<0),0)","v":0},0,{"$f":"IF($A895=M$3,AND($A895=M$3,$D895<0),0)","v":0},0,{"$f":"IF($A895=O$3,AND($A895=O$3,$D895<0),0)","v":0},0,0,0,0,0,0,0,{"$f":"IF($A895=W$3,AND($A895=W$3,$D895<0),0)","v":0},0,{"$f":"IF($A895=Y$3,AND($A895=Y$3,$D895<0),0)","v":0},0,{"$f":"IF($A895=AA$3,AND($A895=AA$3,$D895<0),0)","v":0},0,{"$f":"IF($A895=AC$3,AND($A895=AC$3,$D895<0),0)","v":0},0,0]
[{"$f":"IF(B896=0,\"\",MONTH(B896))","v":""},null,null,null,{"$f":"IF(D896=\"\",\"\",IF(D896<0,\"DEBITO\",\"CREDITO\"))","v":""},null,false,false,0,{"$f":"IF($A896=I$3,AND($A896=I$3,$D896<0),0)","v":0},0,{"$f":"IF($A896=K$3,AND($A896=K$3,$D896<0),0)","v":0},0,{"$f":"IF($A896=M$3,AND($A896=M$3,$D896<0),0)","v":0},0,{"$f":"IF($A896=O$3,AND($A896=O$3,$D896<0),0)","v":0},0,0,0,0,0,0,0,{"$f":"IF($A896=W$3,AND($A896=W$3,$D896<0),0)","v":0},0,{"$f":"IF($A896=Y$3,AND($A896=Y$3,$D896<0),0)","v":0},0,{"$f":"IF($A896=AA$3,AND($A896=AA$3,$D896<0),0)","v":0},0,{"$f":"IF($A896=AC$3,AND($A896=AC$3,$D896<0),0)","v":0},0,0]
[{"$f":"IF(B897=0,\"\",MONTH(B897))","v":""},null,null,null,{"$f":"IF(D897=\"\",\"\",IF(D897<0,\"DEBITO\",\"CREDITO\"))","v":""},null,false,false,0,{"$f":"IF($A897=I$3,AND($A897=I$3,$D897<0),0)","v":0},0,{"$f":"IF($A897=K$3,AND($A897=K$3,$D897<0),0)","v":0},0,{"$f":"IF($A897=M$3,AND($A897=M$3,$D897<0),0)","v":0},0,{"$f":"IF($A897=O$3,AND($A897=O$3,$D897<0),0)","v":0},0,0,0,0,0,0,0,{"$f":"IF($A897=W$3,AND($A897=W$3,$D897<0),0)","v":0},0,{"$f":"IF($A897=Y$3,AND($A897=Y$3,$D897<0),0)","v":0},0,{"$f":"IF($A897=AA$3,AND($A897=AA$3,$D897<0),0)","v":0},0,{"$f":"IF($A897=AC$3,AND($A897=AC$3,$D897<0),0)","v":0},0,0]
[{"$f":"IF(B898=0,\"\",MONTH(B898))","v":""},null,null,null,{"$f":"IF(D898=\"\",\"\",IF(D898<0,\"DEBITO\",\"CREDITO\"))","v":""},null,false,false,0,{"$f":"IF($A898=I$3,AND($A898=I$3,$D898<0),0)","v":0},0,{"$f":"IF($A898=K$3,AND($A898=K$3,$D898<0),0)","v":0},0,{"$f":"IF($A898=M$3,AND($A898=M$3,$D898<0),0)","v":0},0,{"$f":"IF($A898=O$3,AND($A898=O$3,$D898<0),0)","v":0},0,0,0,0,0,0,0,{"$f":"IF($A898=W$3,AND($A898=W$3,$D898<0),0)","v":0},0,{"$f":"IF($A898=Y$3,AND($A898=Y$3,$D898<0),0)","v":0},0,{"$f":"IF($A898=AA$3,AND($A898=AA$3,$D898<0),0)","v":0},0,{"$f":"IF($A898=AC$3,AND($A898=AC$3,$D898<0),0)","v":0},0,0]
[{"$f":"IF(B899=0,\"\",MONTH(B899))","v":""},null,null,null,{"$f":"IF(D899=\"\",\"\",IF(D899<0,\"DEBITO\",\"CREDITO\"))","v":""},null,false,false,0,{"$f":"IF($A899=I$3,AND($A899=I$3,$D899<0),0)","v":0},0,{"$f":"IF($A899=K$3,AND($A899=K$3,$D899<0),0)","v":0},0,{"$f":"IF($A899=M$3,AND($A899=M$3,$D899<0),0)","v":0},0,{"$f":"IF($A899=O$3,AND($A899=O$3,$D899<0),0)","v":0},0,0,0,0,0,0,0,{"$f":"IF($A899=W$3,AND($A899=W$3,$D899<0),0)","v":0},0,{"$f":"IF($A899=Y$3,AND($A899=Y$3,$D899<0),0)","v":0},0,{"$f":"IF($A899=AA$3,AND($A899=AA$3,$D899<0),0)","v":0},0,{"$f":"IF($A899=AC$3,AND($A899=AC$3,$D899<0),0)","v":0},0,0]
[{"$f":"IF(B900=0,\"\",MONTH(B900))","v":""},null,null,null,{"$f":"IF(D900=\"\",\"\",IF(D900<0,\"DEBITO\",\"CREDITO\"))","v":""},null,false,false,0,{"$f":"IF($A900=I$3,AND($A900=I$3,$D900<0),0)","v":0},0,{"$f":"IF($A900=K$3,AND($A900=K$3,$D900<0),0)","v":0},0,{"$f":"IF($A900=M$3,AND($A900=M$3,$D900<0),0)","v":0},0,{"$f":"IF($A900=O$3,AND($A900=O$3,$D900<0),0)","v":0},0,0,0,0,0,0,0,{"$f":"IF($A900=W$3,AND($A900=W$3,$D900<0),0)","v":0},0,{"$f":"IF($A900=Y$3,AND($A900=Y$3,$D900<0),0)","v":0},0,{"$f":"IF($A900=AA$3,AND($A900=AA$3,$D900<0),0)","v":0},0,{"$f":"IF($A900=AC$3,AND($A900=AC$3,$D900<0),0)","v":0},0,0]
[{"$f":"IF(B901=0,\"\",MONTH(B901))","v":""},null,null,null,{"$f":"IF(D901=\"\",\"\",IF(D901<0,\"DEBITO\",\"CREDITO\"))","v":""},null,false,false,0,{"$f":"IF($A901=I$3,AND($A901=I$3,$D901<0),0)","v":0},0,{"$f":"IF($A901=K$3,AND($A901=K$3,$D901<0),0)","v":0},0,{"$f":"IF($A901=M$3,AND($A901=M$3,$D901<0),0)","v":0},0,{"$f":"IF($A901=O$3,AND($A901=O$3,$D901<0),0)","v":0},0,0,0,0,0,0,0,{"$f":"IF($A901=W$3,AND($A901=W$3,$D901<0),0)","v":0},0,{"$f":"IF($A901=Y$3,AND($A901=Y$3,$D901<0),0)","v":0},0,{"$f":"IF($A901=AA$3,AND($A901=AA$3,$D901<0),0)","v":0},0,{"$f":"IF($A901=AC$3,AND($A901=AC$3,$D901<0),0)","v":0},0,0]
[{"$f":"IF(B902=0,\"\",MONTH(B902))","v":""},null,null,null,{"$f":"IF(D902=\"\",\"\",IF(D902<0,\"DEBITO\",\"CREDITO\"))","v":""},null,false,false,0,{"$f":"IF($A902=I$3,AND($A902=I$3,$D902<0),0)","v":0},0,{"$f":"IF($A902=K$3,AND($A902=K$3,$D902<0),0)","v":0},0,{"$f":"IF($A902=M$3,AND($A902=M$3,$D902<0),0)","v":0},0,{"$f":"IF($A902=O$3,AND($A902=O$3,$D902<0),0)","v":0},0,0,0,0,0,0,0,{"$f":"IF($A902=W$3,AND($A902=W$3,$D902<0),0)","v":0},0,{"$f":"IF($A902=Y$3,AND($A902=Y$3,$D902<0),0)","v":0},0,{"$f":"IF($A902=AA$3,AND($A902=AA$3,$D902<0),0)","v":0},0,{"$f":"IF($A902=AC$3,AND($A902=AC$3,$D902<0),0)","v":0},0,0]
[{"$f":"IF(B903=0,\"\",MONTH(B903))","v":""},null,null,null,{"$f":"IF(D903=\"\",\"\",IF(D903<0,\"DEBITO\",\"CREDITO\"))","v":""},null,false,false,0,{"$f":"IF($A903=I$3,AND($A903=I$3,$D903<0),0)","v":0},0,{"$f":"IF($A903=K$3,AND($A903=K$3,$D903<0),0)","v":0},0,{"$f":"IF($A903=M$3,AND($A903=M$3,$D903<0),0)","v":0},0,{"$f":"IF($A903=O$3,AND($A903=O$3,$D903<0),0)","v":0},0,0,0,0,0,0,0,{"$f":"IF($A903=W$3,AND($A903=W$3,$D903<0),0)","v":0},0,{"$f":"IF($A903=Y$3,AND($A903=Y$3,$D903<0),0)","v":0},0,{"$f":"IF($A903=AA$3,AND($A903=AA$3,$D903<0),0)","v":0},0,{"$f":"IF($A903=AC$3,AND($A903=AC$3,$D903<0),0)","v":0},0,0]
[{"$f":"IF(B904=0,\"\",MONTH(B904))","v":""},null,null,null,{"$f":"IF(D904=\"\",\"\",IF(D904<0,\"DEBITO\",\"CREDITO\"))","v":""},null,false,false,0,{"$f":"IF($A904=I$3,AND($A904=I$3,$D904<0),0)","v":0},0,{"$f":"IF($A904=K$3,AND($A904=K$3,$D904<0),0)","v":0},0,{"$f":"IF($A904=M$3,AND($A904=M$3,$D904<0),0)","v":0},0,{"$f":"IF($A904=O$3,AND($A904=O$3,$D904<0),0)","v":0},0,0,0,0,0,0,0,{"$f":"IF($A904=W$3,AND($A904=W$3,$D904<0),0)","v":0},0,{"$f":"IF($A904=Y$3,AND($A904=Y$3,$D904<0),0)","v":0},0,{"$f":"IF($A904=AA$3,AND($A904=AA$3,$D904<0),0)","v":0},0,{"$f":"IF($A904=AC$3,AND($A904=AC$3,$D904<0),0)","v":0},0,0]
[{"$f":"IF(B905=0,\"\",MONTH(B905))","v":""},null,null,null,{"$f":"IF(D905=\"\",\"\",IF(D905<0,\"DEBITO\",\"CREDITO\"))","v":""},null,{"$f":"AND(A905=$E$3,D905>0)","v":false},{"$f":"AND(A905=$E$3,D905<0)","v":false},0,{"$f":"IF($A905=I$3,AND($A905=I$3,$D905<0),0)","v":0},0,{"$f":"IF($A905=K$3,AND($A905=K$3,$D905<0),0)","v":0},0,{"$f":"IF($A905=M$3,AND($A905=M$3,$D905<0),0)","v":0},0,{"$f":"IF($A905=O$3,AND($A905=O$3,$D905<0),0)","v":0},0,{"$f":"IF($A905=Q$3,AND($A905=Q$3,$D905<0),0)","v":0},0,0,0,0,0,{"$f":"IF($A905=W$3,AND($A905=W$3,$D905<0),0)","v":0},0,{"$f":"IF($A905=Y$3,AND($A905=Y$3,$D905<0),0)","v":0},0,{"$f":"IF($A905=AA$3,AND($A905=AA$3,$D905<0),0)","v":0},0,{"$f":"IF($A905=AC$3,AND($A905=AC$3,$D905<0),0)","v":0},0,{"$f":"IF($A905=AE$3,AND($A905=AE$3,$D905<0),0)","v":0}]
[{"$f":"IF(B906=0,\"\",MONTH(B906))","v":""},null,null,null,{"$f":"IF(D906=\"\",\"\",IF(D906<0,\"DEBITO\",\"CREDITO\"))","v":""},null,false,false,0,{"$f":"IF($A906=I$3,AND($A906=I$3,$D906<0),0)","v":0},0,{"$f":"IF($A906=K$3,AND($A906=K$3,$D906<0),0)","v":0},0,{"$f":"IF($A906=M$3,AND($A906=M$3,$D906<0),0)","v":0},0,{"$f":"IF($A906=O$3,AND($A906=O$3,$D906<0),0)","v":0},0,0,{"$f":"IF($A906=S$3,AND($A906=S$3,$D906>0),0)","v":0},{"$f":"IF($A906=S$3,AND($A906=S$3,$D906<0),0)","v":0},{"$f":"IF($A906=U$3,AND($A906=U$3,$D906>0),0)","v":0},{"$f":"IF($A906=U$3,AND($A906=U$3,$D906<0),0)","v":0},0,{"$f":"IF($A906=W$3,AND($A906=W$3,$D906<0),0)","v":0},0,{"$f":"IF($A906=Y$3,AND($A906=Y$3,$D906<0),0)","v":0},0,{"$f":"IF($A906=AA$3,AND($A906=AA$3,$D906<0),0)","v":0},0,{"$f":"IF($A906=AC$3,AND($A906=AC$3,$D906<0),0)","v":0},0,0]
[{"$f":"IF(B907=0,\"\",MONTH(B907))","v":""},null,null,null,{"$f":"IF(D907=\"\",\"\",IF(D907<0,\"DEBITO\",\"CREDITO\"))","v":""},null,false,false,0,{"$f":"IF($A907=I$3,AND($A907=I$3,$D907<0),0)","v":0},0,{"$f":"IF($A907=K$3,AND($A907=K$3,$D907<0),0)","v":0},0,{"$f":"IF($A907=M$3,AND($A907=M$3,$D907<0),0)","v":0},0,{"$f":"IF($A907=O$3,AND($A907=O$3,$D907<0),0)","v":0},0,0,0,0,0,0,0,{"$f":"IF($A907=W$3,AND($A907=W$3,$D907<0),0)","v":0},0,{"$f":"IF($A907=Y$3,AND($A907=Y$3,$D907<0),0)","v":0},0,{"$f":"IF($A907=AA$3,AND($A907=AA$3,$D907<0),0)","v":0},0,{"$f":"IF($A907=AC$3,AND($A907=AC$3,$D907<0),0)","v":0},0,0]
[{"$f":"IF(B908=0,\"\",MONTH(B908))","v":""},null,null,null,{"$f":"IF(D908=\"\",\"\",IF(D908<0,\"DEBITO\",\"CREDITO\"))","v":""},null,false,false,0,{"$f":"IF($A908=I$3,AND($A908=I$3,$D908<0),0)","v":0},0,{"$f":"IF($A908=K$3,AND($A908=K$3,$D908<0),0)","v":0},0,{"$f":"IF($A908=M$3,AND($A908=M$3,$D908<0),0)","v":0},0,{"$f":"IF($A908=O$3,AND($A908=O$3,$D908<0),0)","v":0},0,0,0,0,0,0,0,{"$f":"IF($A908=W$3,AND($A908=W$3,$D908<0),0)","v":0},0,{"$f":"IF($A908=Y$3,AND($A908=Y$3,$D908<0),0)","v":0},0,{"$f":"IF($A908=AA$3,AND($A908=AA$3,$D908<0),0)","v":0},0,{"$f":"IF($A908=AC$3,AND($A908=AC$3,$D908<0),0)","v":0},0,0]
[{"$f":"IF(B909=0,\"\",MONTH(B909))","v":""},null,null,null,{"$f":"IF(D909=\"\",\"\",IF(D909<0,\"DEBITO\",\"CREDITO\"))","v":""},null,false,false,0,{"$f":"IF($A909=I$3,AND($A909=I$3,$D909<0),0)","v":0},0,{"$f":"IF($A909=K$3,AND($A909=K$3,$D909<0),0)","v":0},0,{"$f":"IF($A909=M$3,AND($A909=M$3,$D909<0),0)","v":0},0,{"$f":"IF($A909=O$3,AND($A909=O$3,$D909<0),0)","v":0},0,0,0,0,0,0,0,{"$f":"IF($A909=W$3,AND($A909=W$3,$D909<0),0)","v":0},0,{"$f":"IF($A909=Y$3,AND($A909=Y$3,$D909<0),0)","v":0},0,{"$f":"IF($A909=AA$3,AND($A909=AA$3,$D909<0),0)","v":0},0,{"$f":"IF($A909=AC$3,AND($A909=AC$3,$D909<0),0)","v":0},0,0]
[{"$f":"IF(B910=0,\"\",MONTH(B910))","v":""},null,null,null,{"$f":"IF(D910=\"\",\"\",IF(D910<0,\"DEBITO\",\"CREDITO\"))","v":""},null,false,false,0,{"$f":"IF($A910=I$3,AND($A910=I$3,$D910<0),0)","v":0},0,{"$f":"IF($A910=K$3,AND($A910=K$3,$D910<0),0)","v":0},0,{"$f":"IF($A910=M$3,AND($A910=M$3,$D910<0),0)","v":0},0,{"$f":"IF($A910=O$3,AND($A910=O$3,$D910<0),0)","v":0},0,0,0,0,0,0,0,{"$f":"IF($A910=W$3,AND($A910=W$3,$D910<0),0)","v":0},0,{"$f":"IF($A910=Y$3,AND($A910=Y$3,$D910<0),0)","v":0},0,{"$f":"IF($A910=AA$3,AND($A910=AA$3,$D910<0),0)","v":0},0,{"$f":"IF($A910=AC$3,AND($A910=AC$3,$D910<0),0)","v":0},0,0]
[{"$f":"IF(B911=0,\"\",MONTH(B911))","v":""},null,null,null,{"$f":"IF(D911=\"\",\"\",IF(D911<0,\"DEBITO\",\"CREDITO\"))","v":""},null,false,false,0,{"$f":"IF($A911=I$3,AND($A911=I$3,$D911<0),0)","v":0},0,{"$f":"IF($A911=K$3,AND($A911=K$3,$D911<0),0)","v":0},0,{"$f":"IF($A911=M$3,AND($A911=M$3,$D911<0),0)","v":0},0,{"$f":"IF($A911=O$3,AND($A911=O$3,$D911<0),0)","v":0},0,0,0,0,0,0,0,{"$f":"IF($A911=W$3,AND($A911=W$3,$D911<0),0)","v":0},0,{"$f":"IF($A911=Y$3,AND($A911=Y$3,$D911<0),0)","v":0},0,{"$f":"IF($A911=AA$3,AND($A911=AA$3,$D911<0),0)","v":0},0,{"$f":"IF($A911=AC$3,AND($A911=AC$3,$D911<0),0)","v":0},0,0]
[{"$f":"IF(B912=0,\"\",MONTH(B912))","v":""},null,null,null,{"$f":"IF(D912=\"\",\"\",IF(D912<0,\"DEBITO\",\"CREDITO\"))","v":""},null,false,false,0,{"$f":"IF($A912=I$3,AND($A912=I$3,$D912<0),0)","v":0},0,{"$f":"IF($A912=K$3,AND($A912=K$3,$D912<0),0)","v":0},0,{"$f":"IF($A912=M$3,AND($A912=M$3,$D912<0),0)","v":0},0,{"$f":"IF($A912=O$3,AND($A912=O$3,$D912<0),0)","v":0},0,0,0,0,0,0,0,{"$f":"IF($A912=W$3,AND($A912=W$3,$D912<0),0)","v":0},0,{"$f":"IF($A912=Y$3,AND($A912=Y$3,$D912<0),0)","v":0},0,{"$f":"IF($A912=AA$3,AND($A912=AA$3,$D912<0),0)","v":0},0,{"$f":"IF($A912=AC$3,AND($A912=AC$3,$D912<0),0)","v":0},0,0]
[{"$f":"IF(B913=0,\"\",MONTH(B913))","v":""},null,null,null,{"$f":"IF(D913=\"\",\"\",IF(D913<0,\"DEBITO\",\"CREDITO\"))","v":""},null,false,false,0,{"$f":"IF($A913=I$3,AND($A913=I$3,$D913<0),0)","v":0},0,{"$f":"IF($A913=K$3,AND($A913=K$3,$D913<0),0)","v":0},0,{"$f":"IF($A913=M$3,AND($A913=M$3,$D913<0),0)","v":0},0,{"$f":"IF($A913=O$3,AND($A913=O$3,$D913<0),0)","v":0},0,0,0,0,0,0,0,{"$f":"IF($A913=W$3,AND($A913=W$3,$D913<0),0)","v":0},0,{"$f":"IF($A913=Y$3,AND($A913=Y$3,$D913<0),0)","v":0},0,{"$f":"IF($A913=AA$3,AND($A913=AA$3,$D913<0),0)","v":0},0,{"$f":"IF($A913=AC$3,AND($A913=AC$3,$D913<0),0)","v":0},0,0]
[{"$f":"IF(B914=0,\"\",MONTH(B914))","v":""},null,null,null,{"$f":"IF(D914=\"\",\"\",IF(D914<0,\"DEBITO\",\"CREDITO\"))","v":""},null,false,false,0,{"$f":"IF($A914=I$3,AND($A914=I$3,$D914<0),0)","v":0},0,{"$f":"IF($A914=K$3,AND($A914=K$3,$D914<0),0)","v":0},0,{"$f":"IF($A914=M$3,AND($A914=M$3,$D914<0),0)","v":0},0,{"$f":"IF($A914=O$3,AND($A914=O$3,$D914<0),0)","v":0},0,0,0,0,0,0,0,{"$f":"IF($A914=W$3,AND($A914=W$3,$D914<0),0)","v":0},0,{"$f":"IF($A914=Y$3,AND($A914=Y$3,$D914<0),0)","v":0},0,{"$f":"IF($A914=AA$3,AND($A914=AA$3,$D914<0),0)","v":0},0,{"$f":"IF($A914=AC$3,AND($A914=AC$3,$D914<0),0)","v":0},0,0]
[{"$f":"IF(B915=0,\"\",MONTH(B915))","v":""},null,null,null,{"$f":"IF(D915=\"\",\"\",IF(D915<0,\"DEBITO\",\"CREDITO\"))","v":""},null,false,false,0,{"$f":"IF($A915=I$3,AND($A915=I$3,$D915<0),0)","v":0},0,{"$f":"IF($A915=K$3,AND($A915=K$3,$D915<0),0)","v":0},0,{"$f":"IF($A915=M$3,AND($A915=M$3,$D915<0),0)","v":0},0,{"$f":"IF($A915=O$3,AND($A915=O$3,$D915<0),0)","v":0},0,0,0,0,0,0,0,{"$f":"IF($A915=W$3,AND($A915=W$3,$D915<0),0)","v":0},0,{"$f":"IF($A915=Y$3,AND($A915=Y$3,$D915<0),0)","v":0},0,{"$f":"IF($A915=AA$3,AND($A915=AA$3,$D915<0),0)","v":0},0,{"$f":"IF($A915=AC$3,AND($A915=AC$3,$D915<0),0)","v":0},0,0]
[{"$f":"IF(B916=0,\"\",MONTH(B916))","v":""},null,null,null,{"$f":"IF(D916=\"\",\"\",IF(D916<0,\"DEBITO\",\"CREDITO\"))","v":""},null,false,false,0,{"$f":"IF($A916=I$3,AND($A916=I$3,$D916<0),0)","v":0},0,{"$f":"IF($A916=K$3,AND($A916=K$3,$D916<0),0)","v":0},0,{"$f":"IF($A916=M$3,AND($A916=M$3,$D916<0),0)","v":0},0,{"$f":"IF($A916=O$3,AND($A916=O$3,$D916<0),0)","v":0},0,0,0,0,0,0,0,{"$f":"IF($A916=W$3,AND($A916=W$3,$D916<0),0)","v":0},0,{"$f":"IF($A916=Y$3,AND($A916=Y$3,$D916<0),0)","v":0},0,{"$f":"IF($A916=AA$3,AND($A916=AA$3,$D916<0),0)","v":0},0,{"$f":"IF($A916=AC$3,AND($A916=AC$3,$D916<0),0)","v":0},0,0]
[{"$f":"IF(B917=0,\"\",MONTH(B917))","v":""},null,null,null,{"$f":"IF(D917=\"\",\"\",IF(D917<0,\"DEBITO\",\"CREDITO\"))","v":""},null,false,false,0,{"$f":"IF($A917=I$3,AND($A917=I$3,$D917<0),0)","v":0},0,{"$f":"IF($A917=K$3,AND($A917=K$3,$D917<0),0)","v":0},0,{"$f":"IF($A917=M$3,AND($A917=M$3,$D917<0),0)","v":0},0,{"$f":"IF($A917=O$3,AND($A917=O$3,$D917<0),0)","v":0},0,0,0,0,0,0,0,{"$f":"IF($A917=W$3,AND($A917=W$3,$D917<0),0)","v":0},0,{"$f":"IF($A917=Y$3,AND($A917=Y$3,$D917<0),0)","v":0},0,{"$f":"IF($A917=AA$3,AND($A917=AA$3,$D917<0),0)","v":0},0,{"$f":"IF($A917=AC$3,AND($A917=AC$3,$D917<0),0)","v":0},0,0]
[{"$f":"IF(B918=0,\"\",MONTH(B918))","v":""},null,null,null,{"$f":"IF(D918=\"\",\"\",IF(D918<0,\"DEBITO\",\"CREDITO\"))","v":""},null,false,false,0,{"$f":"IF($A918=I$3,AND($A918=I$3,$D918<0),0)","v":0},0,{"$f":"IF($A918=K$3,AND($A918=K$3,$D918<0),0)","v":0},0,{"$f":"IF($A918=M$3,AND($A918=M$3,$D918<0),0)","v":0},0,{"$f":"IF($A918=O$3,AND($A918=O$3,$D918<0),0)","v":0},0,0,0,0,0,0,0,{"$f":"IF($A918=W$3,AND($A918=W$3,$D918<0),0)","v":0},0,{"$f":"IF($A918=Y$3,AND($A918=Y$3,$D918<0),0)","v":0},0,{"$f":"IF($A918=AA$3,AND($A918=AA$3,$D918<0),0)","v":0},0,{"$f":"IF($A918=AC$3,AND($A918=AC$3,$D918<0),0)","v":0},0,0]
[{"$f":"IF(B919=0,\"\",MONTH(B919))","v":""},null,null,null,{"$f":"IF(D919=\"\",\"\",IF(D919<0,\"DEBITO\",\"CREDITO\"))","v":""},null,false,false,0,{"$f":"IF($A919=I$3,AND($A919=I$3,$D919<0),0)","v":0},0,{"$f":"IF($A919=K$3,AND($A919=K$3,$D919<0),0)","v":0},0,{"$f":"IF($A919=M$3,AND($A919=M$3,$D919<0),0)","v":0},0,{"$f":"IF($A919=O$3,AND($A919=O$3,$D919<0),0)","v":0},0,0,0,0,0,0,0,{"$f":"IF($A919=W$3,AND($A919=W$3,$D919<0),0)","v":0},0,{"$f":"IF($A919=Y$3,AND($A919=Y$3,$D919<0),0)","v":0},0,{"$f":"IF($A919=AA$3,AND($A919=AA$3,$D919<0),0)","v":0},0,{"$f":"IF($A919=AC$3,AND($A919=AC$3,$D919<0),0)","v":0},0,0]
[{"$f":"IF(B920=0,\"\",MONTH(B920))","v":""},null,null,null,{"$f":"IF(D920=\"\",\"\",IF(D920<0,\"DEBITO\",\"CREDITO\"))","v":""},null,false,false,0,{"$f":"IF($A920=I$3,AND($A920=I$3,$D920<0),0)","v":0},0,{"$f":"IF($A920=K$3,AND($A920=K$3,$D920<0),0)","v":0},0,{"$f":"IF($A920=M$3,AND($A920=M$3,$D920<0),0)","v":0},0,{"$f":"IF($A920=O$3,AND($A920=O$3,$D920<0),0)","v":0},0,0,0,0,0,0,0,{"$f":"IF($A920=W$3,AND($A920=W$3,$D920<0),0)","v":0},0,{"$f":"IF($A920=Y$3,AND($A920=Y$3,$D920<0),0)","v":0},0,{"$f":"IF($A920=AA$3,AND($A920=AA$3,$D920<0),0)","v":0},0,{"$f":"IF($A920=AC$3,AND($A920=AC$3,$D920<0),0)","v":0},0,0]
[{"$f":"IF(B921=0,\"\",MONTH(B921))","v":""},null,null,null,{"$f":"IF(D921=\"\",\"\",IF(D921<0,\"DEBITO\",\"CREDITO\"))","v":""},null,false,false,{"$f":"IF($A921=I$3,AND($A921=I$3,$D921>0),0)","v":0},{"$f":"IF($A921=I$3,AND($A921=I$3,$D921<0),0)","v":0},{"$f":"IF($A921=K$3,AND($A921=K$3,$D921>0),0)","v":0},{"$f":"IF($A921=K$3,AND($A921=K$3,$D921<0),0)","v":0},{"$f":"IF($A921=M$3,AND($A921=M$3,$D921>0),0)","v":0},{"$f":"IF($A921=M$3,AND($A921=M$3,$D921<0),0)","v":0},{"$f":"IF($A921=O$3,AND($A921=O$3,$D921>0),0)","v":0},{"$f":"IF($A921=O$3,AND($A921=O$3,$D921<0),0)","v":0},{"$f":"IF($A921=Q$3,AND($A921=Q$3,$D921>0),0)","v":0},0,0,0,0,0,{"$f":"IF($A921=W$3,AND($A921=W$3,$D921>0),0)","v":0},{"$f":"IF($A921=W$3,AND($A921=W$3,$D921<0),0)","v":0},{"$f":"IF($A921=Y$3,AND($A921=Y$3,$D921>0),0)","v":0},{"$f":"IF($A921=Y$3,AND($A921=Y$3,$D921<0),0)","v":0},{"$f":"IF($A921=AA$3,AND($A921=AA$3,$D921>0),0)","v":0},{"$f":"IF($A921=AA$3,AND($A921=AA$3,$D921<0),0)","v":0},{"$f":"IF($A921=AC$3,AND($A921=AC$3,$D921>0),0)","v":0},{"$f":"IF($A921=AC$3,AND($A921=AC$3,$D921<0),0)","v":0},{"$f":"IF($A921=AE$3,AND($A921=AE$3,$D921>0),0)","v":0},0]
[{"$f":"IF(B922=0,\"\",MONTH(B922))","v":""},null,null,null,{"$f":"IF(D922=\"\",\"\",IF(D922<0,\"DEBITO\",\"CREDITO\"))","v":""},null,false,false,0,{"$f":"IF($A922=I$3,AND($A922=I$3,$D922<0),0)","v":0},0,{"$f":"IF($A922=K$3,AND($A922=K$3,$D922<0),0)","v":0},0,{"$f":"IF($A922=M$3,AND($A922=M$3,$D922<0),0)","v":0},0,{"$f":"IF($A922=O$3,AND($A922=O$3,$D922<0),0)","v":0},0,0,0,0,0,0,0,{"$f":"IF($A922=W$3,AND($A922=W$3,$D922<0),0)","v":0},0,{"$f":"IF($A922=Y$3,AND($A922=Y$3,$D922<0),0)","v":0},0,{"$f":"IF($A922=AA$3,AND($A922=AA$3,$D922<0),0)","v":0},0,{"$f":"IF($A922=AC$3,AND($A922=AC$3,$D922<0),0)","v":0},0,0]
[{"$f":"IF(B923=0,\"\",MONTH(B923))","v":""},null,null,null,{"$f":"IF(D923=\"\",\"\",IF(D923<0,\"DEBITO\",\"CREDITO\"))","v":""},null,false,false,0,{"$f":"IF($A923=I$3,AND($A923=I$3,$D923<0),0)","v":0},0,{"$f":"IF($A923=K$3,AND($A923=K$3,$D923<0),0)","v":0},0,{"$f":"IF($A923=M$3,AND($A923=M$3,$D923<0),0)","v":0},0,{"$f":"IF($A923=O$3,AND($A923=O$3,$D923<0),0)","v":0},0,0,0,0,0,0,0,{"$f":"IF($A923=W$3,AND($A923=W$3,$D923<0),0)","v":0},0,{"$f":"IF($A923=Y$3,AND($A923=Y$3,$D923<0),0)","v":0},0,{"$f":"IF($A923=AA$3,AND($A923=AA$3,$D923<0),0)","v":0},0,{"$f":"IF($A923=AC$3,AND($A923=AC$3,$D923<0),0)","v":0},0,0]
[{"$f":"IF(B924=0,\"\",MONTH(B924))","v":""},null,null,null,{"$f":"IF(D924=\"\",\"\",IF(D924<0,\"DEBITO\",\"CREDITO\"))","v":""},null,false,false,0,{"$f":"IF($A924=I$3,AND($A924=I$3,$D924<0),0)","v":0},0,{"$f":"IF($A924=K$3,AND($A924=K$3,$D924<0),0)","v":0},0,{"$f":"IF($A924=M$3,AND($A924=M$3,$D924<0),0)","v":0},0,{"$f":"IF($A924=O$3,AND($A924=O$3,$D924<0),0)","v":0},0,0,0,0,0,0,0,{"$f":"IF($A924=W$3,AND($A924=W$3,$D924<0),0)","v":0},0,{"$f":"IF($A924=Y$3,AND($A924=Y$3,$D924<0),0)","v":0},0,{"$f":"IF($A924=AA$3,AND($A924=AA$3,$D924<0),0)","v":0},0,{"$f":"IF($A924=AC$3,AND($A924=AC$3,$D924<0),0)","v":0},0,0]
[{"$f":"IF(B925=0,\"\",MONTH(B925))","v":""},null,null,null,{"$f":"IF(D925=\"\",\"\",IF(D925<0,\"DEBITO\",\"CREDITO\"))","v":""},null,false,false,0,{"$f":"IF($A925=I$3,AND($A925=I$3,$D925<0),0)","v":0},0,{"$f":"IF($A925=K$3,AND($A925=K$3,$D925<0),0)","v":0},0,{"$f":"IF($A925=M$3,AND($A925=M$3,$D925<0),0)","v":0},0,{"$f":"IF($A925=O$3,AND($A925=O$3,$D925<0),0)","v":0},0,0,0,0,0,0,0,{"$f":"IF($A925=W$3,AND($A925=W$3,$D925<0),0)","v":0},0,{"$f":"IF($A925=Y$3,AND($A925=Y$3,$D925<0),0)","v":0},0,{"$f":"IF($A925=AA$3,AND($A925=AA$3,$D925<0),0)","v":0},0,{"$f":"IF($A925=AC$3,AND($A925=AC$3,$D925<0),0)","v":0},0,0]
[{"$f":"IF(B926=0,\"\",MONTH(B926))","v":""},null,null,null,{"$f":"IF(D926=\"\",\"\",IF(D926<0,\"DEBITO\",\"CREDITO\"))","v":""},null,false,false,0,{"$f":"IF($A926=I$3,AND($A926=I$3,$D926<0),0)","v":0},0,{"$f":"IF($A926=K$3,AND($A926=K$3,$D926<0),0)","v":0},0,{"$f":"IF($A926=M$3,AND($A926=M$3,$D926<0),0)","v":0},0,{"$f":"IF($A926=O$3,AND($A926=O$3,$D926<0),0)","v":0},0,0,0,0,0,0,0,{"$f":"IF($A926=W$3,AND($A926=W$3,$D926<0),0)","v":0},0,{"$f":"IF($A926=Y$3,AND($A926=Y$3,$D926<0),0)","v":0},0,{"$f":"IF($A926=AA$3,AND($A926=AA$3,$D926<0),0)","v":0},0,{"$f":"IF($A926=AC$3,AND($A926=AC$3,$D926<0),0)","v":0},0,0]
[{"$f":"IF(B927=0,\"\",MONTH(B927))","v":""},null,null,null,{"$f":"IF(D927=\"\",\"\",IF(D927<0,\"DEBITO\",\"CREDITO\"))","v":""},null,false,false,0,{"$f":"IF($A927=I$3,AND($A927=I$3,$D927<0),0)","v":0},0,{"$f":"IF($A927=K$3,AND($A927=K$3,$D927<0),0)","v":0},0,{"$f":"IF($A927=M$3,AND($A927=M$3,$D927<0),0)","v":0},0,{"$f":"IF($A927=O$3,AND($A927=O$3,$D927<0),0)","v":0},0,0,0,0,0,0,0,{"$f":"IF($A927=W$3,AND($A927=W$3,$D927<0),0)","v":0},0,{"$f":"IF($A927=Y$3,AND($A927=Y$3,$D927<0),0)","v":0},0,{"$f":"IF($A927=AA$3,AND($A927=AA$3,$D927<0),0)","v":0},0,{"$f":"IF($A927=AC$3,AND($A927=AC$3,$D927<0),0)","v":0},0,0]
[{"$f":"IF(B928=0,\"\",MONTH(B928))","v":""},null,null,null,{"$f":"IF(D928=\"\",\"\",IF(D928<0,\"DEBITO\",\"CREDITO\"))","v":""},null,false,false,0,{"$f":"IF($A928=I$3,AND($A928=I$3,$D928<0),0)","v":0},0,{"$f":"IF($A928=K$3,AND($A928=K$3,$D928<0),0)","v":0},0,{"$f":"IF($A928=M$3,AND($A928=M$3,$D928<0),0)","v":0},0,{"$f":"IF($A928=O$3,AND($A928=O$3,$D928<0),0)","v":0},0,0,0,0,0,0,0,{"$f":"IF($A928=W$3,AND($A928=W$3,$D928<0),0)","v":0},0,{"$f":"IF($A928=Y$3,AND($A928=Y$3,$D928<0),0)","v":0},0,{"$f":"IF($A928=AA$3,AND($A928=AA$3,$D928<0),0)","v":0},0,{"$f":"IF($A928=AC$3,AND($A928=AC$3,$D928<0),0)","v":0},0,0]
[{"$f":"IF(B929=0,\"\",MONTH(B929))","v":""},null,null,null,{"$f":"IF(D929=\"\",\"\",IF(D929<0,\"DEBITO\",\"CREDITO\"))","v":""},null,false,false,0,{"$f":"IF($A929=I$3,AND($A929=I$3,$D929<0),0)","v":0},0,{"$f":"IF($A929=K$3,AND($A929=K$3,$D929<0),0)","v":0},0,{"$f":"IF($A929=M$3,AND($A929=M$3,$D929<0),0)","v":0},0,{"$f":"IF($A929=O$3,AND($A929=O$3,$D929<0),0)","v":0},0,0,0,0,0,0,0,{"$f":"IF($A929=W$3,AND($A929=W$3,$D929<0),0)","v":0},0,{"$f":"IF($A929=Y$3,AND($A929=Y$3,$D929<0),0)","v":0},0,{"$f":"IF($A929=AA$3,AND($A929=AA$3,$D929<0),0)","v":0},0,{"$f":"IF($A929=AC$3,AND($A929=AC$3,$D929<0),0)","v":0},0,0]
[{"$f":"IF(B930=0,\"\",MONTH(B930))","v":""},null,null,null,{"$f":"IF(D930=\"\",\"\",IF(D930<0,\"DEBITO\",\"CREDITO\"))","v":""},null,false,false,0,{"$f":"IF($A930=I$3,AND($A930=I$3,$D930<0),0)","v":0},0,{"$f":"IF($A930=K$3,AND($A930=K$3,$D930<0),0)","v":0},0,{"$f":"IF($A930=M$3,AND($A930=M$3,$D930<0),0)","v":0},0,{"$f":"IF($A930=O$3,AND($A930=O$3,$D930<0),0)","v":0},0,0,0,0,0,0,0,{"$f":"IF($A930=W$3,AND($A930=W$3,$D930<0),0)","v":0},0,{"$f":"IF($A930=Y$3,AND($A930=Y$3,$D930<0),0)","v":0},0,{"$f":"IF($A930=AA$3,AND($A930=AA$3,$D930<0),0)","v":0},0,{"$f":"IF($A930=AC$3,AND($A930=AC$3,$D930<0),0)","v":0},0,0]
[{"$f":"IF(B931=0,\"\",MONTH(B931))","v":""},null,null,null,{"$f":"IF(D931=\"\",\"\",IF(D931<0,\"DEBITO\",\"CREDITO\"))","v":""},null,false,false,0,{"$f":"IF($A931=I$3,AND($A931=I$3,$D931<0),0)","v":0},0,{"$f":"IF($A931=K$3,AND($A931=K$3,$D931<0),0)","v":0},0,{"$f":"IF($A931=M$3,AND($A931=M$3,$D931<0),0)","v":0},0,{"$f":"IF($A931=O$3,AND($A931=O$3,$D931<0),0)","v":0},0,0,0,0,0,0,0,{"$f":"IF($A931=W$3,AND($A931=W$3,$D931<0),0)","v":0},0,{"$f":"IF($A931=Y$3,AND($A931=Y$3,$D931<0),0)","v":0},0,{"$f":"IF($A931=AA$3,AND($A931=AA$3,$D931<0),0)","v":0},0,{"$f":"IF($A931=AC$3,AND($A931=AC$3,$D931<0),0)","v":0},0,0]
[{"$f":"IF(B932=0,\"\",MONTH(B932))","v":""},null,null,null,{"$f":"IF(D932=\"\",\"\",IF(D932<0,\"DEBITO\",\"CREDITO\"))","v":""},null,false,false,0,{"$f":"IF($A932=I$3,AND($A932=I$3,$D932<0),0)","v":0},0,{"$f":"IF($A932=K$3,AND($A932=K$3,$D932<0),0)","v":0},0,{"$f":"IF($A932=M$3,AND($A932=M$3,$D932<0),0)","v":0},0,{"$f":"IF($A932=O$3,AND($A932=O$3,$D932<0),0)","v":0},0,0,0,0,0,0,0,{"$f":"IF($A932=W$3,AND($A932=W$3,$D932<0),0)","v":0},0,{"$f":"IF($A932=Y$3,AND($A932=Y$3,$D932<0),0)","v":0},0,{"$f":"IF($A932=AA$3,AND($A932=AA$3,$D932<0),0)","v":0},0,{"$f":"IF($A932=AC$3,AND($A932=AC$3,$D932<0),0)","v":0},0,0]
[{"$f":"IF(B933=0,\"\",MONTH(B933))","v":""},null,null,null,{"$f":"IF(D933=\"\",\"\",IF(D933<0,\"DEBITO\",\"CREDITO\"))","v":""},null,false,false,0,{"$f":"IF($A933=I$3,AND($A933=I$3,$D933<0),0)","v":0},0,{"$f":"IF($A933=K$3,AND($A933=K$3,$D933<0),0)","v":0},0,{"$f":"IF($A933=M$3,AND($A933=M$3,$D933<0),0)","v":0},0,{"$f":"IF($A933=O$3,AND($A933=O$3,$D933<0),0)","v":0},0,0,0,0,0,0,0,{"$f":"IF($A933=W$3,AND($A933=W$3,$D933<0),0)","v":0},0,{"$f":"IF($A933=Y$3,AND($A933=Y$3,$D933<0),0)","v":0},0,{"$f":"IF($A933=AA$3,AND($A933=AA$3,$D933<0),0)","v":0},0,{"$f":"IF($A933=AC$3,AND($A933=AC$3,$D933<0),0)","v":0},0,0]
[{"$f":"IF(B934=0,\"\",MONTH(B934))","v":""},null,null,null,{"$f":"IF(D934=\"\",\"\",IF(D934<0,\"DEBITO\",\"CREDITO\"))","v":""},null,false,false,0,{"$f":"IF($A934=I$3,AND($A934=I$3,$D934<0),0)","v":0},0,{"$f":"IF($A934=K$3,AND($A934=K$3,$D934<0),0)","v":0},0,{"$f":"IF($A934=M$3,AND($A934=M$3,$D934<0),0)","v":0},0,{"$f":"IF($A934=O$3,AND($A934=O$3,$D934<0),0)","v":0},0,0,0,0,0,0,0,{"$f":"IF($A934=W$3,AND($A934=W$3,$D934<0),0)","v":0},0,{"$f":"IF($A934=Y$3,AND($A934=Y$3,$D934<0),0)","v":0},0,{"$f":"IF($A934=AA$3,AND($A934=AA$3,$D934<0),0)","v":0},0,{"$f":"IF($A934=AC$3,AND($A934=AC$3,$D934<0),0)","v":0},0,0]
[{"$f":"IF(B935=0,\"\",MONTH(B935))","v":""},null,null,null,{"$f":"IF(D935=\"\",\"\",IF(D935<0,\"DEBITO\",\"CREDITO\"))","v":""},null,false,false,0,{"$f":"IF($A935=I$3,AND($A935=I$3,$D935<0),0)","v":0},0,{"$f":"IF($A935=K$3,AND($A935=K$3,$D935<0),0)","v":0},0,{"$f":"IF($A935=M$3,AND($A935=M$3,$D935<0),0)","v":0},0,{"$f":"IF($A935=O$3,AND($A935=O$3,$D935<0),0)","v":0},0,0,0,0,0,0,0,{"$f":"IF($A935=W$3,AND($A935=W$3,$D935<0),0)","v":0},0,{"$f":"IF($A935=Y$3,AND($A935=Y$3,$D935<0),0)","v":0},0,{"$f":"IF($A935=AA$3,AND($A935=AA$3,$D935<0),0)","v":0},0,{"$f":"IF($A935=AC$3,AND($A935=AC$3,$D935<0),0)","v":0},0,0]
[{"$f":"IF(B936=0,\"\",MONTH(B936))","v":""},null,null,null,{"$f":"IF(D936=\"\",\"\",IF(D936<0,\"DEBITO\",\"CREDITO\"))","v":""},null,false,false,0,{"$f":"IF($A936=I$3,AND($A936=I$3,$D936<0),0)","v":0},0,{"$f":"IF($A936=K$3,AND($A936=K$3,$D936<0),0)","v":0},0,{"$f":"IF($A936=M$3,AND($A936=M$3,$D936<0),0)","v":0},0,{"$f":"IF($A936=O$3,AND($A936=O$3,$D936<0),0)","v":0},0,0,0,0,0,0,0,{"$f":"IF($A936=W$3,AND($A936=W$3,$D936<0),0)","v":0},0,{"$f":"IF($A936=Y$3,AND($A936=Y$3,$D936<0),0)","v":0},0,{"$f":"IF($A936=AA$3,AND($A936=AA$3,$D936<0),0)","v":0},0,{"$f":"IF($A936=AC$3,AND($A936=AC$3,$D936<0),0)","v":0},0,0]
[{"$f":"IF(B937=0,\"\",MONTH(B937))","v":""},null,null,null,{"$f":"IF(D937=\"\",\"\",IF(D937<0,\"DEBITO\",\"CREDITO\"))","v":""},null,false,false,0,{"$f":"IF($A937=I$3,AND($A937=I$3,$D937<0),0)","v":0},0,{"$f":"IF($A937=K$3,AND($A937=K$3,$D937<0),0)","v":0},0,{"$f":"IF($A937=M$3,AND($A937=M$3,$D937<0),0)","v":0},0,{"$f":"IF($A937=O$3,AND($A937=O$3,$D937<0),0)","v":0},0,0,0,0,0,0,0,{"$f":"IF($A937=W$3,AND($A937=W$3,$D937<0),0)","v":0},0,{"$f":"IF($A937=Y$3,AND($A937=Y$3,$D937<0),0)","v":0},0,{"$f":"IF($A937=AA$3,AND($A937=AA$3,$D937<0),0)","v":0},0,{"$f":"IF($A937=AC$3,AND($A937=AC$3,$D937<0),0)","v":0},0,0]
[{"$f":"IF(B938=0,\"\",MONTH(B938))","v":""},null,null,null,{"$f":"IF(D938=\"\",\"\",IF(D938<0,\"DEBITO\",\"CREDITO\"))","v":""},null,false,false,0,{"$f":"IF($A938=I$3,AND($A938=I$3,$D938<0),0)","v":0},0,{"$f":"IF($A938=K$3,AND($A938=K$3,$D938<0),0)","v":0},0,{"$f":"IF($A938=M$3,AND($A938=M$3,$D938<0),0)","v":0},0,{"$f":"IF($A938=O$3,AND($A938=O$3,$D938<0),0)","v":0},0,0,0,0,0,0,0,{"$f":"IF($A938=W$3,AND($A938=W$3,$D938<0),0)","v":0},0,{"$f":"IF($A938=Y$3,AND($A938=Y$3,$D938<0),0)","v":0},0,{"$f":"IF($A938=AA$3,AND($A938=AA$3,$D938<0),0)","v":0},0,{"$f":"IF($A938=AC$3,AND($A938=AC$3,$D938<0),0)","v":0},0,0]
[{"$f":"IF(B939=0,\"\",MONTH(B939))","v":""},null,null,null,{"$f":"IF(D939=\"\",\"\",IF(D939<0,\"DEBITO\",\"CREDITO\"))","v":""},null,false,false,0,{"$f":"IF($A939=I$3,AND($A939=I$3,$D939<0),0)","v":0},0,{"$f":"IF($A939=K$3,AND($A939=K$3,$D939<0),0)","v":0},0,{"$f":"IF($A939=M$3,AND($A939=M$3,$D939<0),0)","v":0},0,{"$f":"IF($A939=O$3,AND($A939=O$3,$D939<0),0)","v":0},0,0,0,0,0,0,0,{"$f":"IF($A939=W$3,AND($A939=W$3,$D939<0),0)","v":0},0,{"$f":"IF($A939=Y$3,AND($A939=Y$3,$D939<0),0)","v":0},0,{"$f":"IF($A939=AA$3,AND($A939=AA$3,$D939<0),0)","v":0},0,{"$f":"IF($A939=AC$3,AND($A939=AC$3,$D939<0),0)","v":0},0,0]
[{"$f":"IF(B940=0,\"\",MONTH(B940))","v":""},null,null,null,{"$f":"IF(D940=\"\",\"\",IF(D940<0,\"DEBITO\",\"CREDITO\"))","v":""},null,false,false,0,{"$f":"IF($A940=I$3,AND($A940=I$3,$D940<0),0)","v":0},0,{"$f":"IF($A940=K$3,AND($A940=K$3,$D940<0),0)","v":0},0,{"$f":"IF($A940=M$3,AND($A940=M$3,$D940<0),0)","v":0},0,{"$f":"IF($A940=O$3,AND($A940=O$3,$D940<0),0)","v":0},0,0,0,0,0,0,0,{"$f":"IF($A940=W$3,AND($A940=W$3,$D940<0),0)","v":0},0,{"$f":"IF($A940=Y$3,AND($A940=Y$3,$D940<0),0)","v":0},0,{"$f":"IF($A940=AA$3,AND($A940=AA$3,$D940<0),0)","v":0},0,{"$f":"IF($A940=AC$3,AND($A940=AC$3,$D940<0),0)","v":0},0,0]
[{"$f":"IF(B941=0,\"\",MONTH(B941))","v":""},null,null,null,{"$f":"IF(D941=\"\",\"\",IF(D941<0,\"DEBITO\",\"CREDITO\"))","v":""},null,false,false,0,{"$f":"IF($A941=I$3,AND($A941=I$3,$D941<0),0)","v":0},0,{"$f":"IF($A941=K$3,AND($A941=K$3,$D941<0),0)","v":0},0,{"$f":"IF($A941=M$3,AND($A941=M$3,$D941<0),0)","v":0},0,{"$f":"IF($A941=O$3,AND($A941=O$3,$D941<0),0)","v":0},0,0,0,0,0,0,0,{"$f":"IF($A941=W$3,AND($A941=W$3,$D941<0),0)","v":0},0,{"$f":"IF($A941=Y$3,AND($A941=Y$3,$D941<0),0)","v":0},0,{"$f":"IF($A941=AA$3,AND($A941=AA$3,$D941<0),0)","v":0},0,{"$f":"IF($A941=AC$3,AND($A941=AC$3,$D941<0),0)","v":0},0,0]
[{"$f":"IF(B942=0,\"\",MONTH(B942))","v":""},null,null,null,{"$f":"IF(D942=\"\",\"\",IF(D942<0,\"DEBITO\",\"CREDITO\"))","v":""},null,false,false,0,{"$f":"IF($A942=I$3,AND($A942=I$3,$D942<0),0)","v":0},0,{"$f":"IF($A942=K$3,AND($A942=K$3,$D942<0),0)","v":0},0,{"$f":"IF($A942=M$3,AND($A942=M$3,$D942<0),0)","v":0},0,{"$f":"IF($A942=O$3,AND($A942=O$3,$D942<0),0)","v":0},0,0,0,0,0,0,0,{"$f":"IF($A942=W$3,AND($A942=W$3,$D942<0),0)","v":0},0,{"$f":"IF($A942=Y$3,AND($A942=Y$3,$D942<0),0)","v":0},0,{"$f":"IF($A942=AA$3,AND($A942=AA$3,$D942<0),0)","v":0},0,{"$f":"IF($A942=AC$3,AND($A942=AC$3,$D942<0),0)","v":0},0,0]
[{"$f":"IF(B943=0,\"\",MONTH(B943))","v":""},null,null,null,{"$f":"IF(D943=\"\",\"\",IF(D943<0,\"DEBITO\",\"CREDITO\"))","v":""},null,false,false,0,{"$f":"IF($A943=I$3,AND($A943=I$3,$D943<0),0)","v":0},0,{"$f":"IF($A943=K$3,AND($A943=K$3,$D943<0),0)","v":0},0,{"$f":"IF($A943=M$3,AND($A943=M$3,$D943<0),0)","v":0},0,{"$f":"IF($A943=O$3,AND($A943=O$3,$D943<0),0)","v":0},0,0,0,0,0,0,0,{"$f":"IF($A943=W$3,AND($A943=W$3,$D943<0),0)","v":0},0,{"$f":"IF($A943=Y$3,AND($A943=Y$3,$D943<0),0)","v":0},0,{"$f":"IF($A943=AA$3,AND($A943=AA$3,$D943<0),0)","v":0},0,{"$f":"IF($A943=AC$3,AND($A943=AC$3,$D943<0),0)","v":0},0,0]
[{"$f":"IF(B944=0,\"\",MONTH(B944))","v":""},null,null,null,{"$f":"IF(D944=\"\",\"\",IF(D944<0,\"DEBITO\",\"CREDITO\"))","v":""},null,false,false,0,{"$f":"IF($A944=I$3,AND($A944=I$3,$D944<0),0)","v":0},0,{"$f":"IF($A944=K$3,AND($A944=K$3,$D944<0),0)","v":0},0,{"$f":"IF($A944=M$3,AND($A944=M$3,$D944<0),0)","v":0},0,{"$f":"IF($A944=O$3,AND($A944=O$3,$D944<0),0)","v":0},0,0,0,0,0,0,0,{"$f":"IF($A944=W$3,AND($A944=W$3,$D944<0),0)","v":0},0,{"$f":"IF($A944=Y$3,AND($A944=Y$3,$D944<0),0)","v":0},0,{"$f":"IF($A944=AA$3,AND($A944=AA$3,$D944<0),0)","v":0},0,{"$f":"IF($A944=AC$3,AND($A944=AC$3,$D944<0),0)","v":0},0,0]
[{"$f":"IF(B945=0,\"\",MONTH(B945))","v":""},null,null,null,{"$f":"IF(D945=\"\",\"\",IF(D945<0,\"DEBITO\",\"CREDITO\"))","v":""},null,false,false,0,{"$f":"IF($A945=I$3,AND($A945=I$3,$D945<0),0)","v":0},0,{"$f":"IF($A945=K$3,AND($A945=K$3,$D945<0),0)","v":0},0,{"$f":"IF($A945=M$3,AND($A945=M$3,$D945<0),0)","v":0},0,{"$f":"IF($A945=O$3,AND($A945=O$3,$D945<0),0)","v":0},0,0,0,0,0,0,0,{"$f":"IF($A945=W$3,AND($A945=W$3,$D945<0),0)","v":0},0,{"$f":"IF($A945=Y$3,AND($A945=Y$3,$D945<0),0)","v":0},0,{"$f":"IF($A945=AA$3,AND($A945=AA$3,$D945<0),0)","v":0},0,{"$f":"IF($A945=AC$3,AND($A945=AC$3,$D945<0),0)","v":0},0,0]
[{"$f":"IF(B946=0,\"\",MONTH(B946))","v":""},null,null,null,{"$f":"IF(D946=\"\",\"\",IF(D946<0,\"DEBITO\",\"CREDITO\"))","v":""},null,false,false,0,{"$f":"IF($A946=I$3,AND($A946=I$3,$D946<0),0)","v":0},0,{"$f":"IF($A946=K$3,AND($A946=K$3,$D946<0),0)","v":0},0,{"$f":"IF($A946=M$3,AND($A946=M$3,$D946<0),0)","v":0},0,{"$f":"IF($A946=O$3,AND($A946=O$3,$D946<0),0)","v":0},0,0,0,0,0,0,0,{"$f":"IF($A946=W$3,AND($A946=W$3,$D946<0),0)","v":0},0,{"$f":"IF($A946=Y$3,AND($A946=Y$3,$D946<0),0)","v":0},0,{"$f":"IF($A946=AA$3,AND($A946=AA$3,$D946<0),0)","v":0},0,{"$f":"IF($A946=AC$3,AND($A946=AC$3,$D946<0),0)","v":0},0,0]
[{"$f":"IF(B947=0,\"\",MONTH(B947))","v":""},null,null,null,{"$f":"IF(D947=\"\",\"\",IF(D947<0,\"DEBITO\",\"CREDITO\"))","v":""},null,false,false,0,{"$f":"IF($A947=I$3,AND($A947=I$3,$D947<0),0)","v":0},0,{"$f":"IF($A947=K$3,AND($A947=K$3,$D947<0),0)","v":0},0,{"$f":"IF($A947=M$3,AND($A947=M$3,$D947<0),0)","v":0},0,{"$f":"IF($A947=O$3,AND($A947=O$3,$D947<0),0)","v":0},0,0,0,0,0,0,0,{"$f":"IF($A947=W$3,AND($A947=W$3,$D947<0),0)","v":0},0,{"$f":"IF($A947=Y$3,AND($A947=Y$3,$D947<0),0)","v":0},0,{"$f":"IF($A947=AA$3,AND($A947=AA$3,$D947<0),0)","v":0},0,{"$f":"IF($A947=AC$3,AND($A947=AC$3,$D947<0),0)","v":0},0,0]
[{"$f":"IF(B948=0,\"\",MONTH(B948))","v":""},null,null,null,{"$f":"IF(D948=\"\",\"\",IF(D948<0,\"DEBITO\",\"CREDITO\"))","v":""},null,false,false,0,{"$f":"IF($A948=I$3,AND($A948=I$3,$D948<0),0)","v":0},0,{"$f":"IF($A948=K$3,AND($A948=K$3,$D948<0),0)","v":0},0,{"$f":"IF($A948=M$3,AND($A948=M$3,$D948<0),0)","v":0},0,{"$f":"IF($A948=O$3,AND($A948=O$3,$D948<0),0)","v":0},0,0,0,0,0,0,0,{"$f":"IF($A948=W$3,AND($A948=W$3,$D948<0),0)","v":0},0,{"$f":"IF($A948=Y$3,AND($A948=Y$3,$D948<0),0)","v":0},0,{"$f":"IF($A948=AA$3,AND($A948=AA$3,$D948<0),0)","v":0},0,{"$f":"IF($A948=AC$3,AND($A948=AC$3,$D948<0),0)","v":0},0,0]
[{"$f":"IF(B949=0,\"\",MONTH(B949))","v":""},null,null,null,{"$f":"IF(D949=\"\",\"\",IF(D949<0,\"DEBITO\",\"CREDITO\"))","v":""},null,false,false,0,{"$f":"IF($A949=I$3,AND($A949=I$3,$D949<0),0)","v":0},0,{"$f":"IF($A949=K$3,AND($A949=K$3,$D949<0),0)","v":0},0,{"$f":"IF($A949=M$3,AND($A949=M$3,$D949<0),0)","v":0},0,{"$f":"IF($A949=O$3,AND($A949=O$3,$D949<0),0)","v":0},0,0,0,0,0,0,0,{"$f":"IF($A949=W$3,AND($A949=W$3,$D949<0),0)","v":0},0,{"$f":"IF($A949=Y$3,AND($A949=Y$3,$D949<0),0)","v":0},0,{"$f":"IF($A949=AA$3,AND($A949=AA$3,$D949<0),0)","v":0},0,{"$f":"IF($A949=AC$3,AND($A949=AC$3,$D949<0),0)","v":0},0,0]
[{"$f":"IF(B950=0,\"\",MONTH(B950))","v":""},null,null,null,{"$f":"IF(D950=\"\",\"\",IF(D950<0,\"DEBITO\",\"CREDITO\"))","v":""},null,false,false,0,{"$f":"IF($A950=I$3,AND($A950=I$3,$D950<0),0)","v":0},0,{"$f":"IF($A950=K$3,AND($A950=K$3,$D950<0),0)","v":0},0,{"$f":"IF($A950=M$3,AND($A950=M$3,$D950<0),0)","v":0},0,{"$f":"IF($A950=O$3,AND($A950=O$3,$D950<0),0)","v":0},0,0,0,0,0,0,0,{"$f":"IF($A950=W$3,AND($A950=W$3,$D950<0),0)","v":0},0,{"$f":"IF($A950=Y$3,AND($A950=Y$3,$D950<0),0)","v":0},0,{"$f":"IF($A950=AA$3,AND($A950=AA$3,$D950<0),0)","v":0},0,{"$f":"IF($A950=AC$3,AND($A950=AC$3,$D950<0),0)","v":0},0,0]
[{"$f":"IF(B951=0,\"\",MONTH(B951))","v":""},null,null,null,{"$f":"IF(D951=\"\",\"\",IF(D951<0,\"DEBITO\",\"CREDITO\"))","v":""},null,false,false,0,{"$f":"IF($A951=I$3,AND($A951=I$3,$D951<0),0)","v":0},0,{"$f":"IF($A951=K$3,AND($A951=K$3,$D951<0),0)","v":0},0,{"$f":"IF($A951=M$3,AND($A951=M$3,$D951<0),0)","v":0},0,{"$f":"IF($A951=O$3,AND($A951=O$3,$D951<0),0)","v":0},0,0,0,0,0,0,0,{"$f":"IF($A951=W$3,AND($A951=W$3,$D951<0),0)","v":0},0,{"$f":"IF($A951=Y$3,AND($A951=Y$3,$D951<0),0)","v":0},0,{"$f":"IF($A951=AA$3,AND($A951=AA$3,$D951<0),0)","v":0},0,{"$f":"IF($A951=AC$3,AND($A951=AC$3,$D951<0),0)","v":0},0,0]
[{"$f":"IF(B952=0,\"\",MONTH(B952))","v":""},null,null,null,{"$f":"IF(D952=\"\",\"\",IF(D952<0,\"DEBITO\",\"CREDITO\"))","v":""},null,false,false,0,{"$f":"IF($A952=I$3,AND($A952=I$3,$D952<0),0)","v":0},0,{"$f":"IF($A952=K$3,AND($A952=K$3,$D952<0),0)","v":0},0,{"$f":"IF($A952=M$3,AND($A952=M$3,$D952<0),0)","v":0},0,{"$f":"IF($A952=O$3,AND($A952=O$3,$D952<0),0)","v":0},0,0,0,0,0,0,0,{"$f":"IF($A952=W$3,AND($A952=W$3,$D952<0),0)","v":0},0,{"$f":"IF($A952=Y$3,AND($A952=Y$3,$D952<0),0)","v":0},0,{"$f":"IF($A952=AA$3,AND($A952=AA$3,$D952<0),0)","v":0},0,{"$f":"IF($A952=AC$3,AND($A952=AC$3,$D952<0),0)","v":0},0,0]
[{"$f":"IF(B953=0,\"\",MONTH(B953))","v":""},null,null,null,{"$f":"IF(D953=\"\",\"\",IF(D953<0,\"DEBITO\",\"CREDITO\"))","v":""},null,false,false,0,{"$f":"IF($A953=I$3,AND($A953=I$3,$D953<0),0)","v":0},0,{"$f":"IF($A953=K$3,AND($A953=K$3,$D953<0),0)","v":0},0,{"$f":"IF($A953=M$3,AND($A953=M$3,$D953<0),0)","v":0},0,{"$f":"IF($A953=O$3,AND($A953=O$3,$D953<0),0)","v":0},0,0,0,0,0,0,0,{"$f":"IF($A953=W$3,AND($A953=W$3,$D953<0),0)","v":0},0,{"$f":"IF($A953=Y$3,AND($A953=Y$3,$D953<0),0)","v":0},0,{"$f":"IF($A953=AA$3,AND($A953=AA$3,$D953<0),0)","v":0},0,{"$f":"IF($A953=AC$3,AND($A953=AC$3,$D953<0),0)","v":0},0,0]
[{"$f":"IF(B954=0,\"\",MONTH(B954))","v":""},null,null,null,{"$f":"IF(D954=\"\",\"\",IF(D954<0,\"DEBITO\",\"CREDITO\"))","v":""},null,false,false,0,{"$f":"IF($A954=I$3,AND($A954=I$3,$D954<0),0)","v":0},0,{"$f":"IF($A954=K$3,AND($A954=K$3,$D954<0),0)","v":0},0,{"$f":"IF($A954=M$3,AND($A954=M$3,$D954<0),0)","v":0},0,{"$f":"IF($A954=O$3,AND($A954=O$3,$D954<0),0)","v":0},0,0,0,0,0,0,0,{"$f":"IF($A954=W$3,AND($A954=W$3,$D954<0),0)","v":0},0,{"$f":"IF($A954=Y$3,AND($A954=Y$3,$D954<0),0)","v":0},0,{"$f":"IF($A954=AA$3,AND($A954=AA$3,$D954<0),0)","v":0},0,{"$f":"IF($A954=AC$3,AND($A954=AC$3,$D954<0),0)","v":0},0,0]
[{"$f":"IF(B955=0,\"\",MONTH(B955))","v":""},null,null,null,{"$f":"IF(D955=\"\",\"\",IF(D955<0,\"DEBITO\",\"CREDITO\"))","v":""},null,false,false,0,{"$f":"IF($A955=I$3,AND($A955=I$3,$D955<0),0)","v":0},0,{"$f":"IF($A955=K$3,AND($A955=K$3,$D955<0),0)","v":0},0,{"$f":"IF($A955=M$3,AND($A955=M$3,$D955<0),0)","v":0},0,{"$f":"IF($A955=O$3,AND($A955=O$3,$D955<0),0)","v":0},0,0,0,0,0,0,0,{"$f":"IF($A955=W$3,AND($A955=W$3,$D955<0),0)","v":0},0,{"$f":"IF($A955=Y$3,AND($A955=Y$3,$D955<0),0)","v":0},0,{"$f":"IF($A955=AA$3,AND($A955=AA$3,$D955<0),0)","v":0},0,{"$f":"IF($A955=AC$3,AND($A955=AC$3,$D955<0),0)","v":0},0,0]
[{"$f":"IF(B956=0,\"\",MONTH(B956))","v":""},null,null,null,{"$f":"IF(D956=\"\",\"\",IF(D956<0,\"DEBITO\",\"CREDITO\"))","v":""},null,false,false,0,{"$f":"IF($A956=I$3,AND($A956=I$3,$D956<0),0)","v":0},0,{"$f":"IF($A956=K$3,AND($A956=K$3,$D956<0),0)","v":0},0,{"$f":"IF($A956=M$3,AND($A956=M$3,$D956<0),0)","v":0},0,{"$f":"IF($A956=O$3,AND($A956=O$3,$D956<0),0)","v":0},0,0,0,0,0,0,0,{"$f":"IF($A956=W$3,AND($A956=W$3,$D956<0),0)","v":0},0,{"$f":"IF($A956=Y$3,AND($A956=Y$3,$D956<0),0)","v":0},0,{"$f":"IF($A956=AA$3,AND($A956=AA$3,$D956<0),0)","v":0},0,{"$f":"IF($A956=AC$3,AND($A956=AC$3,$D956<0),0)","v":0},0,0]
[{"$f":"IF(B957=0,\"\",MONTH(B957))","v":""},null,null,null,{"$f":"IF(D957=\"\",\"\",IF(D957<0,\"DEBITO\",\"CREDITO\"))","v":""},null,false,false,0,{"$f":"IF($A957=I$3,AND($A957=I$3,$D957<0),0)","v":0},0,{"$f":"IF($A957=K$3,AND($A957=K$3,$D957<0),0)","v":0},0,{"$f":"IF($A957=M$3,AND($A957=M$3,$D957<0),0)","v":0},0,{"$f":"IF($A957=O$3,AND($A957=O$3,$D957<0),0)","v":0},0,0,0,0,0,0,0,{"$f":"IF($A957=W$3,AND($A957=W$3,$D957<0),0)","v":0},0,{"$f":"IF($A957=Y$3,AND($A957=Y$3,$D957<0),0)","v":0},0,{"$f":"IF($A957=AA$3,AND($A957=AA$3,$D957<0),0)","v":0},0,{"$f":"IF($A957=AC$3,AND($A957=AC$3,$D957<0),0)","v":0},0,0]
[{"$f":"IF(B958=0,\"\",MONTH(B958))","v":""},null,null,null,{"$f":"IF(D958=\"\",\"\",IF(D958<0,\"DEBITO\",\"CREDITO\"))","v":""},null,false,false,0,{"$f":"IF($A958=I$3,AND($A958=I$3,$D958<0),0)","v":0},0,{"$f":"IF($A958=K$3,AND($A958=K$3,$D958<0),0)","v":0},0,{"$f":"IF($A958=M$3,AND($A958=M$3,$D958<0),0)","v":0},0,{"$f":"IF($A958=O$3,AND($A958=O$3,$D958<0),0)","v":0},0,0,0,0,0,0,0,{"$f":"IF($A958=W$3,AND($A958=W$3,$D958<0),0)","v":0},0,{"$f":"IF($A958=Y$3,AND($A958=Y$3,$D958<0),0)","v":0},0,{"$f":"IF($A958=AA$3,AND($A958=AA$3,$D958<0),0)","v":0},0,{"$f":"IF($A958=AC$3,AND($A958=AC$3,$D958<0),0)","v":0},0,0]
[{"$f":"IF(B959=0,\"\",MONTH(B959))","v":""},null,null,null,{"$f":"IF(D959=\"\",\"\",IF(D959<0,\"DEBITO\",\"CREDITO\"))","v":""},null,false,false,0,{"$f":"IF($A959=I$3,AND($A959=I$3,$D959<0),0)","v":0},0,{"$f":"IF($A959=K$3,AND($A959=K$3,$D959<0),0)","v":0},0,{"$f":"IF($A959=M$3,AND($A959=M$3,$D959<0),0)","v":0},0,{"$f":"IF($A959=O$3,AND($A959=O$3,$D959<0),0)","v":0},0,0,0,0,0,0,0,{"$f":"IF($A959=W$3,AND($A959=W$3,$D959<0),0)","v":0},0,{"$f":"IF($A959=Y$3,AND($A959=Y$3,$D959<0),0)","v":0},0,{"$f":"IF($A959=AA$3,AND($A959=AA$3,$D959<0),0)","v":0},0,{"$f":"IF($A959=AC$3,AND($A959=AC$3,$D959<0),0)","v":0},0,0]
[{"$f":"IF(B960=0,\"\",MONTH(B960))","v":""},null,null,null,{"$f":"IF(D960=\"\",\"\",IF(D960<0,\"DEBITO\",\"CREDITO\"))","v":""},null,false,false,0,{"$f":"IF($A960=I$3,AND($A960=I$3,$D960<0),0)","v":0},0,{"$f":"IF($A960=K$3,AND($A960=K$3,$D960<0),0)","v":0},0,{"$f":"IF($A960=M$3,AND($A960=M$3,$D960<0),0)","v":0},0,{"$f":"IF($A960=O$3,AND($A960=O$3,$D960<0),0)","v":0},0,0,0,0,0,0,0,{"$f":"IF($A960=W$3,AND($A960=W$3,$D960<0),0)","v":0},0,{"$f":"IF($A960=Y$3,AND($A960=Y$3,$D960<0),0)","v":0},0,{"$f":"IF($A960=AA$3,AND($A960=AA$3,$D960<0),0)","v":0},0,{"$f":"IF($A960=AC$3,AND($A960=AC$3,$D960<0),0)","v":0},0,0]
[{"$f":"IF(B961=0,\"\",MONTH(B961))","v":""},null,null,null,{"$f":"IF(D961=\"\",\"\",IF(D961<0,\"DEBITO\",\"CREDITO\"))","v":""},null,false,false,0,{"$f":"IF($A961=I$3,AND($A961=I$3,$D961<0),0)","v":0},0,{"$f":"IF($A961=K$3,AND($A961=K$3,$D961<0),0)","v":0},0,{"$f":"IF($A961=M$3,AND($A961=M$3,$D961<0),0)","v":0},0,{"$f":"IF($A961=O$3,AND($A961=O$3,$D961<0),0)","v":0},0,0,0,0,0,0,0,{"$f":"IF($A961=W$3,AND($A961=W$3,$D961<0),0)","v":0},0,{"$f":"IF($A961=Y$3,AND($A961=Y$3,$D961<0),0)","v":0},0,{"$f":"IF($A961=AA$3,AND($A961=AA$3,$D961<0),0)","v":0},0,{"$f":"IF($A961=AC$3,AND($A961=AC$3,$D961<0),0)","v":0},0,0]
[{"$f":"IF(B962=0,\"\",MONTH(B962))","v":""},null,null,null,{"$f":"IF(D962=\"\",\"\",IF(D962<0,\"DEBITO\",\"CREDITO\"))","v":""},null,false,false,0,{"$f":"IF($A962=I$3,AND($A962=I$3,$D962<0),0)","v":0},0,{"$f":"IF($A962=K$3,AND($A962=K$3,$D962<0),0)","v":0},0,{"$f":"IF($A962=M$3,AND($A962=M$3,$D962<0),0)","v":0},0,{"$f":"IF($A962=O$3,AND($A962=O$3,$D962<0),0)","v":0},0,0,0,0,0,0,0,{"$f":"IF($A962=W$3,AND($A962=W$3,$D962<0),0)","v":0},0,{"$f":"IF($A962=Y$3,AND($A962=Y$3,$D962<0),0)","v":0},0,{"$f":"IF($A962=AA$3,AND($A962=AA$3,$D962<0),0)","v":0},0,{"$f":"IF($A962=AC$3,AND($A962=AC$3,$D962<0),0)","v":0},0,0]
[{"$f":"IF(B963=0,\"\",MONTH(B963))","v":""},null,null,null,{"$f":"IF(D963=\"\",\"\",IF(D963<0,\"DEBITO\",\"CREDITO\"))","v":""},null,false,false,0,{"$f":"IF($A963=I$3,AND($A963=I$3,$D963<0),0)","v":0},0,{"$f":"IF($A963=K$3,AND($A963=K$3,$D963<0),0)","v":0},0,{"$f":"IF($A963=M$3,AND($A963=M$3,$D963<0),0)","v":0},0,{"$f":"IF($A963=O$3,AND($A963=O$3,$D963<0),0)","v":0},0,0,0,0,0,0,0,{"$f":"IF($A963=W$3,AND($A963=W$3,$D963<0),0)","v":0},0,{"$f":"IF($A963=Y$3,AND($A963=Y$3,$D963<0),0)","v":0},0,{"$f":"IF($A963=AA$3,AND($A963=AA$3,$D963<0),0)","v":0},0,{"$f":"IF($A963=AC$3,AND($A963=AC$3,$D963<0),0)","v":0},0,0]
[{"$f":"IF(B964=0,\"\",MONTH(B964))","v":""},null,null,null,{"$f":"IF(D964=\"\",\"\",IF(D964<0,\"DEBITO\",\"CREDITO\"))","v":""},null,false,false,0,{"$f":"IF($A964=I$3,AND($A964=I$3,$D964<0),0)","v":0},0,{"$f":"IF($A964=K$3,AND($A964=K$3,$D964<0),0)","v":0},0,{"$f":"IF($A964=M$3,AND($A964=M$3,$D964<0),0)","v":0},0,{"$f":"IF($A964=O$3,AND($A964=O$3,$D964<0),0)","v":0},0,0,0,0,0,0,0,{"$f":"IF($A964=W$3,AND($A964=W$3,$D964<0),0)","v":0},0,{"$f":"IF($A964=Y$3,AND($A964=Y$3,$D964<0),0)","v":0},0,{"$f":"IF($A964=AA$3,AND($A964=AA$3,$D964<0),0)","v":0},0,{"$f":"IF($A964=AC$3,AND($A964=AC$3,$D964<0),0)","v":0},0,0]
[{"$f":"IF(B965=0,\"\",MONTH(B965))","v":""},null,null,null,{"$f":"IF(D965=\"\",\"\",IF(D965<0,\"DEBITO\",\"CREDITO\"))","v":""},null,false,false,0,{"$f":"IF($A965=I$3,AND($A965=I$3,$D965<0),0)","v":0},0,{"$f":"IF($A965=K$3,AND($A965=K$3,$D965<0),0)","v":0},0,{"$f":"IF($A965=M$3,AND($A965=M$3,$D965<0),0)","v":0},0,{"$f":"IF($A965=O$3,AND($A965=O$3,$D965<0),0)","v":0},0,0,0,0,0,0,0,{"$f":"IF($A965=W$3,AND($A965=W$3,$D965<0),0)","v":0},0,{"$f":"IF($A965=Y$3,AND($A965=Y$3,$D965<0),0)","v":0},0,{"$f":"IF($A965=AA$3,AND($A965=AA$3,$D965<0),0)","v":0},0,{"$f":"IF($A965=AC$3,AND($A965=AC$3,$D965<0),0)","v":0},0,0]
[{"$f":"IF(B966=0,\"\",MONTH(B966))","v":""},null,null,null,{"$f":"IF(D966=\"\",\"\",IF(D966<0,\"DEBITO\",\"CREDITO\"))","v":""},null,false,false,0,{"$f":"IF($A966=I$3,AND($A966=I$3,$D966<0),0)","v":0},0,{"$f":"IF($A966=K$3,AND($A966=K$3,$D966<0),0)","v":0},0,{"$f":"IF($A966=M$3,AND($A966=M$3,$D966<0),0)","v":0},0,{"$f":"IF($A966=O$3,AND($A966=O$3,$D966<0),0)","v":0},0,0,0,0,0,0,0,{"$f":"IF($A966=W$3,AND($A966=W$3,$D966<0),0)","v":0},0,{"$f":"IF($A966=Y$3,AND($A966=Y$3,$D966<0),0)","v":0},0,{"$f":"IF($A966=AA$3,AND($A966=AA$3,$D966<0),0)","v":0},0,{"$f":"IF($A966=AC$3,AND($A966=AC$3,$D966<0),0)","v":0},0,0]
[{"$f":"IF(B967=0,\"\",MONTH(B967))","v":""},null,null,null,{"$f":"IF(D967=\"\",\"\",IF(D967<0,\"DEBITO\",\"CREDITO\"))","v":""},null,false,false,0,{"$f":"IF($A967=I$3,AND($A967=I$3,$D967<0),0)","v":0},0,{"$f":"IF($A967=K$3,AND($A967=K$3,$D967<0),0)","v":0},0,{"$f":"IF($A967=M$3,AND($A967=M$3,$D967<0),0)","v":0},0,{"$f":"IF($A967=O$3,AND($A967=O$3,$D967<0),0)","v":0},0,0,0,0,0,0,0,{"$f":"IF($A967=W$3,AND($A967=W$3,$D967<0),0)","v":0},0,{"$f":"IF($A967=Y$3,AND($A967=Y$3,$D967<0),0)","v":0},0,{"$f":"IF($A967=AA$3,AND($A967=AA$3,$D967<0),0)","v":0},0,{"$f":"IF($A967=AC$3,AND($A967=AC$3,$D967<0),0)","v":0},0,0]
[{"$f":"IF(B968=0,\"\",MONTH(B968))","v":""},null,null,null,{"$f":"IF(D968=\"\",\"\",IF(D968<0,\"DEBITO\",\"CREDITO\"))","v":""},null,false,false,0,{"$f":"IF($A968=I$3,AND($A968=I$3,$D968<0),0)","v":0},0,{"$f":"IF($A968=K$3,AND($A968=K$3,$D968<0),0)","v":0},0,{"$f":"IF($A968=M$3,AND($A968=M$3,$D968<0),0)","v":0},0,{"$f":"IF($A968=O$3,AND($A968=O$3,$D968<0),0)","v":0},0,0,0,0,0,0,0,{"$f":"IF($A968=W$3,AND($A968=W$3,$D968<0),0)","v":0},0,{"$f":"IF($A968=Y$3,AND($A968=Y$3,$D968<0),0)","v":0},0,{"$f":"IF($A968=AA$3,AND($A968=AA$3,$D968<0),0)","v":0},0,{"$f":"IF($A968=AC$3,AND($A968=AC$3,$D968<0),0)","v":0},0,0]
[{"$f":"IF(B969=0,\"\",MONTH(B969))","v":""},null,null,null,{"$f":"IF(D969=\"\",\"\",IF(D969<0,\"DEBITO\",\"CREDITO\"))","v":""},null,{"$f":"AND(A969=$E$3,D969>0)","v":false},{"$f":"AND(A969=$E$3,D969<0)","v":false},0,{"$f":"IF($A969=I$3,AND($A969=I$3,$D969<0),0)","v":0},0,{"$f":"IF($A969=K$3,AND($A969=K$3,$D969<0),0)","v":0},0,{"$f":"IF($A969=M$3,AND($A969=M$3,$D969<0),0)","v":0},0,{"$f":"IF($A969=O$3,AND($A969=O$3,$D969<0),0)","v":0},0,{"$f":"IF($A969=Q$3,AND($A969=Q$3,$D969<0),0)","v":0},0,0,0,0,0,{"$f":"IF($A969=W$3,AND($A969=W$3,$D969<0),0)","v":0},0,{"$f":"IF($A969=Y$3,AND($A969=Y$3,$D969<0),0)","v":0},0,{"$f":"IF($A969=AA$3,AND($A969=AA$3,$D969<0),0)","v":0},0,{"$f":"IF($A969=AC$3,AND($A969=AC$3,$D969<0),0)","v":0},0,{"$f":"IF($A969=AE$3,AND($A969=AE$3,$D969<0),0)","v":0}]
[{"$f":"IF(B970=0,\"\",MONTH(B970))","v":""},null,null,null,{"$f":"IF(D970=\"\",\"\",IF(D970<0,\"DEBITO\",\"CREDITO\"))","v":""},null,false,false,0,{"$f":"IF($A970=I$3,AND($A970=I$3,$D970<0),0)","v":0},0,{"$f":"IF($A970=K$3,AND($A970=K$3,$D970<0),0)","v":0},0,{"$f":"IF($A970=M$3,AND($A970=M$3,$D970<0),0)","v":0},0,{"$f":"IF($A970=O$3,AND($A970=O$3,$D970<0),0)","v":0},0,0,{"$f":"IF($A970=S$3,AND($A970=S$3,$D970>0),0)","v":0},{"$f":"IF($A970=S$3,AND($A970=S$3,$D970<0),0)","v":0},{"$f":"IF($A970=U$3,AND($A970=U$3,$D970>0),0)","v":0},{"$f":"IF($A970=U$3,AND($A970=U$3,$D970<0),0)","v":0},0,{"$f":"IF($A970=W$3,AND($A970=W$3,$D970<0),0)","v":0},0,{"$f":"IF($A970=Y$3,AND($A970=Y$3,$D970<0),0)","v":0},0,{"$f":"IF($A970=AA$3,AND($A970=AA$3,$D970<0),0)","v":0},0,{"$f":"IF($A970=AC$3,AND($A970=AC$3,$D970<0),0)","v":0},0,0]
[{"$f":"IF(B971=0,\"\",MONTH(B971))","v":""},null,null,null,{"$f":"IF(D971=\"\",\"\",IF(D971<0,\"DEBITO\",\"CREDITO\"))","v":""},null,false,false,0,{"$f":"IF($A971=I$3,AND($A971=I$3,$D971<0),0)","v":0},0,{"$f":"IF($A971=K$3,AND($A971=K$3,$D971<0),0)","v":0},0,{"$f":"IF($A971=M$3,AND($A971=M$3,$D971<0),0)","v":0},0,{"$f":"IF($A971=O$3,AND($A971=O$3,$D971<0),0)","v":0},0,0,0,0,0,0,0,{"$f":"IF($A971=W$3,AND($A971=W$3,$D971<0),0)","v":0},0,{"$f":"IF($A971=Y$3,AND($A971=Y$3,$D971<0),0)","v":0},0,{"$f":"IF($A971=AA$3,AND($A971=AA$3,$D971<0),0)","v":0},0,{"$f":"IF($A971=AC$3,AND($A971=AC$3,$D971<0),0)","v":0},0,0]
[{"$f":"IF(B972=0,\"\",MONTH(B972))","v":""},null,null,null,{"$f":"IF(D972=\"\",\"\",IF(D972<0,\"DEBITO\",\"CREDITO\"))","v":""},null,false,false,0,{"$f":"IF($A972=I$3,AND($A972=I$3,$D972<0),0)","v":0},0,{"$f":"IF($A972=K$3,AND($A972=K$3,$D972<0),0)","v":0},0,{"$f":"IF($A972=M$3,AND($A972=M$3,$D972<0),0)","v":0},0,{"$f":"IF($A972=O$3,AND($A972=O$3,$D972<0),0)","v":0},0,0,0,0,0,0,0,{"$f":"IF($A972=W$3,AND($A972=W$3,$D972<0),0)","v":0},0,{"$f":"IF($A972=Y$3,AND($A972=Y$3,$D972<0),0)","v":0},0,{"$f":"IF($A972=AA$3,AND($A972=AA$3,$D972<0),0)","v":0},0,{"$f":"IF($A972=AC$3,AND($A972=AC$3,$D972<0),0)","v":0},0,0]
[{"$f":"IF(B973=0,\"\",MONTH(B973))","v":""},null,null,null,{"$f":"IF(D973=\"\",\"\",IF(D973<0,\"DEBITO\",\"CREDITO\"))","v":""},null,false,false,0,{"$f":"IF($A973=I$3,AND($A973=I$3,$D973<0),0)","v":0},0,{"$f":"IF($A973=K$3,AND($A973=K$3,$D973<0),0)","v":0},0,{"$f":"IF($A973=M$3,AND($A973=M$3,$D973<0),0)","v":0},0,{"$f":"IF($A973=O$3,AND($A973=O$3,$D973<0),0)","v":0},0,0,0,0,0,0,0,{"$f":"IF($A973=W$3,AND($A973=W$3,$D973<0),0)","v":0},0,{"$f":"IF($A973=Y$3,AND($A973=Y$3,$D973<0),0)","v":0},0,{"$f":"IF($A973=AA$3,AND($A973=AA$3,$D973<0),0)","v":0},0,{"$f":"IF($A973=AC$3,AND($A973=AC$3,$D973<0),0)","v":0},0,0]
[{"$f":"IF(B974=0,\"\",MONTH(B974))","v":""},null,null,null,{"$f":"IF(D974=\"\",\"\",IF(D974<0,\"DEBITO\",\"CREDITO\"))","v":""},null,false,false,0,{"$f":"IF($A974=I$3,AND($A974=I$3,$D974<0),0)","v":0},0,{"$f":"IF($A974=K$3,AND($A974=K$3,$D974<0),0)","v":0},0,{"$f":"IF($A974=M$3,AND($A974=M$3,$D974<0),0)","v":0},0,{"$f":"IF($A974=O$3,AND($A974=O$3,$D974<0),0)","v":0},0,0,0,0,0,0,0,{"$f":"IF($A974=W$3,AND($A974=W$3,$D974<0),0)","v":0},0,{"$f":"IF($A974=Y$3,AND($A974=Y$3,$D974<0),0)","v":0},0,{"$f":"IF($A974=AA$3,AND($A974=AA$3,$D974<0),0)","v":0},0,{"$f":"IF($A974=AC$3,AND($A974=AC$3,$D974<0),0)","v":0},0,0]
[{"$f":"IF(B975=0,\"\",MONTH(B975))","v":""},null,null,null,{"$f":"IF(D975=\"\",\"\",IF(D975<0,\"DEBITO\",\"CREDITO\"))","v":""},null,false,false,0,{"$f":"IF($A975=I$3,AND($A975=I$3,$D975<0),0)","v":0},0,{"$f":"IF($A975=K$3,AND($A975=K$3,$D975<0),0)","v":0},0,{"$f":"IF($A975=M$3,AND($A975=M$3,$D975<0),0)","v":0},0,{"$f":"IF($A975=O$3,AND($A975=O$3,$D975<0),0)","v":0},0,0,0,0,0,0,0,{"$f":"IF($A975=W$3,AND($A975=W$3,$D975<0),0)","v":0},0,{"$f":"IF($A975=Y$3,AND($A975=Y$3,$D975<0),0)","v":0},0,{"$f":"IF($A975=AA$3,AND($A975=AA$3,$D975<0),0)","v":0},0,{"$f":"IF($A975=AC$3,AND($A975=AC$3,$D975<0),0)","v":0},0,0]
[{"$f":"IF(B976=0,\"\",MONTH(B976))","v":""},null,null,null,{"$f":"IF(D976=\"\",\"\",IF(D976<0,\"DEBITO\",\"CREDITO\"))","v":""},null,false,false,0,{"$f":"IF($A976=I$3,AND($A976=I$3,$D976<0),0)","v":0},0,{"$f":"IF($A976=K$3,AND($A976=K$3,$D976<0),0)","v":0},0,{"$f":"IF($A976=M$3,AND($A976=M$3,$D976<0),0)","v":0},0,{"$f":"IF($A976=O$3,AND($A976=O$3,$D976<0),0)","v":0},0,0,0,0,0,0,0,{"$f":"IF($A976=W$3,AND($A976=W$3,$D976<0),0)","v":0},0,{"$f":"IF($A976=Y$3,AND($A976=Y$3,$D976<0),0)","v":0},0,{"$f":"IF($A976=AA$3,AND($A976=AA$3,$D976<0),0)","v":0},0,{"$f":"IF($A976=AC$3,AND($A976=AC$3,$D976<0),0)","v":0},0,0]
[{"$f":"IF(B977=0,\"\",MONTH(B977))","v":""},null,null,null,{"$f":"IF(D977=\"\",\"\",IF(D977<0,\"DEBITO\",\"CREDITO\"))","v":""},null,false,false,0,{"$f":"IF($A977=I$3,AND($A977=I$3,$D977<0),0)","v":0},0,{"$f":"IF($A977=K$3,AND($A977=K$3,$D977<0),0)","v":0},0,{"$f":"IF($A977=M$3,AND($A977=M$3,$D977<0),0)","v":0},0,{"$f":"IF($A977=O$3,AND($A977=O$3,$D977<0),0)","v":0},0,0,0,0,0,0,0,{"$f":"IF($A977=W$3,AND($A977=W$3,$D977<0),0)","v":0},0,{"$f":"IF($A977=Y$3,AND($A977=Y$3,$D977<0),0)","v":0},0,{"$f":"IF($A977=AA$3,AND($A977=AA$3,$D977<0),0)","v":0},0,{"$f":"IF($A977=AC$3,AND($A977=AC$3,$D977<0),0)","v":0},0,0]
[{"$f":"IF(B978=0,\"\",MONTH(B978))","v":""},null,null,null,{"$f":"IF(D978=\"\",\"\",IF(D978<0,\"DEBITO\",\"CREDITO\"))","v":""},null,false,false,0,{"$f":"IF($A978=I$3,AND($A978=I$3,$D978<0),0)","v":0},0,{"$f":"IF($A978=K$3,AND($A978=K$3,$D978<0),0)","v":0},0,{"$f":"IF($A978=M$3,AND($A978=M$3,$D978<0),0)","v":0},0,{"$f":"IF($A978=O$3,AND($A978=O$3,$D978<0),0)","v":0},0,0,0,0,0,0,0,{"$f":"IF($A978=W$3,AND($A978=W$3,$D978<0),0)","v":0},0,{"$f":"IF($A978=Y$3,AND($A978=Y$3,$D978<0),0)","v":0},0,{"$f":"IF($A978=AA$3,AND($A978=AA$3,$D978<0),0)","v":0},0,{"$f":"IF($A978=AC$3,AND($A978=AC$3,$D978<0),0)","v":0},0,0]
[{"$f":"IF(B979=0,\"\",MONTH(B979))","v":""},null,null,null,{"$f":"IF(D979=\"\",\"\",IF(D979<0,\"DEBITO\",\"CREDITO\"))","v":""},null,false,false,0,{"$f":"IF($A979=I$3,AND($A979=I$3,$D979<0),0)","v":0},0,{"$f":"IF($A979=K$3,AND($A979=K$3,$D979<0),0)","v":0},0,{"$f":"IF($A979=M$3,AND($A979=M$3,$D979<0),0)","v":0},0,{"$f":"IF($A979=O$3,AND($A979=O$3,$D979<0),0)","v":0},0,0,0,0,0,0,0,{"$f":"IF($A979=W$3,AND($A979=W$3,$D979<0),0)","v":0},0,{"$f":"IF($A979=Y$3,AND($A979=Y$3,$D979<0),0)","v":0},0,{"$f":"IF($A979=AA$3,AND($A979=AA$3,$D979<0),0)","v":0},0,{"$f":"IF($A979=AC$3,AND($A979=AC$3,$D979<0),0)","v":0},0,0]
[{"$f":"IF(B980=0,\"\",MONTH(B980))","v":""},null,null,null,{"$f":"IF(D980=\"\",\"\",IF(D980<0,\"DEBITO\",\"CREDITO\"))","v":""},null,false,false,0,{"$f":"IF($A980=I$3,AND($A980=I$3,$D980<0),0)","v":0},0,{"$f":"IF($A980=K$3,AND($A980=K$3,$D980<0),0)","v":0},0,{"$f":"IF($A980=M$3,AND($A980=M$3,$D980<0),0)","v":0},0,{"$f":"IF($A980=O$3,AND($A980=O$3,$D980<0),0)","v":0},0,0,0,0,0,0,0,{"$f":"IF($A980=W$3,AND($A980=W$3,$D980<0),0)","v":0},0,{"$f":"IF($A980=Y$3,AND($A980=Y$3,$D980<0),0)","v":0},0,{"$f":"IF($A980=AA$3,AND($A980=AA$3,$D980<0),0)","v":0},0,{"$f":"IF($A980=AC$3,AND($A980=AC$3,$D980<0),0)","v":0},0,0]
[{"$f":"IF(B981=0,\"\",MONTH(B981))","v":""},null,null,null,{"$f":"IF(D981=\"\",\"\",IF(D981<0,\"DEBITO\",\"CREDITO\"))","v":""},null,false,false,0,{"$f":"IF($A981=I$3,AND($A981=I$3,$D981<0),0)","v":0},0,{"$f":"IF($A981=K$3,AND($A981=K$3,$D981<0),0)","v":0},0,{"$f":"IF($A981=M$3,AND($A981=M$3,$D981<0),0)","v":0},0,{"$f":"IF($A981=O$3,AND($A981=O$3,$D981<0),0)","v":0},0,0,0,0,0,0,0,{"$f":"IF($A981=W$3,AND($A981=W$3,$D981<0),0)","v":0},0,{"$f":"IF($A981=Y$3,AND($A981=Y$3,$D981<0),0)","v":0},0,{"$f":"IF($A981=AA$3,AND($A981=AA$3,$D981<0),0)","v":0},0,{"$f":"IF($A981=AC$3,AND($A981=AC$3,$D981<0),0)","v":0},0,0]
[{"$f":"IF(B982=0,\"\",MONTH(B982))","v":""},null,null,null,{"$f":"IF(D982=\"\",\"\",IF(D982<0,\"DEBITO\",\"CREDITO\"))","v":""},null,false,false,0,{"$f":"IF($A982=I$3,AND($A982=I$3,$D982<0),0)","v":0},0,{"$f":"IF($A982=K$3,AND($A982=K$3,$D982<0),0)","v":0},0,{"$f":"IF($A982=M$3,AND($A982=M$3,$D982<0),0)","v":0},0,{"$f":"IF($A982=O$3,AND($A982=O$3,$D982<0),0)","v":0},0,0,0,0,0,0,0,{"$f":"IF($A982=W$3,AND($A982=W$3,$D982<0),0)","v":0},0,{"$f":"IF($A982=Y$3,AND($A982=Y$3,$D982<0),0)","v":0},0,{"$f":"IF($A982=AA$3,AND($A982=AA$3,$D982<0),0)","v":0},0,{"$f":"IF($A982=AC$3,AND($A982=AC$3,$D982<0),0)","v":0},0,0]
[{"$f":"IF(B983=0,\"\",MONTH(B983))","v":""},null,null,null,{"$f":"IF(D983=\"\",\"\",IF(D983<0,\"DEBITO\",\"CREDITO\"))","v":""},null,false,false,0,{"$f":"IF($A983=I$3,AND($A983=I$3,$D983<0),0)","v":0},0,{"$f":"IF($A983=K$3,AND($A983=K$3,$D983<0),0)","v":0},0,{"$f":"IF($A983=M$3,AND($A983=M$3,$D983<0),0)","v":0},0,{"$f":"IF($A983=O$3,AND($A983=O$3,$D983<0),0)","v":0},0,0,0,0,0,0,0,{"$f":"IF($A983=W$3,AND($A983=W$3,$D983<0),0)","v":0},0,{"$f":"IF($A983=Y$3,AND($A983=Y$3,$D983<0),0)","v":0},0,{"$f":"IF($A983=AA$3,AND($A983=AA$3,$D983<0),0)","v":0},0,{"$f":"IF($A983=AC$3,AND($A983=AC$3,$D983<0),0)","v":0},0,0]
[{"$f":"IF(B984=0,\"\",MONTH(B984))","v":""},null,null,null,{"$f":"IF(D984=\"\",\"\",IF(D984<0,\"DEBITO\",\"CREDITO\"))","v":""},null,false,false,0,{"$f":"IF($A984=I$3,AND($A984=I$3,$D984<0),0)","v":0},0,{"$f":"IF($A984=K$3,AND($A984=K$3,$D984<0),0)","v":0},0,{"$f":"IF($A984=M$3,AND($A984=M$3,$D984<0),0)","v":0},0,{"$f":"IF($A984=O$3,AND($A984=O$3,$D984<0),0)","v":0},0,0,0,0,0,0,0,{"$f":"IF($A984=W$3,AND($A984=W$3,$D984<0),0)","v":0},0,{"$f":"IF($A984=Y$3,AND($A984=Y$3,$D984<0),0)","v":0},0,{"$f":"IF($A984=AA$3,AND($A984=AA$3,$D984<0),0)","v":0},0,{"$f":"IF($A984=AC$3,AND($A984=AC$3,$D984<0),0)","v":0},0,0]
[{"$f":"IF(B985=0,\"\",MONTH(B985))","v":""},null,null,null,{"$f":"IF(D985=\"\",\"\",IF(D985<0,\"DEBITO\",\"CREDITO\"))","v":""},null,false,false,{"$f":"IF($A985=I$3,AND($A985=I$3,$D985>0),0)","v":0},{"$f":"IF($A985=I$3,AND($A985=I$3,$D985<0),0)","v":0},{"$f":"IF($A985=K$3,AND($A985=K$3,$D985>0),0)","v":0},{"$f":"IF($A985=K$3,AND($A985=K$3,$D985<0),0)","v":0},{"$f":"IF($A985=M$3,AND($A985=M$3,$D985>0),0)","v":0},{"$f":"IF($A985=M$3,AND($A985=M$3,$D985<0),0)","v":0},{"$f":"IF($A985=O$3,AND($A985=O$3,$D985>0),0)","v":0},{"$f":"IF($A985=O$3,AND($A985=O$3,$D985<0),0)","v":0},{"$f":"IF($A985=Q$3,AND($A985=Q$3,$D985>0),0)","v":0},0,0,0,0,0,{"$f":"IF($A985=W$3,AND($A985=W$3,$D985>0),0)","v":0},{"$f":"IF($A985=W$3,AND($A985=W$3,$D985<0),0)","v":0},{"$f":"IF($A985=Y$3,AND($A985=Y$3,$D985>0),0)","v":0},{"$f":"IF($A985=Y$3,AND($A985=Y$3,$D985<0),0)","v":0},{"$f":"IF($A985=AA$3,AND($A985=AA$3,$D985>0),0)","v":0},{"$f":"IF($A985=AA$3,AND($A985=AA$3,$D985<0),0)","v":0},{"$f":"IF($A985=AC$3,AND($A985=AC$3,$D985>0),0)","v":0},{"$f":"IF($A985=AC$3,AND($A985=AC$3,$D985<0),0)","v":0},{"$f":"IF($A985=AE$3,AND($A985=AE$3,$D985>0),0)","v":0},0]
[{"$f":"IF(B986=0,\"\",MONTH(B986))","v":""},null,null,null,{"$f":"IF(D986=\"\",\"\",IF(D986<0,\"DEBITO\",\"CREDITO\"))","v":""},null,false,false,0,{"$f":"IF($A986=I$3,AND($A986=I$3,$D986<0),0)","v":0},0,{"$f":"IF($A986=K$3,AND($A986=K$3,$D986<0),0)","v":0},0,{"$f":"IF($A986=M$3,AND($A986=M$3,$D986<0),0)","v":0},0,{"$f":"IF($A986=O$3,AND($A986=O$3,$D986<0),0)","v":0},0,0,0,0,0,0,0,{"$f":"IF($A986=W$3,AND($A986=W$3,$D986<0),0)","v":0},0,{"$f":"IF($A986=Y$3,AND($A986=Y$3,$D986<0),0)","v":0},0,{"$f":"IF($A986=AA$3,AND($A986=AA$3,$D986<0),0)","v":0},0,{"$f":"IF($A986=AC$3,AND($A986=AC$3,$D986<0),0)","v":0},0,0]
[{"$f":"IF(B987=0,\"\",MONTH(B987))","v":""},null,null,null,{"$f":"IF(D987=\"\",\"\",IF(D987<0,\"DEBITO\",\"CREDITO\"))","v":""},null,false,false,0,{"$f":"IF($A987=I$3,AND($A987=I$3,$D987<0),0)","v":0},0,{"$f":"IF($A987=K$3,AND($A987=K$3,$D987<0),0)","v":0},0,{"$f":"IF($A987=M$3,AND($A987=M$3,$D987<0),0)","v":0},0,{"$f":"IF($A987=O$3,AND($A987=O$3,$D987<0),0)","v":0},0,0,0,0,0,0,0,{"$f":"IF($A987=W$3,AND($A987=W$3,$D987<0),0)","v":0},0,{"$f":"IF($A987=Y$3,AND($A987=Y$3,$D987<0),0)","v":0},0,{"$f":"IF($A987=AA$3,AND($A987=AA$3,$D987<0),0)","v":0},0,{"$f":"IF($A987=AC$3,AND($A987=AC$3,$D987<0),0)","v":0},0,0]
[{"$f":"IF(B988=0,\"\",MONTH(B988))","v":""},null,null,null,{"$f":"IF(D988=\"\",\"\",IF(D988<0,\"DEBITO\",\"CREDITO\"))","v":""},null,false,false,0,{"$f":"IF($A988=I$3,AND($A988=I$3,$D988<0),0)","v":0},0,{"$f":"IF($A988=K$3,AND($A988=K$3,$D988<0),0)","v":0},0,{"$f":"IF($A988=M$3,AND($A988=M$3,$D988<0),0)","v":0},0,{"$f":"IF($A988=O$3,AND($A988=O$3,$D988<0),0)","v":0},0,0,0,0,0,0,0,{"$f":"IF($A988=W$3,AND($A988=W$3,$D988<0),0)","v":0},0,{"$f":"IF($A988=Y$3,AND($A988=Y$3,$D988<0),0)","v":0},0,{"$f":"IF($A988=AA$3,AND($A988=AA$3,$D988<0),0)","v":0},0,{"$f":"IF($A988=AC$3,AND($A988=AC$3,$D988<0),0)","v":0},0,0]
[{"$f":"IF(B989=0,\"\",MONTH(B989))","v":""},null,null,null,{"$f":"IF(D989=\"\",\"\",IF(D989<0,\"DEBITO\",\"CREDITO\"))","v":""},null,false,false,0,{"$f":"IF($A989=I$3,AND($A989=I$3,$D989<0),0)","v":0},0,{"$f":"IF($A989=K$3,AND($A989=K$3,$D989<0),0)","v":0},0,{"$f":"IF($A989=M$3,AND($A989=M$3,$D989<0),0)","v":0},0,{"$f":"IF($A989=O$3,AND($A989=O$3,$D989<0),0)","v":0},0,0,0,0,0,0,0,{"$f":"IF($A989=W$3,AND($A989=W$3,$D989<0),0)","v":0},0,{"$f":"IF($A989=Y$3,AND($A989=Y$3,$D989<0),0)","v":0},0,{"$f":"IF($A989=AA$3,AND($A989=AA$3,$D989<0),0)","v":0},0,{"$f":"IF($A989=AC$3,AND($A989=AC$3,$D989<0),0)","v":0},0,0]
[{"$f":"IF(B990=0,\"\",MONTH(B990))","v":""},null,null,null,{"$f":"IF(D990=\"\",\"\",IF(D990<0,\"DEBITO\",\"CREDITO\"))","v":""},null,false,false,0,{"$f":"IF($A990=I$3,AND($A990=I$3,$D990<0),0)","v":0},0,{"$f":"IF($A990=K$3,AND($A990=K$3,$D990<0),0)","v":0},0,{"$f":"IF($A990=M$3,AND($A990=M$3,$D990<0),0)","v":0},0,{"$f":"IF($A990=O$3,AND($A990=O$3,$D990<0),0)","v":0},0,0,0,0,0,0,0,{"$f":"IF($A990=W$3,AND($A990=W$3,$D990<0),0)","v":0},0,{"$f":"IF($A990=Y$3,AND($A990=Y$3,$D990<0),0)","v":0},0,{"$f":"IF($A990=AA$3,AND($A990=AA$3,$D990<0),0)","v":0},0,{"$f":"IF($A990=AC$3,AND($A990=AC$3,$D990<0),0)","v":0},0,0]
[{"$f":"IF(B991=0,\"\",MONTH(B991))","v":""},null,null,null,{"$f":"IF(D991=\"\",\"\",IF(D991<0,\"DEBITO\",\"CREDITO\"))","v":""},null,false,false,0,{"$f":"IF($A991=I$3,AND($A991=I$3,$D991<0),0)","v":0},0,{"$f":"IF($A991=K$3,AND($A991=K$3,$D991<0),0)","v":0},0,{"$f":"IF($A991=M$3,AND($A991=M$3,$D991<0),0)","v":0},0,{"$f":"IF($A991=O$3,AND($A991=O$3,$D991<0),0)","v":0},0,0,0,0,0,0,0,{"$f":"IF($A991=W$3,AND($A991=W$3,$D991<0),0)","v":0},0,{"$f":"IF($A991=Y$3,AND($A991=Y$3,$D991<0),0)","v":0},0,{"$f":"IF($A991=AA$3,AND($A991=AA$3,$D991<0),0)","v":0},0,{"$f":"IF($A991=AC$3,AND($A991=AC$3,$D991<0),0)","v":0},0,0]
[{"$f":"IF(B992=0,\"\",MONTH(B992))","v":""},null,null,null,{"$f":"IF(D992=\"\",\"\",IF(D992<0,\"DEBITO\",\"CREDITO\"))","v":""},null,false,false,0,{"$f":"IF($A992=I$3,AND($A992=I$3,$D992<0),0)","v":0},0,{"$f":"IF($A992=K$3,AND($A992=K$3,$D992<0),0)","v":0},0,{"$f":"IF($A992=M$3,AND($A992=M$3,$D992<0),0)","v":0},0,{"$f":"IF($A992=O$3,AND($A992=O$3,$D992<0),0)","v":0},0,0,0,0,0,0,0,{"$f":"IF($A992=W$3,AND($A992=W$3,$D992<0),0)","v":0},0,{"$f":"IF($A992=Y$3,AND($A992=Y$3,$D992<0),0)","v":0},0,{"$f":"IF($A992=AA$3,AND($A992=AA$3,$D992<0),0)","v":0},0,{"$f":"IF($A992=AC$3,AND($A992=AC$3,$D992<0),0)","v":0},0,0]
[{"$f":"IF(B993=0,\"\",MONTH(B993))","v":""},null,null,null,{"$f":"IF(D993=\"\",\"\",IF(D993<0,\"DEBITO\",\"CREDITO\"))","v":""},null,false,false,0,{"$f":"IF($A993=I$3,AND($A993=I$3,$D993<0),0)","v":0},0,{"$f":"IF($A993=K$3,AND($A993=K$3,$D993<0),0)","v":0},0,{"$f":"IF($A993=M$3,AND($A993=M$3,$D993<0),0)","v":0},0,{"$f":"IF($A993=O$3,AND($A993=O$3,$D993<0),0)","v":0},0,0,0,0,0,0,0,{"$f":"IF($A993=W$3,AND($A993=W$3,$D993<0),0)","v":0},0,{"$f":"IF($A993=Y$3,AND($A993=Y$3,$D993<0),0)","v":0},0,{"$f":"IF($A993=AA$3,AND($A993=AA$3,$D993<0),0)","v":0},0,{"$f":"IF($A993=AC$3,AND($A993=AC$3,$D993<0),0)","v":0},0,0]
[{"$f":"IF(B994=0,\"\",MONTH(B994))","v":""},null,null,null,{"$f":"IF(D994=\"\",\"\",IF(D994<0,\"DEBITO\",\"CREDITO\"))","v":""},null,false,false,0,{"$f":"IF($A994=I$3,AND($A994=I$3,$D994<0),0)","v":0},0,{"$f":"IF($A994=K$3,AND($A994=K$3,$D994<0),0)","v":0},0,{"$f":"IF($A994=M$3,AND($A994=M$3,$D994<0),0)","v":0},0,{"$f":"IF($A994=O$3,AND($A994=O$3,$D994<0),0)","v":0},0,0,0,0,0,0,0,{"$f":"IF($A994=W$3,AND($A994=W$3,$D994<0),0)","v":0},0,{"$f":"IF($A994=Y$3,AND($A994=Y$3,$D994<0),0)","v":0},0,{"$f":"IF($A994=AA$3,AND($A994=AA$3,$D994<0),0)","v":0},0,{"$f":"IF($A994=AC$3,AND($A994=AC$3,$D994<0),0)","v":0},0,0]
[{"$f":"IF(B995=0,\"\",MONTH(B995))","v":""},null,null,null,{"$f":"IF(D995=\"\",\"\",IF(D995<0,\"DEBITO\",\"CREDITO\"))","v":""},null,false,false,0,{"$f":"IF($A995=I$3,AND($A995=I$3,$D995<0),0)","v":0},0,{"$f":"IF($A995=K$3,AND($A995=K$3,$D995<0),0)","v":0},0,{"$f":"IF($A995=M$3,AND($A995=M$3,$D995<0),0)","v":0},0,{"$f":"IF($A995=O$3,AND($A995=O$3,$D995<0),0)","v":0},0,0,0,0,0,0,0,{"$f":"IF($A995=W$3,AND($A995=W$3,$D995<0),0)","v":0},0,{"$f":"IF($A995=Y$3,AND($A995=Y$3,$D995<0),0)","v":0},0,{"$f":"IF($A995=AA$3,AND($A995=AA$3,$D995<0),0)","v":0},0,{"$f":"IF($A995=AC$3,AND($A995=AC$3,$D995<0),0)","v":0},0,0]
[{"$f":"IF(B996=0,\"\",MONTH(B996))","v":""},null,null,null,{"$f":"IF(D996=\"\",\"\",IF(D996<0,\"DEBITO\",\"CREDITO\"))","v":""},null,false,false,0,{"$f":"IF($A996=I$3,AND($A996=I$3,$D996<0),0)","v":0},0,{"$f":"IF($A996=K$3,AND($A996=K$3,$D996<0),0)","v":0},0,{"$f":"IF($A996=M$3,AND($A996=M$3,$D996<0),0)","v":0},0,{"$f":"IF($A996=O$3,AND($A996=O$3,$D996<0),0)","v":0},0,0,0,0,0,0,0,{"$f":"IF($A996=W$3,AND($A996=W$3,$D996<0),0)","v":0},0,{"$f":"IF($A996=Y$3,AND($A996=Y$3,$D996<0),0)","v":0},0,{"$f":"IF($A996=AA$3,AND($A996=AA$3,$D996<0),0)","v":0},0,{"$f":"IF($A996=AC$3,AND($A996=AC$3,$D996<0),0)","v":0},0,0]
[{"$f":"IF(B997=0,\"\",MONTH(B997))","v":""},null,null,null,{"$f":"IF(D997=\"\",\"\",IF(D997<0,\"DEBITO\",\"CREDITO\"))","v":""},null,false,false,0,{"$f":"IF($A997=I$3,AND($A997=I$3,$D997<0),0)","v":0},0,{"$f":"IF($A997=K$3,AND($A997=K$3,$D997<0),0)","v":0},0,{"$f":"IF($A997=M$3,AND($A997=M$3,$D997<0),0)","v":0},0,{"$f":"IF($A997=O$3,AND($A997=O$3,$D997<0),0)","v":0},0,0,0,0,0,0,0,{"$f":"IF($A997=W$3,AND($A997=W$3,$D997<0),0)","v":0},0,{"$f":"IF($A997=Y$3,AND($A997=Y$3,$D997<0),0)","v":0},0,{"$f":"IF($A997=AA$3,AND($A997=AA$3,$D997<0),0)","v":0},0,{"$f":"IF($A997=AC$3,AND($A997=AC$3,$D997<0),0)","v":0},0,0]
[{"$f":"IF(B998=0,\"\",MONTH(B998))","v":""},null,null,null,{"$f":"IF(D998=\"\",\"\",IF(D998<0,\"DEBITO\",\"CREDITO\"))","v":""},null,false,false,0,{"$f":"IF($A998=I$3,AND($A998=I$3,$D998<0),0)","v":0},0,{"$f":"IF($A998=K$3,AND($A998=K$3,$D998<0),0)","v":0},0,{"$f":"IF($A998=M$3,AND($A998=M$3,$D998<0),0)","v":0},0,{"$f":"IF($A998=O$3,AND($A998=O$3,$D998<0),0)","v":0},0,0,0,0,0,0,0,{"$f":"IF($A998=W$3,AND($A998=W$3,$D998<0),0)","v":0},0,{"$f":"IF($A998=Y$3,AND($A998=Y$3,$D998<0),0)","v":0},0,{"$f":"IF($A998=AA$3,AND($A998=AA$3,$D998<0),0)","v":0},0,{"$f":"IF($A998=AC$3,AND($A998=AC$3,$D998<0),0)","v":0},0,0]
[{"$f":"IF(B999=0,\"\",MONTH(B999))","v":""},null,null,null,{"$f":"IF(D999=\"\",\"\",IF(D999<0,\"DEBITO\",\"CREDITO\"))","v":""},null,false,false,0,{"$f":"IF($A999=I$3,AND($A999=I$3,$D999<0),0)","v":0},0,{"$f":"IF($A999=K$3,AND($A999=K$3,$D999<0),0)","v":0},0,{"$f":"IF($A999=M$3,AND($A999=M$3,$D999<0),0)","v":0},0,{"$f":"IF($A999=O$3,AND($A999=O$3,$D999<0),0)","v":0},0,0,0,0,0,0,0,{"$f":"IF($A999=W$3,AND($A999=W$3,$D999<0),0)","v":0},0,{"$f":"IF($A999=Y$3,AND($A999=Y$3,$D999<0),0)","v":0},0,{"$f":"IF($A999=AA$3,AND($A999=AA$3,$D999<0),0)","v":0},0,{"$f":"IF($A999=AC$3,AND($A999=AC$3,$D999<0),0)","v":0},0,0]
[{"$f":"IF(B1000=0,\"\",MONTH(B1000))","v":""},null,null,null,{"$f":"IF(D1000=\"\",\"\",IF(D1000<0,\"DEBITO\",\"CREDITO\"))","v":""},null,false,false,0,{"$f":"IF($A1000=I$3,AND($A1000=I$3,$D1000<0),0)","v":0},0,{"$f":"IF($A1000=K$3,AND($A1000=K$3,$D1000<0),0)","v":0},0,{"$f":"IF($A1000=M$3,AND($A1000=M$3,$D1000<0),0)","v":0},0,{"$f":"IF($A1000=O$3,AND($A1000=O$3,$D1000<0),0)","v":0},0,0,0,0,0,0,0,{"$f":"IF($A1000=W$3,AND($A1000=W$3,$D1000<0),0)","v":0},0,{"$f":"IF($A1000=Y$3,AND($A1000=Y$3,$D1000<0),0)","v":0},0,{"$f":"IF($A1000=AA$3,AND($A1000=AA$3,$D1000<0),0)","v":0},0,{"$f":"IF($A1000=AC$3,AND($A1000=AC$3,$D1000<0),0)","v":0},0,0]
[{"$f":"IF(B1002=0,\"\",MONTH(B1002))","v":""},null,null,null,{"$f":"IF(D1002=\"\",\"\",IF(D1002<0,\"DEBITO\",\"CREDITO\"))","v":""},null,false,false,0,{"$f":"IF($A1002=I$3,AND($A1002=I$3,$D1002<0),0)","v":0},0,{"$f":"IF($A1002=K$3,AND($A1002=K$3,$D1002<0),0)","v":0},0,{"$f":"IF($A1002=M$3,AND($A1002=M$3,$D1002<0),0)","v":0},0,{"$f":"IF($A1002=O$3,AND($A1002=O$3,$D1002<0),0)","v":0},0,0,0,0,0,0,0,{"$f":"IF($A1002=W$3,AND($A1002=W$3,$D1002<0),0)","v":0},0,{"$f":"IF($A1002=Y$3,AND($A1002=Y$3,$D1002<0),0)","v":0},0,{"$f":"IF($A1002=AA$3,AND($A1002=AA$3,$D1002<0),0)","v":0},0,{"$f":"IF($A1002=AC$3,AND($A1002=AC$3,$D1002<0),0)","v":0},0,0]
[{"$f":"IF(B1003=0,\"\",MONTH(B1003))","v":""},null,null,null,{"$f":"IF(D1003=\"\",\"\",IF(D1003<0,\"DEBITO\",\"CREDITO\"))","v":""},null,false,false,0,{"$f":"IF($A1003=I$3,AND($A1003=I$3,$D1003<0),0)","v":0},0,{"$f":"IF($A1003=K$3,AND($A1003=K$3,$D1003<0),0)","v":0},0,{"$f":"IF($A1003=M$3,AND($A1003=M$3,$D1003<0),0)","v":0},0,{"$f":"IF($A1003=O$3,AND($A1003=O$3,$D1003<0),0)","v":0},0,0,0,0,0,0,0,{"$f":"IF($A1003=W$3,AND($A1003=W$3,$D1003<0),0)","v":0},0,{"$f":"IF($A1003=Y$3,AND($A1003=Y$3,$D1003<0),0)","v":0},0,{"$f":"IF($A1003=AA$3,AND($A1003=AA$3,$D1003<0),0)","v":0},0,{"$f":"IF($A1003=AC$3,AND($A1003=AC$3,$D1003<0),0)","v":0},0,0]
[{"$f":"IF(B1006=0,\"\",MONTH(B1006))","v":""},null,null,null,{"$f":"IF(D1006=\"\",\"\",IF(D1006<0,\"DEBITO\",\"CREDITO\"))","v":""},null,false,false,0,{"$f":"IF($A1006=I$3,AND($A1006=I$3,$D1006<0),0)","v":0},0,{"$f":"IF($A1006=K$3,AND($A1006=K$3,$D1006<0),0)","v":0},0,{"$f":"IF($A1006=M$3,AND($A1006=M$3,$D1006<0),0)","v":0},0,{"$f":"IF($A1006=O$3,AND($A1006=O$3,$D1006<0),0)","v":0},0,0,0,0,0,0,0,{"$f":"IF($A1006=W$3,AND($A1006=W$3,$D1006<0),0)","v":0},0,{"$f":"IF($A1006=Y$3,AND($A1006=Y$3,$D1006<0),0)","v":0},0,{"$f":"IF($A1006=AA$3,AND($A1006=AA$3,$D1006<0),0)","v":0},0,{"$f":"IF($A1006=AC$3,AND($A1006=AC$3,$D1006<0),0)","v":0},0,0]
[{"$f":"IF(B1007=0,\"\",MONTH(B1007))","v":""},null,null,null,{"$f":"IF(D1007=\"\",\"\",IF(D1007<0,\"DEBITO\",\"CREDITO\"))","v":""},null,false,false,0,{"$f":"IF($A1007=I$3,AND($A1007=I$3,$D1007<0),0)","v":0},0,{"$f":"IF($A1007=K$3,AND($A1007=K$3,$D1007<0),0)","v":0},0,{"$f":"IF($A1007=M$3,AND($A1007=M$3,$D1007<0),0)","v":0},0,{"$f":"IF($A1007=O$3,AND($A1007=O$3,$D1007<0),0)","v":0},0,0,0,0,0,0,0,{"$f":"IF($A1007=W$3,AND($A1007=W$3,$D1007<0),0)","v":0},0,{"$f":"IF($A1007=Y$3,AND($A1007=Y$3,$D1007<0),0)","v":0},0,{"$f":"IF($A1007=AA$3,AND($A1007=AA$3,$D1007<0),0)","v":0},0,{"$f":"IF($A1007=AC$3,AND($A1007=AC$3,$D1007<0),0)","v":0},0,0]
[{"$f":"IF(B1010=0,\"\",MONTH(B1010))","v":""},null,null,null,{"$f":"IF(D1010=\"\",\"\",IF(D1010<0,\"DEBITO\",\"CREDITO\"))","v":""},null,false,false,0,{"$f":"IF($A1010=I$3,AND($A1010=I$3,$D1010<0),0)","v":0},0,{"$f":"IF($A1010=K$3,AND($A1010=K$3,$D1010<0),0)","v":0},0,{"$f":"IF($A1010=M$3,AND($A1010=M$3,$D1010<0),0)","v":0},0,{"$f":"IF($A1010=O$3,AND($A1010=O$3,$D1010<0),0)","v":0},0,0,0,0,0,0,0,{"$f":"IF($A1010=W$3,AND($A1010=W$3,$D1010<0),0)","v":0},0,{"$f":"IF($A1010=Y$3,AND($A1010=Y$3,$D1010<0),0)","v":0},0,{"$f":"IF($A1010=AA$3,AND($A1010=AA$3,$D1010<0),0)","v":0},0,{"$f":"IF($A1010=AC$3,AND($A1010=AC$3,$D1010<0),0)","v":0},0,0]
[{"$f":"IF(B1011=0,\"\",MONTH(B1011))","v":""},null,null,null,{"$f":"IF(D1011=\"\",\"\",IF(D1011<0,\"DEBITO\",\"CREDITO\"))","v":""},null,false,false,0,{"$f":"IF($A1011=I$3,AND($A1011=I$3,$D1011<0),0)","v":0},0,{"$f":"IF($A1011=K$3,AND($A1011=K$3,$D1011<0),0)","v":0},0,{"$f":"IF($A1011=M$3,AND($A1011=M$3,$D1011<0),0)","v":0},0,{"$f":"IF($A1011=O$3,AND($A1011=O$3,$D1011<0),0)","v":0},0,0,0,0,0,0,0,{"$f":"IF($A1011=W$3,AND($A1011=W$3,$D1011<0),0)","v":0},0,{"$f":"IF($A1011=Y$3,AND($A1011=Y$3,$D1011<0),0)","v":0},0,{"$f":"IF($A1011=AA$3,AND($A1011=AA$3,$D1011<0),0)","v":0},0,{"$f":"IF($A1011=AC$3,AND($A1011=AC$3,$D1011<0),0)","v":0},0,0]
[{"$f":"IF(B1014=0,\"\",MONTH(B1014))","v":""},null,null,null,{"$f":"IF(D1014=\"\",\"\",IF(D1014<0,\"DEBITO\",\"CREDITO\"))","v":""},null,false,false,0,{"$f":"IF($A1014=I$3,AND($A1014=I$3,$D1014<0),0)","v":0},0,{"$f":"IF($A1014=K$3,AND($A1014=K$3,$D1014<0),0)","v":0},0,{"$f":"IF($A1014=M$3,AND($A1014=M$3,$D1014<0),0)","v":0},0,{"$f":"IF($A1014=O$3,AND($A1014=O$3,$D1014<0),0)","v":0},0,0,0,0,0,0,0,{"$f":"IF($A1014=W$3,AND($A1014=W$3,$D1014<0),0)","v":0},0,{"$f":"IF($A1014=Y$3,AND($A1014=Y$3,$D1014<0),0)","v":0},0,{"$f":"IF($A1014=AA$3,AND($A1014=AA$3,$D1014<0),0)","v":0},0,{"$f":"IF($A1014=AC$3,AND($A1014=AC$3,$D1014<0),0)","v":0},0,0]
[{"$f":"IF(B1015=0,\"\",MONTH(B1015))","v":""},null,null,null,{"$f":"IF(D1015=\"\",\"\",IF(D1015<0,\"DEBITO\",\"CREDITO\"))","v":""},null,false,false,0,{"$f":"IF($A1015=I$3,AND($A1015=I$3,$D1015<0),0)","v":0},0,{"$f":"IF($A1015=K$3,AND($A1015=K$3,$D1015<0),0)","v":0},0,{"$f":"IF($A1015=M$3,AND($A1015=M$3,$D1015<0),0)","v":0},0,{"$f":"IF($A1015=O$3,AND($A1015=O$3,$D1015<0),0)","v":0},0,0,0,0,0,0,0,{"$f":"IF($A1015=W$3,AND($A1015=W$3,$D1015<0),0)","v":0},0,{"$f":"IF($A1015=Y$3,AND($A1015=Y$3,$D1015<0),0)","v":0},0,{"$f":"IF($A1015=AA$3,AND($A1015=AA$3,$D1015<0),0)","v":0},0,{"$f":"IF($A1015=AC$3,AND($A1015=AC$3,$D1015<0),0)","v":0},0,0]
[{"$f":"IF(B1018=0,\"\",MONTH(B1018))","v":""},null,null,null,{"$f":"IF(D1018=\"\",\"\",IF(D1018<0,\"DEBITO\",\"CREDITO\"))","v":""},null,false,false,0,{"$f":"IF($A1018=I$3,AND($A1018=I$3,$D1018<0),0)","v":0},0,{"$f":"IF($A1018=K$3,AND($A1018=K$3,$D1018<0),0)","v":0},0,{"$f":"IF($A1018=M$3,AND($A1018=M$3,$D1018<0),0)","v":0},0,{"$f":"IF($A1018=O$3,AND($A1018=O$3,$D1018<0),0)","v":0},0,0,0,0,0,0,0,{"$f":"IF($A1018=W$3,AND($A1018=W$3,$D1018<0),0)","v":0},0,{"$f":"IF($A1018=Y$3,AND($A1018=Y$3,$D1018<0),0)","v":0},0,{"$f":"IF($A1018=AA$3,AND($A1018=AA$3,$D1018<0),0)","v":0},0,{"$f":"IF($A1018=AC$3,AND($A1018=AC$3,$D1018<0),0)","v":0},0,0]
[{"$f":"IF(B1019=0,\"\",MONTH(B1019))","v":""},null,null,null,{"$f":"IF(D1019=\"\",\"\",IF(D1019<0,\"DEBITO\",\"CREDITO\"))","v":""},null,false,false,0,{"$f":"IF($A1019=I$3,AND($A1019=I$3,$D1019<0),0)","v":0},0,{"$f":"IF($A1019=K$3,AND($A1019=K$3,$D1019<0),0)","v":0},0,{"$f":"IF($A1019=M$3,AND($A1019=M$3,$D1019<0),0)","v":0},0,{"$f":"IF($A1019=O$3,AND($A1019=O$3,$D1019<0),0)","v":0},0,0,0,0,0,0,0,{"$f":"IF($A1019=W$3,AND($A1019=W$3,$D1019<0),0)","v":0},0,{"$f":"IF($A1019=Y$3,AND($A1019=Y$3,$D1019<0),0)","v":0},0,{"$f":"IF($A1019=AA$3,AND($A1019=AA$3,$D1019<0),0)","v":0},0,{"$f":"IF($A1019=AC$3,AND($A1019=AC$3,$D1019<0),0)","v":0},0,0]
[{"$f":"IF(B1022=0,\"\",MONTH(B1022))","v":""},null,null,null,{"$f":"IF(D1022=\"\",\"\",IF(D1022<0,\"DEBITO\",\"CREDITO\"))","v":""},null,false,false,0,{"$f":"IF($A1022=I$3,AND($A1022=I$3,$D1022<0),0)","v":0},0,{"$f":"IF($A1022=K$3,AND($A1022=K$3,$D1022<0),0)","v":0},0,{"$f":"IF($A1022=M$3,AND($A1022=M$3,$D1022<0),0)","v":0},0,{"$f":"IF($A1022=O$3,AND($A1022=O$3,$D1022<0),0)","v":0},0,0,0,0,0,0,0,{"$f":"IF($A1022=W$3,AND($A1022=W$3,$D1022<0),0)","v":0},0,{"$f":"IF($A1022=Y$3,AND($A1022=Y$3,$D1022<0),0)","v":0},0,{"$f":"IF($A1022=AA$3,AND($A1022=AA$3,$D1022<0),0)","v":0},0,{"$f":"IF($A1022=AC$3,AND($A1022=AC$3,$D1022<0),0)","v":0},0,0]
[{"$f":"IF(B1024=0,\"\",MONTH(B1024))","v":""},null,null,null,{"$f":"IF(D1024=\"\",\"\",IF(D1024<0,\"DEBITO\",\"CREDITO\"))","v":""},null,false,false,0,{"$f":"IF($A1024=I$3,AND($A1024=I$3,$D1024<0),0)","v":0},0,{"$f":"IF($A1024=K$3,AND($A1024=K$3,$D1024<0),0)","v":0},0,{"$f":"IF($A1024=M$3,AND($A1024=M$3,$D1024<0),0)","v":0},0,{"$f":"IF($A1024=O$3,AND($A1024=O$3,$D1024<0),0)","v":0},0,0,0,0,0,0,0,{"$f":"IF($A1024=W$3,AND($A1024=W$3,$D1024<0),0)","v":0},0,{"$f":"IF($A1024=Y$3,AND($A1024=Y$3,$D1024<0),0)","v":0},0,{"$f":"IF($A1024=AA$3,AND($A1024=AA$3,$D1024<0),0)","v":0},0,{"$f":"IF($A1024=AC$3,AND($A1024=AC$3,$D1024<0),0)","v":0},0,0]
[{"$f":"IF(B1027=0,\"\",MONTH(B1027))","v":""},null,null,null,{"$f":"IF(D1027=\"\",\"\",IF(D1027<0,\"DEBITO\",\"CREDITO\"))","v":""},null,false,false,0,{"$f":"IF($A1027=I$3,AND($A1027=I$3,$D1027<0),0)","v":0},0,{"$f":"IF($A1027=K$3,AND($A1027=K$3,$D1027<0),0)","v":0},0,{"$f":"IF($A1027=M$3,AND($A1027=M$3,$D1027<0),0)","v":0},0,{"$f":"IF($A1027=O$3,AND($A1027=O$3,$D1027<0),0)","v":0},0,0,0,0,0,0,0,{"$f":"IF($A1027=W$3,AND($A1027=W$3,$D1027<0),0)","v":0},0,{"$f":"IF($A1027=Y$3,AND($A1027=Y$3,$D1027<0),0)","v":0},0,{"$f":"IF($A1027=AA$3,AND($A1027=AA$3,$D1027<0),0)","v":0},0,{"$f":"IF($A1027=AC$3,AND($A1027=AC$3,$D1027<0),0)","v":0},0,0]
[{"$f":"IF(B1028=0,\"\",MONTH(B1028))","v":""},null,null,null,{"$f":"IF(D1028=\"\",\"\",IF(D1028<0,\"DEBITO\",\"CREDITO\"))","v":""},null,false,false,0,{"$f":"IF($A1028=I$3,AND($A1028=I$3,$D1028<0),0)","v":0},0,{"$f":"IF($A1028=K$3,AND($A1028=K$3,$D1028<0),0)","v":0},0,{"$f":"IF($A1028=M$3,AND($A1028=M$3,$D1028<0),0)","v":0},0,{"$f":"IF($A1028=O$3,AND($A1028=O$3,$D1028<0),0)","v":0},0,0,0,0,0,0,0,{"$f":"IF($A1028=W$3,AND($A1028=W$3,$D1028<0),0)","v":0},0,{"$f":"IF($A1028=Y$3,AND($A1028=Y$3,$D1028<0),0)","v":0},0,{"$f":"IF($A1028=AA$3,AND($A1028=AA$3,$D1028<0),0)","v":0},0,{"$f":"IF($A1028=AC$3,AND($A1028=AC$3,$D1028<0),0)","v":0},0,0]
[{"$f":"IF(B1031=0,\"\",MONTH(B1031))","v":""},null,null,null,{"$f":"IF(D1031=\"\",\"\",IF(D1031<0,\"DEBITO\",\"CREDITO\"))","v":""},null,false,false,0,{"$f":"IF($A1031=I$3,AND($A1031=I$3,$D1031<0),0)","v":0},0,{"$f":"IF($A1031=K$3,AND($A1031=K$3,$D1031<0),0)","v":0},0,{"$f":"IF($A1031=M$3,AND($A1031=M$3,$D1031<0),0)","v":0},0,{"$f":"IF($A1031=O$3,AND($A1031=O$3,$D1031<0),0)","v":0},0,0,0,0,0,0,0,{"$f":"IF($A1031=W$3,AND($A1031=W$3,$D1031<0),0)","v":0},0,{"$f":"IF($A1031=Y$3,AND($A1031=Y$3,$D1031<0),0)","v":0},0,{"$f":"IF($A1031=AA$3,AND($A1031=AA$3,$D1031<0),0)","v":0},0,{"$f":"IF($A1031=AC$3,AND($A1031=AC$3,$D1031<0),0)","v":0},0,0]
[{"$f":"IF(B1032=0,\"\",MONTH(B1032))","v":""},null,null,null,{"$f":"IF(D1032=\"\",\"\",IF(D1032<0,\"DEBITO\",\"CREDITO\"))","v":""},null,false,false,0,{"$f":"IF($A1032=I$3,AND($A1032=I$3,$D1032<0),0)","v":0},0,{"$f":"IF($A1032=K$3,AND($A1032=K$3,$D1032<0),0)","v":0},0,{"$f":"IF($A1032=M$3,AND($A1032=M$3,$D1032<0),0)","v":0},0,{"$f":"IF($A1032=O$3,AND($A1032=O$3,$D1032<0),0)","v":0},0,0,0,0,0,0,0,{"$f":"IF($A1032=W$3,AND($A1032=W$3,$D1032<0),0)","v":0},0,{"$f":"IF($A1032=Y$3,AND($A1032=Y$3,$D1032<0),0)","v":0},0,{"$f":"IF($A1032=AA$3,AND($A1032=AA$3,$D1032<0),0)","v":0},0,{"$f":"IF($A1032=AC$3,AND($A1032=AC$3,$D1032<0),0)","v":0},0,0]
[{"$f":"IF(B1035=0,\"\",MONTH(B1035))","v":""},null,null,null,{"$f":"IF(D1035=\"\",\"\",IF(D1035<0,\"DEBITO\",\"CREDITO\"))","v":""},null,false,false,0,{"$f":"IF($A1035=I$3,AND($A1035=I$3,$D1035<0),0)","v":0},0,{"$f":"IF($A1035=K$3,AND($A1035=K$3,$D1035<0),0)","v":0},0,{"$f":"IF($A1035=M$3,AND($A1035=M$3,$D1035<0),0)","v":0},0,{"$f":"IF($A1035=O$3,AND($A1035=O$3,$D1035<0),0)","v":0},0,0,0,0,0,0,0,{"$f":"IF($A1035=W$3,AND($A1035=W$3,$D1035<0),0)","v":0},0,{"$f":"IF($A1035=Y$3,AND($A1035=Y$3,$D1035<0),0)","v":0},0,{"$f":"IF($A1035=AA$3,AND($A1035=AA$3,$D1035<0),0)","v":0},0,{"$f":"IF($A1035=AC$3,AND($A1035=AC$3,$D1035<0),0)","v":0},0,0]
[{"$f":"IF(B1036=0,\"\",MONTH(B1036))","v":""},null,null,null,{"$f":"IF(D1036=\"\",\"\",IF(D1036<0,\"DEBITO\",\"CREDITO\"))","v":""},null,false,false,0,{"$f":"IF($A1036=I$3,AND($A1036=I$3,$D1036<0),0)","v":0},0,{"$f":"IF($A1036=K$3,AND($A1036=K$3,$D1036<0),0)","v":0},0,{"$f":"IF($A1036=M$3,AND($A1036=M$3,$D1036<0),0)","v":0},0,{"$f":"IF($A1036=O$3,AND($A1036=O$3,$D1036<0),0)","v":0},0,0,0,0,0,0,0,{"$f":"IF($A1036=W$3,AND($A1036=W$3,$D1036<0),0)","v":0},0,{"$f":"IF($A1036=Y$3,AND($A1036=Y$3,$D1036<0),0)","v":0},0,{"$f":"IF($A1036=AA$3,AND($A1036=AA$3,$D1036<0),0)","v":0},0,{"$f":"IF($A1036=AC$3,AND($A1036=AC$3,$D1036<0),0)","v":0},0,0]
[{"$f":"IF(B1039=0,\"\",MONTH(B1039))","v":""},null,null,null,{"$f":"IF(D1039=\"\",\"\",IF(D1039<0,\"DEBITO\",\"CREDITO\"))","v":""},null,false,false,0,{"$f":"IF($A1039=I$3,AND($A1039=I$3,$D1039<0),0)","v":0},0,{"$f":"IF($A1039=K$3,AND($A1039=K$3,$D1039<0),0)","v":0},0,{"$f":"IF($A1039=M$3,AND($A1039=M$3,$D1039<0),0)","v":0},0,{"$f":"IF($A1039=O$3,AND($A1039=O$3,$D1039<0),0)","v":0},0,0,0,0,0,0,0,{"$f":"IF($A1039=W$3,AND($A1039=W$3,$D1039<0),0)","v":0},0,{"$f":"IF($A1039=Y$3,AND($A1039=Y$3,$D1039<0),0)","v":0},0,{"$f":"IF($A1039=AA$3,AND($A1039=AA$3,$D1039<0),0)","v":0},0,{"$f":"IF($A1039=AC$3,AND($A1039=AC$3,$D1039<0),0)","v":0},0,0]
[{"$f":"IF(B1040=0,\"\",MONTH(B1040))","v":""},null,null,null,{"$f":"IF(D1040=\"\",\"\",IF(D1040<0,\"DEBITO\",\"CREDITO\"))","v":""},null,false,false,0,{"$f":"IF($A1040=I$3,AND($A1040=I$3,$D1040<0),0)","v":0},0,{"$f":"IF($A1040=K$3,AND($A1040=K$3,$D1040<0),0)","v":0},0,{"$f":"IF($A1040=M$3,AND($A1040=M$3,$D1040<0),0)","v":0},0,{"$f":"IF($A1040=O$3,AND($A1040=O$3,$D1040<0),0)","v":0},0,0,0,0,0,0,0,{"$f":"IF($A1040=W$3,AND($A1040=W$3,$D1040<0),0)","v":0},0,{"$f":"IF($A1040=Y$3,AND($A1040=Y$3,$D1040<0),0)","v":0},0,{"$f":"IF($A1040=AA$3,AND($A1040=AA$3,$D1040<0),0)","v":0},0,{"$f":"IF($A1040=AC$3,AND($A1040=AC$3,$D1040<0),0)","v":0},0,0]
[{"$f":"IF(B1044=0,\"\",MONTH(B1044))","v":""},null,null,null,{"$f":"IF(D1044=\"\",\"\",IF(D1044<0,\"DEBITO\",\"CREDITO\"))","v":""},null,false,false,0,{"$f":"IF($A1044=I$3,AND($A1044=I$3,$D1044<0),0)","v":0},0,{"$f":"IF($A1044=K$3,AND($A1044=K$3,$D1044<0),0)","v":0},0,{"$f":"IF($A1044=M$3,AND($A1044=M$3,$D1044<0),0)","v":0},0,{"$f":"IF($A1044=O$3,AND($A1044=O$3,$D1044<0),0)","v":0},0,0,0,0,0,0,0,{"$f":"IF($A1044=W$3,AND($A1044=W$3,$D1044<0),0)","v":0},0,{"$f":"IF($A1044=Y$3,AND($A1044=Y$3,$D1044<0),0)","v":0},0,{"$f":"IF($A1044=AA$3,AND($A1044=AA$3,$D1044<0),0)","v":0},0,{"$f":"IF($A1044=AC$3,AND($A1044=AC$3,$D1044<0),0)","v":0},0,0]
[{"$f":"IF(B1045=0,\"\",MONTH(B1045))","v":""},null,null,null,{"$f":"IF(D1045=\"\",\"\",IF(D1045<0,\"DEBITO\",\"CREDITO\"))","v":""},null,false,false,0,{"$f":"IF($A1045=I$3,AND($A1045=I$3,$D1045<0),0)","v":0},0,{"$f":"IF($A1045=K$3,AND($A1045=K$3,$D1045<0),0)","v":0},0,{"$f":"IF($A1045=M$3,AND($A1045=M$3,$D1045<0),0)","v":0},0,{"$f":"IF($A1045=O$3,AND($A1045=O$3,$D1045<0),0)","v":0},0,0,0,0,0,0,0,{"$f":"IF($A1045=W$3,AND($A1045=W$3,$D1045<0),0)","v":0},0,{"$f":"IF($A1045=Y$3,AND($A1045=Y$3,$D1045<0),0)","v":0},0,{"$f":"IF($A1045=AA$3,AND($A1045=AA$3,$D1045<0),0)","v":0},0,{"$f":"IF($A1045=AC$3,AND($A1045=AC$3,$D1045<0),0)","v":0},0,0]
[{"$f":"IF(B1048=0,\"\",MONTH(B1048))","v":""},null,null,null,{"$f":"IF(D1048=\"\",\"\",IF(D1048<0,\"DEBITO\",\"CREDITO\"))","v":""},null,false,false,0,{"$f":"IF($A1048=I$3,AND($A1048=I$3,$D1048<0),0)","v":0},0,{"$f":"IF($A1048=K$3,AND($A1048=K$3,$D1048<0),0)","v":0},0,{"$f":"IF($A1048=M$3,AND($A1048=M$3,$D1048<0),0)","v":0},0,{"$f":"IF($A1048=O$3,AND($A1048=O$3,$D1048<0),0)","v":0},0,0,0,0,0,0,0,{"$f":"IF($A1048=W$3,AND($A1048=W$3,$D1048<0),0)","v":0},0,{"$f":"IF($A1048=Y$3,AND($A1048=Y$3,$D1048<0),0)","v":0},0,{"$f":"IF($A1048=AA$3,AND($A1048=AA$3,$D1048<0),0)","v":0},0,{"$f":"IF($A1048=AC$3,AND($A1048=AC$3,$D1048<0),0)","v":0},0,0]
[{"$f":"IF(B1049=0,\"\",MONTH(B1049))","v":""},null,null,null,{"$f":"IF(D1049=\"\",\"\",IF(D1049<0,\"DEBITO\",\"CREDITO\"))","v":""},null,false,false,{"$f":"IF($A1049=I$3,AND($A1049=I$3,$D1049>0),0)","v":0},{"$f":"IF($A1049=I$3,AND($A1049=I$3,$D1049<0),0)","v":0},{"$f":"IF($A1049=K$3,AND($A1049=K$3,$D1049>0),0)","v":0},{"$f":"IF($A1049=K$3,AND($A1049=K$3,$D1049<0),0)","v":0},{"$f":"IF($A1049=M$3,AND($A1049=M$3,$D1049>0),0)","v":0},{"$f":"IF($A1049=M$3,AND($A1049=M$3,$D1049<0),0)","v":0},{"$f":"IF($A1049=O$3,AND($A1049=O$3,$D1049>0),0)","v":0},{"$f":"IF($A1049=O$3,AND($A1049=O$3,$D1049<0),0)","v":0},{"$f":"IF($A1049=Q$3,AND($A1049=Q$3,$D1049>0),0)","v":0},0,0,0,0,0,{"$f":"IF($A1049=W$3,AND($A1049=W$3,$D1049>0),0)","v":0},{"$f":"IF($A1049=W$3,AND($A1049=W$3,$D1049<0),0)","v":0},{"$f":"IF($A1049=Y$3,AND($A1049=Y$3,$D1049>0),0)","v":0},{"$f":"IF($A1049=Y$3,AND($A1049=Y$3,$D1049<0),0)","v":0},{"$f":"IF($A1049=AA$3,AND($A1049=AA$3,$D1049>0),0)","v":0},{"$f":"IF($A1049=AA$3,AND($A1049=AA$3,$D1049<0),0)","v":0},{"$f":"IF($A1049=AC$3,AND($A1049=AC$3,$D1049>0),0)","v":0},{"$f":"IF($A1049=AC$3,AND($A1049=AC$3,$D1049<0),0)","v":0},{"$f":"IF($A1049=AE$3,AND($A1049=AE$3,$D1049>0),0)","v":0},0]
[{"$f":"IF(B1052=0,\"\",MONTH(B1052))","v":""},null,null,null,{"$f":"IF(D1052=\"\",\"\",IF(D1052<0,\"DEBITO\",\"CREDITO\"))","v":""},null,false,false,0,{"$f":"IF($A1052=I$3,AND($A1052=I$3,$D1052<0),0)","v":0},0,{"$f":"IF($A1052=K$3,AND($A1052=K$3,$D1052<0),0)","v":0},0,{"$f":"IF($A1052=M$3,AND($A1052=M$3,$D1052<0),0)","v":0},0,{"$f":"IF($A1052=O$3,AND($A1052=O$3,$D1052<0),0)","v":0},0,0,0,0,0,0,0,{"$f":"IF($A1052=W$3,AND($A1052=W$3,$D1052<0),0)","v":0},0,{"$f":"IF($A1052=Y$3,AND($A1052=Y$3,$D1052<0),0)","v":0},0,{"$f":"IF($A1052=AA$3,AND($A1052=AA$3,$D1052<0),0)","v":0},0,{"$f":"IF($A1052=AC$3,AND($A1052=AC$3,$D1052<0),0)","v":0},0,0]
[{"$f":"IF(B1053=0,\"\",MONTH(B1053))","v":""},null,null,null,{"$f":"IF(D1053=\"\",\"\",IF(D1053<0,\"DEBITO\",\"CREDITO\"))","v":""},null,false,false,0,{"$f":"IF($A1053=I$3,AND($A1053=I$3,$D1053<0),0)","v":0},0,{"$f":"IF($A1053=K$3,AND($A1053=K$3,$D1053<0),0)","v":0},0,{"$f":"IF($A1053=M$3,AND($A1053=M$3,$D1053<0),0)","v":0},0,{"$f":"IF($A1053=O$3,AND($A1053=O$3,$D1053<0),0)","v":0},0,0,0,0,0,0,0,{"$f":"IF($A1053=W$3,AND($A1053=W$3,$D1053<0),0)","v":0},0,{"$f":"IF($A1053=Y$3,AND($A1053=Y$3,$D1053<0),0)","v":0},0,{"$f":"IF($A1053=AA$3,AND($A1053=AA$3,$D1053<0),0)","v":0},0,{"$f":"IF($A1053=AC$3,AND($A1053=AC$3,$D1053<0),0)","v":0},0,0]
[{"$f":"IF(B1056=0,\"\",MONTH(B1056))","v":""},null,null,null,{"$f":"IF(D1056=\"\",\"\",IF(D1056<0,\"DEBITO\",\"CREDITO\"))","v":""},null,false,false,0,{"$f":"IF($A1056=I$3,AND($A1056=I$3,$D1056<0),0)","v":0},0,{"$f":"IF($A1056=K$3,AND($A1056=K$3,$D1056<0),0)","v":0},0,{"$f":"IF($A1056=M$3,AND($A1056=M$3,$D1056<0),0)","v":0},0,{"$f":"IF($A1056=O$3,AND($A1056=O$3,$D1056<0),0)","v":0},0,0,0,0,0,0,0,{"$f":"IF($A1056=W$3,AND($A1056=W$3,$D1056<0),0)","v":0},0,{"$f":"IF($A1056=Y$3,AND($A1056=Y$3,$D1056<0),0)","v":0},0,{"$f":"IF($A1056=AA$3,AND($A1056=AA$3,$D1056<0),0)","v":0},0,{"$f":"IF($A1056=AC$3,AND($A1056=AC$3,$D1056<0),0)","v":0},0,0]
[{"$f":"IF(B1057=0,\"\",MONTH(B1057))","v":""},null,null,null,{"$f":"IF(D1057=\"\",\"\",IF(D1057<0,\"DEBITO\",\"CREDITO\"))","v":""},null,false,false,0,{"$f":"IF($A1057=I$3,AND($A1057=I$3,$D1057<0),0)","v":0},0,{"$f":"IF($A1057=K$3,AND($A1057=K$3,$D1057<0),0)","v":0},0,{"$f":"IF($A1057=M$3,AND($A1057=M$3,$D1057<0),0)","v":0},0,{"$f":"IF($A1057=O$3,AND($A1057=O$3,$D1057<0),0)","v":0},0,0,0,0,0,0,0,{"$f":"IF($A1057=W$3,AND($A1057=W$3,$D1057<0),0)","v":0},0,{"$f":"IF($A1057=Y$3,AND($A1057=Y$3,$D1057<0),0)","v":0},0,{"$f":"IF($A1057=AA$3,AND($A1057=AA$3,$D1057<0),0)","v":0},0,{"$f":"IF($A1057=AC$3,AND($A1057=AC$3,$D1057<0),0)","v":0},0,0]
[{"$f":"IF(B1060=0,\"\",MONTH(B1060))","v":""},null,null,null,{"$f":"IF(D1060=\"\",\"\",IF(D1060<0,\"DEBITO\",\"CREDITO\"))","v":""},null,false,false,0,{"$f":"IF($A1060=I$3,AND($A1060=I$3,$D1060<0),0)","v":0},0,{"$f":"IF($A1060=K$3,AND($A1060=K$3,$D1060<0),0)","v":0},0,{"$f":"IF($A1060=M$3,AND($A1060=M$3,$D1060<0),0)","v":0},0,{"$f":"IF($A1060=O$3,AND($A1060=O$3,$D1060<0),0)","v":0},0,0,0,0,0,0,0,{"$f":"IF($A1060=W$3,AND($A1060=W$3,$D1060<0),0)","v":0},0,{"$f":"IF($A1060=Y$3,AND($A1060=Y$3,$D1060<0),0)","v":0},0,{"$f":"IF($A1060=AA$3,AND($A1060=AA$3,$D1060<0),0)","v":0},0,{"$f":"IF($A1060=AC$3,AND($A1060=AC$3,$D1060<0),0)","v":0},0,0]
[{"$f":"IF(B1061=0,\"\",MONTH(B1061))","v":""},null,null,null,{"$f":"IF(D1061=\"\",\"\",IF(D1061<0,\"DEBITO\",\"CREDITO\"))","v":""},null,false,false,0,{"$f":"IF($A1061=I$3,AND($A1061=I$3,$D1061<0),0)","v":0},0,{"$f":"IF($A1061=K$3,AND($A1061=K$3,$D1061<0),0)","v":0},0,{"$f":"IF($A1061=M$3,AND($A1061=M$3,$D1061<0),0)","v":0},0,{"$f":"IF($A1061=O$3,AND($A1061=O$3,$D1061<0),0)","v":0},0,0,0,0,0,0,0,{"$f":"IF($A1061=W$3,AND($A1061=W$3,$D1061<0),0)","v":0},0,{"$f":"IF($A1061=Y$3,AND($A1061=Y$3,$D1061<0),0)","v":0},0,{"$f":"IF($A1061=AA$3,AND($A1061=AA$3,$D1061<0),0)","v":0},0,{"$f":"IF($A1061=AC$3,AND($A1061=AC$3,$D1061<0),0)","v":0},0,0]
[{"$f":"IF(B1064=0,\"\",MONTH(B1064))","v":""},null,null,null,{"$f":"IF(D1064=\"\",\"\",IF(D1064<0,\"DEBITO\",\"CREDITO\"))","v":""},null,false,false,0,{"$f":"IF($A1064=I$3,AND($A1064=I$3,$D1064<0),0)","v":0},0,{"$f":"IF($A1064=K$3,AND($A1064=K$3,$D1064<0),0)","v":0},0,{"$f":"IF($A1064=M$3,AND($A1064=M$3,$D1064<0),0)","v":0},0,{"$f":"IF($A1064=O$3,AND($A1064=O$3,$D1064<0),0)","v":0},0,0,0,0,0,0,0,{"$f":"IF($A1064=W$3,AND($A1064=W$3,$D1064<0),0)","v":0},0,{"$f":"IF($A1064=Y$3,AND($A1064=Y$3,$D1064<0),0)","v":0},0,{"$f":"IF($A1064=AA$3,AND($A1064=AA$3,$D1064<0),0)","v":0},0,{"$f":"IF($A1064=AC$3,AND($A1064=AC$3,$D1064<0),0)","v":0},0,0]
[{"$f":"IF(B1065=0,\"\",MONTH(B1065))","v":""},null,null,null,{"$f":"IF(D1065=\"\",\"\",IF(D1065<0,\"DEBITO\",\"CREDITO\"))","v":""},null,false,false,0,{"$f":"IF($A1065=I$3,AND($A1065=I$3,$D1065<0),0)","v":0},0,{"$f":"IF($A1065=K$3,AND($A1065=K$3,$D1065<0),0)","v":0},0,{"$f":"IF($A1065=M$3,AND($A1065=M$3,$D1065<0),0)","v":0},0,{"$f":"IF($A1065=O$3,AND($A1065=O$3,$D1065<0),0)","v":0},0,0,0,0,0,0,0,{"$f":"IF($A1065=W$3,AND($A1065=W$3,$D1065<0),0)","v":0},0,{"$f":"IF($A1065=Y$3,AND($A1065=Y$3,$D1065<0),0)","v":0},0,{"$f":"IF($A1065=AA$3,AND($A1065=AA$3,$D1065<0),0)","v":0},0,{"$f":"IF($A1065=AC$3,AND($A1065=AC$3,$D1065<0),0)","v":0},0,0]
[{"$f":"IF(B1069=0,\"\",MONTH(B1069))","v":""},null,null,null,{"$f":"IF(D1069=\"\",\"\",IF(D1069<0,\"DEBITO\",\"CREDITO\"))","v":""},null,false,false,0,{"$f":"IF($A1069=I$3,AND($A1069=I$3,$D1069<0),0)","v":0},0,{"$f":"IF($A1069=K$3,AND($A1069=K$3,$D1069<0),0)","v":0},0,{"$f":"IF($A1069=M$3,AND($A1069=M$3,$D1069<0),0)","v":0},0,{"$f":"IF($A1069=O$3,AND($A1069=O$3,$D1069<0),0)","v":0},0,0,0,0,0,0,0,{"$f":"IF($A1069=W$3,AND($A1069=W$3,$D1069<0),0)","v":0},0,{"$f":"IF($A1069=Y$3,AND($A1069=Y$3,$D1069<0),0)","v":0},0,{"$f":"IF($A1069=AA$3,AND($A1069=AA$3,$D1069<0),0)","v":0},0,{"$f":"IF($A1069=AC$3,AND($A1069=AC$3,$D1069<0),0)","v":0},0,0]
[{"$f":"IF(B1070=0,\"\",MONTH(B1070))","v":""},null,null,null,{"$f":"IF(D1070=\"\",\"\",IF(D1070<0,\"DEBITO\",\"CREDITO\"))","v":""},null,false,false,0,{"$f":"IF($A1070=I$3,AND($A1070=I$3,$D1070<0),0)","v":0},0,{"$f":"IF($A1070=K$3,AND($A1070=K$3,$D1070<0),0)","v":0},0,{"$f":"IF($A1070=M$3,AND($A1070=M$3,$D1070<0),0)","v":0},0,{"$f":"IF($A1070=O$3,AND($A1070=O$3,$D1070<0),0)","v":0},0,0,0,0,0,0,0,{"$f":"IF($A1070=W$3,AND($A1070=W$3,$D1070<0),0)","v":0},0,{"$f":"IF($A1070=Y$3,AND($A1070=Y$3,$D1070<0),0)","v":0},0,{"$f":"IF($A1070=AA$3,AND($A1070=AA$3,$D1070<0),0)","v":0},0,{"$f":"IF($A1070=AC$3,AND($A1070=AC$3,$D1070<0),0)","v":0},0,0]
[{"$f":"IF(B1073=0,\"\",MONTH(B1073))","v":""},null,null,null,{"$f":"IF(D1073=\"\",\"\",IF(D1073<0,\"DEBITO\",\"CREDITO\"))","v":""},null,false,false,0,{"$f":"IF($A1073=I$3,AND($A1073=I$3,$D1073<0),0)","v":0},0,{"$f":"IF($A1073=K$3,AND($A1073=K$3,$D1073<0),0)","v":0},0,{"$f":"IF($A1073=M$3,AND($A1073=M$3,$D1073<0),0)","v":0},0,{"$f":"IF($A1073=O$3,AND($A1073=O$3,$D1073<0),0)","v":0},0,0,0,0,0,0,0,{"$f":"IF($A1073=W$3,AND($A1073=W$3,$D1073<0),0)","v":0},0,{"$f":"IF($A1073=Y$3,AND($A1073=Y$3,$D1073<0),0)","v":0},0,{"$f":"IF($A1073=AA$3,AND($A1073=AA$3,$D1073<0),0)","v":0},0,{"$f":"IF($A1073=AC$3,AND($A1073=AC$3,$D1073<0),0)","v":0},0,0]
[{"$f":"IF(B1074=0,\"\",MONTH(B1074))","v":""},null,null,null,{"$f":"IF(D1074=\"\",\"\",IF(D1074<0,\"DEBITO\",\"CREDITO\"))","v":""},null,false,false,0,{"$f":"IF($A1074=I$3,AND($A1074=I$3,$D1074<0),0)","v":0},0,{"$f":"IF($A1074=K$3,AND($A1074=K$3,$D1074<0),0)","v":0},0,{"$f":"IF($A1074=M$3,AND($A1074=M$3,$D1074<0),0)","v":0},0,{"$f":"IF($A1074=O$3,AND($A1074=O$3,$D1074<0),0)","v":0},0,0,0,0,0,0,0,{"$f":"IF($A1074=W$3,AND($A1074=W$3,$D1074<0),0)","v":0},0,{"$f":"IF($A1074=Y$3,AND($A1074=Y$3,$D1074<0),0)","v":0},0,{"$f":"IF($A1074=AA$3,AND($A1074=AA$3,$D1074<0),0)","v":0},0,{"$f":"IF($A1074=AC$3,AND($A1074=AC$3,$D1074<0),0)","v":0},0,0]
[{"$f":"IF(B1077=0,\"\",MONTH(B1077))","v":""},null,null,null,{"$f":"IF(D1077=\"\",\"\",IF(D1077<0,\"DEBITO\",\"CREDITO\"))","v":""},null,false,false,0,{"$f":"IF($A1077=I$3,AND($A1077=I$3,$D1077<0),0)","v":0},0,{"$f":"IF($A1077=K$3,AND($A1077=K$3,$D1077<0),0)","v":0},0,{"$f":"IF($A1077=M$3,AND($A1077=M$3,$D1077<0),0)","v":0},0,{"$f":"IF($A1077=O$3,AND($A1077=O$3,$D1077<0),0)","v":0},0,0,0,0,0,0,0,{"$f":"IF($A1077=W$3,AND($A1077=W$3,$D1077<0),0)","v":0},0,{"$f":"IF($A1077=Y$3,AND($A1077=Y$3,$D1077<0),0)","v":0},0,{"$f":"IF($A1077=AA$3,AND($A1077=AA$3,$D1077<0),0)","v":0},0,{"$f":"IF($A1077=AC$3,AND($A1077=AC$3,$D1077<0),0)","v":0},0,0]
[{"$f":"IF(B1078=0,\"\",MONTH(B1078))","v":""},null,null,null,{"$f":"IF(D1078=\"\",\"\",IF(D1078<0,\"DEBITO\",\"CREDITO\"))","v":""},null,false,false,0,{"$f":"IF($A1078=I$3,AND($A1078=I$3,$D1078<0),0)","v":0},0,{"$f":"IF($A1078=K$3,AND($A1078=K$3,$D1078<0),0)","v":0},0,{"$f":"IF($A1078=M$3,AND($A1078=M$3,$D1078<0),0)","v":0},0,{"$f":"IF($A1078=O$3,AND($A1078=O$3,$D1078<0),0)","v":0},0,0,0,0,0,0,0,{"$f":"IF($A1078=W$3,AND($A1078=W$3,$D1078<0),0)","v":0},0,{"$f":"IF($A1078=Y$3,AND($A1078=Y$3,$D1078<0),0)","v":0},0,{"$f":"IF($A1078=AA$3,AND($A1078=AA$3,$D1078<0),0)","v":0},0,{"$f":"IF($A1078=AC$3,AND($A1078=AC$3,$D1078<0),0)","v":0},0,0]
[{"$f":"IF(B1081=0,\"\",MONTH(B1081))","v":""},null,null,null,{"$f":"IF(D1081=\"\",\"\",IF(D1081<0,\"DEBITO\",\"CREDITO\"))","v":""},null,false,false,0,{"$f":"IF($A1081=I$3,AND($A1081=I$3,$D1081<0),0)","v":0},0,{"$f":"IF($A1081=K$3,AND($A1081=K$3,$D1081<0),0)","v":0},0,{"$f":"IF($A1081=M$3,AND($A1081=M$3,$D1081<0),0)","v":0},0,{"$f":"IF($A1081=O$3,AND($A1081=O$3,$D1081<0),0)","v":0},0,0,0,0,0,0,0,{"$f":"IF($A1081=W$3,AND($A1081=W$3,$D1081<0),0)","v":0},0,{"$f":"IF($A1081=Y$3,AND($A1081=Y$3,$D1081<0),0)","v":0},0,{"$f":"IF($A1081=AA$3,AND($A1081=AA$3,$D1081<0),0)","v":0},0,{"$f":"IF($A1081=AC$3,AND($A1081=AC$3,$D1081<0),0)","v":0},0,0]
[{"$f":"IF(B1082=0,\"\",MONTH(B1082))","v":""},null,null,null,{"$f":"IF(D1082=\"\",\"\",IF(D1082<0,\"DEBITO\",\"CREDITO\"))","v":""},null,false,false,0,{"$f":"IF($A1082=I$3,AND($A1082=I$3,$D1082<0),0)","v":0},0,{"$f":"IF($A1082=K$3,AND($A1082=K$3,$D1082<0),0)","v":0},0,{"$f":"IF($A1082=M$3,AND($A1082=M$3,$D1082<0),0)","v":0},0,{"$f":"IF($A1082=O$3,AND($A1082=O$3,$D1082<0),0)","v":0},0,0,0,0,0,0,0,{"$f":"IF($A1082=W$3,AND($A1082=W$3,$D1082<0),0)","v":0},0,{"$f":"IF($A1082=Y$3,AND($A1082=Y$3,$D1082<0),0)","v":0},0,{"$f":"IF($A1082=AA$3,AND($A1082=AA$3,$D1082<0),0)","v":0},0,{"$f":"IF($A1082=AC$3,AND($A1082=AC$3,$D1082<0),0)","v":0},0,0]
[{"$f":"IF(B1085=0,\"\",MONTH(B1085))","v":""},null,null,null,{"$f":"IF(D1085=\"\",\"\",IF(D1085<0,\"DEBITO\",\"CREDITO\"))","v":""},null,false,false,0,{"$f":"IF($A1085=I$3,AND($A1085=I$3,$D1085<0),0)","v":0},0,{"$f":"IF($A1085=K$3,AND($A1085=K$3,$D1085<0),0)","v":0},0,{"$f":"IF($A1085=M$3,AND($A1085=M$3,$D1085<0),0)","v":0},0,{"$f":"IF($A1085=O$3,AND($A1085=O$3,$D1085<0),0)","v":0},0,0,0,0,0,0,0,{"$f":"IF($A1085=W$3,AND($A1085=W$3,$D1085<0),0)","v":0},0,{"$f":"IF($A1085=Y$3,AND($A1085=Y$3,$D1085<0),0)","v":0},0,{"$f":"IF($A1085=AA$3,AND($A1085=AA$3,$D1085<0),0)","v":0},0,{"$f":"IF($A1085=AC$3,AND($A1085=AC$3,$D1085<0),0)","v":0},0,0]
[{"$f":"IF(B1087=0,\"\",MONTH(B1087))","v":""},null,null,null,{"$f":"IF(D1087=\"\",\"\",IF(D1087<0,\"DEBITO\",\"CREDITO\"))","v":""},null,false,false,0,{"$f":"IF($A1087=I$3,AND($A1087=I$3,$D1087<0),0)","v":0},0,{"$f":"IF($A1087=K$3,AND($A1087=K$3,$D1087<0),0)","v":0},0,{"$f":"IF($A1087=M$3,AND($A1087=M$3,$D1087<0),0)","v":0},0,{"$f":"IF($A1087=O$3,AND($A1087=O$3,$D1087<0),0)","v":0},0,0,0,0,0,0,0,{"$f":"IF($A1087=W$3,AND($A1087=W$3,$D1087<0),0)","v":0},0,{"$f":"IF($A1087=Y$3,AND($A1087=Y$3,$D1087<0),0)","v":0},0,{"$f":"IF($A1087=AA$3,AND($A1087=AA$3,$D1087<0),0)","v":0},0,{"$f":"IF($A1087=AC$3,AND($A1087=AC$3,$D1087<0),0)","v":0},0,0]
[{"$f":"IF(B1090=0,\"\",MONTH(B1090))","v":""},null,null,null,{"$f":"IF(D1090=\"\",\"\",IF(D1090<0,\"DEBITO\",\"CREDITO\"))","v":""},null,false,false,0,{"$f":"IF($A1090=I$3,AND($A1090=I$3,$D1090<0),0)","v":0},0,{"$f":"IF($A1090=K$3,AND($A1090=K$3,$D1090<0),0)","v":0},0,{"$f":"IF($A1090=M$3,AND($A1090=M$3,$D1090<0),0)","v":0},0,{"$f":"IF($A1090=O$3,AND($A1090=O$3,$D1090<0),0)","v":0},0,0,0,0,0,0,0,{"$f":"IF($A1090=W$3,AND($A1090=W$3,$D1090<0),0)","v":0},0,{"$f":"IF($A1090=Y$3,AND($A1090=Y$3,$D1090<0),0)","v":0},0,{"$f":"IF($A1090=AA$3,AND($A1090=AA$3,$D1090<0),0)","v":0},0,{"$f":"IF($A1090=AC$3,AND($A1090=AC$3,$D1090<0),0)","v":0},0,0]
[{"$f":"IF(B1091=0,\"\",MONTH(B1091))","v":""},null,null,null,{"$f":"IF(D1091=\"\",\"\",IF(D1091<0,\"DEBITO\",\"CREDITO\"))","v":""},null,false,false,0,{"$f":"IF($A1091=I$3,AND($A1091=I$3,$D1091<0),0)","v":0},0,{"$f":"IF($A1091=K$3,AND($A1091=K$3,$D1091<0),0)","v":0},0,{"$f":"IF($A1091=M$3,AND($A1091=M$3,$D1091<0),0)","v":0},0,{"$f":"IF($A1091=O$3,AND($A1091=O$3,$D1091<0),0)","v":0},0,0,0,0,0,0,0,{"$f":"IF($A1091=W$3,AND($A1091=W$3,$D1091<0),0)","v":0},0,{"$f":"IF($A1091=Y$3,AND($A1091=Y$3,$D1091<0),0)","v":0},0,{"$f":"IF($A1091=AA$3,AND($A1091=AA$3,$D1091<0),0)","v":0},0,{"$f":"IF($A1091=AC$3,AND($A1091=AC$3,$D1091<0),0)","v":0},0,0]
[{"$f":"IF(B1094=0,\"\",MONTH(B1094))","v":""},null,null,null,{"$f":"IF(D1094=\"\",\"\",IF(D1094<0,\"DEBITO\",\"CREDITO\"))","v":""},null,false,false,0,{"$f":"IF($A1094=I$3,AND($A1094=I$3,$D1094<0),0)","v":0},0,{"$f":"IF($A1094=K$3,AND($A1094=K$3,$D1094<0),0)","v":0},0,{"$f":"IF($A1094=M$3,AND($A1094=M$3,$D1094<0),0)","v":0},0,{"$f":"IF($A1094=O$3,AND($A1094=O$3,$D1094<0),0)","v":0},0,0,0,0,0,0,0,{"$f":"IF($A1094=W$3,AND($A1094=W$3,$D1094<0),0)","v":0},0,{"$f":"IF($A1094=Y$3,AND($A1094=Y$3,$D1094<0),0)","v":0},0,{"$f":"IF($A1094=AA$3,AND($A1094=AA$3,$D1094<0),0)","v":0},0,{"$f":"IF($A1094=AC$3,AND($A1094=AC$3,$D1094<0),0)","v":0},0,0]
[{"$f":"IF(B1095=0,\"\",MONTH(B1095))","v":""},null,null,null,{"$f":"IF(D1095=\"\",\"\",IF(D1095<0,\"DEBITO\",\"CREDITO\"))","v":""},null,false,false,0,{"$f":"IF($A1095=I$3,AND($A1095=I$3,$D1095<0),0)","v":0},0,{"$f":"IF($A1095=K$3,AND($A1095=K$3,$D1095<0),0)","v":0},0,{"$f":"IF($A1095=M$3,AND($A1095=M$3,$D1095<0),0)","v":0},0,{"$f":"IF($A1095=O$3,AND($A1095=O$3,$D1095<0),0)","v":0},0,0,0,0,0,0,0,{"$f":"IF($A1095=W$3,AND($A1095=W$3,$D1095<0),0)","v":0},0,{"$f":"IF($A1095=Y$3,AND($A1095=Y$3,$D1095<0),0)","v":0},0,{"$f":"IF($A1095=AA$3,AND($A1095=AA$3,$D1095<0),0)","v":0},0,{"$f":"IF($A1095=AC$3,AND($A1095=AC$3,$D1095<0),0)","v":0},0,0]
[{"$f":"IF(B1098=0,\"\",MONTH(B1098))","v":""},null,null,null,{"$f":"IF(D1098=\"\",\"\",IF(D1098<0,\"DEBITO\",\"CREDITO\"))","v":""},null,false,false,0,{"$f":"IF($A1098=I$3,AND($A1098=I$3,$D1098<0),0)","v":0},0,{"$f":"IF($A1098=K$3,AND($A1098=K$3,$D1098<0),0)","v":0},0,{"$f":"IF($A1098=M$3,AND($A1098=M$3,$D1098<0),0)","v":0},0,{"$f":"IF($A1098=O$3,AND($A1098=O$3,$D1098<0),0)","v":0},0,0,{"$f":"IF($A1098=S$3,AND($A1098=S$3,$D1098>0),0)","v":0},{"$f":"IF($A1098=S$3,AND($A1098=S$3,$D1098<0),0)","v":0},{"$f":"IF($A1098=U$3,AND($A1098=U$3,$D1098>0),0)","v":0},{"$f":"IF($A1098=U$3,AND($A1098=U$3,$D1098<0),0)","v":0},0,{"$f":"IF($A1098=W$3,AND($A1098=W$3,$D1098<0),0)","v":0},0,{"$f":"IF($A1098=Y$3,AND($A1098=Y$3,$D1098<0),0)","v":0},0,{"$f":"IF($A1098=AA$3,AND($A1098=AA$3,$D1098<0),0)","v":0},0,{"$f":"IF($A1098=AC$3,AND($A1098=AC$3,$D1098<0),0)","v":0},0,0]
[{"$f":"IF(B1099=0,\"\",MONTH(B1099))","v":""},null,null,null,{"$f":"IF(D1099=\"\",\"\",IF(D1099<0,\"DEBITO\",\"CREDITO\"))","v":""},null,false,false,0,{"$f":"IF($A1099=I$3,AND($A1099=I$3,$D1099<0),0)","v":0},0,{"$f":"IF($A1099=K$3,AND($A1099=K$3,$D1099<0),0)","v":0},0,{"$f":"IF($A1099=M$3,AND($A1099=M$3,$D1099<0),0)","v":0},0,{"$f":"IF($A1099=O$3,AND($A1099=O$3,$D1099<0),0)","v":0},0,0,0,0,0,0,0,{"$f":"IF($A1099=W$3,AND($A1099=W$3,$D1099<0),0)","v":0},0,{"$f":"IF($A1099=Y$3,AND($A1099=Y$3,$D1099<0),0)","v":0},0,{"$f":"IF($A1099=AA$3,AND($A1099=AA$3,$D1099<0),0)","v":0},0,{"$f":"IF($A1099=AC$3,AND($A1099=AC$3,$D1099<0),0)","v":0},0,0]
[{"$f":"IF(B1102=0,\"\",MONTH(B1102))","v":""},null,null,null,{"$f":"IF(D1102=\"\",\"\",IF(D1102<0,\"DEBITO\",\"CREDITO\"))","v":""},null,false,false,0,{"$f":"IF($A1102=I$3,AND($A1102=I$3,$D1102<0),0)","v":0},0,{"$f":"IF($A1102=K$3,AND($A1102=K$3,$D1102<0),0)","v":0},0,{"$f":"IF($A1102=M$3,AND($A1102=M$3,$D1102<0),0)","v":0},0,{"$f":"IF($A1102=O$3,AND($A1102=O$3,$D1102<0),0)","v":0},0,0,0,0,0,0,0,{"$f":"IF($A1102=W$3,AND($A1102=W$3,$D1102<0),0)","v":0},0,{"$f":"IF($A1102=Y$3,AND($A1102=Y$3,$D1102<0),0)","v":0},0,{"$f":"IF($A1102=AA$3,AND($A1102=AA$3,$D1102<0),0)","v":0},0,{"$f":"IF($A1102=AC$3,AND($A1102=AC$3,$D1102<0),0)","v":0},0,0]
[{"$f":"IF(B1103=0,\"\",MONTH(B1103))","v":""},null,null,null,{"$f":"IF(D1103=\"\",\"\",IF(D1103<0,\"DEBITO\",\"CREDITO\"))","v":""},null,false,false,0,{"$f":"IF($A1103=I$3,AND($A1103=I$3,$D1103<0),0)","v":0},0,{"$f":"IF($A1103=K$3,AND($A1103=K$3,$D1103<0),0)","v":0},0,{"$f":"IF($A1103=M$3,AND($A1103=M$3,$D1103<0),0)","v":0},0,{"$f":"IF($A1103=O$3,AND($A1103=O$3,$D1103<0),0)","v":0},0,0,0,0,0,0,0,{"$f":"IF($A1103=W$3,AND($A1103=W$3,$D1103<0),0)","v":0},0,{"$f":"IF($A1103=Y$3,AND($A1103=Y$3,$D1103<0),0)","v":0},0,{"$f":"IF($A1103=AA$3,AND($A1103=AA$3,$D1103<0),0)","v":0},0,{"$f":"IF($A1103=AC$3,AND($A1103=AC$3,$D1103<0),0)","v":0},0,0]
[{"$f":"IF(B1106=0,\"\",MONTH(B1106))","v":""},null,null,null,{"$f":"IF(D1106=\"\",\"\",IF(D1106<0,\"DEBITO\",\"CREDITO\"))","v":""},null,false,false,0,{"$f":"IF($A1106=I$3,AND($A1106=I$3,$D1106<0),0)","v":0},0,{"$f":"IF($A1106=K$3,AND($A1106=K$3,$D1106<0),0)","v":0},0,{"$f":"IF($A1106=M$3,AND($A1106=M$3,$D1106<0),0)","v":0},0,{"$f":"IF($A1106=O$3,AND($A1106=O$3,$D1106<0),0)","v":0},0,0,0,0,0,0,0,{"$f":"IF($A1106=W$3,AND($A1106=W$3,$D1106<0),0)","v":0},0,{"$f":"IF($A1106=Y$3,AND($A1106=Y$3,$D1106<0),0)","v":0},0,{"$f":"IF($A1106=AA$3,AND($A1106=AA$3,$D1106<0),0)","v":0},0,{"$f":"IF($A1106=AC$3,AND($A1106=AC$3,$D1106<0),0)","v":0},0,0]
[{"$f":"IF(B1107=0,\"\",MONTH(B1107))","v":""},null,null,null,{"$f":"IF(D1107=\"\",\"\",IF(D1107<0,\"DEBITO\",\"CREDITO\"))","v":""},null,false,false,0,{"$f":"IF($A1107=I$3,AND($A1107=I$3,$D1107<0),0)","v":0},0,{"$f":"IF($A1107=K$3,AND($A1107=K$3,$D1107<0),0)","v":0},0,{"$f":"IF($A1107=M$3,AND($A1107=M$3,$D1107<0),0)","v":0},0,{"$f":"IF($A1107=O$3,AND($A1107=O$3,$D1107<0),0)","v":0},0,0,0,0,0,0,0,{"$f":"IF($A1107=W$3,AND($A1107=W$3,$D1107<0),0)","v":0},0,{"$f":"IF($A1107=Y$3,AND($A1107=Y$3,$D1107<0),0)","v":0},0,{"$f":"IF($A1107=AA$3,AND($A1107=AA$3,$D1107<0),0)","v":0},0,{"$f":"IF($A1107=AC$3,AND($A1107=AC$3,$D1107<0),0)","v":0},0,0]
[{"$f":"IF(B1111=0,\"\",MONTH(B1111))","v":""},null,null,null,{"$f":"IF(D1111=\"\",\"\",IF(D1111<0,\"DEBITO\",\"CREDITO\"))","v":""},null,false,false,0,{"$f":"IF($A1111=I$3,AND($A1111=I$3,$D1111<0),0)","v":0},0,{"$f":"IF($A1111=K$3,AND($A1111=K$3,$D1111<0),0)","v":0},0,{"$f":"IF($A1111=M$3,AND($A1111=M$3,$D1111<0),0)","v":0},0,{"$f":"IF($A1111=O$3,AND($A1111=O$3,$D1111<0),0)","v":0},0,0,0,0,0,0,0,{"$f":"IF($A1111=W$3,AND($A1111=W$3,$D1111<0),0)","v":0},0,{"$f":"IF($A1111=Y$3,AND($A1111=Y$3,$D1111<0),0)","v":0},0,{"$f":"IF($A1111=AA$3,AND($A1111=AA$3,$D1111<0),0)","v":0},0,{"$f":"IF($A1111=AC$3,AND($A1111=AC$3,$D1111<0),0)","v":0},0,0]
[{"$f":"IF(B1112=0,\"\",MONTH(B1112))","v":""},null,null,null,{"$f":"IF(D1112=\"\",\"\",IF(D1112<0,\"DEBITO\",\"CREDITO\"))","v":""},null,false,false,0,{"$f":"IF($A1112=I$3,AND($A1112=I$3,$D1112<0),0)","v":0},0,{"$f":"IF($A1112=K$3,AND($A1112=K$3,$D1112<0),0)","v":0},0,{"$f":"IF($A1112=M$3,AND($A1112=M$3,$D1112<0),0)","v":0},0,{"$f":"IF($A1112=O$3,AND($A1112=O$3,$D1112<0),0)","v":0},0,0,0,0,0,0,0,{"$f":"IF($A1112=W$3,AND($A1112=W$3,$D1112<0),0)","v":0},0,{"$f":"IF($A1112=Y$3,AND($A1112=Y$3,$D1112<0),0)","v":0},0,{"$f":"IF($A1112=AA$3,AND($A1112=AA$3,$D1112<0),0)","v":0},0,{"$f":"IF($A1112=AC$3,AND($A1112=AC$3,$D1112<0),0)","v":0},0,0]
[{"$f":"IF(B1115=0,\"\",MONTH(B1115))","v":""},null,null,null,{"$f":"IF(D1115=\"\",\"\",IF(D1115<0,\"DEBITO\",\"CREDITO\"))","v":""},null,false,false,0,{"$f":"IF($A1115=I$3,AND($A1115=I$3,$D1115<0),0)","v":0},0,{"$f":"IF($A1115=K$3,AND($A1115=K$3,$D1115<0),0)","v":0},0,{"$f":"IF($A1115=M$3,AND($A1115=M$3,$D1115<0),0)","v":0},0,{"$f":"IF($A1115=O$3,AND($A1115=O$3,$D1115<0),0)","v":0},0,0,0,0,0,0,0,{"$f":"IF($A1115=W$3,AND($A1115=W$3,$D1115<0),0)","v":0},0,{"$f":"IF($A1115=Y$3,AND($A1115=Y$3,$D1115<0),0)","v":0},0,{"$f":"IF($A1115=AA$3,AND($A1115=AA$3,$D1115<0),0)","v":0},0,{"$f":"IF($A1115=AC$3,AND($A1115=AC$3,$D1115<0),0)","v":0},0,0]
[{"$f":"IF(B1116=0,\"\",MONTH(B1116))","v":""},null,null,null,{"$f":"IF(D1116=\"\",\"\",IF(D1116<0,\"DEBITO\",\"CREDITO\"))","v":""},null,false,false,0,{"$f":"IF($A1116=I$3,AND($A1116=I$3,$D1116<0),0)","v":0},0,{"$f":"IF($A1116=K$3,AND($A1116=K$3,$D1116<0),0)","v":0},0,{"$f":"IF($A1116=M$3,AND($A1116=M$3,$D1116<0),0)","v":0},0,{"$f":"IF($A1116=O$3,AND($A1116=O$3,$D1116<0),0)","v":0},0,0,0,0,0,0,0,{"$f":"IF($A1116=W$3,AND($A1116=W$3,$D1116<0),0)","v":0},0,{"$f":"IF($A1116=Y$3,AND($A1116=Y$3,$D1116<0),0)","v":0},0,{"$f":"IF($A1116=AA$3,AND($A1116=AA$3,$D1116<0),0)","v":0},0,{"$f":"IF($A1116=AC$3,AND($A1116=AC$3,$D1116<0),0)","v":0},0,0]
[{"$f":"IF(B1119=0,\"\",MONTH(B1119))","v":""},null,null,null,{"$f":"IF(D1119=\"\",\"\",IF(D1119<0,\"DEBITO\",\"CREDITO\"))","v":""},null,false,false,0,{"$f":"IF($A1119=I$3,AND($A1119=I$3,$D1119<0),0)","v":0},0,{"$f":"IF($A1119=K$3,AND($A1119=K$3,$D1119<0),0)","v":0},0,{"$f":"IF($A1119=M$3,AND($A1119=M$3,$D1119<0),0)","v":0},0,{"$f":"IF($A1119=O$3,AND($A1119=O$3,$D1119<0),0)","v":0},0,0,0,0,0,0,0,{"$f":"IF($A1119=W$3,AND($A1119=W$3,$D1119<0),0)","v":0},0,{"$f":"IF($A1119=Y$3,AND($A1119=Y$3,$D1119<0),0)","v":0},0,{"$f":"IF($A1119=AA$3,AND($A1119=AA$3,$D1119<0),0)","v":0},0,{"$f":"IF($A1119=AC$3,AND($A1119=AC$3,$D1119<0),0)","v":0},0,0]
[{"$f":"IF(B1120=0,\"\",MONTH(B1120))","v":""},null,null,null,{"$f":"IF(D1120=\"\",\"\",IF(D1120<0,\"DEBITO\",\"CREDITO\"))","v":""},null,false,false,0,{"$f":"IF($A1120=I$3,AND($A1120=I$3,$D1120<0),0)","v":0},0,{"$f":"IF($A1120=K$3,AND($A1120=K$3,$D1120<0),0)","v":0},0,{"$f":"IF($A1120=M$3,AND($A1120=M$3,$D1120<0),0)","v":0},0,{"$f":"IF($A1120=O$3,AND($A1120=O$3,$D1120<0),0)","v":0},0,0,0,0,0,0,0,{"$f":"IF($A1120=W$3,AND($A1120=W$3,$D1120<0),0)","v":0},0,{"$f":"IF($A1120=Y$3,AND($A1120=Y$3,$D1120<0),0)","v":0},0,{"$f":"IF($A1120=AA$3,AND($A1120=AA$3,$D1120<0),0)","v":0},0,{"$f":"IF($A1120=AC$3,AND($A1120=AC$3,$D1120<0),0)","v":0},0,0]
[{"$f":"IF(B1123=0,\"\",MONTH(B1123))","v":""},null,null,null,{"$f":"IF(D1123=\"\",\"\",IF(D1123<0,\"DEBITO\",\"CREDITO\"))","v":""},null,false,false,0,{"$f":"IF($A1123=I$3,AND($A1123=I$3,$D1123<0),0)","v":0},0,{"$f":"IF($A1123=K$3,AND($A1123=K$3,$D1123<0),0)","v":0},0,{"$f":"IF($A1123=M$3,AND($A1123=M$3,$D1123<0),0)","v":0},0,{"$f":"IF($A1123=O$3,AND($A1123=O$3,$D1123<0),0)","v":0},0,0,0,0,0,0,0,{"$f":"IF($A1123=W$3,AND($A1123=W$3,$D1123<0),0)","v":0},0,{"$f":"IF($A1123=Y$3,AND($A1123=Y$3,$D1123<0),0)","v":0},0,{"$f":"IF($A1123=AA$3,AND($A1123=AA$3,$D1123<0),0)","v":0},0,{"$f":"IF($A1123=AC$3,AND($A1123=AC$3,$D1123<0),0)","v":0},0,0]
[{"$f":"IF(B1124=0,\"\",MONTH(B1124))","v":""},null,null,null,{"$f":"IF(D1124=\"\",\"\",IF(D1124<0,\"DEBITO\",\"CREDITO\"))","v":""},null,false,false,0,{"$f":"IF($A1124=I$3,AND($A1124=I$3,$D1124<0),0)","v":0},0,{"$f":"IF($A1124=K$3,AND($A1124=K$3,$D1124<0),0)","v":0},0,{"$f":"IF($A1124=M$3,AND($A1124=M$3,$D1124<0),0)","v":0},0,{"$f":"IF($A1124=O$3,AND($A1124=O$3,$D1124<0),0)","v":0},0,0,0,0,0,0,0,{"$f":"IF($A1124=W$3,AND($A1124=W$3,$D1124<0),0)","v":0},0,{"$f":"IF($A1124=Y$3,AND($A1124=Y$3,$D1124<0),0)","v":0},0,{"$f":"IF($A1124=AA$3,AND($A1124=AA$3,$D1124<0),0)","v":0},0,{"$f":"IF($A1124=AC$3,AND($A1124=AC$3,$D1124<0),0)","v":0},0,0]
[{"$f":"IF(B1127=0,\"\",MONTH(B1127))","v":""},null,null,null,{"$f":"IF(D1127=\"\",\"\",IF(D1127<0,\"DEBITO\",\"CREDITO\"))","v":""},null,false,false,0,{"$f":"IF($A1127=I$3,AND($A1127=I$3,$D1127<0),0)","v":0},0,{"$f":"IF($A1127=K$3,AND($A1127=K$3,$D1127<0),0)","v":0},0,{"$f":"IF($A1127=M$3,AND($A1127=M$3,$D1127<0),0)","v":0},0,{"$f":"IF($A1127=O$3,AND($A1127=O$3,$D1127<0),0)","v":0},0,0,0,0,0,0,0,{"$f":"IF($A1127=W$3,AND($A1127=W$3,$D1127<0),0)","v":0},0,{"$f":"IF($A1127=Y$3,AND($A1127=Y$3,$D1127<0),0)","v":0},0,{"$f":"IF($A1127=AA$3,AND($A1127=AA$3,$D1127<0),0)","v":0},0,{"$f":"IF($A1127=AC$3,AND($A1127=AC$3,$D1127<0),0)","v":0},0,0]
[{"$f":"IF(B1128=0,\"\",MONTH(B1128))","v":""},null,null,null,{"$f":"IF(D1128=\"\",\"\",IF(D1128<0,\"DEBITO\",\"CREDITO\"))","v":""},null,false,false,0,{"$f":"IF($A1128=I$3,AND($A1128=I$3,$D1128<0),0)","v":0},0,{"$f":"IF($A1128=K$3,AND($A1128=K$3,$D1128<0),0)","v":0},0,{"$f":"IF($A1128=M$3,AND($A1128=M$3,$D1128<0),0)","v":0},0,{"$f":"IF($A1128=O$3,AND($A1128=O$3,$D1128<0),0)","v":0},0,0,0,0,0,0,0,{"$f":"IF($A1128=W$3,AND($A1128=W$3,$D1128<0),0)","v":0},0,{"$f":"IF($A1128=Y$3,AND($A1128=Y$3,$D1128<0),0)","v":0},0,{"$f":"IF($A1128=AA$3,AND($A1128=AA$3,$D1128<0),0)","v":0},0,{"$f":"IF($A1128=AC$3,AND($A1128=AC$3,$D1128<0),0)","v":0},0,0]
[{"$f":"IF(B1130=0,\"\",MONTH(B1130))","v":""},null,null,null,{"$f":"IF(D1130=\"\",\"\",IF(D1130<0,\"DEBITO\",\"CREDITO\"))","v":""},null,false,false,0,{"$f":"IF($A1130=I$3,AND($A1130=I$3,$D1130<0),0)","v":0},0,{"$f":"IF($A1130=K$3,AND($A1130=K$3,$D1130<0),0)","v":0},0,{"$f":"IF($A1130=M$3,AND($A1130=M$3,$D1130<0),0)","v":0},0,{"$f":"IF($A1130=O$3,AND($A1130=O$3,$D1130<0),0)","v":0},0,0,0,0,0,0,0,{"$f":"IF($A1130=W$3,AND($A1130=W$3,$D1130<0),0)","v":0},0,{"$f":"IF($A1130=Y$3,AND($A1130=Y$3,$D1130<0),0)","v":0},0,{"$f":"IF($A1130=AA$3,AND($A1130=AA$3,$D1130<0),0)","v":0},0,{"$f":"IF($A1130=AC$3,AND($A1130=AC$3,$D1130<0),0)","v":0},0,0]
[{"$f":"IF(B1133=0,\"\",MONTH(B1133))","v":""},null,null,null,{"$f":"IF(D1133=\"\",\"\",IF(D1133<0,\"DEBITO\",\"CREDITO\"))","v":""},null,false,false,0,{"$f":"IF($A1133=I$3,AND($A1133=I$3,$D1133<0),0)","v":0},0,{"$f":"IF($A1133=K$3,AND($A1133=K$3,$D1133<0),0)","v":0},0,{"$f":"IF($A1133=M$3,AND($A1133=M$3,$D1133<0),0)","v":0},0,{"$f":"IF($A1133=O$3,AND($A1133=O$3,$D1133<0),0)","v":0},0,0,0,0,0,0,0,{"$f":"IF($A1133=W$3,AND($A1133=W$3,$D1133<0),0)","v":0},0,{"$f":"IF($A1133=Y$3,AND($A1133=Y$3,$D1133<0),0)","v":0},0,{"$f":"IF($A1133=AA$3,AND($A1133=AA$3,$D1133<0),0)","v":0},0,{"$f":"IF($A1133=AC$3,AND($A1133=AC$3,$D1133<0),0)","v":0},0,0]
[{"$f":"IF(B1136=0,\"\",MONTH(B1136))","v":""},null,null,null,{"$f":"IF(D1136=\"\",\"\",IF(D1136<0,\"DEBITO\",\"CREDITO\"))","v":""},null,false,false,0,{"$f":"IF($A1136=I$3,AND($A1136=I$3,$D1136<0),0)","v":0},0,{"$f":"IF($A1136=K$3,AND($A1136=K$3,$D1136<0),0)","v":0},0,{"$f":"IF($A1136=M$3,AND($A1136=M$3,$D1136<0),0)","v":0},0,{"$f":"IF($A1136=O$3,AND($A1136=O$3,$D1136<0),0)","v":0},0,0,0,0,0,0,0,{"$f":"IF($A1136=W$3,AND($A1136=W$3,$D1136<0),0)","v":0},0,{"$f":"IF($A1136=Y$3,AND($A1136=Y$3,$D1136<0),0)","v":0},0,{"$f":"IF($A1136=AA$3,AND($A1136=AA$3,$D1136<0),0)","v":0},0,{"$f":"IF($A1136=AC$3,AND($A1136=AC$3,$D1136<0),0)","v":0},0,0]
[{"$f":"IF(B1137=0,\"\",MONTH(B1137))","v":""},null,null,null,{"$f":"IF(D1137=\"\",\"\",IF(D1137<0,\"DEBITO\",\"CREDITO\"))","v":""},null,false,false,0,{"$f":"IF($A1137=I$3,AND($A1137=I$3,$D1137<0),0)","v":0},0,{"$f":"IF($A1137=K$3,AND($A1137=K$3,$D1137<0),0)","v":0},0,{"$f":"IF($A1137=M$3,AND($A1137=M$3,$D1137<0),0)","v":0},0,{"$f":"IF($A1137=O$3,AND($A1137=O$3,$D1137<0),0)","v":0},0,0,0,0,0,0,0,{"$f":"IF($A1137=W$3,AND($A1137=W$3,$D1137<0),0)","v":0},0,{"$f":"IF($A1137=Y$3,AND($A1137=Y$3,$D1137<0),0)","v":0},0,{"$f":"IF($A1137=AA$3,AND($A1137=AA$3,$D1137<0),0)","v":0},0,{"$f":"IF($A1137=AC$3,AND($A1137=AC$3,$D1137<0),0)","v":0},0,0]
[{"$f":"IF(B1140=0,\"\",MONTH(B1140))","v":""},null,null,null,{"$f":"IF(D1140=\"\",\"\",IF(D1140<0,\"DEBITO\",\"CREDITO\"))","v":""},null,false,false,0,{"$f":"IF($A1140=I$3,AND($A1140=I$3,$D1140<0),0)","v":0},0,{"$f":"IF($A1140=K$3,AND($A1140=K$3,$D1140<0),0)","v":0},0,{"$f":"IF($A1140=M$3,AND($A1140=M$3,$D1140<0),0)","v":0},0,{"$f":"IF($A1140=O$3,AND($A1140=O$3,$D1140<0),0)","v":0},0,0,0,0,0,0,0,{"$f":"IF($A1140=W$3,AND($A1140=W$3,$D1140<0),0)","v":0},0,{"$f":"IF($A1140=Y$3,AND($A1140=Y$3,$D1140<0),0)","v":0},0,{"$f":"IF($A1140=AA$3,AND($A1140=AA$3,$D1140<0),0)","v":0},0,{"$f":"IF($A1140=AC$3,AND($A1140=AC$3,$D1140<0),0)","v":0},0,0]
[{"$f":"IF(B1141=0,\"\",MONTH(B1141))","v":""},null,null,null,{"$f":"IF(D1141=\"\",\"\",IF(D1141<0,\"DEBITO\",\"CREDITO\"))","v":""},null,false,false,0,{"$f":"IF($A1141=I$3,AND($A1141=I$3,$D1141<0),0)","v":0},0,{"$f":"IF($A1141=K$3,AND($A1141=K$3,$D1141<0),0)","v":0},0,{"$f":"IF($A1141=M$3,AND($A1141=M$3,$D1141<0),0)","v":0},0,{"$f":"IF($A1141=O$3,AND($A1141=O$3,$D1141<0),0)","v":0},0,0,0,0,0,0,0,{"$f":"IF($A1141=W$3,AND($A1141=W$3,$D1141<0),0)","v":0},0,{"$f":"IF($A1141=Y$3,AND($A1141=Y$3,$D1141<0),0)","v":0},0,{"$f":"IF($A1141=AA$3,AND($A1141=AA$3,$D1141<0),0)","v":0},0,{"$f":"IF($A1141=AC$3,AND($A1141=AC$3,$D1141<0),0)","v":0},0,0]
[{"$f":"IF(B1144=0,\"\",MONTH(B1144))","v":""},null,null,null,{"$f":"IF(D1144=\"\",\"\",IF(D1144<0,\"DEBITO\",\"CREDITO\"))","v":""},null,false,false,0,{"$f":"IF($A1144=I$3,AND($A1144=I$3,$D1144<0),0)","v":0},0,{"$f":"IF($A1144=K$3,AND($A1144=K$3,$D1144<0),0)","v":0},0,{"$f":"IF($A1144=M$3,AND($A1144=M$3,$D1144<0),0)","v":0},0,{"$f":"IF($A1144=O$3,AND($A1144=O$3,$D1144<0),0)","v":0},0,0,0,0,0,0,0,{"$f":"IF($A1144=W$3,AND($A1144=W$3,$D1144<0),0)","v":0},0,{"$f":"IF($A1144=Y$3,AND($A1144=Y$3,$D1144<0),0)","v":0},0,{"$f":"IF($A1144=AA$3,AND($A1144=AA$3,$D1144<0),0)","v":0},0,{"$f":"IF($A1144=AC$3,AND($A1144=AC$3,$D1144<0),0)","v":0},0,0]
[{"$f":"IF(B1145=0,\"\",MONTH(B1145))","v":""},null,null,null,{"$f":"IF(D1145=\"\",\"\",IF(D1145<0,\"DEBITO\",\"CREDITO\"))","v":""},null,false,false,0,{"$f":"IF($A1145=I$3,AND($A1145=I$3,$D1145<0),0)","v":0},0,{"$f":"IF($A1145=K$3,AND($A1145=K$3,$D1145<0),0)","v":0},0,{"$f":"IF($A1145=M$3,AND($A1145=M$3,$D1145<0),0)","v":0},0,{"$f":"IF($A1145=O$3,AND($A1145=O$3,$D1145<0),0)","v":0},0,0,0,0,0,0,0,{"$f":"IF($A1145=W$3,AND($A1145=W$3,$D1145<0),0)","v":0},0,{"$f":"IF($A1145=Y$3,AND($A1145=Y$3,$D1145<0),0)","v":0},0,{"$f":"IF($A1145=AA$3,AND($A1145=AA$3,$D1145<0),0)","v":0},0,{"$f":"IF($A1145=AC$3,AND($A1145=AC$3,$D1145<0),0)","v":0},0,0]
[{"$f":"IF(B1148=0,\"\",MONTH(B1148))","v":""},null,null,null,{"$f":"IF(D1148=\"\",\"\",IF(D1148<0,\"DEBITO\",\"CREDITO\"))","v":""},null,false,false,0,{"$f":"IF($A1148=I$3,AND($A1148=I$3,$D1148<0),0)","v":0},0,{"$f":"IF($A1148=K$3,AND($A1148=K$3,$D1148<0),0)","v":0},0,{"$f":"IF($A1148=M$3,AND($A1148=M$3,$D1148<0),0)","v":0},0,{"$f":"IF($A1148=O$3,AND($A1148=O$3,$D1148<0),0)","v":0},0,0,0,0,0,0,0,{"$f":"IF($A1148=W$3,AND($A1148=W$3,$D1148<0),0)","v":0},0,{"$f":"IF($A1148=Y$3,AND($A1148=Y$3,$D1148<0),0)","v":0},0,{"$f":"IF($A1148=AA$3,AND($A1148=AA$3,$D1148<0),0)","v":0},0,{"$f":"IF($A1148=AC$3,AND($A1148=AC$3,$D1148<0),0)","v":0},0,0]
[{"$f":"IF(B1149=0,\"\",MONTH(B1149))","v":""},null,null,null,{"$f":"IF(D1149=\"\",\"\",IF(D1149<0,\"DEBITO\",\"CREDITO\"))","v":""},null,false,false,0,{"$f":"IF($A1149=I$3,AND($A1149=I$3,$D1149<0),0)","v":0},0,{"$f":"IF($A1149=K$3,AND($A1149=K$3,$D1149<0),0)","v":0},0,{"$f":"IF($A1149=M$3,AND($A1149=M$3,$D1149<0),0)","v":0},0,{"$f":"IF($A1149=O$3,AND($A1149=O$3,$D1149<0),0)","v":0},0,0,0,0,0,0,0,{"$f":"IF($A1149=W$3,AND($A1149=W$3,$D1149<0),0)","v":0},0,{"$f":"IF($A1149=Y$3,AND($A1149=Y$3,$D1149<0),0)","v":0},0,{"$f":"IF($A1149=AA$3,AND($A1149=AA$3,$D1149<0),0)","v":0},0,{"$f":"IF($A1149=AC$3,AND($A1149=AC$3,$D1149<0),0)","v":0},0,0]
[{"$f":"IF(B1152=0,\"\",MONTH(B1152))","v":""},null,null,null,{"$f":"IF(D1152=\"\",\"\",IF(D1152<0,\"DEBITO\",\"CREDITO\"))","v":""},null,false,false,0,{"$f":"IF($A1152=I$3,AND($A1152=I$3,$D1152<0),0)","v":0},0,{"$f":"IF($A1152=K$3,AND($A1152=K$3,$D1152<0),0)","v":0},0,{"$f":"IF($A1152=M$3,AND($A1152=M$3,$D1152<0),0)","v":0},0,{"$f":"IF($A1152=O$3,AND($A1152=O$3,$D1152<0),0)","v":0},0,0,0,0,0,0,0,{"$f":"IF($A1152=W$3,AND($A1152=W$3,$D1152<0),0)","v":0},0,{"$f":"IF($A1152=Y$3,AND($A1152=Y$3,$D1152<0),0)","v":0},0,{"$f":"IF($A1152=AA$3,AND($A1152=AA$3,$D1152<0),0)","v":0},0,{"$f":"IF($A1152=AC$3,AND($A1152=AC$3,$D1152<0),0)","v":0},0,0]
[{"$f":"IF(B1154=0,\"\",MONTH(B1154))","v":""},null,null,null,{"$f":"IF(D1154=\"\",\"\",IF(D1154<0,\"DEBITO\",\"CREDITO\"))","v":""},null,false,false,0,{"$f":"IF($A1154=I$3,AND($A1154=I$3,$D1154<0),0)","v":0},0,{"$f":"IF($A1154=K$3,AND($A1154=K$3,$D1154<0),0)","v":0},0,{"$f":"IF($A1154=M$3,AND($A1154=M$3,$D1154<0),0)","v":0},0,{"$f":"IF($A1154=O$3,AND($A1154=O$3,$D1154<0),0)","v":0},0,0,0,0,0,0,0,{"$f":"IF($A1154=W$3,AND($A1154=W$3,$D1154<0),0)","v":0},0,{"$f":"IF($A1154=Y$3,AND($A1154=Y$3,$D1154<0),0)","v":0},0,{"$f":"IF($A1154=AA$3,AND($A1154=AA$3,$D1154<0),0)","v":0},0,{"$f":"IF($A1154=AC$3,AND($A1154=AC$3,$D1154<0),0)","v":0},0,0]
[{"$f":"IF(B1157=0,\"\",MONTH(B1157))","v":""},null,null,null,{"$f":"IF(D1157=\"\",\"\",IF(D1157<0,\"DEBITO\",\"CREDITO\"))","v":""},null,false,false,0,{"$f":"IF($A1157=I$3,AND($A1157=I$3,$D1157<0),0)","v":0},0,{"$f":"IF($A1157=K$3,AND($A1157=K$3,$D1157<0),0)","v":0},0,{"$f":"IF($A1157=M$3,AND($A1157=M$3,$D1157<0),0)","v":0},0,{"$f":"IF($A1157=O$3,AND($A1157=O$3,$D1157<0),0)","v":0},0,0,0,0,0,0,0,{"$f":"IF($A1157=W$3,AND($A1157=W$3,$D1157<0),0)","v":0},0,{"$f":"IF($A1157=Y$3,AND($A1157=Y$3,$D1157<0),0)","v":0},0,{"$f":"IF($A1157=AA$3,AND($A1157=AA$3,$D1157<0),0)","v":0},0,{"$f":"IF($A1157=AC$3,AND($A1157=AC$3,$D1157<0),0)","v":0},0,0]
[{"$f":"IF(B1158=0,\"\",MONTH(B1158))","v":""},null,null,null,{"$f":"IF(D1158=\"\",\"\",IF(D1158<0,\"DEBITO\",\"CREDITO\"))","v":""},null,false,false,0,{"$f":"IF($A1158=I$3,AND($A1158=I$3,$D1158<0),0)","v":0},0,{"$f":"IF($A1158=K$3,AND($A1158=K$3,$D1158<0),0)","v":0},0,{"$f":"IF($A1158=M$3,AND($A1158=M$3,$D1158<0),0)","v":0},0,{"$f":"IF($A1158=O$3,AND($A1158=O$3,$D1158<0),0)","v":0},0,0,0,0,0,0,0,{"$f":"IF($A1158=W$3,AND($A1158=W$3,$D1158<0),0)","v":0},0,{"$f":"IF($A1158=Y$3,AND($A1158=Y$3,$D1158<0),0)","v":0},0,{"$f":"IF($A1158=AA$3,AND($A1158=AA$3,$D1158<0),0)","v":0},0,{"$f":"IF($A1158=AC$3,AND($A1158=AC$3,$D1158<0),0)","v":0},0,0]
[{"$f":"IF(B1161=0,\"\",MONTH(B1161))","v":""},null,null,null,{"$f":"IF(D1161=\"\",\"\",IF(D1161<0,\"DEBITO\",\"CREDITO\"))","v":""},null,{"$f":"AND(A1161=$E$3,D1161>0)","v":false},{"$f":"AND(A1161=$E$3,D1161<0)","v":false},0,{"$f":"IF($A1161=I$3,AND($A1161=I$3,$D1161<0),0)","v":0},0,{"$f":"IF($A1161=K$3,AND($A1161=K$3,$D1161<0),0)","v":0},0,{"$f":"IF($A1161=M$3,AND($A1161=M$3,$D1161<0),0)","v":0},0,{"$f":"IF($A1161=O$3,AND($A1161=O$3,$D1161<0),0)","v":0},0,{"$f":"IF($A1161=Q$3,AND($A1161=Q$3,$D1161<0),0)","v":0},0,0,0,0,0,{"$f":"IF($A1161=W$3,AND($A1161=W$3,$D1161<0),0)","v":0},0,{"$f":"IF($A1161=Y$3,AND($A1161=Y$3,$D1161<0),0)","v":0},0,{"$f":"IF($A1161=AA$3,AND($A1161=AA$3,$D1161<0),0)","v":0},0,{"$f":"IF($A1161=AC$3,AND($A1161=AC$3,$D1161<0),0)","v":0},0,{"$f":"IF($A1161=AE$3,AND($A1161=AE$3,$D1161<0),0)","v":0}]
[{"$f":"IF(B1162=0,\"\",MONTH(B1162))","v":""},null,null,null,{"$f":"IF(D1162=\"\",\"\",IF(D1162<0,\"DEBITO\",\"CREDITO\"))","v":""},null,false,false,0,{"$f":"IF($A1162=I$3,AND($A1162=I$3,$D1162<0),0)","v":0},0,{"$f":"IF($A1162=K$3,AND($A1162=K$3,$D1162<0),0)","v":0},0,{"$f":"IF($A1162=M$3,AND($A1162=M$3,$D1162<0),0)","v":0},0,{"$f":"IF($A1162=O$3,AND($A1162=O$3,$D1162<0),0)","v":0},0,0,{"$f":"IF($A1162=S$3,AND($A1162=S$3,$D1162>0),0)","v":0},{"$f":"IF($A1162=S$3,AND($A1162=S$3,$D1162<0),0)","v":0},{"$f":"IF($A1162=U$3,AND($A1162=U$3,$D1162>0),0)","v":0},{"$f":"IF($A1162=U$3,AND($A1162=U$3,$D1162<0),0)","v":0},0,{"$f":"IF($A1162=W$3,AND($A1162=W$3,$D1162<0),0)","v":0},0,{"$f":"IF($A1162=Y$3,AND($A1162=Y$3,$D1162<0),0)","v":0},0,{"$f":"IF($A1162=AA$3,AND($A1162=AA$3,$D1162<0),0)","v":0},0,{"$f":"IF($A1162=AC$3,AND($A1162=AC$3,$D1162<0),0)","v":0},0,0]
[{"$f":"IF(B1165=0,\"\",MONTH(B1165))","v":""},null,null,null,{"$f":"IF(D1165=\"\",\"\",IF(D1165<0,\"DEBITO\",\"CREDITO\"))","v":""},null,false,false,0,{"$f":"IF($A1165=I$3,AND($A1165=I$3,$D1165<0),0)","v":0},0,{"$f":"IF($A1165=K$3,AND($A1165=K$3,$D1165<0),0)","v":0},0,{"$f":"IF($A1165=M$3,AND($A1165=M$3,$D1165<0),0)","v":0},0,{"$f":"IF($A1165=O$3,AND($A1165=O$3,$D1165<0),0)","v":0},0,0,0,0,0,0,0,{"$f":"IF($A1165=W$3,AND($A1165=W$3,$D1165<0),0)","v":0},0,{"$f":"IF($A1165=Y$3,AND($A1165=Y$3,$D1165<0),0)","v":0},0,{"$f":"IF($A1165=AA$3,AND($A1165=AA$3,$D1165<0),0)","v":0},0,{"$f":"IF($A1165=AC$3,AND($A1165=AC$3,$D1165<0),0)","v":0},0,0]
[{"$f":"IF(B1166=0,\"\",MONTH(B1166))","v":""},null,null,null,{"$f":"IF(D1166=\"\",\"\",IF(D1166<0,\"DEBITO\",\"CREDITO\"))","v":""},null,false,false,0,{"$f":"IF($A1166=I$3,AND($A1166=I$3,$D1166<0),0)","v":0},0,{"$f":"IF($A1166=K$3,AND($A1166=K$3,$D1166<0),0)","v":0},0,{"$f":"IF($A1166=M$3,AND($A1166=M$3,$D1166<0),0)","v":0},0,{"$f":"IF($A1166=O$3,AND($A1166=O$3,$D1166<0),0)","v":0},0,0,0,0,0,0,0,{"$f":"IF($A1166=W$3,AND($A1166=W$3,$D1166<0),0)","v":0},0,{"$f":"IF($A1166=Y$3,AND($A1166=Y$3,$D1166<0),0)","v":0},0,{"$f":"IF($A1166=AA$3,AND($A1166=AA$3,$D1166<0),0)","v":0},0,{"$f":"IF($A1166=AC$3,AND($A1166=AC$3,$D1166<0),0)","v":0},0,0]
[{"$f":"IF(B1169=0,\"\",MONTH(B1169))","v":""},null,null,null,{"$f":"IF(D1169=\"\",\"\",IF(D1169<0,\"DEBITO\",\"CREDITO\"))","v":""},null,false,false,0,{"$f":"IF($A1169=I$3,AND($A1169=I$3,$D1169<0),0)","v":0},0,{"$f":"IF($A1169=K$3,AND($A1169=K$3,$D1169<0),0)","v":0},0,{"$f":"IF($A1169=M$3,AND($A1169=M$3,$D1169<0),0)","v":0},0,{"$f":"IF($A1169=O$3,AND($A1169=O$3,$D1169<0),0)","v":0},0,0,0,0,0,0,0,{"$f":"IF($A1169=W$3,AND($A1169=W$3,$D1169<0),0)","v":0},0,{"$f":"IF($A1169=Y$3,AND($A1169=Y$3,$D1169<0),0)","v":0},0,{"$f":"IF($A1169=AA$3,AND($A1169=AA$3,$D1169<0),0)","v":0},0,{"$f":"IF($A1169=AC$3,AND($A1169=AC$3,$D1169<0),0)","v":0},0,0]
[{"$f":"IF(B1170=0,\"\",MONTH(B1170))","v":""},null,null,null,{"$f":"IF(D1170=\"\",\"\",IF(D1170<0,\"DEBITO\",\"CREDITO\"))","v":""},null,false,false,0,{"$f":"IF($A1170=I$3,AND($A1170=I$3,$D1170<0),0)","v":0},0,{"$f":"IF($A1170=K$3,AND($A1170=K$3,$D1170<0),0)","v":0},0,{"$f":"IF($A1170=M$3,AND($A1170=M$3,$D1170<0),0)","v":0},0,{"$f":"IF($A1170=O$3,AND($A1170=O$3,$D1170<0),0)","v":0},0,0,0,0,0,0,0,{"$f":"IF($A1170=W$3,AND($A1170=W$3,$D1170<0),0)","v":0},0,{"$f":"IF($A1170=Y$3,AND($A1170=Y$3,$D1170<0),0)","v":0},0,{"$f":"IF($A1170=AA$3,AND($A1170=AA$3,$D1170<0),0)","v":0},0,{"$f":"IF($A1170=AC$3,AND($A1170=AC$3,$D1170<0),0)","v":0},0,0]
[{"$f":"IF(B1173=0,\"\",MONTH(B1173))","v":""},null,null,null,{"$f":"IF(D1173=\"\",\"\",IF(D1173<0,\"DEBITO\",\"CREDITO\"))","v":""},null,false,false,0,{"$f":"IF($A1173=I$3,AND($A1173=I$3,$D1173<0),0)","v":0},0,{"$f":"IF($A1173=K$3,AND($A1173=K$3,$D1173<0),0)","v":0},0,{"$f":"IF($A1173=M$3,AND($A1173=M$3,$D1173<0),0)","v":0},0,{"$f":"IF($A1173=O$3,AND($A1173=O$3,$D1173<0),0)","v":0},0,0,0,0,0,0,0,{"$f":"IF($A1173=W$3,AND($A1173=W$3,$D1173<0),0)","v":0},0,{"$f":"IF($A1173=Y$3,AND($A1173=Y$3,$D1173<0),0)","v":0},0,{"$f":"IF($A1173=AA$3,AND($A1173=AA$3,$D1173<0),0)","v":0},0,{"$f":"IF($A1173=AC$3,AND($A1173=AC$3,$D1173<0),0)","v":0},0,0]
[{"$f":"IF(B1176=0,\"\",MONTH(B1176))","v":""},null,null,null,{"$f":"IF(D1176=\"\",\"\",IF(D1176<0,\"DEBITO\",\"CREDITO\"))","v":""},null,false,false,0,{"$f":"IF($A1176=I$3,AND($A1176=I$3,$D1176<0),0)","v":0},0,{"$f":"IF($A1176=K$3,AND($A1176=K$3,$D1176<0),0)","v":0},0,{"$f":"IF($A1176=M$3,AND($A1176=M$3,$D1176<0),0)","v":0},0,{"$f":"IF($A1176=O$3,AND($A1176=O$3,$D1176<0),0)","v":0},0,0,0,0,0,0,0,{"$f":"IF($A1176=W$3,AND($A1176=W$3,$D1176<0),0)","v":0},0,{"$f":"IF($A1176=Y$3,AND($A1176=Y$3,$D1176<0),0)","v":0},0,{"$f":"IF($A1176=AA$3,AND($A1176=AA$3,$D1176<0),0)","v":0},0,{"$f":"IF($A1176=AC$3,AND($A1176=AC$3,$D1176<0),0)","v":0},0,0]
[{"$f":"IF(B1178=0,\"\",MONTH(B1178))","v":""},null,null,null,{"$f":"IF(D1178=\"\",\"\",IF(D1178<0,\"DEBITO\",\"CREDITO\"))","v":""},null,false,false,0,{"$f":"IF($A1178=I$3,AND($A1178=I$3,$D1178<0),0)","v":0},0,{"$f":"IF($A1178=K$3,AND($A1178=K$3,$D1178<0),0)","v":0},0,{"$f":"IF($A1178=M$3,AND($A1178=M$3,$D1178<0),0)","v":0},0,{"$f":"IF($A1178=O$3,AND($A1178=O$3,$D1178<0),0)","v":0},0,0,0,0,0,0,0,{"$f":"IF($A1178=W$3,AND($A1178=W$3,$D1178<0),0)","v":0},0,{"$f":"IF($A1178=Y$3,AND($A1178=Y$3,$D1178<0),0)","v":0},0,{"$f":"IF($A1178=AA$3,AND($A1178=AA$3,$D1178<0),0)","v":0},0,{"$f":"IF($A1178=AC$3,AND($A1178=AC$3,$D1178<0),0)","v":0},0,0]
[{"$f":"IF(B1179=0,\"\",MONTH(B1179))","v":""},null,null,null,{"$f":"IF(D1179=\"\",\"\",IF(D1179<0,\"DEBITO\",\"CREDITO\"))","v":""},null,false,false,0,{"$f":"IF($A1179=I$3,AND($A1179=I$3,$D1179<0),0)","v":0},0,{"$f":"IF($A1179=K$3,AND($A1179=K$3,$D1179<0),0)","v":0},0,{"$f":"IF($A1179=M$3,AND($A1179=M$3,$D1179<0),0)","v":0},0,{"$f":"IF($A1179=O$3,AND($A1179=O$3,$D1179<0),0)","v":0},0,0,0,0,0,0,0,{"$f":"IF($A1179=W$3,AND($A1179=W$3,$D1179<0),0)","v":0},0,{"$f":"IF($A1179=Y$3,AND($A1179=Y$3,$D1179<0),0)","v":0},0,{"$f":"IF($A1179=AA$3,AND($A1179=AA$3,$D1179<0),0)","v":0},0,{"$f":"IF($A1179=AC$3,AND($A1179=AC$3,$D1179<0),0)","v":0},0,0]
[{"$f":"IF(B1182=0,\"\",MONTH(B1182))","v":""},null,null,null,{"$f":"IF(D1182=\"\",\"\",IF(D1182<0,\"DEBITO\",\"CREDITO\"))","v":""},null,false,false,0,{"$f":"IF($A1182=I$3,AND($A1182=I$3,$D1182<0),0)","v":0},0,{"$f":"IF($A1182=K$3,AND($A1182=K$3,$D1182<0),0)","v":0},0,{"$f":"IF($A1182=M$3,AND($A1182=M$3,$D1182<0),0)","v":0},0,{"$f":"IF($A1182=O$3,AND($A1182=O$3,$D1182<0),0)","v":0},0,0,0,0,0,0,0,{"$f":"IF($A1182=W$3,AND($A1182=W$3,$D1182<0),0)","v":0},0,{"$f":"IF($A1182=Y$3,AND($A1182=Y$3,$D1182<0),0)","v":0},0,{"$f":"IF($A1182=AA$3,AND($A1182=AA$3,$D1182<0),0)","v":0},0,{"$f":"IF($A1182=AC$3,AND($A1182=AC$3,$D1182<0),0)","v":0},0,0]
[{"$f":"IF(B1183=0,\"\",MONTH(B1183))","v":""},null,null,null,{"$f":"IF(D1183=\"\",\"\",IF(D1183<0,\"DEBITO\",\"CREDITO\"))","v":""},null,false,false,0,{"$f":"IF($A1183=I$3,AND($A1183=I$3,$D1183<0),0)","v":0},0,{"$f":"IF($A1183=K$3,AND($A1183=K$3,$D1183<0),0)","v":0},0,{"$f":"IF($A1183=M$3,AND($A1183=M$3,$D1183<0),0)","v":0},0,{"$f":"IF($A1183=O$3,AND($A1183=O$3,$D1183<0),0)","v":0},0,0,0,0,0,0,0,{"$f":"IF($A1183=W$3,AND($A1183=W$3,$D1183<0),0)","v":0},0,{"$f":"IF($A1183=Y$3,AND($A1183=Y$3,$D1183<0),0)","v":0},0,{"$f":"IF($A1183=AA$3,AND($A1183=AA$3,$D1183<0),0)","v":0},0,{"$f":"IF($A1183=AC$3,AND($A1183=AC$3,$D1183<0),0)","v":0},0,0]
[{"$f":"IF(B1186=0,\"\",MONTH(B1186))","v":""},null,null,null,{"$f":"IF(D1186=\"\",\"\",IF(D1186<0,\"DEBITO\",\"CREDITO\"))","v":""},null,false,false,0,{"$f":"IF($A1186=I$3,AND($A1186=I$3,$D1186<0),0)","v":0},0,{"$f":"IF($A1186=K$3,AND($A1186=K$3,$D1186<0),0)","v":0},0,{"$f":"IF($A1186=M$3,AND($A1186=M$3,$D1186<0),0)","v":0},0,{"$f":"IF($A1186=O$3,AND($A1186=O$3,$D1186<0),0)","v":0},0,0,0,0,0,0,0,{"$f":"IF($A1186=W$3,AND($A1186=W$3,$D1186<0),0)","v":0},0,{"$f":"IF($A1186=Y$3,AND($A1186=Y$3,$D1186<0),0)","v":0},0,{"$f":"IF($A1186=AA$3,AND($A1186=AA$3,$D1186<0),0)","v":0},0,{"$f":"IF($A1186=AC$3,AND($A1186=AC$3,$D1186<0),0)","v":0},0,0]
[{"$f":"IF(B1187=0,\"\",MONTH(B1187))","v":""},null,null,null,{"$f":"IF(D1187=\"\",\"\",IF(D1187<0,\"DEBITO\",\"CREDITO\"))","v":""},null,false,false,0,{"$f":"IF($A1187=I$3,AND($A1187=I$3,$D1187<0),0)","v":0},0,{"$f":"IF($A1187=K$3,AND($A1187=K$3,$D1187<0),0)","v":0},0,{"$f":"IF($A1187=M$3,AND($A1187=M$3,$D1187<0),0)","v":0},0,{"$f":"IF($A1187=O$3,AND($A1187=O$3,$D1187<0),0)","v":0},0,0,0,0,0,0,0,{"$f":"IF($A1187=W$3,AND($A1187=W$3,$D1187<0),0)","v":0},0,{"$f":"IF($A1187=Y$3,AND($A1187=Y$3,$D1187<0),0)","v":0},0,{"$f":"IF($A1187=AA$3,AND($A1187=AA$3,$D1187<0),0)","v":0},0,{"$f":"IF($A1187=AC$3,AND($A1187=AC$3,$D1187<0),0)","v":0},0,0]
[{"$f":"IF(B1190=0,\"\",MONTH(B1190))","v":""},null,null,null,{"$f":"IF(D1190=\"\",\"\",IF(D1190<0,\"DEBITO\",\"CREDITO\"))","v":""},null,false,false,0,{"$f":"IF($A1190=I$3,AND($A1190=I$3,$D1190<0),0)","v":0},0,{"$f":"IF($A1190=K$3,AND($A1190=K$3,$D1190<0),0)","v":0},0,{"$f":"IF($A1190=M$3,AND($A1190=M$3,$D1190<0),0)","v":0},0,{"$f":"IF($A1190=O$3,AND($A1190=O$3,$D1190<0),0)","v":0},0,0,0,0,0,0,0,{"$f":"IF($A1190=W$3,AND($A1190=W$3,$D1190<0),0)","v":0},0,{"$f":"IF($A1190=Y$3,AND($A1190=Y$3,$D1190<0),0)","v":0},0,{"$f":"IF($A1190=AA$3,AND($A1190=AA$3,$D1190<0),0)","v":0},0,{"$f":"IF($A1190=AC$3,AND($A1190=AC$3,$D1190<0),0)","v":0},0,0]
[{"$f":"IF(B1191=0,\"\",MONTH(B1191))","v":""},null,null,null,{"$f":"IF(D1191=\"\",\"\",IF(D1191<0,\"DEBITO\",\"CREDITO\"))","v":""},null,false,false,0,{"$f":"IF($A1191=I$3,AND($A1191=I$3,$D1191<0),0)","v":0},0,{"$f":"IF($A1191=K$3,AND($A1191=K$3,$D1191<0),0)","v":0},0,{"$f":"IF($A1191=M$3,AND($A1191=M$3,$D1191<0),0)","v":0},0,{"$f":"IF($A1191=O$3,AND($A1191=O$3,$D1191<0),0)","v":0},0,0,0,0,0,0,0,{"$f":"IF($A1191=W$3,AND($A1191=W$3,$D1191<0),0)","v":0},0,{"$f":"IF($A1191=Y$3,AND($A1191=Y$3,$D1191<0),0)","v":0},0,{"$f":"IF($A1191=AA$3,AND($A1191=AA$3,$D1191<0),0)","v":0},0,{"$f":"IF($A1191=AC$3,AND($A1191=AC$3,$D1191<0),0)","v":0},0,0]
[{"$f":"IF(B1194=0,\"\",MONTH(B1194))","v":""},null,null,null,{"$f":"IF(D1194=\"\",\"\",IF(D1194<0,\"DEBITO\",\"CREDITO\"))","v":""},null,false,false,0,{"$f":"IF($A1194=I$3,AND($A1194=I$3,$D1194<0),0)","v":0},0,{"$f":"IF($A1194=K$3,AND($A1194=K$3,$D1194<0),0)","v":0},0,{"$f":"IF($A1194=M$3,AND($A1194=M$3,$D1194<0),0)","v":0},0,{"$f":"IF($A1194=O$3,AND($A1194=O$3,$D1194<0),0)","v":0},0,0,0,0,0,0,0,{"$f":"IF($A1194=W$3,AND($A1194=W$3,$D1194<0),0)","v":0},0,{"$f":"IF($A1194=Y$3,AND($A1194=Y$3,$D1194<0),0)","v":0},0,{"$f":"IF($A1194=AA$3,AND($A1194=AA$3,$D1194<0),0)","v":0},0,{"$f":"IF($A1194=AC$3,AND($A1194=AC$3,$D1194<0),0)","v":0},0,0]
[{"$f":"IF(B1195=0,\"\",MONTH(B1195))","v":""},null,null,null,{"$f":"IF(D1195=\"\",\"\",IF(D1195<0,\"DEBITO\",\"CREDITO\"))","v":""},null,false,false,0,{"$f":"IF($A1195=I$3,AND($A1195=I$3,$D1195<0),0)","v":0},0,{"$f":"IF($A1195=K$3,AND($A1195=K$3,$D1195<0),0)","v":0},0,{"$f":"IF($A1195=M$3,AND($A1195=M$3,$D1195<0),0)","v":0},0,{"$f":"IF($A1195=O$3,AND($A1195=O$3,$D1195<0),0)","v":0},0,0,0,0,0,0,0,{"$f":"IF($A1195=W$3,AND($A1195=W$3,$D1195<0),0)","v":0},0,{"$f":"IF($A1195=Y$3,AND($A1195=Y$3,$D1195<0),0)","v":0},0,{"$f":"IF($A1195=AA$3,AND($A1195=AA$3,$D1195<0),0)","v":0},0,{"$f":"IF($A1195=AC$3,AND($A1195=AC$3,$D1195<0),0)","v":0},0,0]
[{"$f":"IF(B1199=0,\"\",MONTH(B1199))","v":""},null,null,null,{"$f":"IF(D1199=\"\",\"\",IF(D1199<0,\"DEBITO\",\"CREDITO\"))","v":""},null,false,false,0,{"$f":"IF($A1199=I$3,AND($A1199=I$3,$D1199<0),0)","v":0},0,{"$f":"IF($A1199=K$3,AND($A1199=K$3,$D1199<0),0)","v":0},0,{"$f":"IF($A1199=M$3,AND($A1199=M$3,$D1199<0),0)","v":0},0,{"$f":"IF($A1199=O$3,AND($A1199=O$3,$D1199<0),0)","v":0},0,0,0,0,0,0,0,{"$f":"IF($A1199=W$3,AND($A1199=W$3,$D1199<0),0)","v":0},0,{"$f":"IF($A1199=Y$3,AND($A1199=Y$3,$D1199<0),0)","v":0},0,{"$f":"IF($A1199=AA$3,AND($A1199=AA$3,$D1199<0),0)","v":0},0,{"$f":"IF($A1199=AC$3,AND($A1199=AC$3,$D1199<0),0)","v":0},0,0]
[{"$f":"IF(B1200=0,\"\",MONTH(B1200))","v":""},null,null,null,{"$f":"IF(D1200=\"\",\"\",IF(D1200<0,\"DEBITO\",\"CREDITO\"))","v":""},null,false,false,0,{"$f":"IF($A1200=I$3,AND($A1200=I$3,$D1200<0),0)","v":0},0,{"$f":"IF($A1200=K$3,AND($A1200=K$3,$D1200<0),0)","v":0},0,{"$f":"IF($A1200=M$3,AND($A1200=M$3,$D1200<0),0)","v":0},0,{"$f":"IF($A1200=O$3,AND($A1200=O$3,$D1200<0),0)","v":0},0,0,0,0,0,0,0,{"$f":"IF($A1200=W$3,AND($A1200=W$3,$D1200<0),0)","v":0},0,{"$f":"IF($A1200=Y$3,AND($A1200=Y$3,$D1200<0),0)","v":0},0,{"$f":"IF($A1200=AA$3,AND($A1200=AA$3,$D1200<0),0)","v":0},0,{"$f":"IF($A1200=AC$3,AND($A1200=AC$3,$D1200<0),0)","v":0},0,0]
[{"$f":"IF(B1203=0,\"\",MONTH(B1203))","v":""},null,null,null,{"$f":"IF(D1203=\"\",\"\",IF(D1203<0,\"DEBITO\",\"CREDITO\"))","v":""},null,false,false,0,{"$f":"IF($A1203=I$3,AND($A1203=I$3,$D1203<0),0)","v":0},0,{"$f":"IF($A1203=K$3,AND($A1203=K$3,$D1203<0),0)","v":0},0,{"$f":"IF($A1203=M$3,AND($A1203=M$3,$D1203<0),0)","v":0},0,{"$f":"IF($A1203=O$3,AND($A1203=O$3,$D1203<0),0)","v":0},0,0,0,0,0,0,0,{"$f":"IF($A1203=W$3,AND($A1203=W$3,$D1203<0),0)","v":0},0,{"$f":"IF($A1203=Y$3,AND($A1203=Y$3,$D1203<0),0)","v":0},0,{"$f":"IF($A1203=AA$3,AND($A1203=AA$3,$D1203<0),0)","v":0},0,{"$f":"IF($A1203=AC$3,AND($A1203=AC$3,$D1203<0),0)","v":0},0,0]
[{"$f":"IF(B1204=0,\"\",MONTH(B1204))","v":""},null,null,null,{"$f":"IF(D1204=\"\",\"\",IF(D1204<0,\"DEBITO\",\"CREDITO\"))","v":""},null,false,false,0,{"$f":"IF($A1204=I$3,AND($A1204=I$3,$D1204<0),0)","v":0},0,{"$f":"IF($A1204=K$3,AND($A1204=K$3,$D1204<0),0)","v":0},0,{"$f":"IF($A1204=M$3,AND($A1204=M$3,$D1204<0),0)","v":0},0,{"$f":"IF($A1204=O$3,AND($A1204=O$3,$D1204<0),0)","v":0},0,0,0,0,0,0,0,{"$f":"IF($A1204=W$3,AND($A1204=W$3,$D1204<0),0)","v":0},0,{"$f":"IF($A1204=Y$3,AND($A1204=Y$3,$D1204<0),0)","v":0},0,{"$f":"IF($A1204=AA$3,AND($A1204=AA$3,$D1204<0),0)","v":0},0,{"$f":"IF($A1204=AC$3,AND($A1204=AC$3,$D1204<0),0)","v":0},0,0]
[{"$f":"IF(B1207=0,\"\",MONTH(B1207))","v":""},null,null,null,{"$f":"IF(D1207=\"\",\"\",IF(D1207<0,\"DEBITO\",\"CREDITO\"))","v":""},null,false,false,0,{"$f":"IF($A1207=I$3,AND($A1207=I$3,$D1207<0),0)","v":0},0,{"$f":"IF($A1207=K$3,AND($A1207=K$3,$D1207<0),0)","v":0},0,{"$f":"IF($A1207=M$3,AND($A1207=M$3,$D1207<0),0)","v":0},0,{"$f":"IF($A1207=O$3,AND($A1207=O$3,$D1207<0),0)","v":0},0,0,0,0,0,0,0,{"$f":"IF($A1207=W$3,AND($A1207=W$3,$D1207<0),0)","v":0},0,{"$f":"IF($A1207=Y$3,AND($A1207=Y$3,$D1207<0),0)","v":0},0,{"$f":"IF($A1207=AA$3,AND($A1207=AA$3,$D1207<0),0)","v":0},0,{"$f":"IF($A1207=AC$3,AND($A1207=AC$3,$D1207<0),0)","v":0},0,0]
[{"$f":"IF(B1208=0,\"\",MONTH(B1208))","v":""},null,null,null,{"$f":"IF(D1208=\"\",\"\",IF(D1208<0,\"DEBITO\",\"CREDITO\"))","v":""},null,false,false,0,{"$f":"IF($A1208=I$3,AND($A1208=I$3,$D1208<0),0)","v":0},0,{"$f":"IF($A1208=K$3,AND($A1208=K$3,$D1208<0),0)","v":0},0,{"$f":"IF($A1208=M$3,AND($A1208=M$3,$D1208<0),0)","v":0},0,{"$f":"IF($A1208=O$3,AND($A1208=O$3,$D1208<0),0)","v":0},0,0,0,0,0,0,0,{"$f":"IF($A1208=W$3,AND($A1208=W$3,$D1208<0),0)","v":0},0,{"$f":"IF($A1208=Y$3,AND($A1208=Y$3,$D1208<0),0)","v":0},0,{"$f":"IF($A1208=AA$3,AND($A1208=AA$3,$D1208<0),0)","v":0},0,{"$f":"IF($A1208=AC$3,AND($A1208=AC$3,$D1208<0),0)","v":0},0,0]
[{"$f":"IF(B1211=0,\"\",MONTH(B1211))","v":""},null,null,null,{"$f":"IF(D1211=\"\",\"\",IF(D1211<0,\"DEBITO\",\"CREDITO\"))","v":""},null,false,false,0,{"$f":"IF($A1211=I$3,AND($A1211=I$3,$D1211<0),0)","v":0},0,{"$f":"IF($A1211=K$3,AND($A1211=K$3,$D1211<0),0)","v":0},0,{"$f":"IF($A1211=M$3,AND($A1211=M$3,$D1211<0),0)","v":0},0,{"$f":"IF($A1211=O$3,AND($A1211=O$3,$D1211<0),0)","v":0},0,0,0,0,0,0,0,{"$f":"IF($A1211=W$3,AND($A1211=W$3,$D1211<0),0)","v":0},0,{"$f":"IF($A1211=Y$3,AND($A1211=Y$3,$D1211<0),0)","v":0},0,{"$f":"IF($A1211=AA$3,AND($A1211=AA$3,$D1211<0),0)","v":0},0,{"$f":"IF($A1211=AC$3,AND($A1211=AC$3,$D1211<0),0)","v":0},0,0]
[{"$f":"IF(B1212=0,\"\",MONTH(B1212))","v":""},null,null,null,{"$f":"IF(D1212=\"\",\"\",IF(D1212<0,\"DEBITO\",\"CREDITO\"))","v":""},null,false,false,0,{"$f":"IF($A1212=I$3,AND($A1212=I$3,$D1212<0),0)","v":0},0,{"$f":"IF($A1212=K$3,AND($A1212=K$3,$D1212<0),0)","v":0},0,{"$f":"IF($A1212=M$3,AND($A1212=M$3,$D1212<0),0)","v":0},0,{"$f":"IF($A1212=O$3,AND($A1212=O$3,$D1212<0),0)","v":0},0,0,0,0,0,0,0,{"$f":"IF($A1212=W$3,AND($A1212=W$3,$D1212<0),0)","v":0},0,{"$f":"IF($A1212=Y$3,AND($A1212=Y$3,$D1212<0),0)","v":0},0,{"$f":"IF($A1212=AA$3,AND($A1212=AA$3,$D1212<0),0)","v":0},0,{"$f":"IF($A1212=AC$3,AND($A1212=AC$3,$D1212<0),0)","v":0},0,0]
[{"$f":"IF(B1215=0,\"\",MONTH(B1215))","v":""},null,null,null,{"$f":"IF(D1215=\"\",\"\",IF(D1215<0,\"DEBITO\",\"CREDITO\"))","v":""},null,false,false,0,{"$f":"IF($A1215=I$3,AND($A1215=I$3,$D1215<0),0)","v":0},0,{"$f":"IF($A1215=K$3,AND($A1215=K$3,$D1215<0),0)","v":0},0,{"$f":"IF($A1215=M$3,AND($A1215=M$3,$D1215<0),0)","v":0},0,{"$f":"IF($A1215=O$3,AND($A1215=O$3,$D1215<0),0)","v":0},0,0,0,0,0,0,0,{"$f":"IF($A1215=W$3,AND($A1215=W$3,$D1215<0),0)","v":0},0,{"$f":"IF($A1215=Y$3,AND($A1215=Y$3,$D1215<0),0)","v":0},0,{"$f":"IF($A1215=AA$3,AND($A1215=AA$3,$D1215<0),0)","v":0},0,{"$f":"IF($A1215=AC$3,AND($A1215=AC$3,$D1215<0),0)","v":0},0,0]
[{"$f":"IF(B1216=0,\"\",MONTH(B1216))","v":""},null,null,null,{"$f":"IF(D1216=\"\",\"\",IF(D1216<0,\"DEBITO\",\"CREDITO\"))","v":""},null,false,false,0,{"$f":"IF($A1216=I$3,AND($A1216=I$3,$D1216<0),0)","v":0},0,{"$f":"IF($A1216=K$3,AND($A1216=K$3,$D1216<0),0)","v":0},0,{"$f":"IF($A1216=M$3,AND($A1216=M$3,$D1216<0),0)","v":0},0,{"$f":"IF($A1216=O$3,AND($A1216=O$3,$D1216<0),0)","v":0},0,0,0,0,0,0,0,{"$f":"IF($A1216=W$3,AND($A1216=W$3,$D1216<0),0)","v":0},0,{"$f":"IF($A1216=Y$3,AND($A1216=Y$3,$D1216<0),0)","v":0},0,{"$f":"IF($A1216=AA$3,AND($A1216=AA$3,$D1216<0),0)","v":0},0,{"$f":"IF($A1216=AC$3,AND($A1216=AC$3,$D1216<0),0)","v":0},0,0]
[{"$f":"IF(B1219=0,\"\",MONTH(B1219))","v":""},null,null,null,{"$f":"IF(D1219=\"\",\"\",IF(D1219<0,\"DEBITO\",\"CREDITO\"))","v":""},null,false,false,0,{"$f":"IF($A1219=I$3,AND($A1219=I$3,$D1219<0),0)","v":0},0,{"$f":"IF($A1219=K$3,AND($A1219=K$3,$D1219<0),0)","v":0},0,{"$f":"IF($A1219=M$3,AND($A1219=M$3,$D1219<0),0)","v":0},0,{"$f":"IF($A1219=O$3,AND($A1219=O$3,$D1219<0),0)","v":0},0,0,0,0,0,0,0,{"$f":"IF($A1219=W$3,AND($A1219=W$3,$D1219<0),0)","v":0},0,{"$f":"IF($A1219=Y$3,AND($A1219=Y$3,$D1219<0),0)","v":0},0,{"$f":"IF($A1219=AA$3,AND($A1219=AA$3,$D1219<0),0)","v":0},0,{"$f":"IF($A1219=AC$3,AND($A1219=AC$3,$D1219<0),0)","v":0},0,0]
[{"$f":"IF(B1221=0,\"\",MONTH(B1221))","v":""},null,null,null,{"$f":"IF(D1221=\"\",\"\",IF(D1221<0,\"DEBITO\",\"CREDITO\"))","v":""},null,false,false,0,{"$f":"IF($A1221=I$3,AND($A1221=I$3,$D1221<0),0)","v":0},0,{"$f":"IF($A1221=K$3,AND($A1221=K$3,$D1221<0),0)","v":0},0,{"$f":"IF($A1221=M$3,AND($A1221=M$3,$D1221<0),0)","v":0},0,{"$f":"IF($A1221=O$3,AND($A1221=O$3,$D1221<0),0)","v":0},0,0,0,0,0,0,0,{"$f":"IF($A1221=W$3,AND($A1221=W$3,$D1221<0),0)","v":0},0,{"$f":"IF($A1221=Y$3,AND($A1221=Y$3,$D1221<0),0)","v":0},0,{"$f":"IF($A1221=AA$3,AND($A1221=AA$3,$D1221<0),0)","v":0},0,{"$f":"IF($A1221=AC$3,AND($A1221=AC$3,$D1221<0),0)","v":0},0,0]
[{"$f":"IF(B1224=0,\"\",MONTH(B1224))","v":""},null,null,null,{"$f":"IF(D1224=\"\",\"\",IF(D1224<0,\"DEBITO\",\"CREDITO\"))","v":""},null,false,false,0,{"$f":"IF($A1224=I$3,AND($A1224=I$3,$D1224<0),0)","v":0},0,{"$f":"IF($A1224=K$3,AND($A1224=K$3,$D1224<0),0)","v":0},0,{"$f":"IF($A1224=M$3,AND($A1224=M$3,$D1224<0),0)","v":0},0,{"$f":"IF($A1224=O$3,AND($A1224=O$3,$D1224<0),0)","v":0},0,0,0,0,0,0,0,{"$f":"IF($A1224=W$3,AND($A1224=W$3,$D1224<0),0)","v":0},0,{"$f":"IF($A1224=Y$3,AND($A1224=Y$3,$D1224<0),0)","v":0},0,{"$f":"IF($A1224=AA$3,AND($A1224=AA$3,$D1224<0),0)","v":0},0,{"$f":"IF($A1224=AC$3,AND($A1224=AC$3,$D1224<0),0)","v":0},0,0]
[{"$f":"IF(B1225=0,\"\",MONTH(B1225))","v":""},null,null,null,{"$f":"IF(D1225=\"\",\"\",IF(D1225<0,\"DEBITO\",\"CREDITO\"))","v":""},null,{"$f":"AND(A1225=$E$3,D1225>0)","v":false},{"$f":"AND(A1225=$E$3,D1225<0)","v":false},0,{"$f":"IF($A1225=I$3,AND($A1225=I$3,$D1225<0),0)","v":0},0,{"$f":"IF($A1225=K$3,AND($A1225=K$3,$D1225<0),0)","v":0},0,{"$f":"IF($A1225=M$3,AND($A1225=M$3,$D1225<0),0)","v":0},0,{"$f":"IF($A1225=O$3,AND($A1225=O$3,$D1225<0),0)","v":0},0,{"$f":"IF($A1225=Q$3,AND($A1225=Q$3,$D1225<0),0)","v":0},0,0,0,0,0,{"$f":"IF($A1225=W$3,AND($A1225=W$3,$D1225<0),0)","v":0},0,{"$f":"IF($A1225=Y$3,AND($A1225=Y$3,$D1225<0),0)","v":0},0,{"$f":"IF($A1225=AA$3,AND($A1225=AA$3,$D1225<0),0)","v":0},0,{"$f":"IF($A1225=AC$3,AND($A1225=AC$3,$D1225<0),0)","v":0},0,{"$f":"IF($A1225=AE$3,AND($A1225=AE$3,$D1225<0),0)","v":0}]
[{"$f":"IF(B1228=0,\"\",MONTH(B1228))","v":""},null,null,null,{"$f":"IF(D1228=\"\",\"\",IF(D1228<0,\"DEBITO\",\"CREDITO\"))","v":""},null,false,false,0,{"$f":"IF($A1228=I$3,AND($A1228=I$3,$D1228<0),0)","v":0},0,{"$f":"IF($A1228=K$3,AND($A1228=K$3,$D1228<0),0)","v":0},0,{"$f":"IF($A1228=M$3,AND($A1228=M$3,$D1228<0),0)","v":0},0,{"$f":"IF($A1228=O$3,AND($A1228=O$3,$D1228<0),0)","v":0},0,0,0,0,0,0,0,{"$f":"IF($A1228=W$3,AND($A1228=W$3,$D1228<0),0)","v":0},0,{"$f":"IF($A1228=Y$3,AND($A1228=Y$3,$D1228<0),0)","v":0},0,{"$f":"IF($A1228=AA$3,AND($A1228=AA$3,$D1228<0),0)","v":0},0,{"$f":"IF($A1228=AC$3,AND($A1228=AC$3,$D1228<0),0)","v":0},0,0]
[{"$f":"IF(B1229=0,\"\",MONTH(B1229))","v":""},null,null,null,{"$f":"IF(D1229=\"\",\"\",IF(D1229<0,\"DEBITO\",\"CREDITO\"))","v":""},null,false,false,0,{"$f":"IF($A1229=I$3,AND($A1229=I$3,$D1229<0),0)","v":0},0,{"$f":"IF($A1229=K$3,AND($A1229=K$3,$D1229<0),0)","v":0},0,{"$f":"IF($A1229=M$3,AND($A1229=M$3,$D1229<0),0)","v":0},0,{"$f":"IF($A1229=O$3,AND($A1229=O$3,$D1229<0),0)","v":0},0,0,0,0,0,0,0,{"$f":"IF($A1229=W$3,AND($A1229=W$3,$D1229<0),0)","v":0},0,{"$f":"IF($A1229=Y$3,AND($A1229=Y$3,$D1229<0),0)","v":0},0,{"$f":"IF($A1229=AA$3,AND($A1229=AA$3,$D1229<0),0)","v":0},0,{"$f":"IF($A1229=AC$3,AND($A1229=AC$3,$D1229<0),0)","v":0},0,0]
[{"$f":"IF(B1232=0,\"\",MONTH(B1232))","v":""},null,null,null,{"$f":"IF(D1232=\"\",\"\",IF(D1232<0,\"DEBITO\",\"CREDITO\"))","v":""},null,false,false,0,{"$f":"IF($A1232=I$3,AND($A1232=I$3,$D1232<0),0)","v":0},0,{"$f":"IF($A1232=K$3,AND($A1232=K$3,$D1232<0),0)","v":0},0,{"$f":"IF($A1232=M$3,AND($A1232=M$3,$D1232<0),0)","v":0},0,{"$f":"IF($A1232=O$3,AND($A1232=O$3,$D1232<0),0)","v":0},0,0,0,0,0,0,0,{"$f":"IF($A1232=W$3,AND($A1232=W$3,$D1232<0),0)","v":0},0,{"$f":"IF($A1232=Y$3,AND($A1232=Y$3,$D1232<0),0)","v":0},0,{"$f":"IF($A1232=AA$3,AND($A1232=AA$3,$D1232<0),0)","v":0},0,{"$f":"IF($A1232=AC$3,AND($A1232=AC$3,$D1232<0),0)","v":0},0,0]
[{"$f":"IF(B1233=0,\"\",MONTH(B1233))","v":""},null,null,null,{"$f":"IF(D1233=\"\",\"\",IF(D1233<0,\"DEBITO\",\"CREDITO\"))","v":""},null,false,false,0,{"$f":"IF($A1233=I$3,AND($A1233=I$3,$D1233<0),0)","v":0},0,{"$f":"IF($A1233=K$3,AND($A1233=K$3,$D1233<0),0)","v":0},0,{"$f":"IF($A1233=M$3,AND($A1233=M$3,$D1233<0),0)","v":0},0,{"$f":"IF($A1233=O$3,AND($A1233=O$3,$D1233<0),0)","v":0},0,0,0,0,0,0,0,{"$f":"IF($A1233=W$3,AND($A1233=W$3,$D1233<0),0)","v":0},0,{"$f":"IF($A1233=Y$3,AND($A1233=Y$3,$D1233<0),0)","v":0},0,{"$f":"IF($A1233=AA$3,AND($A1233=AA$3,$D1233<0),0)","v":0},0,{"$f":"IF($A1233=AC$3,AND($A1233=AC$3,$D1233<0),0)","v":0},0,0]
[{"$f":"IF(B1236=0,\"\",MONTH(B1236))","v":""},null,null,null,{"$f":"IF(D1236=\"\",\"\",IF(D1236<0,\"DEBITO\",\"CREDITO\"))","v":""},null,false,false,0,{"$f":"IF($A1236=I$3,AND($A1236=I$3,$D1236<0),0)","v":0},0,{"$f":"IF($A1236=K$3,AND($A1236=K$3,$D1236<0),0)","v":0},0,{"$f":"IF($A1236=M$3,AND($A1236=M$3,$D1236<0),0)","v":0},0,{"$f":"IF($A1236=O$3,AND($A1236=O$3,$D1236<0),0)","v":0},0,0,0,0,0,0,0,{"$f":"IF($A1236=W$3,AND($A1236=W$3,$D1236<0),0)","v":0},0,{"$f":"IF($A1236=Y$3,AND($A1236=Y$3,$D1236<0),0)","v":0},0,{"$f":"IF($A1236=AA$3,AND($A1236=AA$3,$D1236<0),0)","v":0},0,{"$f":"IF($A1236=AC$3,AND($A1236=AC$3,$D1236<0),0)","v":0},0,0]
[{"$f":"IF(B1237=0,\"\",MONTH(B1237))","v":""},null,null,null,{"$f":"IF(D1237=\"\",\"\",IF(D1237<0,\"DEBITO\",\"CREDITO\"))","v":""},null,false,false,0,{"$f":"IF($A1237=I$3,AND($A1237=I$3,$D1237<0),0)","v":0},0,{"$f":"IF($A1237=K$3,AND($A1237=K$3,$D1237<0),0)","v":0},0,{"$f":"IF($A1237=M$3,AND($A1237=M$3,$D1237<0),0)","v":0},0,{"$f":"IF($A1237=O$3,AND($A1237=O$3,$D1237<0),0)","v":0},0,0,0,0,0,0,0,{"$f":"IF($A1237=W$3,AND($A1237=W$3,$D1237<0),0)","v":0},0,{"$f":"IF($A1237=Y$3,AND($A1237=Y$3,$D1237<0),0)","v":0},0,{"$f":"IF($A1237=AA$3,AND($A1237=AA$3,$D1237<0),0)","v":0},0,{"$f":"IF($A1237=AC$3,AND($A1237=AC$3,$D1237<0),0)","v":0},0,0]
[{"$f":"IF(B1241=0,\"\",MONTH(B1241))","v":""},null,null,null,{"$f":"IF(D1241=\"\",\"\",IF(D1241<0,\"DEBITO\",\"CREDITO\"))","v":""},null,false,false,{"$f":"IF($A1241=I$3,AND($A1241=I$3,$D1241>0),0)","v":0},{"$f":"IF($A1241=I$3,AND($A1241=I$3,$D1241<0),0)","v":0},{"$f":"IF($A1241=K$3,AND($A1241=K$3,$D1241>0),0)","v":0},{"$f":"IF($A1241=K$3,AND($A1241=K$3,$D1241<0),0)","v":0},{"$f":"IF($A1241=M$3,AND($A1241=M$3,$D1241>0),0)","v":0},{"$f":"IF($A1241=M$3,AND($A1241=M$3,$D1241<0),0)","v":0},{"$f":"IF($A1241=O$3,AND($A1241=O$3,$D1241>0),0)","v":0},{"$f":"IF($A1241=O$3,AND($A1241=O$3,$D1241<0),0)","v":0},{"$f":"IF($A1241=Q$3,AND($A1241=Q$3,$D1241>0),0)","v":0},0,0,0,0,0,{"$f":"IF($A1241=W$3,AND($A1241=W$3,$D1241>0),0)","v":0},{"$f":"IF($A1241=W$3,AND($A1241=W$3,$D1241<0),0)","v":0},{"$f":"IF($A1241=Y$3,AND($A1241=Y$3,$D1241>0),0)","v":0},{"$f":"IF($A1241=Y$3,AND($A1241=Y$3,$D1241<0),0)","v":0},{"$f":"IF($A1241=AA$3,AND($A1241=AA$3,$D1241>0),0)","v":0},{"$f":"IF($A1241=AA$3,AND($A1241=AA$3,$D1241<0),0)","v":0},{"$f":"IF($A1241=AC$3,AND($A1241=AC$3,$D1241>0),0)","v":0},{"$f":"IF($A1241=AC$3,AND($A1241=AC$3,$D1241<0),0)","v":0},{"$f":"IF($A1241=AE$3,AND($A1241=AE$3,$D1241>0),0)","v":0},0]
[{"$f":"IF(B1242=0,\"\",MONTH(B1242))","v":""},null,null,null,{"$f":"IF(D1242=\"\",\"\",IF(D1242<0,\"DEBITO\",\"CREDITO\"))","v":""},null,false,false,0,{"$f":"IF($A1242=I$3,AND($A1242=I$3,$D1242<0),0)","v":0},0,{"$f":"IF($A1242=K$3,AND($A1242=K$3,$D1242<0),0)","v":0},0,{"$f":"IF($A1242=M$3,AND($A1242=M$3,$D1242<0),0)","v":0},0,{"$f":"IF($A1242=O$3,AND($A1242=O$3,$D1242<0),0)","v":0},0,0,0,0,0,0,0,{"$f":"IF($A1242=W$3,AND($A1242=W$3,$D1242<0),0)","v":0},0,{"$f":"IF($A1242=Y$3,AND($A1242=Y$3,$D1242<0),0)","v":0},0,{"$f":"IF($A1242=AA$3,AND($A1242=AA$3,$D1242<0),0)","v":0},0,{"$f":"IF($A1242=AC$3,AND($A1242=AC$3,$D1242<0),0)","v":0},0,0]
[{"$f":"IF(B1245=0,\"\",MONTH(B1245))","v":""},null,null,null,{"$f":"IF(D1245=\"\",\"\",IF(D1245<0,\"DEBITO\",\"CREDITO\"))","v":""},null,false,false,0,{"$f":"IF($A1245=I$3,AND($A1245=I$3,$D1245<0),0)","v":0},0,{"$f":"IF($A1245=K$3,AND($A1245=K$3,$D1245<0),0)","v":0},0,{"$f":"IF($A1245=M$3,AND($A1245=M$3,$D1245<0),0)","v":0},0,{"$f":"IF($A1245=O$3,AND($A1245=O$3,$D1245<0),0)","v":0},0,0,0,0,0,0,0,{"$f":"IF($A1245=W$3,AND($A1245=W$3,$D1245<0),0)","v":0},0,{"$f":"IF($A1245=Y$3,AND($A1245=Y$3,$D1245<0),0)","v":0},0,{"$f":"IF($A1245=AA$3,AND($A1245=AA$3,$D1245<0),0)","v":0},0,{"$f":"IF($A1245=AC$3,AND($A1245=AC$3,$D1245<0),0)","v":0},0,0]
[{"$f":"IF(B1246=0,\"\",MONTH(B1246))","v":""},null,null,null,{"$f":"IF(D1246=\"\",\"\",IF(D1246<0,\"DEBITO\",\"CREDITO\"))","v":""},null,false,false,0,{"$f":"IF($A1246=I$3,AND($A1246=I$3,$D1246<0),0)","v":0},0,{"$f":"IF($A1246=K$3,AND($A1246=K$3,$D1246<0),0)","v":0},0,{"$f":"IF($A1246=M$3,AND($A1246=M$3,$D1246<0),0)","v":0},0,{"$f":"IF($A1246=O$3,AND($A1246=O$3,$D1246<0),0)","v":0},0,0,0,0,0,0,0,{"$f":"IF($A1246=W$3,AND($A1246=W$3,$D1246<0),0)","v":0},0,{"$f":"IF($A1246=Y$3,AND($A1246=Y$3,$D1246<0),0)","v":0},0,{"$f":"IF($A1246=AA$3,AND($A1246=AA$3,$D1246<0),0)","v":0},0,{"$f":"IF($A1246=AC$3,AND($A1246=AC$3,$D1246<0),0)","v":0},0,0]
[{"$f":"IF(B1249=0,\"\",MONTH(B1249))","v":""},null,null,null,{"$f":"IF(D1249=\"\",\"\",IF(D1249<0,\"DEBITO\",\"CREDITO\"))","v":""},null,false,false,0,{"$f":"IF($A1249=I$3,AND($A1249=I$3,$D1249<0),0)","v":0},0,{"$f":"IF($A1249=K$3,AND($A1249=K$3,$D1249<0),0)","v":0},0,{"$f":"IF($A1249=M$3,AND($A1249=M$3,$D1249<0),0)","v":0},0,{"$f":"IF($A1249=O$3,AND($A1249=O$3,$D1249<0),0)","v":0},0,0,0,0,0,0,0,{"$f":"IF($A1249=W$3,AND($A1249=W$3,$D1249<0),0)","v":0},0,{"$f":"IF($A1249=Y$3,AND($A1249=Y$3,$D1249<0),0)","v":0},0,{"$f":"IF($A1249=AA$3,AND($A1249=AA$3,$D1249<0),0)","v":0},0,{"$f":"IF($A1249=AC$3,AND($A1249=AC$3,$D1249<0),0)","v":0},0,0]
[{"$f":"IF(B1250=0,\"\",MONTH(B1250))","v":""},null,null,null,{"$f":"IF(D1250=\"\",\"\",IF(D1250<0,\"DEBITO\",\"CREDITO\"))","v":""},null,false,false,0,{"$f":"IF($A1250=I$3,AND($A1250=I$3,$D1250<0),0)","v":0},0,{"$f":"IF($A1250=K$3,AND($A1250=K$3,$D1250<0),0)","v":0},0,{"$f":"IF($A1250=M$3,AND($A1250=M$3,$D1250<0),0)","v":0},0,{"$f":"IF($A1250=O$3,AND($A1250=O$3,$D1250<0),0)","v":0},0,0,0,0,0,0,0,{"$f":"IF($A1250=W$3,AND($A1250=W$3,$D1250<0),0)","v":0},0,{"$f":"IF($A1250=Y$3,AND($A1250=Y$3,$D1250<0),0)","v":0},0,{"$f":"IF($A1250=AA$3,AND($A1250=AA$3,$D1250<0),0)","v":0},0,{"$f":"IF($A1250=AC$3,AND($A1250=AC$3,$D1250<0),0)","v":0},0,0]
[{"$f":"IF(B1253=0,\"\",MONTH(B1253))","v":""},null,null,null,{"$f":"IF(D1253=\"\",\"\",IF(D1253<0,\"DEBITO\",\"CREDITO\"))","v":""},null,false,false,0,{"$f":"IF($A1253=I$3,AND($A1253=I$3,$D1253<0),0)","v":0},0,{"$f":"IF($A1253=K$3,AND($A1253=K$3,$D1253<0),0)","v":0},0,{"$f":"IF($A1253=M$3,AND($A1253=M$3,$D1253<0),0)","v":0},0,{"$f":"IF($A1253=O$3,AND($A1253=O$3,$D1253<0),0)","v":0},0,0,0,0,0,0,0,{"$f":"IF($A1253=W$3,AND($A1253=W$3,$D1253<0),0)","v":0},0,{"$f":"IF($A1253=Y$3,AND($A1253=Y$3,$D1253<0),0)","v":0},0,{"$f":"IF($A1253=AA$3,AND($A1253=AA$3,$D1253<0),0)","v":0},0,{"$f":"IF($A1253=AC$3,AND($A1253=AC$3,$D1253<0),0)","v":0},0,0]
[{"$f":"IF(B1254=0,\"\",MONTH(B1254))","v":""},null,null,null,{"$f":"IF(D1254=\"\",\"\",IF(D1254<0,\"DEBITO\",\"CREDITO\"))","v":""},null,false,false,0,{"$f":"IF($A1254=I$3,AND($A1254=I$3,$D1254<0),0)","v":0},0,{"$f":"IF($A1254=K$3,AND($A1254=K$3,$D1254<0),0)","v":0},0,{"$f":"IF($A1254=M$3,AND($A1254=M$3,$D1254<0),0)","v":0},0,{"$f":"IF($A1254=O$3,AND($A1254=O$3,$D1254<0),0)","v":0},0,0,0,0,0,0,0,{"$f":"IF($A1254=W$3,AND($A1254=W$3,$D1254<0),0)","v":0},0,{"$f":"IF($A1254=Y$3,AND($A1254=Y$3,$D1254<0),0)","v":0},0,{"$f":"IF($A1254=AA$3,AND($A1254=AA$3,$D1254<0),0)","v":0},0,{"$f":"IF($A1254=AC$3,AND($A1254=AC$3,$D1254<0),0)","v":0},0,0]
[{"$f":"IF(B1257=0,\"\",MONTH(B1257))","v":""},null,null,null,{"$f":"IF(D1257=\"\",\"\",IF(D1257<0,\"DEBITO\",\"CREDITO\"))","v":""},null,false,false,0,{"$f":"IF($A1257=I$3,AND($A1257=I$3,$D1257<0),0)","v":0},0,{"$f":"IF($A1257=K$3,AND($A1257=K$3,$D1257<0),0)","v":0},0,{"$f":"IF($A1257=M$3,AND($A1257=M$3,$D1257<0),0)","v":0},0,{"$f":"IF($A1257=O$3,AND($A1257=O$3,$D1257<0),0)","v":0},0,0,0,0,0,0,0,{"$f":"IF($A1257=W$3,AND($A1257=W$3,$D1257<0),0)","v":0},0,{"$f":"IF($A1257=Y$3,AND($A1257=Y$3,$D1257<0),0)","v":0},0,{"$f":"IF($A1257=AA$3,AND($A1257=AA$3,$D1257<0),0)","v":0},0,{"$f":"IF($A1257=AC$3,AND($A1257=AC$3,$D1257<0),0)","v":0},0,0]
[{"$f":"IF(B1258=0,\"\",MONTH(B1258))","v":""},null,null,null,{"$f":"IF(D1258=\"\",\"\",IF(D1258<0,\"DEBITO\",\"CREDITO\"))","v":""},null,false,false,0,{"$f":"IF($A1258=I$3,AND($A1258=I$3,$D1258<0),0)","v":0},0,{"$f":"IF($A1258=K$3,AND($A1258=K$3,$D1258<0),0)","v":0},0,{"$f":"IF($A1258=M$3,AND($A1258=M$3,$D1258<0),0)","v":0},0,{"$f":"IF($A1258=O$3,AND($A1258=O$3,$D1258<0),0)","v":0},0,0,0,0,0,0,0,{"$f":"IF($A1258=W$3,AND($A1258=W$3,$D1258<0),0)","v":0},0,{"$f":"IF($A1258=Y$3,AND($A1258=Y$3,$D1258<0),0)","v":0},0,{"$f":"IF($A1258=AA$3,AND($A1258=AA$3,$D1258<0),0)","v":0},0,{"$f":"IF($A1258=AC$3,AND($A1258=AC$3,$D1258<0),0)","v":0},0,0]
[{"$f":"IF(B1260=0,\"\",MONTH(B1260))","v":""},null,null,null,{"$f":"IF(D1260=\"\",\"\",IF(D1260<0,\"DEBITO\",\"CREDITO\"))","v":""},null,false,false,0,{"$f":"IF($A1260=I$3,AND($A1260=I$3,$D1260<0),0)","v":0},0,{"$f":"IF($A1260=K$3,AND($A1260=K$3,$D1260<0),0)","v":0},0,{"$f":"IF($A1260=M$3,AND($A1260=M$3,$D1260<0),0)","v":0},0,{"$f":"IF($A1260=O$3,AND($A1260=O$3,$D1260<0),0)","v":0},0,0,0,0,0,0,0,{"$f":"IF($A1260=W$3,AND($A1260=W$3,$D1260<0),0)","v":0},0,{"$f":"IF($A1260=Y$3,AND($A1260=Y$3,$D1260<0),0)","v":0},0,{"$f":"IF($A1260=AA$3,AND($A1260=AA$3,$D1260<0),0)","v":0},0,{"$f":"IF($A1260=AC$3,AND($A1260=AC$3,$D1260<0),0)","v":0},0,0]
[{"$f":"IF(B1263=0,\"\",MONTH(B1263))","v":""},null,null,null,{"$f":"IF(D1263=\"\",\"\",IF(D1263<0,\"DEBITO\",\"CREDITO\"))","v":""},null,false,false,0,{"$f":"IF($A1263=I$3,AND($A1263=I$3,$D1263<0),0)","v":0},0,{"$f":"IF($A1263=K$3,AND($A1263=K$3,$D1263<0),0)","v":0},0,{"$f":"IF($A1263=M$3,AND($A1263=M$3,$D1263<0),0)","v":0},0,{"$f":"IF($A1263=O$3,AND($A1263=O$3,$D1263<0),0)","v":0},0,0,0,0,0,0,0,{"$f":"IF($A1263=W$3,AND($A1263=W$3,$D1263<0),0)","v":0},0,{"$f":"IF($A1263=Y$3,AND($A1263=Y$3,$D1263<0),0)","v":0},0,{"$f":"IF($A1263=AA$3,AND($A1263=AA$3,$D1263<0),0)","v":0},0,{"$f":"IF($A1263=AC$3,AND($A1263=AC$3,$D1263<0),0)","v":0},0,0]
[{"$f":"IF(B1266=0,\"\",MONTH(B1266))","v":""},null,null,null,{"$f":"IF(D1266=\"\",\"\",IF(D1266<0,\"DEBITO\",\"CREDITO\"))","v":""},null,false,false,0,{"$f":"IF($A1266=I$3,AND($A1266=I$3,$D1266<0),0)","v":0},0,{"$f":"IF($A1266=K$3,AND($A1266=K$3,$D1266<0),0)","v":0},0,{"$f":"IF($A1266=M$3,AND($A1266=M$3,$D1266<0),0)","v":0},0,{"$f":"IF($A1266=O$3,AND($A1266=O$3,$D1266<0),0)","v":0},0,0,0,0,0,0,0,{"$f":"IF($A1266=W$3,AND($A1266=W$3,$D1266<0),0)","v":0},0,{"$f":"IF($A1266=Y$3,AND($A1266=Y$3,$D1266<0),0)","v":0},0,{"$f":"IF($A1266=AA$3,AND($A1266=AA$3,$D1266<0),0)","v":0},0,{"$f":"IF($A1266=AC$3,AND($A1266=AC$3,$D1266<0),0)","v":0},0,0]
[{"$f":"IF(B1267=0,\"\",MONTH(B1267))","v":""},null,null,null,{"$f":"IF(D1267=\"\",\"\",IF(D1267<0,\"DEBITO\",\"CREDITO\"))","v":""},null,false,false,0,{"$f":"IF($A1267=I$3,AND($A1267=I$3,$D1267<0),0)","v":0},0,{"$f":"IF($A1267=K$3,AND($A1267=K$3,$D1267<0),0)","v":0},0,{"$f":"IF($A1267=M$3,AND($A1267=M$3,$D1267<0),0)","v":0},0,{"$f":"IF($A1267=O$3,AND($A1267=O$3,$D1267<0),0)","v":0},0,0,0,0,0,0,0,{"$f":"IF($A1267=W$3,AND($A1267=W$3,$D1267<0),0)","v":0},0,{"$f":"IF($A1267=Y$3,AND($A1267=Y$3,$D1267<0),0)","v":0},0,{"$f":"IF($A1267=AA$3,AND($A1267=AA$3,$D1267<0),0)","v":0},0,{"$f":"IF($A1267=AC$3,AND($A1267=AC$3,$D1267<0),0)","v":0},0,0]
[{"$f":"IF(B1270=0,\"\",MONTH(B1270))","v":""},null,null,null,{"$f":"IF(D1270=\"\",\"\",IF(D1270<0,\"DEBITO\",\"CREDITO\"))","v":""},null,false,false,0,{"$f":"IF($A1270=I$3,AND($A1270=I$3,$D1270<0),0)","v":0},0,{"$f":"IF($A1270=K$3,AND($A1270=K$3,$D1270<0),0)","v":0},0,{"$f":"IF($A1270=M$3,AND($A1270=M$3,$D1270<0),0)","v":0},0,{"$f":"IF($A1270=O$3,AND($A1270=O$3,$D1270<0),0)","v":0},0,0,0,0,0,0,0,{"$f":"IF($A1270=W$3,AND($A1270=W$3,$D1270<0),0)","v":0},0,{"$f":"IF($A1270=Y$3,AND($A1270=Y$3,$D1270<0),0)","v":0},0,{"$f":"IF($A1270=AA$3,AND($A1270=AA$3,$D1270<0),0)","v":0},0,{"$f":"IF($A1270=AC$3,AND($A1270=AC$3,$D1270<0),0)","v":0},0,0]
[{"$f":"IF(B1271=0,\"\",MONTH(B1271))","v":""},null,null,null,{"$f":"IF(D1271=\"\",\"\",IF(D1271<0,\"DEBITO\",\"CREDITO\"))","v":""},null,false,false,0,{"$f":"IF($A1271=I$3,AND($A1271=I$3,$D1271<0),0)","v":0},0,{"$f":"IF($A1271=K$3,AND($A1271=K$3,$D1271<0),0)","v":0},0,{"$f":"IF($A1271=M$3,AND($A1271=M$3,$D1271<0),0)","v":0},0,{"$f":"IF($A1271=O$3,AND($A1271=O$3,$D1271<0),0)","v":0},0,0,0,0,0,0,0,{"$f":"IF($A1271=W$3,AND($A1271=W$3,$D1271<0),0)","v":0},0,{"$f":"IF($A1271=Y$3,AND($A1271=Y$3,$D1271<0),0)","v":0},0,{"$f":"IF($A1271=AA$3,AND($A1271=AA$3,$D1271<0),0)","v":0},0,{"$f":"IF($A1271=AC$3,AND($A1271=AC$3,$D1271<0),0)","v":0},0,0]
[{"$f":"IF(B1274=0,\"\",MONTH(B1274))","v":""},null,null,null,{"$f":"IF(D1274=\"\",\"\",IF(D1274<0,\"DEBITO\",\"CREDITO\"))","v":""},null,false,false,0,{"$f":"IF($A1274=I$3,AND($A1274=I$3,$D1274<0),0)","v":0},0,{"$f":"IF($A1274=K$3,AND($A1274=K$3,$D1274<0),0)","v":0},0,{"$f":"IF($A1274=M$3,AND($A1274=M$3,$D1274<0),0)","v":0},0,{"$f":"IF($A1274=O$3,AND($A1274=O$3,$D1274<0),0)","v":0},0,0,0,0,0,0,0,{"$f":"IF($A1274=W$3,AND($A1274=W$3,$D1274<0),0)","v":0},0,{"$f":"IF($A1274=Y$3,AND($A1274=Y$3,$D1274<0),0)","v":0},0,{"$f":"IF($A1274=AA$3,AND($A1274=AA$3,$D1274<0),0)","v":0},0,{"$f":"IF($A1274=AC$3,AND($A1274=AC$3,$D1274<0),0)","v":0},0,0]
[{"$f":"IF(B1275=0,\"\",MONTH(B1275))","v":""},null,null,null,{"$f":"IF(D1275=\"\",\"\",IF(D1275<0,\"DEBITO\",\"CREDITO\"))","v":""},null,false,false,0,{"$f":"IF($A1275=I$3,AND($A1275=I$3,$D1275<0),0)","v":0},0,{"$f":"IF($A1275=K$3,AND($A1275=K$3,$D1275<0),0)","v":0},0,{"$f":"IF($A1275=M$3,AND($A1275=M$3,$D1275<0),0)","v":0},0,{"$f":"IF($A1275=O$3,AND($A1275=O$3,$D1275<0),0)","v":0},0,0,0,0,0,0,0,{"$f":"IF($A1275=W$3,AND($A1275=W$3,$D1275<0),0)","v":0},0,{"$f":"IF($A1275=Y$3,AND($A1275=Y$3,$D1275<0),0)","v":0},0,{"$f":"IF($A1275=AA$3,AND($A1275=AA$3,$D1275<0),0)","v":0},0,{"$f":"IF($A1275=AC$3,AND($A1275=AC$3,$D1275<0),0)","v":0},0,0]
[{"$f":"IF(B1278=0,\"\",MONTH(B1278))","v":""},null,null,null,{"$f":"IF(D1278=\"\",\"\",IF(D1278<0,\"DEBITO\",\"CREDITO\"))","v":""},null,false,false,0,{"$f":"IF($A1278=I$3,AND($A1278=I$3,$D1278<0),0)","v":0},0,{"$f":"IF($A1278=K$3,AND($A1278=K$3,$D1278<0),0)","v":0},0,{"$f":"IF($A1278=M$3,AND($A1278=M$3,$D1278<0),0)","v":0},0,{"$f":"IF($A1278=O$3,AND($A1278=O$3,$D1278<0),0)","v":0},0,0,0,0,0,0,0,{"$f":"IF($A1278=W$3,AND($A1278=W$3,$D1278<0),0)","v":0},0,{"$f":"IF($A1278=Y$3,AND($A1278=Y$3,$D1278<0),0)","v":0},0,{"$f":"IF($A1278=AA$3,AND($A1278=AA$3,$D1278<0),0)","v":0},0,{"$f":"IF($A1278=AC$3,AND($A1278=AC$3,$D1278<0),0)","v":0},0,0]
[{"$f":"IF(B1279=0,\"\",MONTH(B1279))","v":""},null,null,null,{"$f":"IF(D1279=\"\",\"\",IF(D1279<0,\"DEBITO\",\"CREDITO\"))","v":""},null,false,false,0,{"$f":"IF($A1279=I$3,AND($A1279=I$3,$D1279<0),0)","v":0},0,{"$f":"IF($A1279=K$3,AND($A1279=K$3,$D1279<0),0)","v":0},0,{"$f":"IF($A1279=M$3,AND($A1279=M$3,$D1279<0),0)","v":0},0,{"$f":"IF($A1279=O$3,AND($A1279=O$3,$D1279<0),0)","v":0},0,0,0,0,0,0,0,{"$f":"IF($A1279=W$3,AND($A1279=W$3,$D1279<0),0)","v":0},0,{"$f":"IF($A1279=Y$3,AND($A1279=Y$3,$D1279<0),0)","v":0},0,{"$f":"IF($A1279=AA$3,AND($A1279=AA$3,$D1279<0),0)","v":0},0,{"$f":"IF($A1279=AC$3,AND($A1279=AC$3,$D1279<0),0)","v":0},0,0]
[{"$f":"IF(B1282=0,\"\",MONTH(B1282))","v":""},null,null,null,{"$f":"IF(D1282=\"\",\"\",IF(D1282<0,\"DEBITO\",\"CREDITO\"))","v":""},null,false,false,0,{"$f":"IF($A1282=I$3,AND($A1282=I$3,$D1282<0),0)","v":0},0,{"$f":"IF($A1282=K$3,AND($A1282=K$3,$D1282<0),0)","v":0},0,{"$f":"IF($A1282=M$3,AND($A1282=M$3,$D1282<0),0)","v":0},0,{"$f":"IF($A1282=O$3,AND($A1282=O$3,$D1282<0),0)","v":0},0,0,0,0,0,0,0,{"$f":"IF($A1282=W$3,AND($A1282=W$3,$D1282<0),0)","v":0},0,{"$f":"IF($A1282=Y$3,AND($A1282=Y$3,$D1282<0),0)","v":0},0,{"$f":"IF($A1282=AA$3,AND($A1282=AA$3,$D1282<0),0)","v":0},0,{"$f":"IF($A1282=AC$3,AND($A1282=AC$3,$D1282<0),0)","v":0},0,0]
[{"$f":"IF(B1284=0,\"\",MONTH(B1284))","v":""},null,null,null,{"$f":"IF(D1284=\"\",\"\",IF(D1284<0,\"DEBITO\",\"CREDITO\"))","v":""},null,false,false,0,{"$f":"IF($A1284=I$3,AND($A1284=I$3,$D1284<0),0)","v":0},0,{"$f":"IF($A1284=K$3,AND($A1284=K$3,$D1284<0),0)","v":0},0,{"$f":"IF($A1284=M$3,AND($A1284=M$3,$D1284<0),0)","v":0},0,{"$f":"IF($A1284=O$3,AND($A1284=O$3,$D1284<0),0)","v":0},0,0,0,0,0,0,0,{"$f":"IF($A1284=W$3,AND($A1284=W$3,$D1284<0),0)","v":0},0,{"$f":"IF($A1284=Y$3,AND($A1284=Y$3,$D1284<0),0)","v":0},0,{"$f":"IF($A1284=AA$3,AND($A1284=AA$3,$D1284<0),0)","v":0},0,{"$f":"IF($A1284=AC$3,AND($A1284=AC$3,$D1284<0),0)","v":0},0,0]
[{"$f":"IF(B1287=0,\"\",MONTH(B1287))","v":""},null,null,null,{"$f":"IF(D1287=\"\",\"\",IF(D1287<0,\"DEBITO\",\"CREDITO\"))","v":""},null,false,false,0,{"$f":"IF($A1287=I$3,AND($A1287=I$3,$D1287<0),0)","v":0},0,{"$f":"IF($A1287=K$3,AND($A1287=K$3,$D1287<0),0)","v":0},0,{"$f":"IF($A1287=M$3,AND($A1287=M$3,$D1287<0),0)","v":0},0,{"$f":"IF($A1287=O$3,AND($A1287=O$3,$D1287<0),0)","v":0},0,0,0,0,0,0,0,{"$f":"IF($A1287=W$3,AND($A1287=W$3,$D1287<0),0)","v":0},0,{"$f":"IF($A1287=Y$3,AND($A1287=Y$3,$D1287<0),0)","v":0},0,{"$f":"IF($A1287=AA$3,AND($A1287=AA$3,$D1287<0),0)","v":0},0,{"$f":"IF($A1287=AC$3,AND($A1287=AC$3,$D1287<0),0)","v":0},0,0]
[{"$f":"IF(B1288=0,\"\",MONTH(B1288))","v":""},null,null,null,{"$f":"IF(D1288=\"\",\"\",IF(D1288<0,\"DEBITO\",\"CREDITO\"))","v":""},null,false,false,0,{"$f":"IF($A1288=I$3,AND($A1288=I$3,$D1288<0),0)","v":0},0,{"$f":"IF($A1288=K$3,AND($A1288=K$3,$D1288<0),0)","v":0},0,{"$f":"IF($A1288=M$3,AND($A1288=M$3,$D1288<0),0)","v":0},0,{"$f":"IF($A1288=O$3,AND($A1288=O$3,$D1288<0),0)","v":0},0,0,0,0,0,0,0,{"$f":"IF($A1288=W$3,AND($A1288=W$3,$D1288<0),0)","v":0},0,{"$f":"IF($A1288=Y$3,AND($A1288=Y$3,$D1288<0),0)","v":0},0,{"$f":"IF($A1288=AA$3,AND($A1288=AA$3,$D1288<0),0)","v":0},0,{"$f":"IF($A1288=AC$3,AND($A1288=AC$3,$D1288<0),0)","v":0},0,0]
[{"$f":"IF(B1291=0,\"\",MONTH(B1291))","v":""},null,null,null,{"$f":"IF(D1291=\"\",\"\",IF(D1291<0,\"DEBITO\",\"CREDITO\"))","v":""},null,false,false,0,{"$f":"IF($A1291=I$3,AND($A1291=I$3,$D1291<0),0)","v":0},0,{"$f":"IF($A1291=K$3,AND($A1291=K$3,$D1291<0),0)","v":0},0,{"$f":"IF($A1291=M$3,AND($A1291=M$3,$D1291<0),0)","v":0},0,{"$f":"IF($A1291=O$3,AND($A1291=O$3,$D1291<0),0)","v":0},0,0,0,0,0,0,0,{"$f":"IF($A1291=W$3,AND($A1291=W$3,$D1291<0),0)","v":0},0,{"$f":"IF($A1291=Y$3,AND($A1291=Y$3,$D1291<0),0)","v":0},0,{"$f":"IF($A1291=AA$3,AND($A1291=AA$3,$D1291<0),0)","v":0},0,{"$f":"IF($A1291=AC$3,AND($A1291=AC$3,$D1291<0),0)","v":0},0,0]
[{"$f":"IF(B1292=0,\"\",MONTH(B1292))","v":""},null,null,null,{"$f":"IF(D1292=\"\",\"\",IF(D1292<0,\"DEBITO\",\"CREDITO\"))","v":""},null,false,false,0,{"$f":"IF($A1292=I$3,AND($A1292=I$3,$D1292<0),0)","v":0},0,{"$f":"IF($A1292=K$3,AND($A1292=K$3,$D1292<0),0)","v":0},0,{"$f":"IF($A1292=M$3,AND($A1292=M$3,$D1292<0),0)","v":0},0,{"$f":"IF($A1292=O$3,AND($A1292=O$3,$D1292<0),0)","v":0},0,0,0,0,0,0,0,{"$f":"IF($A1292=W$3,AND($A1292=W$3,$D1292<0),0)","v":0},0,{"$f":"IF($A1292=Y$3,AND($A1292=Y$3,$D1292<0),0)","v":0},0,{"$f":"IF($A1292=AA$3,AND($A1292=AA$3,$D1292<0),0)","v":0},0,{"$f":"IF($A1292=AC$3,AND($A1292=AC$3,$D1292<0),0)","v":0},0,0]
[{"$f":"IF(B1295=0,\"\",MONTH(B1295))","v":""},null,null,null,{"$f":"IF(D1295=\"\",\"\",IF(D1295<0,\"DEBITO\",\"CREDITO\"))","v":""},null,false,false,0,{"$f":"IF($A1295=I$3,AND($A1295=I$3,$D1295<0),0)","v":0},0,{"$f":"IF($A1295=K$3,AND($A1295=K$3,$D1295<0),0)","v":0},0,{"$f":"IF($A1295=M$3,AND($A1295=M$3,$D1295<0),0)","v":0},0,{"$f":"IF($A1295=O$3,AND($A1295=O$3,$D1295<0),0)","v":0},0,0,0,0,0,0,0,{"$f":"IF($A1295=W$3,AND($A1295=W$3,$D1295<0),0)","v":0},0,{"$f":"IF($A1295=Y$3,AND($A1295=Y$3,$D1295<0),0)","v":0},0,{"$f":"IF($A1295=AA$3,AND($A1295=AA$3,$D1295<0),0)","v":0},0,{"$f":"IF($A1295=AC$3,AND($A1295=AC$3,$D1295<0),0)","v":0},0,0]
[{"$f":"IF(B1296=0,\"\",MONTH(B1296))","v":""},null,null,null,{"$f":"IF(D1296=\"\",\"\",IF(D1296<0,\"DEBITO\",\"CREDITO\"))","v":""},null,false,false,0,{"$f":"IF($A1296=I$3,AND($A1296=I$3,$D1296<0),0)","v":0},0,{"$f":"IF($A1296=K$3,AND($A1296=K$3,$D1296<0),0)","v":0},0,{"$f":"IF($A1296=M$3,AND($A1296=M$3,$D1296<0),0)","v":0},0,{"$f":"IF($A1296=O$3,AND($A1296=O$3,$D1296<0),0)","v":0},0,0,0,0,0,0,0,{"$f":"IF($A1296=W$3,AND($A1296=W$3,$D1296<0),0)","v":0},0,{"$f":"IF($A1296=Y$3,AND($A1296=Y$3,$D1296<0),0)","v":0},0,{"$f":"IF($A1296=AA$3,AND($A1296=AA$3,$D1296<0),0)","v":0},0,{"$f":"IF($A1296=AC$3,AND($A1296=AC$3,$D1296<0),0)","v":0},0,0]
[{"$f":"IF(B1299=0,\"\",MONTH(B1299))","v":""},null,null,null,{"$f":"IF(D1299=\"\",\"\",IF(D1299<0,\"DEBITO\",\"CREDITO\"))","v":""},null,false,false,0,{"$f":"IF($A1299=I$3,AND($A1299=I$3,$D1299<0),0)","v":0},0,{"$f":"IF($A1299=K$3,AND($A1299=K$3,$D1299<0),0)","v":0},0,{"$f":"IF($A1299=M$3,AND($A1299=M$3,$D1299<0),0)","v":0},0,{"$f":"IF($A1299=O$3,AND($A1299=O$3,$D1299<0),0)","v":0},0,0,0,0,0,0,0,{"$f":"IF($A1299=W$3,AND($A1299=W$3,$D1299<0),0)","v":0},0,{"$f":"IF($A1299=Y$3,AND($A1299=Y$3,$D1299<0),0)","v":0},0,{"$f":"IF($A1299=AA$3,AND($A1299=AA$3,$D1299<0),0)","v":0},0,{"$f":"IF($A1299=AC$3,AND($A1299=AC$3,$D1299<0),0)","v":0},0,0]
[{"$f":"IF(B1300=0,\"\",MONTH(B1300))","v":""},null,null,null,{"$f":"IF(D1300=\"\",\"\",IF(D1300<0,\"DEBITO\",\"CREDITO\"))","v":""},null,false,false,0,{"$f":"IF($A1300=I$3,AND($A1300=I$3,$D1300<0),0)","v":0},0,{"$f":"IF($A1300=K$3,AND($A1300=K$3,$D1300<0),0)","v":0},0,{"$f":"IF($A1300=M$3,AND($A1300=M$3,$D1300<0),0)","v":0},0,{"$f":"IF($A1300=O$3,AND($A1300=O$3,$D1300<0),0)","v":0},0,0,0,0,0,0,0,{"$f":"IF($A1300=W$3,AND($A1300=W$3,$D1300<0),0)","v":0},0,{"$f":"IF($A1300=Y$3,AND($A1300=Y$3,$D1300<0),0)","v":0},0,{"$f":"IF($A1300=AA$3,AND($A1300=AA$3,$D1300<0),0)","v":0},0,{"$f":"IF($A1300=AC$3,AND($A1300=AC$3,$D1300<0),0)","v":0},0,0]
[{"$f":"IF(B1303=0,\"\",MONTH(B1303))","v":""},null,null,null,{"$f":"IF(D1303=\"\",\"\",IF(D1303<0,\"DEBITO\",\"CREDITO\"))","v":""},null,false,false,0,{"$f":"IF($A1303=I$3,AND($A1303=I$3,$D1303<0),0)","v":0},0,{"$f":"IF($A1303=K$3,AND($A1303=K$3,$D1303<0),0)","v":0},0,{"$f":"IF($A1303=M$3,AND($A1303=M$3,$D1303<0),0)","v":0},0,{"$f":"IF($A1303=O$3,AND($A1303=O$3,$D1303<0),0)","v":0},0,0,0,0,0,0,0,{"$f":"IF($A1303=W$3,AND($A1303=W$3,$D1303<0),0)","v":0},0,{"$f":"IF($A1303=Y$3,AND($A1303=Y$3,$D1303<0),0)","v":0},0,{"$f":"IF($A1303=AA$3,AND($A1303=AA$3,$D1303<0),0)","v":0},0,{"$f":"IF($A1303=AC$3,AND($A1303=AC$3,$D1303<0),0)","v":0},0,0]
[{"$f":"IF(B1306=0,\"\",MONTH(B1306))","v":""},null,null,null,{"$f":"IF(D1306=\"\",\"\",IF(D1306<0,\"DEBITO\",\"CREDITO\"))","v":""},null,false,false,0,{"$f":"IF($A1306=I$3,AND($A1306=I$3,$D1306<0),0)","v":0},0,{"$f":"IF($A1306=K$3,AND($A1306=K$3,$D1306<0),0)","v":0},0,{"$f":"IF($A1306=M$3,AND($A1306=M$3,$D1306<0),0)","v":0},0,{"$f":"IF($A1306=O$3,AND($A1306=O$3,$D1306<0),0)","v":0},0,0,0,0,0,0,0,{"$f":"IF($A1306=W$3,AND($A1306=W$3,$D1306<0),0)","v":0},0,{"$f":"IF($A1306=Y$3,AND($A1306=Y$3,$D1306<0),0)","v":0},0,{"$f":"IF($A1306=AA$3,AND($A1306=AA$3,$D1306<0),0)","v":0},0,{"$f":"IF($A1306=AC$3,AND($A1306=AC$3,$D1306<0),0)","v":0},0,0]
[{"$f":"IF(B1308=0,\"\",MONTH(B1308))","v":""},null,null,null,{"$f":"IF(D1308=\"\",\"\",IF(D1308<0,\"DEBITO\",\"CREDITO\"))","v":""},null,false,false,0,{"$f":"IF($A1308=I$3,AND($A1308=I$3,$D1308<0),0)","v":0},0,{"$f":"IF($A1308=K$3,AND($A1308=K$3,$D1308<0),0)","v":0},0,{"$f":"IF($A1308=M$3,AND($A1308=M$3,$D1308<0),0)","v":0},0,{"$f":"IF($A1308=O$3,AND($A1308=O$3,$D1308<0),0)","v":0},0,0,0,0,0,0,0,{"$f":"IF($A1308=W$3,AND($A1308=W$3,$D1308<0),0)","v":0},0,{"$f":"IF($A1308=Y$3,AND($A1308=Y$3,$D1308<0),0)","v":0},0,{"$f":"IF($A1308=AA$3,AND($A1308=AA$3,$D1308<0),0)","v":0},0,{"$f":"IF($A1308=AC$3,AND($A1308=AC$3,$D1308<0),0)","v":0},0,0]
[{"$f":"IF(B1309=0,\"\",MONTH(B1309))","v":""},null,null,null,{"$f":"IF(D1309=\"\",\"\",IF(D1309<0,\"DEBITO\",\"CREDITO\"))","v":""},null,false,false,0,{"$f":"IF($A1309=I$3,AND($A1309=I$3,$D1309<0),0)","v":0},0,{"$f":"IF($A1309=K$3,AND($A1309=K$3,$D1309<0),0)","v":0},0,{"$f":"IF($A1309=M$3,AND($A1309=M$3,$D1309<0),0)","v":0},0,{"$f":"IF($A1309=O$3,AND($A1309=O$3,$D1309<0),0)","v":0},0,0,0,0,0,0,0,{"$f":"IF($A1309=W$3,AND($A1309=W$3,$D1309<0),0)","v":0},0,{"$f":"IF($A1309=Y$3,AND($A1309=Y$3,$D1309<0),0)","v":0},0,{"$f":"IF($A1309=AA$3,AND($A1309=AA$3,$D1309<0),0)","v":0},0,{"$f":"IF($A1309=AC$3,AND($A1309=AC$3,$D1309<0),0)","v":0},0,0]
[{"$f":"IF(B1312=0,\"\",MONTH(B1312))","v":""},null,null,null,{"$f":"IF(D1312=\"\",\"\",IF(D1312<0,\"DEBITO\",\"CREDITO\"))","v":""},null,false,false,0,{"$f":"IF($A1312=I$3,AND($A1312=I$3,$D1312<0),0)","v":0},0,{"$f":"IF($A1312=K$3,AND($A1312=K$3,$D1312<0),0)","v":0},0,{"$f":"IF($A1312=M$3,AND($A1312=M$3,$D1312<0),0)","v":0},0,{"$f":"IF($A1312=O$3,AND($A1312=O$3,$D1312<0),0)","v":0},0,0,0,0,0,0,0,{"$f":"IF($A1312=W$3,AND($A1312=W$3,$D1312<0),0)","v":0},0,{"$f":"IF($A1312=Y$3,AND($A1312=Y$3,$D1312<0),0)","v":0},0,{"$f":"IF($A1312=AA$3,AND($A1312=AA$3,$D1312<0),0)","v":0},0,{"$f":"IF($A1312=AC$3,AND($A1312=AC$3,$D1312<0),0)","v":0},0,0]
[{"$f":"IF(B1313=0,\"\",MONTH(B1313))","v":""},null,null,null,{"$f":"IF(D1313=\"\",\"\",IF(D1313<0,\"DEBITO\",\"CREDITO\"))","v":""},null,false,false,0,{"$f":"IF($A1313=I$3,AND($A1313=I$3,$D1313<0),0)","v":0},0,{"$f":"IF($A1313=K$3,AND($A1313=K$3,$D1313<0),0)","v":0},0,{"$f":"IF($A1313=M$3,AND($A1313=M$3,$D1313<0),0)","v":0},0,{"$f":"IF($A1313=O$3,AND($A1313=O$3,$D1313<0),0)","v":0},0,0,0,0,0,0,0,{"$f":"IF($A1313=W$3,AND($A1313=W$3,$D1313<0),0)","v":0},0,{"$f":"IF($A1313=Y$3,AND($A1313=Y$3,$D1313<0),0)","v":0},0,{"$f":"IF($A1313=AA$3,AND($A1313=AA$3,$D1313<0),0)","v":0},0,{"$f":"IF($A1313=AC$3,AND($A1313=AC$3,$D1313<0),0)","v":0},0,0]
[{"$f":"IF(B1316=0,\"\",MONTH(B1316))","v":""},null,null,null,{"$f":"IF(D1316=\"\",\"\",IF(D1316<0,\"DEBITO\",\"CREDITO\"))","v":""},null,false,false,0,{"$f":"IF($A1316=I$3,AND($A1316=I$3,$D1316<0),0)","v":0},0,{"$f":"IF($A1316=K$3,AND($A1316=K$3,$D1316<0),0)","v":0},0,{"$f":"IF($A1316=M$3,AND($A1316=M$3,$D1316<0),0)","v":0},0,{"$f":"IF($A1316=O$3,AND($A1316=O$3,$D1316<0),0)","v":0},0,0,0,0,0,0,0,{"$f":"IF($A1316=W$3,AND($A1316=W$3,$D1316<0),0)","v":0},0,{"$f":"IF($A1316=Y$3,AND($A1316=Y$3,$D1316<0),0)","v":0},0,{"$f":"IF($A1316=AA$3,AND($A1316=AA$3,$D1316<0),0)","v":0},0,{"$f":"IF($A1316=AC$3,AND($A1316=AC$3,$D1316<0),0)","v":0},0,0]
[{"$f":"IF(B1317=0,\"\",MONTH(B1317))","v":""},null,null,null,{"$f":"IF(D1317=\"\",\"\",IF(D1317<0,\"DEBITO\",\"CREDITO\"))","v":""},null,false,false,0,{"$f":"IF($A1317=I$3,AND($A1317=I$3,$D1317<0),0)","v":0},0,{"$f":"IF($A1317=K$3,AND($A1317=K$3,$D1317<0),0)","v":0},0,{"$f":"IF($A1317=M$3,AND($A1317=M$3,$D1317<0),0)","v":0},0,{"$f":"IF($A1317=O$3,AND($A1317=O$3,$D1317<0),0)","v":0},0,0,0,0,0,0,0,{"$f":"IF($A1317=W$3,AND($A1317=W$3,$D1317<0),0)","v":0},0,{"$f":"IF($A1317=Y$3,AND($A1317=Y$3,$D1317<0),0)","v":0},0,{"$f":"IF($A1317=AA$3,AND($A1317=AA$3,$D1317<0),0)","v":0},0,{"$f":"IF($A1317=AC$3,AND($A1317=AC$3,$D1317<0),0)","v":0},0,0]
[{"$f":"IF(B1320=0,\"\",MONTH(B1320))","v":""},null,null,null,{"$f":"IF(D1320=\"\",\"\",IF(D1320<0,\"DEBITO\",\"CREDITO\"))","v":""},null,false,false,0,{"$f":"IF($A1320=I$3,AND($A1320=I$3,$D1320<0),0)","v":0},0,{"$f":"IF($A1320=K$3,AND($A1320=K$3,$D1320<0),0)","v":0},0,{"$f":"IF($A1320=M$3,AND($A1320=M$3,$D1320<0),0)","v":0},0,{"$f":"IF($A1320=O$3,AND($A1320=O$3,$D1320<0),0)","v":0},0,0,0,0,0,0,0,{"$f":"IF($A1320=W$3,AND($A1320=W$3,$D1320<0),0)","v":0},0,{"$f":"IF($A1320=Y$3,AND($A1320=Y$3,$D1320<0),0)","v":0},0,{"$f":"IF($A1320=AA$3,AND($A1320=AA$3,$D1320<0),0)","v":0},0,{"$f":"IF($A1320=AC$3,AND($A1320=AC$3,$D1320<0),0)","v":0},0,0]
[{"$f":"IF(B1321=0,\"\",MONTH(B1321))","v":""},null,null,null,{"$f":"IF(D1321=\"\",\"\",IF(D1321<0,\"DEBITO\",\"CREDITO\"))","v":""},null,false,false,0,{"$f":"IF($A1321=I$3,AND($A1321=I$3,$D1321<0),0)","v":0},0,{"$f":"IF($A1321=K$3,AND($A1321=K$3,$D1321<0),0)","v":0},0,{"$f":"IF($A1321=M$3,AND($A1321=M$3,$D1321<0),0)","v":0},0,{"$f":"IF($A1321=O$3,AND($A1321=O$3,$D1321<0),0)","v":0},0,0,0,0,0,0,0,{"$f":"IF($A1321=W$3,AND($A1321=W$3,$D1321<0),0)","v":0},0,{"$f":"IF($A1321=Y$3,AND($A1321=Y$3,$D1321<0),0)","v":0},0,{"$f":"IF($A1321=AA$3,AND($A1321=AA$3,$D1321<0),0)","v":0},0,{"$f":"IF($A1321=AC$3,AND($A1321=AC$3,$D1321<0),0)","v":0},0,0]
[{"$f":"IF(B1324=0,\"\",MONTH(B1324))","v":""},null,null,null,{"$f":"IF(D1324=\"\",\"\",IF(D1324<0,\"DEBITO\",\"CREDITO\"))","v":""},null,false,false,0,{"$f":"IF($A1324=I$3,AND($A1324=I$3,$D1324<0),0)","v":0},0,{"$f":"IF($A1324=K$3,AND($A1324=K$3,$D1324<0),0)","v":0},0,{"$f":"IF($A1324=M$3,AND($A1324=M$3,$D1324<0),0)","v":0},0,{"$f":"IF($A1324=O$3,AND($A1324=O$3,$D1324<0),0)","v":0},0,0,0,0,0,0,0,{"$f":"IF($A1324=W$3,AND($A1324=W$3,$D1324<0),0)","v":0},0,{"$f":"IF($A1324=Y$3,AND($A1324=Y$3,$D1324<0),0)","v":0},0,{"$f":"IF($A1324=AA$3,AND($A1324=AA$3,$D1324<0),0)","v":0},0,{"$f":"IF($A1324=AC$3,AND($A1324=AC$3,$D1324<0),0)","v":0},0,0]
[{"$f":"IF(B1325=0,\"\",MONTH(B1325))","v":""},null,null,null,{"$f":"IF(D1325=\"\",\"\",IF(D1325<0,\"DEBITO\",\"CREDITO\"))","v":""},null,false,false,0,{"$f":"IF($A1325=I$3,AND($A1325=I$3,$D1325<0),0)","v":0},0,{"$f":"IF($A1325=K$3,AND($A1325=K$3,$D1325<0),0)","v":0},0,{"$f":"IF($A1325=M$3,AND($A1325=M$3,$D1325<0),0)","v":0},0,{"$f":"IF($A1325=O$3,AND($A1325=O$3,$D1325<0),0)","v":0},0,0,0,0,0,0,0,{"$f":"IF($A1325=W$3,AND($A1325=W$3,$D1325<0),0)","v":0},0,{"$f":"IF($A1325=Y$3,AND($A1325=Y$3,$D1325<0),0)","v":0},0,{"$f":"IF($A1325=AA$3,AND($A1325=AA$3,$D1325<0),0)","v":0},0,{"$f":"IF($A1325=AC$3,AND($A1325=AC$3,$D1325<0),0)","v":0},0,0]
[{"$f":"IF(B1327=0,\"\",MONTH(B1327))","v":""},null,null,null,{"$f":"IF(D1327=\"\",\"\",IF(D1327<0,\"DEBITO\",\"CREDITO\"))","v":""},null,false,false,0,{"$f":"IF($A1327=I$3,AND($A1327=I$3,$D1327<0),0)","v":0},0,{"$f":"IF($A1327=K$3,AND($A1327=K$3,$D1327<0),0)","v":0},0,{"$f":"IF($A1327=M$3,AND($A1327=M$3,$D1327<0),0)","v":0},0,{"$f":"IF($A1327=O$3,AND($A1327=O$3,$D1327<0),0)","v":0},0,0,0,0,0,0,0,{"$f":"IF($A1327=W$3,AND($A1327=W$3,$D1327<0),0)","v":0},0,{"$f":"IF($A1327=Y$3,AND($A1327=Y$3,$D1327<0),0)","v":0},0,{"$f":"IF($A1327=AA$3,AND($A1327=AA$3,$D1327<0),0)","v":0},0,{"$f":"IF($A1327=AC$3,AND($A1327=AC$3,$D1327<0),0)","v":0},0,0]
[{"$f":"IF(B1330=0,\"\",MONTH(B1330))","v":""},null,null,null,{"$f":"IF(D1330=\"\",\"\",IF(D1330<0,\"DEBITO\",\"CREDITO\"))","v":""},null,false,false,0,{"$f":"IF($A1330=I$3,AND($A1330=I$3,$D1330<0),0)","v":0},0,{"$f":"IF($A1330=K$3,AND($A1330=K$3,$D1330<0),0)","v":0},0,{"$f":"IF($A1330=M$3,AND($A1330=M$3,$D1330<0),0)","v":0},0,{"$f":"IF($A1330=O$3,AND($A1330=O$3,$D1330<0),0)","v":0},0,0,0,0,0,0,0,{"$f":"IF($A1330=W$3,AND($A1330=W$3,$D1330<0),0)","v":0},0,{"$f":"IF($A1330=Y$3,AND($A1330=Y$3,$D1330<0),0)","v":0},0,{"$f":"IF($A1330=AA$3,AND($A1330=AA$3,$D1330<0),0)","v":0},0,{"$f":"IF($A1330=AC$3,AND($A1330=AC$3,$D1330<0),0)","v":0},0,0]
[{"$f":"IF(B1333=0,\"\",MONTH(B1333))","v":""},null,null,null,{"$f":"IF(D1333=\"\",\"\",IF(D1333<0,\"DEBITO\",\"CREDITO\"))","v":""},null,false,false,0,{"$f":"IF($A1333=I$3,AND($A1333=I$3,$D1333<0),0)","v":0},0,{"$f":"IF($A1333=K$3,AND($A1333=K$3,$D1333<0),0)","v":0},0,{"$f":"IF($A1333=M$3,AND($A1333=M$3,$D1333<0),0)","v":0},0,{"$f":"IF($A1333=O$3,AND($A1333=O$3,$D1333<0),0)","v":0},0,0,0,0,0,0,0,{"$f":"IF($A1333=W$3,AND($A1333=W$3,$D1333<0),0)","v":0},0,{"$f":"IF($A1333=Y$3,AND($A1333=Y$3,$D1333<0),0)","v":0},0,{"$f":"IF($A1333=AA$3,AND($A1333=AA$3,$D1333<0),0)","v":0},0,{"$f":"IF($A1333=AC$3,AND($A1333=AC$3,$D1333<0),0)","v":0},0,0]
[{"$f":"IF(B1334=0,\"\",MONTH(B1334))","v":""},null,null,null,{"$f":"IF(D1334=\"\",\"\",IF(D1334<0,\"DEBITO\",\"CREDITO\"))","v":""},null,false,false,0,{"$f":"IF($A1334=I$3,AND($A1334=I$3,$D1334<0),0)","v":0},0,{"$f":"IF($A1334=K$3,AND($A1334=K$3,$D1334<0),0)","v":0},0,{"$f":"IF($A1334=M$3,AND($A1334=M$3,$D1334<0),0)","v":0},0,{"$f":"IF($A1334=O$3,AND($A1334=O$3,$D1334<0),0)","v":0},0,0,0,0,0,0,0,{"$f":"IF($A1334=W$3,AND($A1334=W$3,$D1334<0),0)","v":0},0,{"$f":"IF($A1334=Y$3,AND($A1334=Y$3,$D1334<0),0)","v":0},0,{"$f":"IF($A1334=AA$3,AND($A1334=AA$3,$D1334<0),0)","v":0},0,{"$f":"IF($A1334=AC$3,AND($A1334=AC$3,$D1334<0),0)","v":0},0,0]
[{"$f":"IF(B1337=0,\"\",MONTH(B1337))","v":""},null,null,null,{"$f":"IF(D1337=\"\",\"\",IF(D1337<0,\"DEBITO\",\"CREDITO\"))","v":""},null,false,false,0,{"$f":"IF($A1337=I$3,AND($A1337=I$3,$D1337<0),0)","v":0},0,{"$f":"IF($A1337=K$3,AND($A1337=K$3,$D1337<0),0)","v":0},0,{"$f":"IF($A1337=M$3,AND($A1337=M$3,$D1337<0),0)","v":0},0,{"$f":"IF($A1337=O$3,AND($A1337=O$3,$D1337<0),0)","v":0},0,0,0,0,0,0,0,{"$f":"IF($A1337=W$3,AND($A1337=W$3,$D1337<0),0)","v":0},0,{"$f":"IF($A1337=Y$3,AND($A1337=Y$3,$D1337<0),0)","v":0},0,{"$f":"IF($A1337=AA$3,AND($A1337=AA$3,$D1337<0),0)","v":0},0,{"$f":"IF($A1337=AC$3,AND($A1337=AC$3,$D1337<0),0)","v":0},0,0]
[{"$f":"IF(B1338=0,\"\",MONTH(B1338))","v":""},null,null,null,{"$f":"IF(D1338=\"\",\"\",IF(D1338<0,\"DEBITO\",\"CREDITO\"))","v":""},null,false,false,0,{"$f":"IF($A1338=I$3,AND($A1338=I$3,$D1338<0),0)","v":0},0,{"$f":"IF($A1338=K$3,AND($A1338=K$3,$D1338<0),0)","v":0},0,{"$f":"IF($A1338=M$3,AND($A1338=M$3,$D1338<0),0)","v":0},0,{"$f":"IF($A1338=O$3,AND($A1338=O$3,$D1338<0),0)","v":0},0,0,0,0,0,0,0,{"$f":"IF($A1338=W$3,AND($A1338=W$3,$D1338<0),0)","v":0},0,{"$f":"IF($A1338=Y$3,AND($A1338=Y$3,$D1338<0),0)","v":0},0,{"$f":"IF($A1338=AA$3,AND($A1338=AA$3,$D1338<0),0)","v":0},0,{"$f":"IF($A1338=AC$3,AND($A1338=AC$3,$D1338<0),0)","v":0},0,0]
[{"$f":"IF(B1341=0,\"\",MONTH(B1341))","v":""},null,null,null,{"$f":"IF(D1341=\"\",\"\",IF(D1341<0,\"DEBITO\",\"CREDITO\"))","v":""},null,false,false,0,{"$f":"IF($A1341=I$3,AND($A1341=I$3,$D1341<0),0)","v":0},0,{"$f":"IF($A1341=K$3,AND($A1341=K$3,$D1341<0),0)","v":0},0,{"$f":"IF($A1341=M$3,AND($A1341=M$3,$D1341<0),0)","v":0},0,{"$f":"IF($A1341=O$3,AND($A1341=O$3,$D1341<0),0)","v":0},0,0,0,0,0,0,0,{"$f":"IF($A1341=W$3,AND($A1341=W$3,$D1341<0),0)","v":0},0,{"$f":"IF($A1341=Y$3,AND($A1341=Y$3,$D1341<0),0)","v":0},0,{"$f":"IF($A1341=AA$3,AND($A1341=AA$3,$D1341<0),0)","v":0},0,{"$f":"IF($A1341=AC$3,AND($A1341=AC$3,$D1341<0),0)","v":0},0,0]
[{"$f":"IF(B1342=0,\"\",MONTH(B1342))","v":""},null,null,null,{"$f":"IF(D1342=\"\",\"\",IF(D1342<0,\"DEBITO\",\"CREDITO\"))","v":""},null,false,false,0,{"$f":"IF($A1342=I$3,AND($A1342=I$3,$D1342<0),0)","v":0},0,{"$f":"IF($A1342=K$3,AND($A1342=K$3,$D1342<0),0)","v":0},0,{"$f":"IF($A1342=M$3,AND($A1342=M$3,$D1342<0),0)","v":0},0,{"$f":"IF($A1342=O$3,AND($A1342=O$3,$D1342<0),0)","v":0},0,0,0,0,0,0,0,{"$f":"IF($A1342=W$3,AND($A1342=W$3,$D1342<0),0)","v":0},0,{"$f":"IF($A1342=Y$3,AND($A1342=Y$3,$D1342<0),0)","v":0},0,{"$f":"IF($A1342=AA$3,AND($A1342=AA$3,$D1342<0),0)","v":0},0,{"$f":"IF($A1342=AC$3,AND($A1342=AC$3,$D1342<0),0)","v":0},0,0]
[{"$f":"IF(B1345=0,\"\",MONTH(B1345))","v":""},null,null,null,{"$f":"IF(D1345=\"\",\"\",IF(D1345<0,\"DEBITO\",\"CREDITO\"))","v":""},null,false,false,0,{"$f":"IF($A1345=I$3,AND($A1345=I$3,$D1345<0),0)","v":0},0,{"$f":"IF($A1345=K$3,AND($A1345=K$3,$D1345<0),0)","v":0},0,{"$f":"IF($A1345=M$3,AND($A1345=M$3,$D1345<0),0)","v":0},0,{"$f":"IF($A1345=O$3,AND($A1345=O$3,$D1345<0),0)","v":0},0,0,0,0,0,0,0,{"$f":"IF($A1345=W$3,AND($A1345=W$3,$D1345<0),0)","v":0},0,{"$f":"IF($A1345=Y$3,AND($A1345=Y$3,$D1345<0),0)","v":0},0,{"$f":"IF($A1345=AA$3,AND($A1345=AA$3,$D1345<0),0)","v":0},0,{"$f":"IF($A1345=AC$3,AND($A1345=AC$3,$D1345<0),0)","v":0},0,0]
[{"$f":"IF(B1346=0,\"\",MONTH(B1346))","v":""},null,null,null,{"$f":"IF(D1346=\"\",\"\",IF(D1346<0,\"DEBITO\",\"CREDITO\"))","v":""},null,false,false,0,{"$f":"IF($A1346=I$3,AND($A1346=I$3,$D1346<0),0)","v":0},0,{"$f":"IF($A1346=K$3,AND($A1346=K$3,$D1346<0),0)","v":0},0,{"$f":"IF($A1346=M$3,AND($A1346=M$3,$D1346<0),0)","v":0},0,{"$f":"IF($A1346=O$3,AND($A1346=O$3,$D1346<0),0)","v":0},0,0,0,0,0,0,0,{"$f":"IF($A1346=W$3,AND($A1346=W$3,$D1346<0),0)","v":0},0,{"$f":"IF($A1346=Y$3,AND($A1346=Y$3,$D1346<0),0)","v":0},0,{"$f":"IF($A1346=AA$3,AND($A1346=AA$3,$D1346<0),0)","v":0},0,{"$f":"IF($A1346=AC$3,AND($A1346=AC$3,$D1346<0),0)","v":0},0,0]
[{"$f":"IF(B1349=0,\"\",MONTH(B1349))","v":""},null,null,null,{"$f":"IF(D1349=\"\",\"\",IF(D1349<0,\"DEBITO\",\"CREDITO\"))","v":""},null,false,false,0,{"$f":"IF($A1349=I$3,AND($A1349=I$3,$D1349<0),0)","v":0},0,{"$f":"IF($A1349=K$3,AND($A1349=K$3,$D1349<0),0)","v":0},0,{"$f":"IF($A1349=M$3,AND($A1349=M$3,$D1349<0),0)","v":0},0,{"$f":"IF($A1349=O$3,AND($A1349=O$3,$D1349<0),0)","v":0},0,0,0,0,0,0,0,{"$f":"IF($A1349=W$3,AND($A1349=W$3,$D1349<0),0)","v":0},0,{"$f":"IF($A1349=Y$3,AND($A1349=Y$3,$D1349<0),0)","v":0},0,{"$f":"IF($A1349=AA$3,AND($A1349=AA$3,$D1349<0),0)","v":0},0,{"$f":"IF($A1349=AC$3,AND($A1349=AC$3,$D1349<0),0)","v":0},0,0]
[{"$f":"IF(B1351=0,\"\",MONTH(B1351))","v":""},null,null,null,{"$f":"IF(D1351=\"\",\"\",IF(D1351<0,\"DEBITO\",\"CREDITO\"))","v":""},null,false,false,0,{"$f":"IF($A1351=I$3,AND($A1351=I$3,$D1351<0),0)","v":0},0,{"$f":"IF($A1351=K$3,AND($A1351=K$3,$D1351<0),0)","v":0},0,{"$f":"IF($A1351=M$3,AND($A1351=M$3,$D1351<0),0)","v":0},0,{"$f":"IF($A1351=O$3,AND($A1351=O$3,$D1351<0),0)","v":0},0,0,0,0,0,0,0,{"$f":"IF($A1351=W$3,AND($A1351=W$3,$D1351<0),0)","v":0},0,{"$f":"IF($A1351=Y$3,AND($A1351=Y$3,$D1351<0),0)","v":0},0,{"$f":"IF($A1351=AA$3,AND($A1351=AA$3,$D1351<0),0)","v":0},0,{"$f":"IF($A1351=AC$3,AND($A1351=AC$3,$D1351<0),0)","v":0},0,0]
[{"$f":"IF(B1354=0,\"\",MONTH(B1354))","v":""},null,null,null,{"$f":"IF(D1354=\"\",\"\",IF(D1354<0,\"DEBITO\",\"CREDITO\"))","v":""},null,false,false,0,{"$f":"IF($A1354=I$3,AND($A1354=I$3,$D1354<0),0)","v":0},0,{"$f":"IF($A1354=K$3,AND($A1354=K$3,$D1354<0),0)","v":0},0,{"$f":"IF($A1354=M$3,AND($A1354=M$3,$D1354<0),0)","v":0},0,{"$f":"IF($A1354=O$3,AND($A1354=O$3,$D1354<0),0)","v":0},0,0,{"$f":"IF($A1354=S$3,AND($A1354=S$3,$D1354>0),0)","v":0},{"$f":"IF($A1354=S$3,AND($A1354=S$3,$D1354<0),0)","v":0},{"$f":"IF($A1354=U$3,AND($A1354=U$3,$D1354>0),0)","v":0},{"$f":"IF($A1354=U$3,AND($A1354=U$3,$D1354<0),0)","v":0},0,{"$f":"IF($A1354=W$3,AND($A1354=W$3,$D1354<0),0)","v":0},0,{"$f":"IF($A1354=Y$3,AND($A1354=Y$3,$D1354<0),0)","v":0},0,{"$f":"IF($A1354=AA$3,AND($A1354=AA$3,$D1354<0),0)","v":0},0,{"$f":"IF($A1354=AC$3,AND($A1354=AC$3,$D1354<0),0)","v":0},0,0]
[{"$f":"IF(B1355=0,\"\",MONTH(B1355))","v":""},null,null,null,{"$f":"IF(D1355=\"\",\"\",IF(D1355<0,\"DEBITO\",\"CREDITO\"))","v":""},null,false,false,0,{"$f":"IF($A1355=I$3,AND($A1355=I$3,$D1355<0),0)","v":0},0,{"$f":"IF($A1355=K$3,AND($A1355=K$3,$D1355<0),0)","v":0},0,{"$f":"IF($A1355=M$3,AND($A1355=M$3,$D1355<0),0)","v":0},0,{"$f":"IF($A1355=O$3,AND($A1355=O$3,$D1355<0),0)","v":0},0,0,0,0,0,0,0,{"$f":"IF($A1355=W$3,AND($A1355=W$3,$D1355<0),0)","v":0},0,{"$f":"IF($A1355=Y$3,AND($A1355=Y$3,$D1355<0),0)","v":0},0,{"$f":"IF($A1355=AA$3,AND($A1355=AA$3,$D1355<0),0)","v":0},0,{"$f":"IF($A1355=AC$3,AND($A1355=AC$3,$D1355<0),0)","v":0},0,0]
[{"$f":"IF(B1358=0,\"\",MONTH(B1358))","v":""},null,null,null,{"$f":"IF(D1358=\"\",\"\",IF(D1358<0,\"DEBITO\",\"CREDITO\"))","v":""},null,false,false,0,{"$f":"IF($A1358=I$3,AND($A1358=I$3,$D1358<0),0)","v":0},0,{"$f":"IF($A1358=K$3,AND($A1358=K$3,$D1358<0),0)","v":0},0,{"$f":"IF($A1358=M$3,AND($A1358=M$3,$D1358<0),0)","v":0},0,{"$f":"IF($A1358=O$3,AND($A1358=O$3,$D1358<0),0)","v":0},0,0,0,0,0,0,0,{"$f":"IF($A1358=W$3,AND($A1358=W$3,$D1358<0),0)","v":0},0,{"$f":"IF($A1358=Y$3,AND($A1358=Y$3,$D1358<0),0)","v":0},0,{"$f":"IF($A1358=AA$3,AND($A1358=AA$3,$D1358<0),0)","v":0},0,{"$f":"IF($A1358=AC$3,AND($A1358=AC$3,$D1358<0),0)","v":0},0,0]
[{"$f":"IF(B1359=0,\"\",MONTH(B1359))","v":""},null,null,null,{"$f":"IF(D1359=\"\",\"\",IF(D1359<0,\"DEBITO\",\"CREDITO\"))","v":""},null,false,false,0,{"$f":"IF($A1359=I$3,AND($A1359=I$3,$D1359<0),0)","v":0},0,{"$f":"IF($A1359=K$3,AND($A1359=K$3,$D1359<0),0)","v":0},0,{"$f":"IF($A1359=M$3,AND($A1359=M$3,$D1359<0),0)","v":0},0,{"$f":"IF($A1359=O$3,AND($A1359=O$3,$D1359<0),0)","v":0},0,0,0,0,0,0,0,{"$f":"IF($A1359=W$3,AND($A1359=W$3,$D1359<0),0)","v":0},0,{"$f":"IF($A1359=Y$3,AND($A1359=Y$3,$D1359<0),0)","v":0},0,{"$f":"IF($A1359=AA$3,AND($A1359=AA$3,$D1359<0),0)","v":0},0,{"$f":"IF($A1359=AC$3,AND($A1359=AC$3,$D1359<0),0)","v":0},0,0]
[{"$f":"IF(B1362=0,\"\",MONTH(B1362))","v":""},null,null,null,{"$f":"IF(D1362=\"\",\"\",IF(D1362<0,\"DEBITO\",\"CREDITO\"))","v":""},null,false,false,0,{"$f":"IF($A1362=I$3,AND($A1362=I$3,$D1362<0),0)","v":0},0,{"$f":"IF($A1362=K$3,AND($A1362=K$3,$D1362<0),0)","v":0},0,{"$f":"IF($A1362=M$3,AND($A1362=M$3,$D1362<0),0)","v":0},0,{"$f":"IF($A1362=O$3,AND($A1362=O$3,$D1362<0),0)","v":0},0,0,0,0,0,0,0,{"$f":"IF($A1362=W$3,AND($A1362=W$3,$D1362<0),0)","v":0},0,{"$f":"IF($A1362=Y$3,AND($A1362=Y$3,$D1362<0),0)","v":0},0,{"$f":"IF($A1362=AA$3,AND($A1362=AA$3,$D1362<0),0)","v":0},0,{"$f":"IF($A1362=AC$3,AND($A1362=AC$3,$D1362<0),0)","v":0},0,0]
[{"$f":"IF(B1363=0,\"\",MONTH(B1363))","v":""},null,null,null,{"$f":"IF(D1363=\"\",\"\",IF(D1363<0,\"DEBITO\",\"CREDITO\"))","v":""},null,false,false,0,{"$f":"IF($A1363=I$3,AND($A1363=I$3,$D1363<0),0)","v":0},0,{"$f":"IF($A1363=K$3,AND($A1363=K$3,$D1363<0),0)","v":0},0,{"$f":"IF($A1363=M$3,AND($A1363=M$3,$D1363<0),0)","v":0},0,{"$f":"IF($A1363=O$3,AND($A1363=O$3,$D1363<0),0)","v":0},0,0,0,0,0,0,0,{"$f":"IF($A1363=W$3,AND($A1363=W$3,$D1363<0),0)","v":0},0,{"$f":"IF($A1363=Y$3,AND($A1363=Y$3,$D1363<0),0)","v":0},0,{"$f":"IF($A1363=AA$3,AND($A1363=AA$3,$D1363<0),0)","v":0},0,{"$f":"IF($A1363=AC$3,AND($A1363=AC$3,$D1363<0),0)","v":0},0,0]
[{"$f":"IF(B1366=0,\"\",MONTH(B1366))","v":""},null,null,null,{"$f":"IF(D1366=\"\",\"\",IF(D1366<0,\"DEBITO\",\"CREDITO\"))","v":""},null,false,false,0,{"$f":"IF($A1366=I$3,AND($A1366=I$3,$D1366<0),0)","v":0},0,{"$f":"IF($A1366=K$3,AND($A1366=K$3,$D1366<0),0)","v":0},0,{"$f":"IF($A1366=M$3,AND($A1366=M$3,$D1366<0),0)","v":0},0,{"$f":"IF($A1366=O$3,AND($A1366=O$3,$D1366<0),0)","v":0},0,0,0,0,0,0,0,{"$f":"IF($A1366=W$3,AND($A1366=W$3,$D1366<0),0)","v":0},0,{"$f":"IF($A1366=Y$3,AND($A1366=Y$3,$D1366<0),0)","v":0},0,{"$f":"IF($A1366=AA$3,AND($A1366=AA$3,$D1366<0),0)","v":0},0,{"$f":"IF($A1366=AC$3,AND($A1366=AC$3,$D1366<0),0)","v":0},0,0]
[{"$f":"IF(B1367=0,\"\",MONTH(B1367))","v":""},null,null,null,{"$f":"IF(D1367=\"\",\"\",IF(D1367<0,\"DEBITO\",\"CREDITO\"))","v":""},null,false,false,0,{"$f":"IF($A1367=I$3,AND($A1367=I$3,$D1367<0),0)","v":0},0,{"$f":"IF($A1367=K$3,AND($A1367=K$3,$D1367<0),0)","v":0},0,{"$f":"IF($A1367=M$3,AND($A1367=M$3,$D1367<0),0)","v":0},0,{"$f":"IF($A1367=O$3,AND($A1367=O$3,$D1367<0),0)","v":0},0,0,0,0,0,0,0,{"$f":"IF($A1367=W$3,AND($A1367=W$3,$D1367<0),0)","v":0},0,{"$f":"IF($A1367=Y$3,AND($A1367=Y$3,$D1367<0),0)","v":0},0,{"$f":"IF($A1367=AA$3,AND($A1367=AA$3,$D1367<0),0)","v":0},0,{"$f":"IF($A1367=AC$3,AND($A1367=AC$3,$D1367<0),0)","v":0},0,0]
[{"$f":"IF(B1370=0,\"\",MONTH(B1370))","v":""},null,null,null,{"$f":"IF(D1370=\"\",\"\",IF(D1370<0,\"DEBITO\",\"CREDITO\"))","v":""},null,false,false,0,{"$f":"IF($A1370=I$3,AND($A1370=I$3,$D1370<0),0)","v":0},0,{"$f":"IF($A1370=K$3,AND($A1370=K$3,$D1370<0),0)","v":0},0,{"$f":"IF($A1370=M$3,AND($A1370=M$3,$D1370<0),0)","v":0},0,{"$f":"IF($A1370=O$3,AND($A1370=O$3,$D1370<0),0)","v":0},0,0,0,0,0,0,0,{"$f":"IF($A1370=W$3,AND($A1370=W$3,$D1370<0),0)","v":0},0,{"$f":"IF($A1370=Y$3,AND($A1370=Y$3,$D1370<0),0)","v":0},0,{"$f":"IF($A1370=AA$3,AND($A1370=AA$3,$D1370<0),0)","v":0},0,{"$f":"IF($A1370=AC$3,AND($A1370=AC$3,$D1370<0),0)","v":0},0,0]
[{"$f":"IF(B1373=0,\"\",MONTH(B1373))","v":""},null,null,null,{"$f":"IF(D1373=\"\",\"\",IF(D1373<0,\"DEBITO\",\"CREDITO\"))","v":""},null,false,false,0,{"$f":"IF($A1373=I$3,AND($A1373=I$3,$D1373<0),0)","v":0},0,{"$f":"IF($A1373=K$3,AND($A1373=K$3,$D1373<0),0)","v":0},0,{"$f":"IF($A1373=M$3,AND($A1373=M$3,$D1373<0),0)","v":0},0,{"$f":"IF($A1373=O$3,AND($A1373=O$3,$D1373<0),0)","v":0},0,0,0,0,0,0,0,{"$f":"IF($A1373=W$3,AND($A1373=W$3,$D1373<0),0)","v":0},0,{"$f":"IF($A1373=Y$3,AND($A1373=Y$3,$D1373<0),0)","v":0},0,{"$f":"IF($A1373=AA$3,AND($A1373=AA$3,$D1373<0),0)","v":0},0,{"$f":"IF($A1373=AC$3,AND($A1373=AC$3,$D1373<0),0)","v":0},0,0]
[{"$f":"IF(B1375=0,\"\",MONTH(B1375))","v":""},null,null,null,{"$f":"IF(D1375=\"\",\"\",IF(D1375<0,\"DEBITO\",\"CREDITO\"))","v":""},null,false,false,0,{"$f":"IF($A1375=I$3,AND($A1375=I$3,$D1375<0),0)","v":0},0,{"$f":"IF($A1375=K$3,AND($A1375=K$3,$D1375<0),0)","v":0},0,{"$f":"IF($A1375=M$3,AND($A1375=M$3,$D1375<0),0)","v":0},0,{"$f":"IF($A1375=O$3,AND($A1375=O$3,$D1375<0),0)","v":0},0,0,0,0,0,0,0,{"$f":"IF($A1375=W$3,AND($A1375=W$3,$D1375<0),0)","v":0},0,{"$f":"IF($A1375=Y$3,AND($A1375=Y$3,$D1375<0),0)","v":0},0,{"$f":"IF($A1375=AA$3,AND($A1375=AA$3,$D1375<0),0)","v":0},0,{"$f":"IF($A1375=AC$3,AND($A1375=AC$3,$D1375<0),0)","v":0},0,0]
[{"$f":"IF(B1376=0,\"\",MONTH(B1376))","v":""},null,null,null,{"$f":"IF(D1376=\"\",\"\",IF(D1376<0,\"DEBITO\",\"CREDITO\"))","v":""},null,false,false,0,{"$f":"IF($A1376=I$3,AND($A1376=I$3,$D1376<0),0)","v":0},0,{"$f":"IF($A1376=K$3,AND($A1376=K$3,$D1376<0),0)","v":0},0,{"$f":"IF($A1376=M$3,AND($A1376=M$3,$D1376<0),0)","v":0},0,{"$f":"IF($A1376=O$3,AND($A1376=O$3,$D1376<0),0)","v":0},0,0,0,0,0,0,0,{"$f":"IF($A1376=W$3,AND($A1376=W$3,$D1376<0),0)","v":0},0,{"$f":"IF($A1376=Y$3,AND($A1376=Y$3,$D1376<0),0)","v":0},0,{"$f":"IF($A1376=AA$3,AND($A1376=AA$3,$D1376<0),0)","v":0},0,{"$f":"IF($A1376=AC$3,AND($A1376=AC$3,$D1376<0),0)","v":0},0,0]
[{"$f":"IF(B1379=0,\"\",MONTH(B1379))","v":""},null,null,null,{"$f":"IF(D1379=\"\",\"\",IF(D1379<0,\"DEBITO\",\"CREDITO\"))","v":""},null,false,false,0,{"$f":"IF($A1379=I$3,AND($A1379=I$3,$D1379<0),0)","v":0},0,{"$f":"IF($A1379=K$3,AND($A1379=K$3,$D1379<0),0)","v":0},0,{"$f":"IF($A1379=M$3,AND($A1379=M$3,$D1379<0),0)","v":0},0,{"$f":"IF($A1379=O$3,AND($A1379=O$3,$D1379<0),0)","v":0},0,0,0,0,0,0,0,{"$f":"IF($A1379=W$3,AND($A1379=W$3,$D1379<0),0)","v":0},0,{"$f":"IF($A1379=Y$3,AND($A1379=Y$3,$D1379<0),0)","v":0},0,{"$f":"IF($A1379=AA$3,AND($A1379=AA$3,$D1379<0),0)","v":0},0,{"$f":"IF($A1379=AC$3,AND($A1379=AC$3,$D1379<0),0)","v":0},0,0]
[{"$f":"IF(B1380=0,\"\",MONTH(B1380))","v":""},null,null,null,{"$f":"IF(D1380=\"\",\"\",IF(D1380<0,\"DEBITO\",\"CREDITO\"))","v":""},null,false,false,0,{"$f":"IF($A1380=I$3,AND($A1380=I$3,$D1380<0),0)","v":0},0,{"$f":"IF($A1380=K$3,AND($A1380=K$3,$D1380<0),0)","v":0},0,{"$f":"IF($A1380=M$3,AND($A1380=M$3,$D1380<0),0)","v":0},0,{"$f":"IF($A1380=O$3,AND($A1380=O$3,$D1380<0),0)","v":0},0,0,0,0,0,0,0,{"$f":"IF($A1380=W$3,AND($A1380=W$3,$D1380<0),0)","v":0},0,{"$f":"IF($A1380=Y$3,AND($A1380=Y$3,$D1380<0),0)","v":0},0,{"$f":"IF($A1380=AA$3,AND($A1380=AA$3,$D1380<0),0)","v":0},0,{"$f":"IF($A1380=AC$3,AND($A1380=AC$3,$D1380<0),0)","v":0},0,0]
[{"$f":"IF(B1383=0,\"\",MONTH(B1383))","v":""},null,null,null,{"$f":"IF(D1383=\"\",\"\",IF(D1383<0,\"DEBITO\",\"CREDITO\"))","v":""},null,false,false,0,{"$f":"IF($A1383=I$3,AND($A1383=I$3,$D1383<0),0)","v":0},0,{"$f":"IF($A1383=K$3,AND($A1383=K$3,$D1383<0),0)","v":0},0,{"$f":"IF($A1383=M$3,AND($A1383=M$3,$D1383<0),0)","v":0},0,{"$f":"IF($A1383=O$3,AND($A1383=O$3,$D1383<0),0)","v":0},0,0,0,0,0,0,0,{"$f":"IF($A1383=W$3,AND($A1383=W$3,$D1383<0),0)","v":0},0,{"$f":"IF($A1383=Y$3,AND($A1383=Y$3,$D1383<0),0)","v":0},0,{"$f":"IF($A1383=AA$3,AND($A1383=AA$3,$D1383<0),0)","v":0},0,{"$f":"IF($A1383=AC$3,AND($A1383=AC$3,$D1383<0),0)","v":0},0,0]
[{"$f":"IF(B1384=0,\"\",MONTH(B1384))","v":""},null,null,null,{"$f":"IF(D1384=\"\",\"\",IF(D1384<0,\"DEBITO\",\"CREDITO\"))","v":""},null,false,false,0,{"$f":"IF($A1384=I$3,AND($A1384=I$3,$D1384<0),0)","v":0},0,{"$f":"IF($A1384=K$3,AND($A1384=K$3,$D1384<0),0)","v":0},0,{"$f":"IF($A1384=M$3,AND($A1384=M$3,$D1384<0),0)","v":0},0,{"$f":"IF($A1384=O$3,AND($A1384=O$3,$D1384<0),0)","v":0},0,0,0,0,0,0,0,{"$f":"IF($A1384=W$3,AND($A1384=W$3,$D1384<0),0)","v":0},0,{"$f":"IF($A1384=Y$3,AND($A1384=Y$3,$D1384<0),0)","v":0},0,{"$f":"IF($A1384=AA$3,AND($A1384=AA$3,$D1384<0),0)","v":0},0,{"$f":"IF($A1384=AC$3,AND($A1384=AC$3,$D1384<0),0)","v":0},0,0]
[{"$f":"IF(B1387=0,\"\",MONTH(B1387))","v":""},null,null,null,{"$f":"IF(D1387=\"\",\"\",IF(D1387<0,\"DEBITO\",\"CREDITO\"))","v":""},null,false,false,0,{"$f":"IF($A1387=I$3,AND($A1387=I$3,$D1387<0),0)","v":0},0,{"$f":"IF($A1387=K$3,AND($A1387=K$3,$D1387<0),0)","v":0},0,{"$f":"IF($A1387=M$3,AND($A1387=M$3,$D1387<0),0)","v":0},0,{"$f":"IF($A1387=O$3,AND($A1387=O$3,$D1387<0),0)","v":0},0,0,0,0,0,0,0,{"$f":"IF($A1387=W$3,AND($A1387=W$3,$D1387<0),0)","v":0},0,{"$f":"IF($A1387=Y$3,AND($A1387=Y$3,$D1387<0),0)","v":0},0,{"$f":"IF($A1387=AA$3,AND($A1387=AA$3,$D1387<0),0)","v":0},0,{"$f":"IF($A1387=AC$3,AND($A1387=AC$3,$D1387<0),0)","v":0},0,0]
[{"$f":"IF(B1388=0,\"\",MONTH(B1388))","v":""},null,null,null,{"$f":"IF(D1388=\"\",\"\",IF(D1388<0,\"DEBITO\",\"CREDITO\"))","v":""},null,false,false,0,{"$f":"IF($A1388=I$3,AND($A1388=I$3,$D1388<0),0)","v":0},0,{"$f":"IF($A1388=K$3,AND($A1388=K$3,$D1388<0),0)","v":0},0,{"$f":"IF($A1388=M$3,AND($A1388=M$3,$D1388<0),0)","v":0},0,{"$f":"IF($A1388=O$3,AND($A1388=O$3,$D1388<0),0)","v":0},0,0,0,0,0,0,0,{"$f":"IF($A1388=W$3,AND($A1388=W$3,$D1388<0),0)","v":0},0,{"$f":"IF($A1388=Y$3,AND($A1388=Y$3,$D1388<0),0)","v":0},0,{"$f":"IF($A1388=AA$3,AND($A1388=AA$3,$D1388<0),0)","v":0},0,{"$f":"IF($A1388=AC$3,AND($A1388=AC$3,$D1388<0),0)","v":0},0,0]
[{"$f":"IF(B1391=0,\"\",MONTH(B1391))","v":""},null,null,null,{"$f":"IF(D1391=\"\",\"\",IF(D1391<0,\"DEBITO\",\"CREDITO\"))","v":""},null,false,false,0,{"$f":"IF($A1391=I$3,AND($A1391=I$3,$D1391<0),0)","v":0},0,{"$f":"IF($A1391=K$3,AND($A1391=K$3,$D1391<0),0)","v":0},0,{"$f":"IF($A1391=M$3,AND($A1391=M$3,$D1391<0),0)","v":0},0,{"$f":"IF($A1391=O$3,AND($A1391=O$3,$D1391<0),0)","v":0},0,0,0,0,0,0,0,{"$f":"IF($A1391=W$3,AND($A1391=W$3,$D1391<0),0)","v":0},0,{"$f":"IF($A1391=Y$3,AND($A1391=Y$3,$D1391<0),0)","v":0},0,{"$f":"IF($A1391=AA$3,AND($A1391=AA$3,$D1391<0),0)","v":0},0,{"$f":"IF($A1391=AC$3,AND($A1391=AC$3,$D1391<0),0)","v":0},0,0]
[{"$f":"IF(B1392=0,\"\",MONTH(B1392))","v":""},null,null,null,{"$f":"IF(D1392=\"\",\"\",IF(D1392<0,\"DEBITO\",\"CREDITO\"))","v":""},null,false,false,0,{"$f":"IF($A1392=I$3,AND($A1392=I$3,$D1392<0),0)","v":0},0,{"$f":"IF($A1392=K$3,AND($A1392=K$3,$D1392<0),0)","v":0},0,{"$f":"IF($A1392=M$3,AND($A1392=M$3,$D1392<0),0)","v":0},0,{"$f":"IF($A1392=O$3,AND($A1392=O$3,$D1392<0),0)","v":0},0,0,0,0,0,0,0,{"$f":"IF($A1392=W$3,AND($A1392=W$3,$D1392<0),0)","v":0},0,{"$f":"IF($A1392=Y$3,AND($A1392=Y$3,$D1392<0),0)","v":0},0,{"$f":"IF($A1392=AA$3,AND($A1392=AA$3,$D1392<0),0)","v":0},0,{"$f":"IF($A1392=AC$3,AND($A1392=AC$3,$D1392<0),0)","v":0},0,0]
[{"$f":"IF(B1396=0,\"\",MONTH(B1396))","v":""},null,null,null,{"$f":"IF(D1396=\"\",\"\",IF(D1396<0,\"DEBITO\",\"CREDITO\"))","v":""},null,false,false,0,{"$f":"IF($A1396=I$3,AND($A1396=I$3,$D1396<0),0)","v":0},0,{"$f":"IF($A1396=K$3,AND($A1396=K$3,$D1396<0),0)","v":0},0,{"$f":"IF($A1396=M$3,AND($A1396=M$3,$D1396<0),0)","v":0},0,{"$f":"IF($A1396=O$3,AND($A1396=O$3,$D1396<0),0)","v":0},0,0,0,0,0,0,0,{"$f":"IF($A1396=W$3,AND($A1396=W$3,$D1396<0),0)","v":0},0,{"$f":"IF($A1396=Y$3,AND($A1396=Y$3,$D1396<0),0)","v":0},0,{"$f":"IF($A1396=AA$3,AND($A1396=AA$3,$D1396<0),0)","v":0},0,{"$f":"IF($A1396=AC$3,AND($A1396=AC$3,$D1396<0),0)","v":0},0,0]
[{"$f":"IF(B1397=0,\"\",MONTH(B1397))","v":""},null,null,null,{"$f":"IF(D1397=\"\",\"\",IF(D1397<0,\"DEBITO\",\"CREDITO\"))","v":""},null,false,false,0,{"$f":"IF($A1397=I$3,AND($A1397=I$3,$D1397<0),0)","v":0},0,{"$f":"IF($A1397=K$3,AND($A1397=K$3,$D1397<0),0)","v":0},0,{"$f":"IF($A1397=M$3,AND($A1397=M$3,$D1397<0),0)","v":0},0,{"$f":"IF($A1397=O$3,AND($A1397=O$3,$D1397<0),0)","v":0},0,0,0,0,0,0,0,{"$f":"IF($A1397=W$3,AND($A1397=W$3,$D1397<0),0)","v":0},0,{"$f":"IF($A1397=Y$3,AND($A1397=Y$3,$D1397<0),0)","v":0},0,{"$f":"IF($A1397=AA$3,AND($A1397=AA$3,$D1397<0),0)","v":0},0,{"$f":"IF($A1397=AC$3,AND($A1397=AC$3,$D1397<0),0)","v":0},0,0]
[{"$f":"IF(B1400=0,\"\",MONTH(B1400))","v":""},null,null,null,{"$f":"IF(D1400=\"\",\"\",IF(D1400<0,\"DEBITO\",\"CREDITO\"))","v":""},null,false,false,0,{"$f":"IF($A1400=I$3,AND($A1400=I$3,$D1400<0),0)","v":0},0,{"$f":"IF($A1400=K$3,AND($A1400=K$3,$D1400<0),0)","v":0},0,{"$f":"IF($A1400=M$3,AND($A1400=M$3,$D1400<0),0)","v":0},0,{"$f":"IF($A1400=O$3,AND($A1400=O$3,$D1400<0),0)","v":0},0,0,0,0,0,0,0,{"$f":"IF($A1400=W$3,AND($A1400=W$3,$D1400<0),0)","v":0},0,{"$f":"IF($A1400=Y$3,AND($A1400=Y$3,$D1400<0),0)","v":0},0,{"$f":"IF($A1400=AA$3,AND($A1400=AA$3,$D1400<0),0)","v":0},0,{"$f":"IF($A1400=AC$3,AND($A1400=AC$3,$D1400<0),0)","v":0},0,0]
[{"$f":"IF(B1401=0,\"\",MONTH(B1401))","v":""},null,null,null,{"$f":"IF(D1401=\"\",\"\",IF(D1401<0,\"DEBITO\",\"CREDITO\"))","v":""},null,false,false,0,{"$f":"IF($A1401=I$3,AND($A1401=I$3,$D1401<0),0)","v":0},0,{"$f":"IF($A1401=K$3,AND($A1401=K$3,$D1401<0),0)","v":0},0,{"$f":"IF($A1401=M$3,AND($A1401=M$3,$D1401<0),0)","v":0},0,{"$f":"IF($A1401=O$3,AND($A1401=O$3,$D1401<0),0)","v":0},0,0,0,0,0,0,0,{"$f":"IF($A1401=W$3,AND($A1401=W$3,$D1401<0),0)","v":0},0,{"$f":"IF($A1401=Y$3,AND($A1401=Y$3,$D1401<0),0)","v":0},0,{"$f":"IF($A1401=AA$3,AND($A1401=AA$3,$D1401<0),0)","v":0},0,{"$f":"IF($A1401=AC$3,AND($A1401=AC$3,$D1401<0),0)","v":0},0,0]
[{"$f":"IF(B1404=0,\"\",MONTH(B1404))","v":""},null,null,null,{"$f":"IF(D1404=\"\",\"\",IF(D1404<0,\"DEBITO\",\"CREDITO\"))","v":""},null,false,false,0,{"$f":"IF($A1404=I$3,AND($A1404=I$3,$D1404<0),0)","v":0},0,{"$f":"IF($A1404=K$3,AND($A1404=K$3,$D1404<0),0)","v":0},0,{"$f":"IF($A1404=M$3,AND($A1404=M$3,$D1404<0),0)","v":0},0,{"$f":"IF($A1404=O$3,AND($A1404=O$3,$D1404<0),0)","v":0},0,0,0,0,0,0,0,{"$f":"IF($A1404=W$3,AND($A1404=W$3,$D1404<0),0)","v":0},0,{"$f":"IF($A1404=Y$3,AND($A1404=Y$3,$D1404<0),0)","v":0},0,{"$f":"IF($A1404=AA$3,AND($A1404=AA$3,$D1404<0),0)","v":0},0,{"$f":"IF($A1404=AC$3,AND($A1404=AC$3,$D1404<0),0)","v":0},0,0]
[{"$f":"IF(B1405=0,\"\",MONTH(B1405))","v":""},null,null,null,{"$f":"IF(D1405=\"\",\"\",IF(D1405<0,\"DEBITO\",\"CREDITO\"))","v":""},null,false,false,0,{"$f":"IF($A1405=I$3,AND($A1405=I$3,$D1405<0),0)","v":0},0,{"$f":"IF($A1405=K$3,AND($A1405=K$3,$D1405<0),0)","v":0},0,{"$f":"IF($A1405=M$3,AND($A1405=M$3,$D1405<0),0)","v":0},0,{"$f":"IF($A1405=O$3,AND($A1405=O$3,$D1405<0),0)","v":0},0,0,0,0,0,0,0,{"$f":"IF($A1405=W$3,AND($A1405=W$3,$D1405<0),0)","v":0},0,{"$f":"IF($A1405=Y$3,AND($A1405=Y$3,$D1405<0),0)","v":0},0,{"$f":"IF($A1405=AA$3,AND($A1405=AA$3,$D1405<0),0)","v":0},0,{"$f":"IF($A1405=AC$3,AND($A1405=AC$3,$D1405<0),0)","v":0},0,0]
[{"$f":"IF(B1408=0,\"\",MONTH(B1408))","v":""},null,null,null,{"$f":"IF(D1408=\"\",\"\",IF(D1408<0,\"DEBITO\",\"CREDITO\"))","v":""},null,false,false,0,{"$f":"IF($A1408=I$3,AND($A1408=I$3,$D1408<0),0)","v":0},0,{"$f":"IF($A1408=K$3,AND($A1408=K$3,$D1408<0),0)","v":0},0,{"$f":"IF($A1408=M$3,AND($A1408=M$3,$D1408<0),0)","v":0},0,{"$f":"IF($A1408=O$3,AND($A1408=O$3,$D1408<0),0)","v":0},0,0,0,0,0,0,0,{"$f":"IF($A1408=W$3,AND($A1408=W$3,$D1408<0),0)","v":0},0,{"$f":"IF($A1408=Y$3,AND($A1408=Y$3,$D1408<0),0)","v":0},0,{"$f":"IF($A1408=AA$3,AND($A1408=AA$3,$D1408<0),0)","v":0},0,{"$f":"IF($A1408=AC$3,AND($A1408=AC$3,$D1408<0),0)","v":0},0,0]
[{"$f":"IF(B1409=0,\"\",MONTH(B1409))","v":""},null,null,null,{"$f":"IF(D1409=\"\",\"\",IF(D1409<0,\"DEBITO\",\"CREDITO\"))","v":""},null,false,false,0,{"$f":"IF($A1409=I$3,AND($A1409=I$3,$D1409<0),0)","v":0},0,{"$f":"IF($A1409=K$3,AND($A1409=K$3,$D1409<0),0)","v":0},0,{"$f":"IF($A1409=M$3,AND($A1409=M$3,$D1409<0),0)","v":0},0,{"$f":"IF($A1409=O$3,AND($A1409=O$3,$D1409<0),0)","v":0},0,0,0,0,0,0,0,{"$f":"IF($A1409=W$3,AND($A1409=W$3,$D1409<0),0)","v":0},0,{"$f":"IF($A1409=Y$3,AND($A1409=Y$3,$D1409<0),0)","v":0},0,{"$f":"IF($A1409=AA$3,AND($A1409=AA$3,$D1409<0),0)","v":0},0,{"$f":"IF($A1409=AC$3,AND($A1409=AC$3,$D1409<0),0)","v":0},0,0]
[{"$f":"IF(B1412=0,\"\",MONTH(B1412))","v":""},null,null,null,{"$f":"IF(D1412=\"\",\"\",IF(D1412<0,\"DEBITO\",\"CREDITO\"))","v":""},null,false,false,0,{"$f":"IF($A1412=I$3,AND($A1412=I$3,$D1412<0),0)","v":0},0,{"$f":"IF($A1412=K$3,AND($A1412=K$3,$D1412<0),0)","v":0},0,{"$f":"IF($A1412=M$3,AND($A1412=M$3,$D1412<0),0)","v":0},0,{"$f":"IF($A1412=O$3,AND($A1412=O$3,$D1412<0),0)","v":0},0,0,0,0,0,0,0,{"$f":"IF($A1412=W$3,AND($A1412=W$3,$D1412<0),0)","v":0},0,{"$f":"IF($A1412=Y$3,AND($A1412=Y$3,$D1412<0),0)","v":0},0,{"$f":"IF($A1412=AA$3,AND($A1412=AA$3,$D1412<0),0)","v":0},0,{"$f":"IF($A1412=AC$3,AND($A1412=AC$3,$D1412<0),0)","v":0},0,0]
[{"$f":"IF(B1414=0,\"\",MONTH(B1414))","v":""},null,null,null,{"$f":"IF(D1414=\"\",\"\",IF(D1414<0,\"DEBITO\",\"CREDITO\"))","v":""},null,false,false,0,{"$f":"IF($A1414=I$3,AND($A1414=I$3,$D1414<0),0)","v":0},0,{"$f":"IF($A1414=K$3,AND($A1414=K$3,$D1414<0),0)","v":0},0,{"$f":"IF($A1414=M$3,AND($A1414=M$3,$D1414<0),0)","v":0},0,{"$f":"IF($A1414=O$3,AND($A1414=O$3,$D1414<0),0)","v":0},0,0,0,0,0,0,0,{"$f":"IF($A1414=W$3,AND($A1414=W$3,$D1414<0),0)","v":0},0,{"$f":"IF($A1414=Y$3,AND($A1414=Y$3,$D1414<0),0)","v":0},0,{"$f":"IF($A1414=AA$3,AND($A1414=AA$3,$D1414<0),0)","v":0},0,{"$f":"IF($A1414=AC$3,AND($A1414=AC$3,$D1414<0),0)","v":0},0,0]
[{"$f":"IF(B1417=0,\"\",MONTH(B1417))","v":""},null,null,null,{"$f":"IF(D1417=\"\",\"\",IF(D1417<0,\"DEBITO\",\"CREDITO\"))","v":""},null,{"$f":"AND(A1417=$E$3,D1417>0)","v":false},{"$f":"AND(A1417=$E$3,D1417<0)","v":false},0,{"$f":"IF($A1417=I$3,AND($A1417=I$3,$D1417<0),0)","v":0},0,{"$f":"IF($A1417=K$3,AND($A1417=K$3,$D1417<0),0)","v":0},0,{"$f":"IF($A1417=M$3,AND($A1417=M$3,$D1417<0),0)","v":0},0,{"$f":"IF($A1417=O$3,AND($A1417=O$3,$D1417<0),0)","v":0},0,{"$f":"IF($A1417=Q$3,AND($A1417=Q$3,$D1417<0),0)","v":0},0,0,0,0,0,{"$f":"IF($A1417=W$3,AND($A1417=W$3,$D1417<0),0)","v":0},0,{"$f":"IF($A1417=Y$3,AND($A1417=Y$3,$D1417<0),0)","v":0},0,{"$f":"IF($A1417=AA$3,AND($A1417=AA$3,$D1417<0),0)","v":0},0,{"$f":"IF($A1417=AC$3,AND($A1417=AC$3,$D1417<0),0)","v":0},0,{"$f":"IF($A1417=AE$3,AND($A1417=AE$3,$D1417<0),0)","v":0}]
[{"$f":"IF(B1418=0,\"\",MONTH(B1418))","v":""},null,null,null,{"$f":"IF(D1418=\"\",\"\",IF(D1418<0,\"DEBITO\",\"CREDITO\"))","v":""},null,false,false,0,{"$f":"IF($A1418=I$3,AND($A1418=I$3,$D1418<0),0)","v":0},0,{"$f":"IF($A1418=K$3,AND($A1418=K$3,$D1418<0),0)","v":0},0,{"$f":"IF($A1418=M$3,AND($A1418=M$3,$D1418<0),0)","v":0},0,{"$f":"IF($A1418=O$3,AND($A1418=O$3,$D1418<0),0)","v":0},0,0,{"$f":"IF($A1418=S$3,AND($A1418=S$3,$D1418>0),0)","v":0},{"$f":"IF($A1418=S$3,AND($A1418=S$3,$D1418<0),0)","v":0},{"$f":"IF($A1418=U$3,AND($A1418=U$3,$D1418>0),0)","v":0},{"$f":"IF($A1418=U$3,AND($A1418=U$3,$D1418<0),0)","v":0},0,{"$f":"IF($A1418=W$3,AND($A1418=W$3,$D1418<0),0)","v":0},0,{"$f":"IF($A1418=Y$3,AND($A1418=Y$3,$D1418<0),0)","v":0},0,{"$f":"IF($A1418=AA$3,AND($A1418=AA$3,$D1418<0),0)","v":0},0,{"$f":"IF($A1418=AC$3,AND($A1418=AC$3,$D1418<0),0)","v":0},0,0]
[{"$f":"IF(B1421=0,\"\",MONTH(B1421))","v":""},null,null,null,{"$f":"IF(D1421=\"\",\"\",IF(D1421<0,\"DEBITO\",\"CREDITO\"))","v":""},null,false,false,0,{"$f":"IF($A1421=I$3,AND($A1421=I$3,$D1421<0),0)","v":0},0,{"$f":"IF($A1421=K$3,AND($A1421=K$3,$D1421<0),0)","v":0},0,{"$f":"IF($A1421=M$3,AND($A1421=M$3,$D1421<0),0)","v":0},0,{"$f":"IF($A1421=O$3,AND($A1421=O$3,$D1421<0),0)","v":0},0,0,0,0,0,0,0,{"$f":"IF($A1421=W$3,AND($A1421=W$3,$D1421<0),0)","v":0},0,{"$f":"IF($A1421=Y$3,AND($A1421=Y$3,$D1421<0),0)","v":0},0,{"$f":"IF($A1421=AA$3,AND($A1421=AA$3,$D1421<0),0)","v":0},0,{"$f":"IF($A1421=AC$3,AND($A1421=AC$3,$D1421<0),0)","v":0},0,0]
[{"$f":"IF(B1422=0,\"\",MONTH(B1422))","v":""},null,null,null,{"$f":"IF(D1422=\"\",\"\",IF(D1422<0,\"DEBITO\",\"CREDITO\"))","v":""},null,false,false,0,{"$f":"IF($A1422=I$3,AND($A1422=I$3,$D1422<0),0)","v":0},0,{"$f":"IF($A1422=K$3,AND($A1422=K$3,$D1422<0),0)","v":0},0,{"$f":"IF($A1422=M$3,AND($A1422=M$3,$D1422<0),0)","v":0},0,{"$f":"IF($A1422=O$3,AND($A1422=O$3,$D1422<0),0)","v":0},0,0,0,0,0,0,0,{"$f":"IF($A1422=W$3,AND($A1422=W$3,$D1422<0),0)","v":0},0,{"$f":"IF($A1422=Y$3,AND($A1422=Y$3,$D1422<0),0)","v":0},0,{"$f":"IF($A1422=AA$3,AND($A1422=AA$3,$D1422<0),0)","v":0},0,{"$f":"IF($A1422=AC$3,AND($A1422=AC$3,$D1422<0),0)","v":0},0,0]
[{"$f":"IF(B1425=0,\"\",MONTH(B1425))","v":""},null,null,null,{"$f":"IF(D1425=\"\",\"\",IF(D1425<0,\"DEBITO\",\"CREDITO\"))","v":""},null,false,false,0,{"$f":"IF($A1425=I$3,AND($A1425=I$3,$D1425<0),0)","v":0},0,{"$f":"IF($A1425=K$3,AND($A1425=K$3,$D1425<0),0)","v":0},0,{"$f":"IF($A1425=M$3,AND($A1425=M$3,$D1425<0),0)","v":0},0,{"$f":"IF($A1425=O$3,AND($A1425=O$3,$D1425<0),0)","v":0},0,0,0,0,0,0,0,{"$f":"IF($A1425=W$3,AND($A1425=W$3,$D1425<0),0)","v":0},0,{"$f":"IF($A1425=Y$3,AND($A1425=Y$3,$D1425<0),0)","v":0},0,{"$f":"IF($A1425=AA$3,AND($A1425=AA$3,$D1425<0),0)","v":0},0,{"$f":"IF($A1425=AC$3,AND($A1425=AC$3,$D1425<0),0)","v":0},0,0]
[{"$f":"IF(B1426=0,\"\",MONTH(B1426))","v":""},null,null,null,{"$f":"IF(D1426=\"\",\"\",IF(D1426<0,\"DEBITO\",\"CREDITO\"))","v":""},null,false,false,0,{"$f":"IF($A1426=I$3,AND($A1426=I$3,$D1426<0),0)","v":0},0,{"$f":"IF($A1426=K$3,AND($A1426=K$3,$D1426<0),0)","v":0},0,{"$f":"IF($A1426=M$3,AND($A1426=M$3,$D1426<0),0)","v":0},0,{"$f":"IF($A1426=O$3,AND($A1426=O$3,$D1426<0),0)","v":0},0,0,0,0,0,0,0,{"$f":"IF($A1426=W$3,AND($A1426=W$3,$D1426<0),0)","v":0},0,{"$f":"IF($A1426=Y$3,AND($A1426=Y$3,$D1426<0),0)","v":0},0,{"$f":"IF($A1426=AA$3,AND($A1426=AA$3,$D1426<0),0)","v":0},0,{"$f":"IF($A1426=AC$3,AND($A1426=AC$3,$D1426<0),0)","v":0},0,0]
[{"$f":"IF(B1429=0,\"\",MONTH(B1429))","v":""},null,null,null,{"$f":"IF(D1429=\"\",\"\",IF(D1429<0,\"DEBITO\",\"CREDITO\"))","v":""},null,false,false,0,{"$f":"IF($A1429=I$3,AND($A1429=I$3,$D1429<0),0)","v":0},0,{"$f":"IF($A1429=K$3,AND($A1429=K$3,$D1429<0),0)","v":0},0,{"$f":"IF($A1429=M$3,AND($A1429=M$3,$D1429<0),0)","v":0},0,{"$f":"IF($A1429=O$3,AND($A1429=O$3,$D1429<0),0)","v":0},0,0,0,0,0,0,0,{"$f":"IF($A1429=W$3,AND($A1429=W$3,$D1429<0),0)","v":0},0,{"$f":"IF($A1429=Y$3,AND($A1429=Y$3,$D1429<0),0)","v":0},0,{"$f":"IF($A1429=AA$3,AND($A1429=AA$3,$D1429<0),0)","v":0},0,{"$f":"IF($A1429=AC$3,AND($A1429=AC$3,$D1429<0),0)","v":0},0,0]
[{"$f":"IF(B1430=0,\"\",MONTH(B1430))","v":""},null,null,null,{"$f":"IF(D1430=\"\",\"\",IF(D1430<0,\"DEBITO\",\"CREDITO\"))","v":""},null,false,false,0,{"$f":"IF($A1430=I$3,AND($A1430=I$3,$D1430<0),0)","v":0},0,{"$f":"IF($A1430=K$3,AND($A1430=K$3,$D1430<0),0)","v":0},0,{"$f":"IF($A1430=M$3,AND($A1430=M$3,$D1430<0),0)","v":0},0,{"$f":"IF($A1430=O$3,AND($A1430=O$3,$D1430<0),0)","v":0},0,0,0,0,0,0,0,{"$f":"IF($A1430=W$3,AND($A1430=W$3,$D1430<0),0)","v":0},0,{"$f":"IF($A1430=Y$3,AND($A1430=Y$3,$D1430<0),0)","v":0},0,{"$f":"IF($A1430=AA$3,AND($A1430=AA$3,$D1430<0),0)","v":0},0,{"$f":"IF($A1430=AC$3,AND($A1430=AC$3,$D1430<0),0)","v":0},0,0]
[{"$f":"IF(B1433=0,\"\",MONTH(B1433))","v":""},null,null,null,{"$f":"IF(D1433=\"\",\"\",IF(D1433<0,\"DEBITO\",\"CREDITO\"))","v":""},null,false,false,{"$f":"IF($A1433=I$3,AND($A1433=I$3,$D1433>0),0)","v":0},{"$f":"IF($A1433=I$3,AND($A1433=I$3,$D1433<0),0)","v":0},{"$f":"IF($A1433=K$3,AND($A1433=K$3,$D1433>0),0)","v":0},{"$f":"IF($A1433=K$3,AND($A1433=K$3,$D1433<0),0)","v":0},{"$f":"IF($A1433=M$3,AND($A1433=M$3,$D1433>0),0)","v":0},{"$f":"IF($A1433=M$3,AND($A1433=M$3,$D1433<0),0)","v":0},{"$f":"IF($A1433=O$3,AND($A1433=O$3,$D1433>0),0)","v":0},{"$f":"IF($A1433=O$3,AND($A1433=O$3,$D1433<0),0)","v":0},{"$f":"IF($A1433=Q$3,AND($A1433=Q$3,$D1433>0),0)","v":0},0,0,0,0,0,{"$f":"IF($A1433=W$3,AND($A1433=W$3,$D1433>0),0)","v":0},{"$f":"IF($A1433=W$3,AND($A1433=W$3,$D1433<0),0)","v":0},{"$f":"IF($A1433=Y$3,AND($A1433=Y$3,$D1433>0),0)","v":0},{"$f":"IF($A1433=Y$3,AND($A1433=Y$3,$D1433<0),0)","v":0},{"$f":"IF($A1433=AA$3,AND($A1433=AA$3,$D1433>0),0)","v":0},{"$f":"IF($A1433=AA$3,AND($A1433=AA$3,$D1433<0),0)","v":0},{"$f":"IF($A1433=AC$3,AND($A1433=AC$3,$D1433>0),0)","v":0},{"$f":"IF($A1433=AC$3,AND($A1433=AC$3,$D1433<0),0)","v":0},{"$f":"IF($A1433=AE$3,AND($A1433=AE$3,$D1433>0),0)","v":0},0]
[{"$f":"IF(B1434=0,\"\",MONTH(B1434))","v":""},null,null,null,{"$f":"IF(D1434=\"\",\"\",IF(D1434<0,\"DEBITO\",\"CREDITO\"))","v":""},null,false,false,0,{"$f":"IF($A1434=I$3,AND($A1434=I$3,$D1434<0),0)","v":0},0,{"$f":"IF($A1434=K$3,AND($A1434=K$3,$D1434<0),0)","v":0},0,{"$f":"IF($A1434=M$3,AND($A1434=M$3,$D1434<0),0)","v":0},0,{"$f":"IF($A1434=O$3,AND($A1434=O$3,$D1434<0),0)","v":0},0,0,0,0,0,0,0,{"$f":"IF($A1434=W$3,AND($A1434=W$3,$D1434<0),0)","v":0},0,{"$f":"IF($A1434=Y$3,AND($A1434=Y$3,$D1434<0),0)","v":0},0,{"$f":"IF($A1434=AA$3,AND($A1434=AA$3,$D1434<0),0)","v":0},0,{"$f":"IF($A1434=AC$3,AND($A1434=AC$3,$D1434<0),0)","v":0},0,0]
[{"$f":"IF(B1438=0,\"\",MONTH(B1438))","v":""},null,null,null,{"$f":"IF(D1438=\"\",\"\",IF(D1438<0,\"DEBITO\",\"CREDITO\"))","v":""},null,false,false,0,{"$f":"IF($A1438=I$3,AND($A1438=I$3,$D1438<0),0)","v":0},0,{"$f":"IF($A1438=K$3,AND($A1438=K$3,$D1438<0),0)","v":0},0,{"$f":"IF($A1438=M$3,AND($A1438=M$3,$D1438<0),0)","v":0},0,{"$f":"IF($A1438=O$3,AND($A1438=O$3,$D1438<0),0)","v":0},0,0,0,0,0,0,0,{"$f":"IF($A1438=W$3,AND($A1438=W$3,$D1438<0),0)","v":0},0,{"$f":"IF($A1438=Y$3,AND($A1438=Y$3,$D1438<0),0)","v":0},0,{"$f":"IF($A1438=AA$3,AND($A1438=AA$3,$D1438<0),0)","v":0},0,{"$f":"IF($A1438=AC$3,AND($A1438=AC$3,$D1438<0),0)","v":0},0,0]
[{"$f":"IF(B1439=0,\"\",MONTH(B1439))","v":""},null,null,null,{"$f":"IF(D1439=\"\",\"\",IF(D1439<0,\"DEBITO\",\"CREDITO\"))","v":""},null,false,false,0,{"$f":"IF($A1439=I$3,AND($A1439=I$3,$D1439<0),0)","v":0},0,{"$f":"IF($A1439=K$3,AND($A1439=K$3,$D1439<0),0)","v":0},0,{"$f":"IF($A1439=M$3,AND($A1439=M$3,$D1439<0),0)","v":0},0,{"$f":"IF($A1439=O$3,AND($A1439=O$3,$D1439<0),0)","v":0},0,0,0,0,0,0,0,{"$f":"IF($A1439=W$3,AND($A1439=W$3,$D1439<0),0)","v":0},0,{"$f":"IF($A1439=Y$3,AND($A1439=Y$3,$D1439<0),0)","v":0},0,{"$f":"IF($A1439=AA$3,AND($A1439=AA$3,$D1439<0),0)","v":0},0,{"$f":"IF($A1439=AC$3,AND($A1439=AC$3,$D1439<0),0)","v":0},0,0]
[{"$f":"IF(B1442=0,\"\",MONTH(B1442))","v":""},null,null,null,{"$f":"IF(D1442=\"\",\"\",IF(D1442<0,\"DEBITO\",\"CREDITO\"))","v":""},null,false,false,0,{"$f":"IF($A1442=I$3,AND($A1442=I$3,$D1442<0),0)","v":0},0,{"$f":"IF($A1442=K$3,AND($A1442=K$3,$D1442<0),0)","v":0},0,{"$f":"IF($A1442=M$3,AND($A1442=M$3,$D1442<0),0)","v":0},0,{"$f":"IF($A1442=O$3,AND($A1442=O$3,$D1442<0),0)","v":0},0,0,0,0,0,0,0,{"$f":"IF($A1442=W$3,AND($A1442=W$3,$D1442<0),0)","v":0},0,{"$f":"IF($A1442=Y$3,AND($A1442=Y$3,$D1442<0),0)","v":0},0,{"$f":"IF($A1442=AA$3,AND($A1442=AA$3,$D1442<0),0)","v":0},0,{"$f":"IF($A1442=AC$3,AND($A1442=AC$3,$D1442<0),0)","v":0},0,0]
[{"$f":"IF(B1443=0,\"\",MONTH(B1443))","v":""},null,null,null,{"$f":"IF(D1443=\"\",\"\",IF(D1443<0,\"DEBITO\",\"CREDITO\"))","v":""},null,false,false,0,{"$f":"IF($A1443=I$3,AND($A1443=I$3,$D1443<0),0)","v":0},0,{"$f":"IF($A1443=K$3,AND($A1443=K$3,$D1443<0),0)","v":0},0,{"$f":"IF($A1443=M$3,AND($A1443=M$3,$D1443<0),0)","v":0},0,{"$f":"IF($A1443=O$3,AND($A1443=O$3,$D1443<0),0)","v":0},0,0,0,0,0,0,0,{"$f":"IF($A1443=W$3,AND($A1443=W$3,$D1443<0),0)","v":0},0,{"$f":"IF($A1443=Y$3,AND($A1443=Y$3,$D1443<0),0)","v":0},0,{"$f":"IF($A1443=AA$3,AND($A1443=AA$3,$D1443<0),0)","v":0},0,{"$f":"IF($A1443=AC$3,AND($A1443=AC$3,$D1443<0),0)","v":0},0,0]
[{"$f":"IF(B1446=0,\"\",MONTH(B1446))","v":""},null,null,null,{"$f":"IF(D1446=\"\",\"\",IF(D1446<0,\"DEBITO\",\"CREDITO\"))","v":""},null,false,false,0,{"$f":"IF($A1446=I$3,AND($A1446=I$3,$D1446<0),0)","v":0},0,{"$f":"IF($A1446=K$3,AND($A1446=K$3,$D1446<0),0)","v":0},0,{"$f":"IF($A1446=M$3,AND($A1446=M$3,$D1446<0),0)","v":0},0,{"$f":"IF($A1446=O$3,AND($A1446=O$3,$D1446<0),0)","v":0},0,0,0,0,0,0,0,{"$f":"IF($A1446=W$3,AND($A1446=W$3,$D1446<0),0)","v":0},0,{"$f":"IF($A1446=Y$3,AND($A1446=Y$3,$D1446<0),0)","v":0},0,{"$f":"IF($A1446=AA$3,AND($A1446=AA$3,$D1446<0),0)","v":0},0,{"$f":"IF($A1446=AC$3,AND($A1446=AC$3,$D1446<0),0)","v":0},0,0]
[{"$f":"IF(B1447=0,\"\",MONTH(B1447))","v":""},null,null,null,{"$f":"IF(D1447=\"\",\"\",IF(D1447<0,\"DEBITO\",\"CREDITO\"))","v":""},null,false,false,0,{"$f":"IF($A1447=I$3,AND($A1447=I$3,$D1447<0),0)","v":0},0,{"$f":"IF($A1447=K$3,AND($A1447=K$3,$D1447<0),0)","v":0},0,{"$f":"IF($A1447=M$3,AND($A1447=M$3,$D1447<0),0)","v":0},0,{"$f":"IF($A1447=O$3,AND($A1447=O$3,$D1447<0),0)","v":0},0,0,0,0,0,0,0,{"$f":"IF($A1447=W$3,AND($A1447=W$3,$D1447<0),0)","v":0},0,{"$f":"IF($A1447=Y$3,AND($A1447=Y$3,$D1447<0),0)","v":0},0,{"$f":"IF($A1447=AA$3,AND($A1447=AA$3,$D1447<0),0)","v":0},0,{"$f":"IF($A1447=AC$3,AND($A1447=AC$3,$D1447<0),0)","v":0},0,0]
[{"$f":"IF(B1450=0,\"\",MONTH(B1450))","v":""},null,null,null,{"$f":"IF(D1450=\"\",\"\",IF(D1450<0,\"DEBITO\",\"CREDITO\"))","v":""},null,false,false,0,{"$f":"IF($A1450=I$3,AND($A1450=I$3,$D1450<0),0)","v":0},0,{"$f":"IF($A1450=K$3,AND($A1450=K$3,$D1450<0),0)","v":0},0,{"$f":"IF($A1450=M$3,AND($A1450=M$3,$D1450<0),0)","v":0},0,{"$f":"IF($A1450=O$3,AND($A1450=O$3,$D1450<0),0)","v":0},0,0,0,0,0,0,0,{"$f":"IF($A1450=W$3,AND($A1450=W$3,$D1450<0),0)","v":0},0,{"$f":"IF($A1450=Y$3,AND($A1450=Y$3,$D1450<0),0)","v":0},0,{"$f":"IF($A1450=AA$3,AND($A1450=AA$3,$D1450<0),0)","v":0},0,{"$f":"IF($A1450=AC$3,AND($A1450=AC$3,$D1450<0),0)","v":0},0,0]
[{"$f":"IF(B1451=0,\"\",MONTH(B1451))","v":""},null,null,null,{"$f":"IF(D1451=\"\",\"\",IF(D1451<0,\"DEBITO\",\"CREDITO\"))","v":""},null,false,false,0,{"$f":"IF($A1451=I$3,AND($A1451=I$3,$D1451<0),0)","v":0},0,{"$f":"IF($A1451=K$3,AND($A1451=K$3,$D1451<0),0)","v":0},0,{"$f":"IF($A1451=M$3,AND($A1451=M$3,$D1451<0),0)","v":0},0,{"$f":"IF($A1451=O$3,AND($A1451=O$3,$D1451<0),0)","v":0},0,0,0,0,0,0,0,{"$f":"IF($A1451=W$3,AND($A1451=W$3,$D1451<0),0)","v":0},0,{"$f":"IF($A1451=Y$3,AND($A1451=Y$3,$D1451<0),0)","v":0},0,{"$f":"IF($A1451=AA$3,AND($A1451=AA$3,$D1451<0),0)","v":0},0,{"$f":"IF($A1451=AC$3,AND($A1451=AC$3,$D1451<0),0)","v":0},0,0]
[{"$f":"IF(B1454=0,\"\",MONTH(B1454))","v":""},null,null,null,{"$f":"IF(D1454=\"\",\"\",IF(D1454<0,\"DEBITO\",\"CREDITO\"))","v":""},null,false,false,0,{"$f":"IF($A1454=I$3,AND($A1454=I$3,$D1454<0),0)","v":0},0,{"$f":"IF($A1454=K$3,AND($A1454=K$3,$D1454<0),0)","v":0},0,{"$f":"IF($A1454=M$3,AND($A1454=M$3,$D1454<0),0)","v":0},0,{"$f":"IF($A1454=O$3,AND($A1454=O$3,$D1454<0),0)","v":0},0,0,0,0,0,0,0,{"$f":"IF($A1454=W$3,AND($A1454=W$3,$D1454<0),0)","v":0},0,{"$f":"IF($A1454=Y$3,AND($A1454=Y$3,$D1454<0),0)","v":0},0,{"$f":"IF($A1454=AA$3,AND($A1454=AA$3,$D1454<0),0)","v":0},0,{"$f":"IF($A1454=AC$3,AND($A1454=AC$3,$D1454<0),0)","v":0},0,0]
[{"$f":"IF(B1455=0,\"\",MONTH(B1455))","v":""},null,null,null,{"$f":"IF(D1455=\"\",\"\",IF(D1455<0,\"DEBITO\",\"CREDITO\"))","v":""},null,false,false,0,{"$f":"IF($A1455=I$3,AND($A1455=I$3,$D1455<0),0)","v":0},0,{"$f":"IF($A1455=K$3,AND($A1455=K$3,$D1455<0),0)","v":0},0,{"$f":"IF($A1455=M$3,AND($A1455=M$3,$D1455<0),0)","v":0},0,{"$f":"IF($A1455=O$3,AND($A1455=O$3,$D1455<0),0)","v":0},0,0,0,0,0,0,0,{"$f":"IF($A1455=W$3,AND($A1455=W$3,$D1455<0),0)","v":0},0,{"$f":"IF($A1455=Y$3,AND($A1455=Y$3,$D1455<0),0)","v":0},0,{"$f":"IF($A1455=AA$3,AND($A1455=AA$3,$D1455<0),0)","v":0},0,{"$f":"IF($A1455=AC$3,AND($A1455=AC$3,$D1455<0),0)","v":0},0,0]
[{"$f":"IF(B1457=0,\"\",MONTH(B1457))","v":""},null,null,null,{"$f":"IF(D1457=\"\",\"\",IF(D1457<0,\"DEBITO\",\"CREDITO\"))","v":""},null,false,false,0,{"$f":"IF($A1457=I$3,AND($A1457=I$3,$D1457<0),0)","v":0},0,{"$f":"IF($A1457=K$3,AND($A1457=K$3,$D1457<0),0)","v":0},0,{"$f":"IF($A1457=M$3,AND($A1457=M$3,$D1457<0),0)","v":0},0,{"$f":"IF($A1457=O$3,AND($A1457=O$3,$D1457<0),0)","v":0},0,0,0,0,0,0,0,{"$f":"IF($A1457=W$3,AND($A1457=W$3,$D1457<0),0)","v":0},0,{"$f":"IF($A1457=Y$3,AND($A1457=Y$3,$D1457<0),0)","v":0},0,{"$f":"IF($A1457=AA$3,AND($A1457=AA$3,$D1457<0),0)","v":0},0,{"$f":"IF($A1457=AC$3,AND($A1457=AC$3,$D1457<0),0)","v":0},0,0]
[{"$f":"IF(B1460=0,\"\",MONTH(B1460))","v":""},null,null,null,{"$f":"IF(D1460=\"\",\"\",IF(D1460<0,\"DEBITO\",\"CREDITO\"))","v":""},null,false,false,0,{"$f":"IF($A1460=I$3,AND($A1460=I$3,$D1460<0),0)","v":0},0,{"$f":"IF($A1460=K$3,AND($A1460=K$3,$D1460<0),0)","v":0},0,{"$f":"IF($A1460=M$3,AND($A1460=M$3,$D1460<0),0)","v":0},0,{"$f":"IF($A1460=O$3,AND($A1460=O$3,$D1460<0),0)","v":0},0,0,0,0,0,0,0,{"$f":"IF($A1460=W$3,AND($A1460=W$3,$D1460<0),0)","v":0},0,{"$f":"IF($A1460=Y$3,AND($A1460=Y$3,$D1460<0),0)","v":0},0,{"$f":"IF($A1460=AA$3,AND($A1460=AA$3,$D1460<0),0)","v":0},0,{"$f":"IF($A1460=AC$3,AND($A1460=AC$3,$D1460<0),0)","v":0},0,0]
[{"$f":"IF(B1463=0,\"\",MONTH(B1463))","v":""},null,null,null,{"$f":"IF(D1463=\"\",\"\",IF(D1463<0,\"DEBITO\",\"CREDITO\"))","v":""},null,false,false,0,{"$f":"IF($A1463=I$3,AND($A1463=I$3,$D1463<0),0)","v":0},0,{"$f":"IF($A1463=K$3,AND($A1463=K$3,$D1463<0),0)","v":0},0,{"$f":"IF($A1463=M$3,AND($A1463=M$3,$D1463<0),0)","v":0},0,{"$f":"IF($A1463=O$3,AND($A1463=O$3,$D1463<0),0)","v":0},0,0,0,0,0,0,0,{"$f":"IF($A1463=W$3,AND($A1463=W$3,$D1463<0),0)","v":0},0,{"$f":"IF($A1463=Y$3,AND($A1463=Y$3,$D1463<0),0)","v":0},0,{"$f":"IF($A1463=AA$3,AND($A1463=AA$3,$D1463<0),0)","v":0},0,{"$f":"IF($A1463=AC$3,AND($A1463=AC$3,$D1463<0),0)","v":0},0,0]
[{"$f":"IF(B1464=0,\"\",MONTH(B1464))","v":""},null,null,null,{"$f":"IF(D1464=\"\",\"\",IF(D1464<0,\"DEBITO\",\"CREDITO\"))","v":""},null,false,false,0,{"$f":"IF($A1464=I$3,AND($A1464=I$3,$D1464<0),0)","v":0},0,{"$f":"IF($A1464=K$3,AND($A1464=K$3,$D1464<0),0)","v":0},0,{"$f":"IF($A1464=M$3,AND($A1464=M$3,$D1464<0),0)","v":0},0,{"$f":"IF($A1464=O$3,AND($A1464=O$3,$D1464<0),0)","v":0},0,0,0,0,0,0,0,{"$f":"IF($A1464=W$3,AND($A1464=W$3,$D1464<0),0)","v":0},0,{"$f":"IF($A1464=Y$3,AND($A1464=Y$3,$D1464<0),0)","v":0},0,{"$f":"IF($A1464=AA$3,AND($A1464=AA$3,$D1464<0),0)","v":0},0,{"$f":"IF($A1464=AC$3,AND($A1464=AC$3,$D1464<0),0)","v":0},0,0]
[{"$f":"IF(B1467=0,\"\",MONTH(B1467))","v":""},null,null,null,{"$f":"IF(D1467=\"\",\"\",IF(D1467<0,\"DEBITO\",\"CREDITO\"))","v":""},null,false,false,0,{"$f":"IF($A1467=I$3,AND($A1467=I$3,$D1467<0),0)","v":0},0,{"$f":"IF($A1467=K$3,AND($A1467=K$3,$D1467<0),0)","v":0},0,{"$f":"IF($A1467=M$3,AND($A1467=M$3,$D1467<0),0)","v":0},0,{"$f":"IF($A1467=O$3,AND($A1467=O$3,$D1467<0),0)","v":0},0,0,0,0,0,0,0,{"$f":"IF($A1467=W$3,AND($A1467=W$3,$D1467<0),0)","v":0},0,{"$f":"IF($A1467=Y$3,AND($A1467=Y$3,$D1467<0),0)","v":0},0,{"$f":"IF($A1467=AA$3,AND($A1467=AA$3,$D1467<0),0)","v":0},0,{"$f":"IF($A1467=AC$3,AND($A1467=AC$3,$D1467<0),0)","v":0},0,0]
[{"$f":"IF(B1468=0,\"\",MONTH(B1468))","v":""},null,null,null,{"$f":"IF(D1468=\"\",\"\",IF(D1468<0,\"DEBITO\",\"CREDITO\"))","v":""},null,false,false,0,{"$f":"IF($A1468=I$3,AND($A1468=I$3,$D1468<0),0)","v":0},0,{"$f":"IF($A1468=K$3,AND($A1468=K$3,$D1468<0),0)","v":0},0,{"$f":"IF($A1468=M$3,AND($A1468=M$3,$D1468<0),0)","v":0},0,{"$f":"IF($A1468=O$3,AND($A1468=O$3,$D1468<0),0)","v":0},0,0,0,0,0,0,0,{"$f":"IF($A1468=W$3,AND($A1468=W$3,$D1468<0),0)","v":0},0,{"$f":"IF($A1468=Y$3,AND($A1468=Y$3,$D1468<0),0)","v":0},0,{"$f":"IF($A1468=AA$3,AND($A1468=AA$3,$D1468<0),0)","v":0},0,{"$f":"IF($A1468=AC$3,AND($A1468=AC$3,$D1468<0),0)","v":0},0,0]
[{"$f":"IF(B1471=0,\"\",MONTH(B1471))","v":""},null,null,null,{"$f":"IF(D1471=\"\",\"\",IF(D1471<0,\"DEBITO\",\"CREDITO\"))","v":""},null,false,false,0,{"$f":"IF($A1471=I$3,AND($A1471=I$3,$D1471<0),0)","v":0},0,{"$f":"IF($A1471=K$3,AND($A1471=K$3,$D1471<0),0)","v":0},0,{"$f":"IF($A1471=M$3,AND($A1471=M$3,$D1471<0),0)","v":0},0,{"$f":"IF($A1471=O$3,AND($A1471=O$3,$D1471<0),0)","v":0},0,0,0,0,0,0,0,{"$f":"IF($A1471=W$3,AND($A1471=W$3,$D1471<0),0)","v":0},0,{"$f":"IF($A1471=Y$3,AND($A1471=Y$3,$D1471<0),0)","v":0},0,{"$f":"IF($A1471=AA$3,AND($A1471=AA$3,$D1471<0),0)","v":0},0,{"$f":"IF($A1471=AC$3,AND($A1471=AC$3,$D1471<0),0)","v":0},0,0]
[{"$f":"IF(B1472=0,\"\",MONTH(B1472))","v":""},null,null,null,{"$f":"IF(D1472=\"\",\"\",IF(D1472<0,\"DEBITO\",\"CREDITO\"))","v":""},null,false,false,0,{"$f":"IF($A1472=I$3,AND($A1472=I$3,$D1472<0),0)","v":0},0,{"$f":"IF($A1472=K$3,AND($A1472=K$3,$D1472<0),0)","v":0},0,{"$f":"IF($A1472=M$3,AND($A1472=M$3,$D1472<0),0)","v":0},0,{"$f":"IF($A1472=O$3,AND($A1472=O$3,$D1472<0),0)","v":0},0,0,0,0,0,0,0,{"$f":"IF($A1472=W$3,AND($A1472=W$3,$D1472<0),0)","v":0},0,{"$f":"IF($A1472=Y$3,AND($A1472=Y$3,$D1472<0),0)","v":0},0,{"$f":"IF($A1472=AA$3,AND($A1472=AA$3,$D1472<0),0)","v":0},0,{"$f":"IF($A1472=AC$3,AND($A1472=AC$3,$D1472<0),0)","v":0},0,0]
[{"$f":"IF(B1475=0,\"\",MONTH(B1475))","v":""},null,null,null,{"$f":"IF(D1475=\"\",\"\",IF(D1475<0,\"DEBITO\",\"CREDITO\"))","v":""},null,false,false,0,{"$f":"IF($A1475=I$3,AND($A1475=I$3,$D1475<0),0)","v":0},0,{"$f":"IF($A1475=K$3,AND($A1475=K$3,$D1475<0),0)","v":0},0,{"$f":"IF($A1475=M$3,AND($A1475=M$3,$D1475<0),0)","v":0},0,{"$f":"IF($A1475=O$3,AND($A1475=O$3,$D1475<0),0)","v":0},0,0,0,0,0,0,0,{"$f":"IF($A1475=W$3,AND($A1475=W$3,$D1475<0),0)","v":0},0,{"$f":"IF($A1475=Y$3,AND($A1475=Y$3,$D1475<0),0)","v":0},0,{"$f":"IF($A1475=AA$3,AND($A1475=AA$3,$D1475<0),0)","v":0},0,{"$f":"IF($A1475=AC$3,AND($A1475=AC$3,$D1475<0),0)","v":0},0,0]
[{"$f":"IF(B1476=0,\"\",MONTH(B1476))","v":""},null,null,null,{"$f":"IF(D1476=\"\",\"\",IF(D1476<0,\"DEBITO\",\"CREDITO\"))","v":""},null,false,false,0,{"$f":"IF($A1476=I$3,AND($A1476=I$3,$D1476<0),0)","v":0},0,{"$f":"IF($A1476=K$3,AND($A1476=K$3,$D1476<0),0)","v":0},0,{"$f":"IF($A1476=M$3,AND($A1476=M$3,$D1476<0),0)","v":0},0,{"$f":"IF($A1476=O$3,AND($A1476=O$3,$D1476<0),0)","v":0},0,0,0,0,0,0,0,{"$f":"IF($A1476=W$3,AND($A1476=W$3,$D1476<0),0)","v":0},0,{"$f":"IF($A1476=Y$3,AND($A1476=Y$3,$D1476<0),0)","v":0},0,{"$f":"IF($A1476=AA$3,AND($A1476=AA$3,$D1476<0),0)","v":0},0,{"$f":"IF($A1476=AC$3,AND($A1476=AC$3,$D1476<0),0)","v":0},0,0]
[{"$f":"IF(B1479=0,\"\",MONTH(B1479))","v":""},null,null,null,{"$f":"IF(D1479=\"\",\"\",IF(D1479<0,\"DEBITO\",\"CREDITO\"))","v":""},null,false,false,0,{"$f":"IF($A1479=I$3,AND($A1479=I$3,$D1479<0),0)","v":0},0,{"$f":"IF($A1479=K$3,AND($A1479=K$3,$D1479<0),0)","v":0},0,{"$f":"IF($A1479=M$3,AND($A1479=M$3,$D1479<0),0)","v":0},0,{"$f":"IF($A1479=O$3,AND($A1479=O$3,$D1479<0),0)","v":0},0,0,0,0,0,0,0,{"$f":"IF($A1479=W$3,AND($A1479=W$3,$D1479<0),0)","v":0},0,{"$f":"IF($A1479=Y$3,AND($A1479=Y$3,$D1479<0),0)","v":0},0,{"$f":"IF($A1479=AA$3,AND($A1479=AA$3,$D1479<0),0)","v":0},0,{"$f":"IF($A1479=AC$3,AND($A1479=AC$3,$D1479<0),0)","v":0},0,0]
[{"$f":"IF(B1481=0,\"\",MONTH(B1481))","v":""},null,null,null,{"$f":"IF(D1481=\"\",\"\",IF(D1481<0,\"DEBITO\",\"CREDITO\"))","v":""},null,{"$f":"AND(A1481=$E$3,D1481>0)","v":false},{"$f":"AND(A1481=$E$3,D1481<0)","v":false},0,{"$f":"IF($A1481=I$3,AND($A1481=I$3,$D1481<0),0)","v":0},0,{"$f":"IF($A1481=K$3,AND($A1481=K$3,$D1481<0),0)","v":0},0,{"$f":"IF($A1481=M$3,AND($A1481=M$3,$D1481<0),0)","v":0},0,{"$f":"IF($A1481=O$3,AND($A1481=O$3,$D1481<0),0)","v":0},0,{"$f":"IF($A1481=Q$3,AND($A1481=Q$3,$D1481<0),0)","v":0},0,0,0,0,0,{"$f":"IF($A1481=W$3,AND($A1481=W$3,$D1481<0),0)","v":0},0,{"$f":"IF($A1481=Y$3,AND($A1481=Y$3,$D1481<0),0)","v":0},0,{"$f":"IF($A1481=AA$3,AND($A1481=AA$3,$D1481<0),0)","v":0},0,{"$f":"IF($A1481=AC$3,AND($A1481=AC$3,$D1481<0),0)","v":0},0,{"$f":"IF($A1481=AE$3,AND($A1481=AE$3,$D1481<0),0)","v":0}]
[{"$f":"IF(B1484=0,\"\",MONTH(B1484))","v":""},null,null,null,{"$f":"IF(D1484=\"\",\"\",IF(D1484<0,\"DEBITO\",\"CREDITO\"))","v":""},null,false,false,0,{"$f":"IF($A1484=I$3,AND($A1484=I$3,$D1484<0),0)","v":0},0,{"$f":"IF($A1484=K$3,AND($A1484=K$3,$D1484<0),0)","v":0},0,{"$f":"IF($A1484=M$3,AND($A1484=M$3,$D1484<0),0)","v":0},0,{"$f":"IF($A1484=O$3,AND($A1484=O$3,$D1484<0),0)","v":0},0,0,0,0,0,0,0,{"$f":"IF($A1484=W$3,AND($A1484=W$3,$D1484<0),0)","v":0},0,{"$f":"IF($A1484=Y$3,AND($A1484=Y$3,$D1484<0),0)","v":0},0,{"$f":"IF($A1484=AA$3,AND($A1484=AA$3,$D1484<0),0)","v":0},0,{"$f":"IF($A1484=AC$3,AND($A1484=AC$3,$D1484<0),0)","v":0},0,0]
[{"$f":"IF(B1485=0,\"\",MONTH(B1485))","v":""},null,null,null,{"$f":"IF(D1485=\"\",\"\",IF(D1485<0,\"DEBITO\",\"CREDITO\"))","v":""},null,false,false,0,{"$f":"IF($A1485=I$3,AND($A1485=I$3,$D1485<0),0)","v":0},0,{"$f":"IF($A1485=K$3,AND($A1485=K$3,$D1485<0),0)","v":0},0,{"$f":"IF($A1485=M$3,AND($A1485=M$3,$D1485<0),0)","v":0},0,{"$f":"IF($A1485=O$3,AND($A1485=O$3,$D1485<0),0)","v":0},0,0,0,0,0,0,0,{"$f":"IF($A1485=W$3,AND($A1485=W$3,$D1485<0),0)","v":0},0,{"$f":"IF($A1485=Y$3,AND($A1485=Y$3,$D1485<0),0)","v":0},0,{"$f":"IF($A1485=AA$3,AND($A1485=AA$3,$D1485<0),0)","v":0},0,{"$f":"IF($A1485=AC$3,AND($A1485=AC$3,$D1485<0),0)","v":0},0,0]
[{"$f":"IF(B1488=0,\"\",MONTH(B1488))","v":""},null,null,null,{"$f":"IF(D1488=\"\",\"\",IF(D1488<0,\"DEBITO\",\"CREDITO\"))","v":""},null,false,false,0,{"$f":"IF($A1488=I$3,AND($A1488=I$3,$D1488<0),0)","v":0},0,{"$f":"IF($A1488=K$3,AND($A1488=K$3,$D1488<0),0)","v":0},0,{"$f":"IF($A1488=M$3,AND($A1488=M$3,$D1488<0),0)","v":0},0,{"$f":"IF($A1488=O$3,AND($A1488=O$3,$D1488<0),0)","v":0},0,0,0,0,0,0,0,{"$f":"IF($A1488=W$3,AND($A1488=W$3,$D1488<0),0)","v":0},0,{"$f":"IF($A1488=Y$3,AND($A1488=Y$3,$D1488<0),0)","v":0},0,{"$f":"IF($A1488=AA$3,AND($A1488=AA$3,$D1488<0),0)","v":0},0,{"$f":"IF($A1488=AC$3,AND($A1488=AC$3,$D1488<0),0)","v":0},0,0]
[{"$f":"IF(B1489=0,\"\",MONTH(B1489))","v":""},null,null,null,{"$f":"IF(D1489=\"\",\"\",IF(D1489<0,\"DEBITO\",\"CREDITO\"))","v":""},null,false,false,0,{"$f":"IF($A1489=I$3,AND($A1489=I$3,$D1489<0),0)","v":0},0,{"$f":"IF($A1489=K$3,AND($A1489=K$3,$D1489<0),0)","v":0},0,{"$f":"IF($A1489=M$3,AND($A1489=M$3,$D1489<0),0)","v":0},0,{"$f":"IF($A1489=O$3,AND($A1489=O$3,$D1489<0),0)","v":0},0,0,0,0,0,0,0,{"$f":"IF($A1489=W$3,AND($A1489=W$3,$D1489<0),0)","v":0},0,{"$f":"IF($A1489=Y$3,AND($A1489=Y$3,$D1489<0),0)","v":0},0,{"$f":"IF($A1489=AA$3,AND($A1489=AA$3,$D1489<0),0)","v":0},0,{"$f":"IF($A1489=AC$3,AND($A1489=AC$3,$D1489<0),0)","v":0},0,0]
[{"$f":"IF(B1492=0,\"\",MONTH(B1492))","v":""},null,null,null,{"$f":"IF(D1492=\"\",\"\",IF(D1492<0,\"DEBITO\",\"CREDITO\"))","v":""},null,false,false,0,{"$f":"IF($A1492=I$3,AND($A1492=I$3,$D1492<0),0)","v":0},0,{"$f":"IF($A1492=K$3,AND($A1492=K$3,$D1492<0),0)","v":0},0,{"$f":"IF($A1492=M$3,AND($A1492=M$3,$D1492<0),0)","v":0},0,{"$f":"IF($A1492=O$3,AND($A1492=O$3,$D1492<0),0)","v":0},0,0,0,0,0,0,0,{"$f":"IF($A1492=W$3,AND($A1492=W$3,$D1492<0),0)","v":0},0,{"$f":"IF($A1492=Y$3,AND($A1492=Y$3,$D1492<0),0)","v":0},0,{"$f":"IF($A1492=AA$3,AND($A1492=AA$3,$D1492<0),0)","v":0},0,{"$f":"IF($A1492=AC$3,AND($A1492=AC$3,$D1492<0),0)","v":0},0,0]
[{"$f":"IF(B1493=0,\"\",MONTH(B1493))","v":""},null,null,null,{"$f":"IF(D1493=\"\",\"\",IF(D1493<0,\"DEBITO\",\"CREDITO\"))","v":""},null,false,false,0,{"$f":"IF($A1493=I$3,AND($A1493=I$3,$D1493<0),0)","v":0},0,{"$f":"IF($A1493=K$3,AND($A1493=K$3,$D1493<0),0)","v":0},0,{"$f":"IF($A1493=M$3,AND($A1493=M$3,$D1493<0),0)","v":0},0,{"$f":"IF($A1493=O$3,AND($A1493=O$3,$D1493<0),0)","v":0},0,0,0,0,0,0,0,{"$f":"IF($A1493=W$3,AND($A1493=W$3,$D1493<0),0)","v":0},0,{"$f":"IF($A1493=Y$3,AND($A1493=Y$3,$D1493<0),0)","v":0},0,{"$f":"IF($A1493=AA$3,AND($A1493=AA$3,$D1493<0),0)","v":0},0,{"$f":"IF($A1493=AC$3,AND($A1493=AC$3,$D1493<0),0)","v":0},0,0]
[{"$f":"IF(B1496=0,\"\",MONTH(B1496))","v":""},null,null,null,{"$f":"IF(D1496=\"\",\"\",IF(D1496<0,\"DEBITO\",\"CREDITO\"))","v":""},null,false,false,0,{"$f":"IF($A1496=I$3,AND($A1496=I$3,$D1496<0),0)","v":0},0,{"$f":"IF($A1496=K$3,AND($A1496=K$3,$D1496<0),0)","v":0},0,{"$f":"IF($A1496=M$3,AND($A1496=M$3,$D1496<0),0)","v":0},0,{"$f":"IF($A1496=O$3,AND($A1496=O$3,$D1496<0),0)","v":0},0,0,0,0,0,0,0,{"$f":"IF($A1496=W$3,AND($A1496=W$3,$D1496<0),0)","v":0},0,{"$f":"IF($A1496=Y$3,AND($A1496=Y$3,$D1496<0),0)","v":0},0,{"$f":"IF($A1496=AA$3,AND($A1496=AA$3,$D1496<0),0)","v":0},0,{"$f":"IF($A1496=AC$3,AND($A1496=AC$3,$D1496<0),0)","v":0},0,0]
[{"$f":"IF(B1497=0,\"\",MONTH(B1497))","v":""},null,null,null,{"$f":"IF(D1497=\"\",\"\",IF(D1497<0,\"DEBITO\",\"CREDITO\"))","v":""},null,false,false,{"$f":"IF($A1497=I$3,AND($A1497=I$3,$D1497>0),0)","v":0},{"$f":"IF($A1497=I$3,AND($A1497=I$3,$D1497<0),0)","v":0},{"$f":"IF($A1497=K$3,AND($A1497=K$3,$D1497>0),0)","v":0},{"$f":"IF($A1497=K$3,AND($A1497=K$3,$D1497<0),0)","v":0},{"$f":"IF($A1497=M$3,AND($A1497=M$3,$D1497>0),0)","v":0},{"$f":"IF($A1497=M$3,AND($A1497=M$3,$D1497<0),0)","v":0},{"$f":"IF($A1497=O$3,AND($A1497=O$3,$D1497>0),0)","v":0},{"$f":"IF($A1497=O$3,AND($A1497=O$3,$D1497<0),0)","v":0},{"$f":"IF($A1497=Q$3,AND($A1497=Q$3,$D1497>0),0)","v":0},0,0,0,0,0,{"$f":"IF($A1497=W$3,AND($A1497=W$3,$D1497>0),0)","v":0},{"$f":"IF($A1497=W$3,AND($A1497=W$3,$D1497<0),0)","v":0},{"$f":"IF($A1497=Y$3,AND($A1497=Y$3,$D1497>0),0)","v":0},{"$f":"IF($A1497=Y$3,AND($A1497=Y$3,$D1497<0),0)","v":0},{"$f":"IF($A1497=AA$3,AND($A1497=AA$3,$D1497>0),0)","v":0},{"$f":"IF($A1497=AA$3,AND($A1497=AA$3,$D1497<0),0)","v":0},{"$f":"IF($A1497=AC$3,AND($A1497=AC$3,$D1497>0),0)","v":0},{"$f":"IF($A1497=AC$3,AND($A1497=AC$3,$D1497<0),0)","v":0},{"$f":"IF($A1497=AE$3,AND($A1497=AE$3,$D1497>0),0)","v":0},0]
[{"$f":"IF(B1500=0,\"\",MONTH(B1500))","v":""},null,null,null,{"$f":"IF(D1500=\"\",\"\",IF(D1500<0,\"DEBITO\",\"CREDITO\"))","v":""},null,false,false,0,{"$f":"IF($A1500=I$3,AND($A1500=I$3,$D1500<0),0)","v":0},0,{"$f":"IF($A1500=K$3,AND($A1500=K$3,$D1500<0),0)","v":0},0,{"$f":"IF($A1500=M$3,AND($A1500=M$3,$D1500<0),0)","v":0},0,{"$f":"IF($A1500=O$3,AND($A1500=O$3,$D1500<0),0)","v":0},0,0,0,0,0,0,0,{"$f":"IF($A1500=W$3,AND($A1500=W$3,$D1500<0),0)","v":0},0,{"$f":"IF($A1500=Y$3,AND($A1500=Y$3,$D1500<0),0)","v":0},0,{"$f":"IF($A1500=AA$3,AND($A1500=AA$3,$D1500<0),0)","v":0},0,{"$f":"IF($A1500=AC$3,AND($A1500=AC$3,$D1500<0),0)","v":0},0,0]
[{"$f":"IF(B1503=0,\"\",MONTH(B1503))","v":""},null,null,null,{"$f":"IF(D1503=\"\",\"\",IF(D1503<0,\"DEBITO\",\"CREDITO\"))","v":""},null,false,false,0,{"$f":"IF($A1503=I$3,AND($A1503=I$3,$D1503<0),0)","v":0},0,{"$f":"IF($A1503=K$3,AND($A1503=K$3,$D1503<0),0)","v":0},0,{"$f":"IF($A1503=M$3,AND($A1503=M$3,$D1503<0),0)","v":0},0,{"$f":"IF($A1503=O$3,AND($A1503=O$3,$D1503<0),0)","v":0},0,0,0,0,0,0,0,{"$f":"IF($A1503=W$3,AND($A1503=W$3,$D1503<0),0)","v":0},0,{"$f":"IF($A1503=Y$3,AND($A1503=Y$3,$D1503<0),0)","v":0},0,{"$f":"IF($A1503=AA$3,AND($A1503=AA$3,$D1503<0),0)","v":0},0,{"$f":"IF($A1503=AC$3,AND($A1503=AC$3,$D1503<0),0)","v":0},0,0]
[{"$f":"IF(B1505=0,\"\",MONTH(B1505))","v":""},null,null,null,{"$f":"IF(D1505=\"\",\"\",IF(D1505<0,\"DEBITO\",\"CREDITO\"))","v":""},null,false,false,0,{"$f":"IF($A1505=I$3,AND($A1505=I$3,$D1505<0),0)","v":0},0,{"$f":"IF($A1505=K$3,AND($A1505=K$3,$D1505<0),0)","v":0},0,{"$f":"IF($A1505=M$3,AND($A1505=M$3,$D1505<0),0)","v":0},0,{"$f":"IF($A1505=O$3,AND($A1505=O$3,$D1505<0),0)","v":0},0,0,0,0,0,0,0,{"$f":"IF($A1505=W$3,AND($A1505=W$3,$D1505<0),0)","v":0},0,{"$f":"IF($A1505=Y$3,AND($A1505=Y$3,$D1505<0),0)","v":0},0,{"$f":"IF($A1505=AA$3,AND($A1505=AA$3,$D1505<0),0)","v":0},0,{"$f":"IF($A1505=AC$3,AND($A1505=AC$3,$D1505<0),0)","v":0},0,0]
[{"$f":"IF(B1506=0,\"\",MONTH(B1506))","v":""},null,null,null,{"$f":"IF(D1506=\"\",\"\",IF(D1506<0,\"DEBITO\",\"CREDITO\"))","v":""},null,false,false,0,{"$f":"IF($A1506=I$3,AND($A1506=I$3,$D1506<0),0)","v":0},0,{"$f":"IF($A1506=K$3,AND($A1506=K$3,$D1506<0),0)","v":0},0,{"$f":"IF($A1506=M$3,AND($A1506=M$3,$D1506<0),0)","v":0},0,{"$f":"IF($A1506=O$3,AND($A1506=O$3,$D1506<0),0)","v":0},0,0,0,0,0,0,0,{"$f":"IF($A1506=W$3,AND($A1506=W$3,$D1506<0),0)","v":0},0,{"$f":"IF($A1506=Y$3,AND($A1506=Y$3,$D1506<0),0)","v":0},0,{"$f":"IF($A1506=AA$3,AND($A1506=AA$3,$D1506<0),0)","v":0},0,{"$f":"IF($A1506=AC$3,AND($A1506=AC$3,$D1506<0),0)","v":0},0,0]
[{"$f":"IF(B1509=0,\"\",MONTH(B1509))","v":""},null,null,null,{"$f":"IF(D1509=\"\",\"\",IF(D1509<0,\"DEBITO\",\"CREDITO\"))","v":""},null,false,false,0,{"$f":"IF($A1509=I$3,AND($A1509=I$3,$D1509<0),0)","v":0},0,{"$f":"IF($A1509=K$3,AND($A1509=K$3,$D1509<0),0)","v":0},0,{"$f":"IF($A1509=M$3,AND($A1509=M$3,$D1509<0),0)","v":0},0,{"$f":"IF($A1509=O$3,AND($A1509=O$3,$D1509<0),0)","v":0},0,0,0,0,0,0,0,{"$f":"IF($A1509=W$3,AND($A1509=W$3,$D1509<0),0)","v":0},0,{"$f":"IF($A1509=Y$3,AND($A1509=Y$3,$D1509<0),0)","v":0},0,{"$f":"IF($A1509=AA$3,AND($A1509=AA$3,$D1509<0),0)","v":0},0,{"$f":"IF($A1509=AC$3,AND($A1509=AC$3,$D1509<0),0)","v":0},0,0]
[{"$f":"IF(B1510=0,\"\",MONTH(B1510))","v":""},null,null,null,{"$f":"IF(D1510=\"\",\"\",IF(D1510<0,\"DEBITO\",\"CREDITO\"))","v":""},null,false,false,0,{"$f":"IF($A1510=I$3,AND($A1510=I$3,$D1510<0),0)","v":0},0,{"$f":"IF($A1510=K$3,AND($A1510=K$3,$D1510<0),0)","v":0},0,{"$f":"IF($A1510=M$3,AND($A1510=M$3,$D1510<0),0)","v":0},0,{"$f":"IF($A1510=O$3,AND($A1510=O$3,$D1510<0),0)","v":0},0,0,0,0,0,0,0,{"$f":"IF($A1510=W$3,AND($A1510=W$3,$D1510<0),0)","v":0},0,{"$f":"IF($A1510=Y$3,AND($A1510=Y$3,$D1510<0),0)","v":0},0,{"$f":"IF($A1510=AA$3,AND($A1510=AA$3,$D1510<0),0)","v":0},0,{"$f":"IF($A1510=AC$3,AND($A1510=AC$3,$D1510<0),0)","v":0},0,0]
[{"$f":"IF(B1513=0,\"\",MONTH(B1513))","v":""},null,null,null,{"$f":"IF(D1513=\"\",\"\",IF(D1513<0,\"DEBITO\",\"CREDITO\"))","v":""},null,false,false,0,{"$f":"IF($A1513=I$3,AND($A1513=I$3,$D1513<0),0)","v":0},0,{"$f":"IF($A1513=K$3,AND($A1513=K$3,$D1513<0),0)","v":0},0,{"$f":"IF($A1513=M$3,AND($A1513=M$3,$D1513<0),0)","v":0},0,{"$f":"IF($A1513=O$3,AND($A1513=O$3,$D1513<0),0)","v":0},0,0,0,0,0,0,0,{"$f":"IF($A1513=W$3,AND($A1513=W$3,$D1513<0),0)","v":0},0,{"$f":"IF($A1513=Y$3,AND($A1513=Y$3,$D1513<0),0)","v":0},0,{"$f":"IF($A1513=AA$3,AND($A1513=AA$3,$D1513<0),0)","v":0},0,{"$f":"IF($A1513=AC$3,AND($A1513=AC$3,$D1513<0),0)","v":0},0,0]
[{"$f":"IF(B1514=0,\"\",MONTH(B1514))","v":""},null,null,null,{"$f":"IF(D1514=\"\",\"\",IF(D1514<0,\"DEBITO\",\"CREDITO\"))","v":""},null,false,false,0,{"$f":"IF($A1514=I$3,AND($A1514=I$3,$D1514<0),0)","v":0},0,{"$f":"IF($A1514=K$3,AND($A1514=K$3,$D1514<0),0)","v":0},0,{"$f":"IF($A1514=M$3,AND($A1514=M$3,$D1514<0),0)","v":0},0,{"$f":"IF($A1514=O$3,AND($A1514=O$3,$D1514<0),0)","v":0},0,0,0,0,0,0,0,{"$f":"IF($A1514=W$3,AND($A1514=W$3,$D1514<0),0)","v":0},0,{"$f":"IF($A1514=Y$3,AND($A1514=Y$3,$D1514<0),0)","v":0},0,{"$f":"IF($A1514=AA$3,AND($A1514=AA$3,$D1514<0),0)","v":0},0,{"$f":"IF($A1514=AC$3,AND($A1514=AC$3,$D1514<0),0)","v":0},0,0]
[{"$f":"IF(B1517=0,\"\",MONTH(B1517))","v":""},null,null,null,{"$f":"IF(D1517=\"\",\"\",IF(D1517<0,\"DEBITO\",\"CREDITO\"))","v":""},null,false,false,0,{"$f":"IF($A1517=I$3,AND($A1517=I$3,$D1517<0),0)","v":0},0,{"$f":"IF($A1517=K$3,AND($A1517=K$3,$D1517<0),0)","v":0},0,{"$f":"IF($A1517=M$3,AND($A1517=M$3,$D1517<0),0)","v":0},0,{"$f":"IF($A1517=O$3,AND($A1517=O$3,$D1517<0),0)","v":0},0,0,0,0,0,0,0,{"$f":"IF($A1517=W$3,AND($A1517=W$3,$D1517<0),0)","v":0},0,{"$f":"IF($A1517=Y$3,AND($A1517=Y$3,$D1517<0),0)","v":0},0,{"$f":"IF($A1517=AA$3,AND($A1517=AA$3,$D1517<0),0)","v":0},0,{"$f":"IF($A1517=AC$3,AND($A1517=AC$3,$D1517<0),0)","v":0},0,0]
[{"$f":"IF(B1518=0,\"\",MONTH(B1518))","v":""},null,null,null,{"$f":"IF(D1518=\"\",\"\",IF(D1518<0,\"DEBITO\",\"CREDITO\"))","v":""},null,false,false,0,{"$f":"IF($A1518=I$3,AND($A1518=I$3,$D1518<0),0)","v":0},0,{"$f":"IF($A1518=K$3,AND($A1518=K$3,$D1518<0),0)","v":0},0,{"$f":"IF($A1518=M$3,AND($A1518=M$3,$D1518<0),0)","v":0},0,{"$f":"IF($A1518=O$3,AND($A1518=O$3,$D1518<0),0)","v":0},0,0,0,0,0,0,0,{"$f":"IF($A1518=W$3,AND($A1518=W$3,$D1518<0),0)","v":0},0,{"$f":"IF($A1518=Y$3,AND($A1518=Y$3,$D1518<0),0)","v":0},0,{"$f":"IF($A1518=AA$3,AND($A1518=AA$3,$D1518<0),0)","v":0},0,{"$f":"IF($A1518=AC$3,AND($A1518=AC$3,$D1518<0),0)","v":0},0,0]
[{"$f":"IF(B1521=0,\"\",MONTH(B1521))","v":""},null,null,null,{"$f":"IF(D1521=\"\",\"\",IF(D1521<0,\"DEBITO\",\"CREDITO\"))","v":""},null,false,false,0,{"$f":"IF($A1521=I$3,AND($A1521=I$3,$D1521<0),0)","v":0},0,{"$f":"IF($A1521=K$3,AND($A1521=K$3,$D1521<0),0)","v":0},0,{"$f":"IF($A1521=M$3,AND($A1521=M$3,$D1521<0),0)","v":0},0,{"$f":"IF($A1521=O$3,AND($A1521=O$3,$D1521<0),0)","v":0},0,0,0,0,0,0,0,{"$f":"IF($A1521=W$3,AND($A1521=W$3,$D1521<0),0)","v":0},0,{"$f":"IF($A1521=Y$3,AND($A1521=Y$3,$D1521<0),0)","v":0},0,{"$f":"IF($A1521=AA$3,AND($A1521=AA$3,$D1521<0),0)","v":0},0,{"$f":"IF($A1521=AC$3,AND($A1521=AC$3,$D1521<0),0)","v":0},0,0]
[{"$f":"IF(B1522=0,\"\",MONTH(B1522))","v":""},null,null,null,{"$f":"IF(D1522=\"\",\"\",IF(D1522<0,\"DEBITO\",\"CREDITO\"))","v":""},null,false,false,0,{"$f":"IF($A1522=I$3,AND($A1522=I$3,$D1522<0),0)","v":0},0,{"$f":"IF($A1522=K$3,AND($A1522=K$3,$D1522<0),0)","v":0},0,{"$f":"IF($A1522=M$3,AND($A1522=M$3,$D1522<0),0)","v":0},0,{"$f":"IF($A1522=O$3,AND($A1522=O$3,$D1522<0),0)","v":0},0,0,0,0,0,0,0,{"$f":"IF($A1522=W$3,AND($A1522=W$3,$D1522<0),0)","v":0},0,{"$f":"IF($A1522=Y$3,AND($A1522=Y$3,$D1522<0),0)","v":0},0,{"$f":"IF($A1522=AA$3,AND($A1522=AA$3,$D1522<0),0)","v":0},0,{"$f":"IF($A1522=AC$3,AND($A1522=AC$3,$D1522<0),0)","v":0},0,0]
[{"$f":"IF(B1526=0,\"\",MONTH(B1526))","v":""},null,null,null,{"$f":"IF(D1526=\"\",\"\",IF(D1526<0,\"DEBITO\",\"CREDITO\"))","v":""},null,false,false,0,{"$f":"IF($A1526=I$3,AND($A1526=I$3,$D1526<0),0)","v":0},0,{"$f":"IF($A1526=K$3,AND($A1526=K$3,$D1526<0),0)","v":0},0,{"$f":"IF($A1526=M$3,AND($A1526=M$3,$D1526<0),0)","v":0},0,{"$f":"IF($A1526=O$3,AND($A1526=O$3,$D1526<0),0)","v":0},0,0,0,0,0,0,0,{"$f":"IF($A1526=W$3,AND($A1526=W$3,$D1526<0),0)","v":0},0,{"$f":"IF($A1526=Y$3,AND($A1526=Y$3,$D1526<0),0)","v":0},0,{"$f":"IF($A1526=AA$3,AND($A1526=AA$3,$D1526<0),0)","v":0},0,{"$f":"IF($A1526=AC$3,AND($A1526=AC$3,$D1526<0),0)","v":0},0,0]
[{"$f":"IF(B1527=0,\"\",MONTH(B1527))","v":""},null,null,null,{"$f":"IF(D1527=\"\",\"\",IF(D1527<0,\"DEBITO\",\"CREDITO\"))","v":""},null,false,false,0,{"$f":"IF($A1527=I$3,AND($A1527=I$3,$D1527<0),0)","v":0},0,{"$f":"IF($A1527=K$3,AND($A1527=K$3,$D1527<0),0)","v":0},0,{"$f":"IF($A1527=M$3,AND($A1527=M$3,$D1527<0),0)","v":0},0,{"$f":"IF($A1527=O$3,AND($A1527=O$3,$D1527<0),0)","v":0},0,0,0,0,0,0,0,{"$f":"IF($A1527=W$3,AND($A1527=W$3,$D1527<0),0)","v":0},0,{"$f":"IF($A1527=Y$3,AND($A1527=Y$3,$D1527<0),0)","v":0},0,{"$f":"IF($A1527=AA$3,AND($A1527=AA$3,$D1527<0),0)","v":0},0,{"$f":"IF($A1527=AC$3,AND($A1527=AC$3,$D1527<0),0)","v":0},0,0]
[{"$f":"IF(B1530=0,\"\",MONTH(B1530))","v":""},null,null,null,{"$f":"IF(D1530=\"\",\"\",IF(D1530<0,\"DEBITO\",\"CREDITO\"))","v":""},null,false,false,0,{"$f":"IF($A1530=I$3,AND($A1530=I$3,$D1530<0),0)","v":0},0,{"$f":"IF($A1530=K$3,AND($A1530=K$3,$D1530<0),0)","v":0},0,{"$f":"IF($A1530=M$3,AND($A1530=M$3,$D1530<0),0)","v":0},0,{"$f":"IF($A1530=O$3,AND($A1530=O$3,$D1530<0),0)","v":0},0,0,0,0,0,0,0,{"$f":"IF($A1530=W$3,AND($A1530=W$3,$D1530<0),0)","v":0},0,{"$f":"IF($A1530=Y$3,AND($A1530=Y$3,$D1530<0),0)","v":0},0,{"$f":"IF($A1530=AA$3,AND($A1530=AA$3,$D1530<0),0)","v":0},0,{"$f":"IF($A1530=AC$3,AND($A1530=AC$3,$D1530<0),0)","v":0},0,0]
[{"$f":"IF(B1531=0,\"\",MONTH(B1531))","v":""},null,null,null,{"$f":"IF(D1531=\"\",\"\",IF(D1531<0,\"DEBITO\",\"CREDITO\"))","v":""},null,false,false,0,{"$f":"IF($A1531=I$3,AND($A1531=I$3,$D1531<0),0)","v":0},0,{"$f":"IF($A1531=K$3,AND($A1531=K$3,$D1531<0),0)","v":0},0,{"$f":"IF($A1531=M$3,AND($A1531=M$3,$D1531<0),0)","v":0},0,{"$f":"IF($A1531=O$3,AND($A1531=O$3,$D1531<0),0)","v":0},0,0,0,0,0,0,0,{"$f":"IF($A1531=W$3,AND($A1531=W$3,$D1531<0),0)","v":0},0,{"$f":"IF($A1531=Y$3,AND($A1531=Y$3,$D1531<0),0)","v":0},0,{"$f":"IF($A1531=AA$3,AND($A1531=AA$3,$D1531<0),0)","v":0},0,{"$f":"IF($A1531=AC$3,AND($A1531=AC$3,$D1531<0),0)","v":0},0,0]
[{"$f":"IF(B1534=0,\"\",MONTH(B1534))","v":""},null,null,null,{"$f":"IF(D1534=\"\",\"\",IF(D1534<0,\"DEBITO\",\"CREDITO\"))","v":""},null,false,false,0,{"$f":"IF($A1534=I$3,AND($A1534=I$3,$D1534<0),0)","v":0},0,{"$f":"IF($A1534=K$3,AND($A1534=K$3,$D1534<0),0)","v":0},0,{"$f":"IF($A1534=M$3,AND($A1534=M$3,$D1534<0),0)","v":0},0,{"$f":"IF($A1534=O$3,AND($A1534=O$3,$D1534<0),0)","v":0},0,0,0,0,0,0,0,{"$f":"IF($A1534=W$3,AND($A1534=W$3,$D1534<0),0)","v":0},0,{"$f":"IF($A1534=Y$3,AND($A1534=Y$3,$D1534<0),0)","v":0},0,{"$f":"IF($A1534=AA$3,AND($A1534=AA$3,$D1534<0),0)","v":0},0,{"$f":"IF($A1534=AC$3,AND($A1534=AC$3,$D1534<0),0)","v":0},0,0]
[{"$f":"IF(B1535=0,\"\",MONTH(B1535))","v":""},null,null,null,{"$f":"IF(D1535=\"\",\"\",IF(D1535<0,\"DEBITO\",\"CREDITO\"))","v":""},null,false,false,0,{"$f":"IF($A1535=I$3,AND($A1535=I$3,$D1535<0),0)","v":0},0,{"$f":"IF($A1535=K$3,AND($A1535=K$3,$D1535<0),0)","v":0},0,{"$f":"IF($A1535=M$3,AND($A1535=M$3,$D1535<0),0)","v":0},0,{"$f":"IF($A1535=O$3,AND($A1535=O$3,$D1535<0),0)","v":0},0,0,0,0,0,0,0,{"$f":"IF($A1535=W$3,AND($A1535=W$3,$D1535<0),0)","v":0},0,{"$f":"IF($A1535=Y$3,AND($A1535=Y$3,$D1535<0),0)","v":0},0,{"$f":"IF($A1535=AA$3,AND($A1535=AA$3,$D1535<0),0)","v":0},0,{"$f":"IF($A1535=AC$3,AND($A1535=AC$3,$D1535<0),0)","v":0},0,0]
[{"$f":"IF(B1538=0,\"\",MONTH(B1538))","v":""},null,null,null,{"$f":"IF(D1538=\"\",\"\",IF(D1538<0,\"DEBITO\",\"CREDITO\"))","v":""},null,false,false,0,{"$f":"IF($A1538=I$3,AND($A1538=I$3,$D1538<0),0)","v":0},0,{"$f":"IF($A1538=K$3,AND($A1538=K$3,$D1538<0),0)","v":0},0,{"$f":"IF($A1538=M$3,AND($A1538=M$3,$D1538<0),0)","v":0},0,{"$f":"IF($A1538=O$3,AND($A1538=O$3,$D1538<0),0)","v":0},0,0,0,0,0,0,0,{"$f":"IF($A1538=W$3,AND($A1538=W$3,$D1538<0),0)","v":0},0,{"$f":"IF($A1538=Y$3,AND($A1538=Y$3,$D1538<0),0)","v":0},0,{"$f":"IF($A1538=AA$3,AND($A1538=AA$3,$D1538<0),0)","v":0},0,{"$f":"IF($A1538=AC$3,AND($A1538=AC$3,$D1538<0),0)","v":0},0,0]
[{"$f":"IF(B1539=0,\"\",MONTH(B1539))","v":""},null,null,null,{"$f":"IF(D1539=\"\",\"\",IF(D1539<0,\"DEBITO\",\"CREDITO\"))","v":""},null,false,false,0,{"$f":"IF($A1539=I$3,AND($A1539=I$3,$D1539<0),0)","v":0},0,{"$f":"IF($A1539=K$3,AND($A1539=K$3,$D1539<0),0)","v":0},0,{"$f":"IF($A1539=M$3,AND($A1539=M$3,$D1539<0),0)","v":0},0,{"$f":"IF($A1539=O$3,AND($A1539=O$3,$D1539<0),0)","v":0},0,0,0,0,0,0,0,{"$f":"IF($A1539=W$3,AND($A1539=W$3,$D1539<0),0)","v":0},0,{"$f":"IF($A1539=Y$3,AND($A1539=Y$3,$D1539<0),0)","v":0},0,{"$f":"IF($A1539=AA$3,AND($A1539=AA$3,$D1539<0),0)","v":0},0,{"$f":"IF($A1539=AC$3,AND($A1539=AC$3,$D1539<0),0)","v":0},0,0]
[{"$f":"IF(B1542=0,\"\",MONTH(B1542))","v":""},null,null,null,{"$f":"IF(D1542=\"\",\"\",IF(D1542<0,\"DEBITO\",\"CREDITO\"))","v":""},null,false,false,0,{"$f":"IF($A1542=I$3,AND($A1542=I$3,$D1542<0),0)","v":0},0,{"$f":"IF($A1542=K$3,AND($A1542=K$3,$D1542<0),0)","v":0},0,{"$f":"IF($A1542=M$3,AND($A1542=M$3,$D1542<0),0)","v":0},0,{"$f":"IF($A1542=O$3,AND($A1542=O$3,$D1542<0),0)","v":0},0,0,0,0,0,0,0,{"$f":"IF($A1542=W$3,AND($A1542=W$3,$D1542<0),0)","v":0},0,{"$f":"IF($A1542=Y$3,AND($A1542=Y$3,$D1542<0),0)","v":0},0,{"$f":"IF($A1542=AA$3,AND($A1542=AA$3,$D1542<0),0)","v":0},0,{"$f":"IF($A1542=AC$3,AND($A1542=AC$3,$D1542<0),0)","v":0},0,0]
[{"$f":"IF(B1543=0,\"\",MONTH(B1543))","v":""},null,null,null,{"$f":"IF(D1543=\"\",\"\",IF(D1543<0,\"DEBITO\",\"CREDITO\"))","v":""},null,false,false,0,{"$f":"IF($A1543=I$3,AND($A1543=I$3,$D1543<0),0)","v":0},0,{"$f":"IF($A1543=K$3,AND($A1543=K$3,$D1543<0),0)","v":0},0,{"$f":"IF($A1543=M$3,AND($A1543=M$3,$D1543<0),0)","v":0},0,{"$f":"IF($A1543=O$3,AND($A1543=O$3,$D1543<0),0)","v":0},0,0,0,0,0,0,0,{"$f":"IF($A1543=W$3,AND($A1543=W$3,$D1543<0),0)","v":0},0,{"$f":"IF($A1543=Y$3,AND($A1543=Y$3,$D1543<0),0)","v":0},0,{"$f":"IF($A1543=AA$3,AND($A1543=AA$3,$D1543<0),0)","v":0},0,{"$f":"IF($A1543=AC$3,AND($A1543=AC$3,$D1543<0),0)","v":0},0,0]
[{"$f":"IF(B1546=0,\"\",MONTH(B1546))","v":""},null,null,null,{"$f":"IF(D1546=\"\",\"\",IF(D1546<0,\"DEBITO\",\"CREDITO\"))","v":""},null,false,false,0,{"$f":"IF($A1546=I$3,AND($A1546=I$3,$D1546<0),0)","v":0},0,{"$f":"IF($A1546=K$3,AND($A1546=K$3,$D1546<0),0)","v":0},0,{"$f":"IF($A1546=M$3,AND($A1546=M$3,$D1546<0),0)","v":0},0,{"$f":"IF($A1546=O$3,AND($A1546=O$3,$D1546<0),0)","v":0},0,0,{"$f":"IF($A1546=S$3,AND($A1546=S$3,$D1546>0),0)","v":0},{"$f":"IF($A1546=S$3,AND($A1546=S$3,$D1546<0),0)","v":0},{"$f":"IF($A1546=U$3,AND($A1546=U$3,$D1546>0),0)","v":0},{"$f":"IF($A1546=U$3,AND($A1546=U$3,$D1546<0),0)","v":0},0,{"$f":"IF($A1546=W$3,AND($A1546=W$3,$D1546<0),0)","v":0},0,{"$f":"IF($A1546=Y$3,AND($A1546=Y$3,$D1546<0),0)","v":0},0,{"$f":"IF($A1546=AA$3,AND($A1546=AA$3,$D1546<0),0)","v":0},0,{"$f":"IF($A1546=AC$3,AND($A1546=AC$3,$D1546<0),0)","v":0},0,0]
[{"$f":"IF(B1548=0,\"\",MONTH(B1548))","v":""},null,null,null,{"$f":"IF(D1548=\"\",\"\",IF(D1548<0,\"DEBITO\",\"CREDITO\"))","v":""},null,false,false,0,{"$f":"IF($A1548=I$3,AND($A1548=I$3,$D1548<0),0)","v":0},0,{"$f":"IF($A1548=K$3,AND($A1548=K$3,$D1548<0),0)","v":0},0,{"$f":"IF($A1548=M$3,AND($A1548=M$3,$D1548<0),0)","v":0},0,{"$f":"IF($A1548=O$3,AND($A1548=O$3,$D1548<0),0)","v":0},0,0,0,0,0,0,0,{"$f":"IF($A1548=W$3,AND($A1548=W$3,$D1548<0),0)","v":0},0,{"$f":"IF($A1548=Y$3,AND($A1548=Y$3,$D1548<0),0)","v":0},0,{"$f":"IF($A1548=AA$3,AND($A1548=AA$3,$D1548<0),0)","v":0},0,{"$f":"IF($A1548=AC$3,AND($A1548=AC$3,$D1548<0),0)","v":0},0,0]
[{"$f":"IF(B1551=0,\"\",MONTH(B1551))","v":""},null,null,null,{"$f":"IF(D1551=\"\",\"\",IF(D1551<0,\"DEBITO\",\"CREDITO\"))","v":""},null,false,false,0,{"$f":"IF($A1551=I$3,AND($A1551=I$3,$D1551<0),0)","v":0},0,{"$f":"IF($A1551=K$3,AND($A1551=K$3,$D1551<0),0)","v":0},0,{"$f":"IF($A1551=M$3,AND($A1551=M$3,$D1551<0),0)","v":0},0,{"$f":"IF($A1551=O$3,AND($A1551=O$3,$D1551<0),0)","v":0},0,0,0,0,0,0,0,{"$f":"IF($A1551=W$3,AND($A1551=W$3,$D1551<0),0)","v":0},0,{"$f":"IF($A1551=Y$3,AND($A1551=Y$3,$D1551<0),0)","v":0},0,{"$f":"IF($A1551=AA$3,AND($A1551=AA$3,$D1551<0),0)","v":0},0,{"$f":"IF($A1551=AC$3,AND($A1551=AC$3,$D1551<0),0)","v":0},0,0]
[{"$f":"IF(B1552=0,\"\",MONTH(B1552))","v":""},null,null,null,{"$f":"IF(D1552=\"\",\"\",IF(D1552<0,\"DEBITO\",\"CREDITO\"))","v":""},null,false,false,0,{"$f":"IF($A1552=I$3,AND($A1552=I$3,$D1552<0),0)","v":0},0,{"$f":"IF($A1552=K$3,AND($A1552=K$3,$D1552<0),0)","v":0},0,{"$f":"IF($A1552=M$3,AND($A1552=M$3,$D1552<0),0)","v":0},0,{"$f":"IF($A1552=O$3,AND($A1552=O$3,$D1552<0),0)","v":0},0,0,0,0,0,0,0,{"$f":"IF($A1552=W$3,AND($A1552=W$3,$D1552<0),0)","v":0},0,{"$f":"IF($A1552=Y$3,AND($A1552=Y$3,$D1552<0),0)","v":0},0,{"$f":"IF($A1552=AA$3,AND($A1552=AA$3,$D1552<0),0)","v":0},0,{"$f":"IF($A1552=AC$3,AND($A1552=AC$3,$D1552<0),0)","v":0},0,0]
[{"$f":"IF(B1555=0,\"\",MONTH(B1555))","v":""},null,null,null,{"$f":"IF(D1555=\"\",\"\",IF(D1555<0,\"DEBITO\",\"CREDITO\"))","v":""},null,false,false,0,{"$f":"IF($A1555=I$3,AND($A1555=I$3,$D1555<0),0)","v":0},0,{"$f":"IF($A1555=K$3,AND($A1555=K$3,$D1555<0),0)","v":0},0,{"$f":"IF($A1555=M$3,AND($A1555=M$3,$D1555<0),0)","v":0},0,{"$f":"IF($A1555=O$3,AND($A1555=O$3,$D1555<0),0)","v":0},0,0,0,0,0,0,0,{"$f":"IF($A1555=W$3,AND($A1555=W$3,$D1555<0),0)","v":0},0,{"$f":"IF($A1555=Y$3,AND($A1555=Y$3,$D1555<0),0)","v":0},0,{"$f":"IF($A1555=AA$3,AND($A1555=AA$3,$D1555<0),0)","v":0},0,{"$f":"IF($A1555=AC$3,AND($A1555=AC$3,$D1555<0),0)","v":0},0,0]
[{"$f":"IF(B1556=0,\"\",MONTH(B1556))","v":""},null,null,null,{"$f":"IF(D1556=\"\",\"\",IF(D1556<0,\"DEBITO\",\"CREDITO\"))","v":""},null,false,false,0,{"$f":"IF($A1556=I$3,AND($A1556=I$3,$D1556<0),0)","v":0},0,{"$f":"IF($A1556=K$3,AND($A1556=K$3,$D1556<0),0)","v":0},0,{"$f":"IF($A1556=M$3,AND($A1556=M$3,$D1556<0),0)","v":0},0,{"$f":"IF($A1556=O$3,AND($A1556=O$3,$D1556<0),0)","v":0},0,0,0,0,0,0,0,{"$f":"IF($A1556=W$3,AND($A1556=W$3,$D1556<0),0)","v":0},0,{"$f":"IF($A1556=Y$3,AND($A1556=Y$3,$D1556<0),0)","v":0},0,{"$f":"IF($A1556=AA$3,AND($A1556=AA$3,$D1556<0),0)","v":0},0,{"$f":"IF($A1556=AC$3,AND($A1556=AC$3,$D1556<0),0)","v":0},0,0]
[{"$f":"IF(B1559=0,\"\",MONTH(B1559))","v":""},null,null,null,{"$f":"IF(D1559=\"\",\"\",IF(D1559<0,\"DEBITO\",\"CREDITO\"))","v":""},null,false,false,0,{"$f":"IF($A1559=I$3,AND($A1559=I$3,$D1559<0),0)","v":0},0,{"$f":"IF($A1559=K$3,AND($A1559=K$3,$D1559<0),0)","v":0},0,{"$f":"IF($A1559=M$3,AND($A1559=M$3,$D1559<0),0)","v":0},0,{"$f":"IF($A1559=O$3,AND($A1559=O$3,$D1559<0),0)","v":0},0,0,0,0,0,0,0,{"$f":"IF($A1559=W$3,AND($A1559=W$3,$D1559<0),0)","v":0},0,{"$f":"IF($A1559=Y$3,AND($A1559=Y$3,$D1559<0),0)","v":0},0,{"$f":"IF($A1559=AA$3,AND($A1559=AA$3,$D1559<0),0)","v":0},0,{"$f":"IF($A1559=AC$3,AND($A1559=AC$3,$D1559<0),0)","v":0},0,0]
[{"$f":"IF(B1560=0,\"\",MONTH(B1560))","v":""},null,null,null,{"$f":"IF(D1560=\"\",\"\",IF(D1560<0,\"DEBITO\",\"CREDITO\"))","v":""},null,false,false,0,{"$f":"IF($A1560=I$3,AND($A1560=I$3,$D1560<0),0)","v":0},0,{"$f":"IF($A1560=K$3,AND($A1560=K$3,$D1560<0),0)","v":0},0,{"$f":"IF($A1560=M$3,AND($A1560=M$3,$D1560<0),0)","v":0},0,{"$f":"IF($A1560=O$3,AND($A1560=O$3,$D1560<0),0)","v":0},0,0,0,0,0,0,0,{"$f":"IF($A1560=W$3,AND($A1560=W$3,$D1560<0),0)","v":0},0,{"$f":"IF($A1560=Y$3,AND($A1560=Y$3,$D1560<0),0)","v":0},0,{"$f":"IF($A1560=AA$3,AND($A1560=AA$3,$D1560<0),0)","v":0},0,{"$f":"IF($A1560=AC$3,AND($A1560=AC$3,$D1560<0),0)","v":0},0,0]
[{"$f":"IF(B1563=0,\"\",MONTH(B1563))","v":""},null,null,null,{"$f":"IF(D1563=\"\",\"\",IF(D1563<0,\"DEBITO\",\"CREDITO\"))","v":""},null,false,false,0,{"$f":"IF($A1563=I$3,AND($A1563=I$3,$D1563<0),0)","v":0},0,{"$f":"IF($A1563=K$3,AND($A1563=K$3,$D1563<0),0)","v":0},0,{"$f":"IF($A1563=M$3,AND($A1563=M$3,$D1563<0),0)","v":0},0,{"$f":"IF($A1563=O$3,AND($A1563=O$3,$D1563<0),0)","v":0},0,0,0,0,0,0,0,{"$f":"IF($A1563=W$3,AND($A1563=W$3,$D1563<0),0)","v":0},0,{"$f":"IF($A1563=Y$3,AND($A1563=Y$3,$D1563<0),0)","v":0},0,{"$f":"IF($A1563=AA$3,AND($A1563=AA$3,$D1563<0),0)","v":0},0,{"$f":"IF($A1563=AC$3,AND($A1563=AC$3,$D1563<0),0)","v":0},0,0]
[{"$f":"IF(B1564=0,\"\",MONTH(B1564))","v":""},null,null,null,{"$f":"IF(D1564=\"\",\"\",IF(D1564<0,\"DEBITO\",\"CREDITO\"))","v":""},null,false,false,0,{"$f":"IF($A1564=I$3,AND($A1564=I$3,$D1564<0),0)","v":0},0,{"$f":"IF($A1564=K$3,AND($A1564=K$3,$D1564<0),0)","v":0},0,{"$f":"IF($A1564=M$3,AND($A1564=M$3,$D1564<0),0)","v":0},0,{"$f":"IF($A1564=O$3,AND($A1564=O$3,$D1564<0),0)","v":0},0,0,0,0,0,0,0,{"$f":"IF($A1564=W$3,AND($A1564=W$3,$D1564<0),0)","v":0},0,{"$f":"IF($A1564=Y$3,AND($A1564=Y$3,$D1564<0),0)","v":0},0,{"$f":"IF($A1564=AA$3,AND($A1564=AA$3,$D1564<0),0)","v":0},0,{"$f":"IF($A1564=AC$3,AND($A1564=AC$3,$D1564<0),0)","v":0},0,0]
[{"$f":"IF(B1568=0,\"\",MONTH(B1568))","v":""},null,null,null,{"$f":"IF(D1568=\"\",\"\",IF(D1568<0,\"DEBITO\",\"CREDITO\"))","v":""},null,false,false,0,{"$f":"IF($A1568=I$3,AND($A1568=I$3,$D1568<0),0)","v":0},0,{"$f":"IF($A1568=K$3,AND($A1568=K$3,$D1568<0),0)","v":0},0,{"$f":"IF($A1568=M$3,AND($A1568=M$3,$D1568<0),0)","v":0},0,{"$f":"IF($A1568=O$3,AND($A1568=O$3,$D1568<0),0)","v":0},0,0,0,0,0,0,0,{"$f":"IF($A1568=W$3,AND($A1568=W$3,$D1568<0),0)","v":0},0,{"$f":"IF($A1568=Y$3,AND($A1568=Y$3,$D1568<0),0)","v":0},0,{"$f":"IF($A1568=AA$3,AND($A1568=AA$3,$D1568<0),0)","v":0},0,{"$f":"IF($A1568=AC$3,AND($A1568=AC$3,$D1568<0),0)","v":0},0,0]
[{"$f":"IF(B1569=0,\"\",MONTH(B1569))","v":""},null,null,null,{"$f":"IF(D1569=\"\",\"\",IF(D1569<0,\"DEBITO\",\"CREDITO\"))","v":""},null,false,false,0,{"$f":"IF($A1569=I$3,AND($A1569=I$3,$D1569<0),0)","v":0},0,{"$f":"IF($A1569=K$3,AND($A1569=K$3,$D1569<0),0)","v":0},0,{"$f":"IF($A1569=M$3,AND($A1569=M$3,$D1569<0),0)","v":0},0,{"$f":"IF($A1569=O$3,AND($A1569=O$3,$D1569<0),0)","v":0},0,0,0,0,0,0,0,{"$f":"IF($A1569=W$3,AND($A1569=W$3,$D1569<0),0)","v":0},0,{"$f":"IF($A1569=Y$3,AND($A1569=Y$3,$D1569<0),0)","v":0},0,{"$f":"IF($A1569=AA$3,AND($A1569=AA$3,$D1569<0),0)","v":0},0,{"$f":"IF($A1569=AC$3,AND($A1569=AC$3,$D1569<0),0)","v":0},0,0]
[{"$f":"IF(B1572=0,\"\",MONTH(B1572))","v":""},null,null,null,{"$f":"IF(D1572=\"\",\"\",IF(D1572<0,\"DEBITO\",\"CREDITO\"))","v":""},null,false,false,0,{"$f":"IF($A1572=I$3,AND($A1572=I$3,$D1572<0),0)","v":0},0,{"$f":"IF($A1572=K$3,AND($A1572=K$3,$D1572<0),0)","v":0},0,{"$f":"IF($A1572=M$3,AND($A1572=M$3,$D1572<0),0)","v":0},0,{"$f":"IF($A1572=O$3,AND($A1572=O$3,$D1572<0),0)","v":0},0,0,0,0,0,0,0,{"$f":"IF($A1572=W$3,AND($A1572=W$3,$D1572<0),0)","v":0},0,{"$f":"IF($A1572=Y$3,AND($A1572=Y$3,$D1572<0),0)","v":0},0,{"$f":"IF($A1572=AA$3,AND($A1572=AA$3,$D1572<0),0)","v":0},0,{"$f":"IF($A1572=AC$3,AND($A1572=AC$3,$D1572<0),0)","v":0},0,0]
[{"$f":"IF(B1573=0,\"\",MONTH(B1573))","v":""},null,null,null,{"$f":"IF(D1573=\"\",\"\",IF(D1573<0,\"DEBITO\",\"CREDITO\"))","v":""},null,false,false,0,{"$f":"IF($A1573=I$3,AND($A1573=I$3,$D1573<0),0)","v":0},0,{"$f":"IF($A1573=K$3,AND($A1573=K$3,$D1573<0),0)","v":0},0,{"$f":"IF($A1573=M$3,AND($A1573=M$3,$D1573<0),0)","v":0},0,{"$f":"IF($A1573=O$3,AND($A1573=O$3,$D1573<0),0)","v":0},0,0,0,0,0,0,0,{"$f":"IF($A1573=W$3,AND($A1573=W$3,$D1573<0),0)","v":0},0,{"$f":"IF($A1573=Y$3,AND($A1573=Y$3,$D1573<0),0)","v":0},0,{"$f":"IF($A1573=AA$3,AND($A1573=AA$3,$D1573<0),0)","v":0},0,{"$f":"IF($A1573=AC$3,AND($A1573=AC$3,$D1573<0),0)","v":0},0,0]
[{"$f":"IF(B1576=0,\"\",MONTH(B1576))","v":""},null,null,null,{"$f":"IF(D1576=\"\",\"\",IF(D1576<0,\"DEBITO\",\"CREDITO\"))","v":""},null,false,false,0,{"$f":"IF($A1576=I$3,AND($A1576=I$3,$D1576<0),0)","v":0},0,{"$f":"IF($A1576=K$3,AND($A1576=K$3,$D1576<0),0)","v":0},0,{"$f":"IF($A1576=M$3,AND($A1576=M$3,$D1576<0),0)","v":0},0,{"$f":"IF($A1576=O$3,AND($A1576=O$3,$D1576<0),0)","v":0},0,0,0,0,0,0,0,{"$f":"IF($A1576=W$3,AND($A1576=W$3,$D1576<0),0)","v":0},0,{"$f":"IF($A1576=Y$3,AND($A1576=Y$3,$D1576<0),0)","v":0},0,{"$f":"IF($A1576=AA$3,AND($A1576=AA$3,$D1576<0),0)","v":0},0,{"$f":"IF($A1576=AC$3,AND($A1576=AC$3,$D1576<0),0)","v":0},0,0]
[{"$f":"IF(B1577=0,\"\",MONTH(B1577))","v":""},null,null,null,{"$f":"IF(D1577=\"\",\"\",IF(D1577<0,\"DEBITO\",\"CREDITO\"))","v":""},null,false,false,0,{"$f":"IF($A1577=I$3,AND($A1577=I$3,$D1577<0),0)","v":0},0,{"$f":"IF($A1577=K$3,AND($A1577=K$3,$D1577<0),0)","v":0},0,{"$f":"IF($A1577=M$3,AND($A1577=M$3,$D1577<0),0)","v":0},0,{"$f":"IF($A1577=O$3,AND($A1577=O$3,$D1577<0),0)","v":0},0,0,0,0,0,0,0,{"$f":"IF($A1577=W$3,AND($A1577=W$3,$D1577<0),0)","v":0},0,{"$f":"IF($A1577=Y$3,AND($A1577=Y$3,$D1577<0),0)","v":0},0,{"$f":"IF($A1577=AA$3,AND($A1577=AA$3,$D1577<0),0)","v":0},0,{"$f":"IF($A1577=AC$3,AND($A1577=AC$3,$D1577<0),0)","v":0},0,0]
[{"$f":"IF(B1580=0,\"\",MONTH(B1580))","v":""},null,null,null,{"$f":"IF(D1580=\"\",\"\",IF(D1580<0,\"DEBITO\",\"CREDITO\"))","v":""},null,false,false,0,{"$f":"IF($A1580=I$3,AND($A1580=I$3,$D1580<0),0)","v":0},0,{"$f":"IF($A1580=K$3,AND($A1580=K$3,$D1580<0),0)","v":0},0,{"$f":"IF($A1580=M$3,AND($A1580=M$3,$D1580<0),0)","v":0},0,{"$f":"IF($A1580=O$3,AND($A1580=O$3,$D1580<0),0)","v":0},0,0,0,0,0,0,0,{"$f":"IF($A1580=W$3,AND($A1580=W$3,$D1580<0),0)","v":0},0,{"$f":"IF($A1580=Y$3,AND($A1580=Y$3,$D1580<0),0)","v":0},0,{"$f":"IF($A1580=AA$3,AND($A1580=AA$3,$D1580<0),0)","v":0},0,{"$f":"IF($A1580=AC$3,AND($A1580=AC$3,$D1580<0),0)","v":0},0,0]
[{"$f":"IF(B1581=0,\"\",MONTH(B1581))","v":""},null,null,null,{"$f":"IF(D1581=\"\",\"\",IF(D1581<0,\"DEBITO\",\"CREDITO\"))","v":""},null,false,false,0,{"$f":"IF($A1581=I$3,AND($A1581=I$3,$D1581<0),0)","v":0},0,{"$f":"IF($A1581=K$3,AND($A1581=K$3,$D1581<0),0)","v":0},0,{"$f":"IF($A1581=M$3,AND($A1581=M$3,$D1581<0),0)","v":0},0,{"$f":"IF($A1581=O$3,AND($A1581=O$3,$D1581<0),0)","v":0},0,0,0,0,0,0,0,{"$f":"IF($A1581=W$3,AND($A1581=W$3,$D1581<0),0)","v":0},0,{"$f":"IF($A1581=Y$3,AND($A1581=Y$3,$D1581<0),0)","v":0},0,{"$f":"IF($A1581=AA$3,AND($A1581=AA$3,$D1581<0),0)","v":0},0,{"$f":"IF($A1581=AC$3,AND($A1581=AC$3,$D1581<0),0)","v":0},0,0]
[{"$f":"IF(B1584=0,\"\",MONTH(B1584))","v":""},null,null,null,{"$f":"IF(D1584=\"\",\"\",IF(D1584<0,\"DEBITO\",\"CREDITO\"))","v":""},null,false,false,0,{"$f":"IF($A1584=I$3,AND($A1584=I$3,$D1584<0),0)","v":0},0,{"$f":"IF($A1584=K$3,AND($A1584=K$3,$D1584<0),0)","v":0},0,{"$f":"IF($A1584=M$3,AND($A1584=M$3,$D1584<0),0)","v":0},0,{"$f":"IF($A1584=O$3,AND($A1584=O$3,$D1584<0),0)","v":0},0,0,0,0,0,0,0,{"$f":"IF($A1584=W$3,AND($A1584=W$3,$D1584<0),0)","v":0},0,{"$f":"IF($A1584=Y$3,AND($A1584=Y$3,$D1584<0),0)","v":0},0,{"$f":"IF($A1584=AA$3,AND($A1584=AA$3,$D1584<0),0)","v":0},0,{"$f":"IF($A1584=AC$3,AND($A1584=AC$3,$D1584<0),0)","v":0},0,0]
[{"$f":"IF(B1585=0,\"\",MONTH(B1585))","v":""},null,null,null,{"$f":"IF(D1585=\"\",\"\",IF(D1585<0,\"DEBITO\",\"CREDITO\"))","v":""},null,false,false,0,{"$f":"IF($A1585=I$3,AND($A1585=I$3,$D1585<0),0)","v":0},0,{"$f":"IF($A1585=K$3,AND($A1585=K$3,$D1585<0),0)","v":0},0,{"$f":"IF($A1585=M$3,AND($A1585=M$3,$D1585<0),0)","v":0},0,{"$f":"IF($A1585=O$3,AND($A1585=O$3,$D1585<0),0)","v":0},0,0,0,0,0,0,0,{"$f":"IF($A1585=W$3,AND($A1585=W$3,$D1585<0),0)","v":0},0,{"$f":"IF($A1585=Y$3,AND($A1585=Y$3,$D1585<0),0)","v":0},0,{"$f":"IF($A1585=AA$3,AND($A1585=AA$3,$D1585<0),0)","v":0},0,{"$f":"IF($A1585=AC$3,AND($A1585=AC$3,$D1585<0),0)","v":0},0,0]
[{"$f":"IF(B1588=0,\"\",MONTH(B1588))","v":""},null,null,null,{"$f":"IF(D1588=\"\",\"\",IF(D1588<0,\"DEBITO\",\"CREDITO\"))","v":""},null,false,false,0,{"$f":"IF($A1588=I$3,AND($A1588=I$3,$D1588<0),0)","v":0},0,{"$f":"IF($A1588=K$3,AND($A1588=K$3,$D1588<0),0)","v":0},0,{"$f":"IF($A1588=M$3,AND($A1588=M$3,$D1588<0),0)","v":0},0,{"$f":"IF($A1588=O$3,AND($A1588=O$3,$D1588<0),0)","v":0},0,0,0,0,0,0,0,{"$f":"IF($A1588=W$3,AND($A1588=W$3,$D1588<0),0)","v":0},0,{"$f":"IF($A1588=Y$3,AND($A1588=Y$3,$D1588<0),0)","v":0},0,{"$f":"IF($A1588=AA$3,AND($A1588=AA$3,$D1588<0),0)","v":0},0,{"$f":"IF($A1588=AC$3,AND($A1588=AC$3,$D1588<0),0)","v":0},0,0]
[{"$f":"IF(B1589=0,\"\",MONTH(B1589))","v":""},null,null,null,{"$f":"IF(D1589=\"\",\"\",IF(D1589<0,\"DEBITO\",\"CREDITO\"))","v":""},null,false,false,0,{"$f":"IF($A1589=I$3,AND($A1589=I$3,$D1589<0),0)","v":0},0,{"$f":"IF($A1589=K$3,AND($A1589=K$3,$D1589<0),0)","v":0},0,{"$f":"IF($A1589=M$3,AND($A1589=M$3,$D1589<0),0)","v":0},0,{"$f":"IF($A1589=O$3,AND($A1589=O$3,$D1589<0),0)","v":0},0,0,0,0,0,0,0,{"$f":"IF($A1589=W$3,AND($A1589=W$3,$D1589<0),0)","v":0},0,{"$f":"IF($A1589=Y$3,AND($A1589=Y$3,$D1589<0),0)","v":0},0,{"$f":"IF($A1589=AA$3,AND($A1589=AA$3,$D1589<0),0)","v":0},0,{"$f":"IF($A1589=AC$3,AND($A1589=AC$3,$D1589<0),0)","v":0},0,0]
[{"$f":"IF(B1593=0,\"\",MONTH(B1593))","v":""},null,null,null,{"$f":"IF(D1593=\"\",\"\",IF(D1593<0,\"DEBITO\",\"CREDITO\"))","v":""},null,false,false,0,{"$f":"IF($A1593=I$3,AND($A1593=I$3,$D1593<0),0)","v":0},0,{"$f":"IF($A1593=K$3,AND($A1593=K$3,$D1593<0),0)","v":0},0,{"$f":"IF($A1593=M$3,AND($A1593=M$3,$D1593<0),0)","v":0},0,{"$f":"IF($A1593=O$3,AND($A1593=O$3,$D1593<0),0)","v":0},0,0,0,0,0,0,0,{"$f":"IF($A1593=W$3,AND($A1593=W$3,$D1593<0),0)","v":0},0,{"$f":"IF($A1593=Y$3,AND($A1593=Y$3,$D1593<0),0)","v":0},0,{"$f":"IF($A1593=AA$3,AND($A1593=AA$3,$D1593<0),0)","v":0},0,{"$f":"IF($A1593=AC$3,AND($A1593=AC$3,$D1593<0),0)","v":0},0,0]
[{"$f":"IF(B1594=0,\"\",MONTH(B1594))","v":""},null,null,null,{"$f":"IF(D1594=\"\",\"\",IF(D1594<0,\"DEBITO\",\"CREDITO\"))","v":""},null,false,false,0,{"$f":"IF($A1594=I$3,AND($A1594=I$3,$D1594<0),0)","v":0},0,{"$f":"IF($A1594=K$3,AND($A1594=K$3,$D1594<0),0)","v":0},0,{"$f":"IF($A1594=M$3,AND($A1594=M$3,$D1594<0),0)","v":0},0,{"$f":"IF($A1594=O$3,AND($A1594=O$3,$D1594<0),0)","v":0},0,0,0,0,0,0,0,{"$f":"IF($A1594=W$3,AND($A1594=W$3,$D1594<0),0)","v":0},0,{"$f":"IF($A1594=Y$3,AND($A1594=Y$3,$D1594<0),0)","v":0},0,{"$f":"IF($A1594=AA$3,AND($A1594=AA$3,$D1594<0),0)","v":0},0,{"$f":"IF($A1594=AC$3,AND($A1594=AC$3,$D1594<0),0)","v":0},0,0]
[{"$f":"IF(B1597=0,\"\",MONTH(B1597))","v":""},null,null,null,{"$f":"IF(D1597=\"\",\"\",IF(D1597<0,\"DEBITO\",\"CREDITO\"))","v":""},null,false,false,0,{"$f":"IF($A1597=I$3,AND($A1597=I$3,$D1597<0),0)","v":0},0,{"$f":"IF($A1597=K$3,AND($A1597=K$3,$D1597<0),0)","v":0},0,{"$f":"IF($A1597=M$3,AND($A1597=M$3,$D1597<0),0)","v":0},0,{"$f":"IF($A1597=O$3,AND($A1597=O$3,$D1597<0),0)","v":0},0,0,0,0,0,0,0,{"$f":"IF($A1597=W$3,AND($A1597=W$3,$D1597<0),0)","v":0},0,{"$f":"IF($A1597=Y$3,AND($A1597=Y$3,$D1597<0),0)","v":0},0,{"$f":"IF($A1597=AA$3,AND($A1597=AA$3,$D1597<0),0)","v":0},0,{"$f":"IF($A1597=AC$3,AND($A1597=AC$3,$D1597<0),0)","v":0},0,0]
[{"$f":"IF(B1598=0,\"\",MONTH(B1598))","v":""},null,null,null,{"$f":"IF(D1598=\"\",\"\",IF(D1598<0,\"DEBITO\",\"CREDITO\"))","v":""},null,false,false,0,{"$f":"IF($A1598=I$3,AND($A1598=I$3,$D1598<0),0)","v":0},0,{"$f":"IF($A1598=K$3,AND($A1598=K$3,$D1598<0),0)","v":0},0,{"$f":"IF($A1598=M$3,AND($A1598=M$3,$D1598<0),0)","v":0},0,{"$f":"IF($A1598=O$3,AND($A1598=O$3,$D1598<0),0)","v":0},0,0,0,0,0,0,0,{"$f":"IF($A1598=W$3,AND($A1598=W$3,$D1598<0),0)","v":0},0,{"$f":"IF($A1598=Y$3,AND($A1598=Y$3,$D1598<0),0)","v":0},0,{"$f":"IF($A1598=AA$3,AND($A1598=AA$3,$D1598<0),0)","v":0},0,{"$f":"IF($A1598=AC$3,AND($A1598=AC$3,$D1598<0),0)","v":0},0,0]
[{"$f":"IF(B1601=0,\"\",MONTH(B1601))","v":""},null,null,null,{"$f":"IF(D1601=\"\",\"\",IF(D1601<0,\"DEBITO\",\"CREDITO\"))","v":""},null,false,false,0,{"$f":"IF($A1601=I$3,AND($A1601=I$3,$D1601<0),0)","v":0},0,{"$f":"IF($A1601=K$3,AND($A1601=K$3,$D1601<0),0)","v":0},0,{"$f":"IF($A1601=M$3,AND($A1601=M$3,$D1601<0),0)","v":0},0,{"$f":"IF($A1601=O$3,AND($A1601=O$3,$D1601<0),0)","v":0},0,0,0,0,0,0,0,{"$f":"IF($A1601=W$3,AND($A1601=W$3,$D1601<0),0)","v":0},0,{"$f":"IF($A1601=Y$3,AND($A1601=Y$3,$D1601<0),0)","v":0},0,{"$f":"IF($A1601=AA$3,AND($A1601=AA$3,$D1601<0),0)","v":0},0,{"$f":"IF($A1601=AC$3,AND($A1601=AC$3,$D1601<0),0)","v":0},0,0]
[{"$f":"IF(B1602=0,\"\",MONTH(B1602))","v":""},null,null,null,{"$f":"IF(D1602=\"\",\"\",IF(D1602<0,\"DEBITO\",\"CREDITO\"))","v":""},null,false,false,0,{"$f":"IF($A1602=I$3,AND($A1602=I$3,$D1602<0),0)","v":0},0,{"$f":"IF($A1602=K$3,AND($A1602=K$3,$D1602<0),0)","v":0},0,{"$f":"IF($A1602=M$3,AND($A1602=M$3,$D1602<0),0)","v":0},0,{"$f":"IF($A1602=O$3,AND($A1602=O$3,$D1602<0),0)","v":0},0,0,0,0,0,0,0,{"$f":"IF($A1602=W$3,AND($A1602=W$3,$D1602<0),0)","v":0},0,{"$f":"IF($A1602=Y$3,AND($A1602=Y$3,$D1602<0),0)","v":0},0,{"$f":"IF($A1602=AA$3,AND($A1602=AA$3,$D1602<0),0)","v":0},0,{"$f":"IF($A1602=AC$3,AND($A1602=AC$3,$D1602<0),0)","v":0},0,0]
[{"$f":"IF(B1605=0,\"\",MONTH(B1605))","v":""},null,null,null,{"$f":"IF(D1605=\"\",\"\",IF(D1605<0,\"DEBITO\",\"CREDITO\"))","v":""},null,false,false,0,{"$f":"IF($A1605=I$3,AND($A1605=I$3,$D1605<0),0)","v":0},0,{"$f":"IF($A1605=K$3,AND($A1605=K$3,$D1605<0),0)","v":0},0,{"$f":"IF($A1605=M$3,AND($A1605=M$3,$D1605<0),0)","v":0},0,{"$f":"IF($A1605=O$3,AND($A1605=O$3,$D1605<0),0)","v":0},0,0,0,0,0,0,0,{"$f":"IF($A1605=W$3,AND($A1605=W$3,$D1605<0),0)","v":0},0,{"$f":"IF($A1605=Y$3,AND($A1605=Y$3,$D1605<0),0)","v":0},0,{"$f":"IF($A1605=AA$3,AND($A1605=AA$3,$D1605<0),0)","v":0},0,{"$f":"IF($A1605=AC$3,AND($A1605=AC$3,$D1605<0),0)","v":0},0,0]
[{"$f":"IF(B1606=0,\"\",MONTH(B1606))","v":""},null,null,null,{"$f":"IF(D1606=\"\",\"\",IF(D1606<0,\"DEBITO\",\"CREDITO\"))","v":""},null,false,false,0,{"$f":"IF($A1606=I$3,AND($A1606=I$3,$D1606<0),0)","v":0},0,{"$f":"IF($A1606=K$3,AND($A1606=K$3,$D1606<0),0)","v":0},0,{"$f":"IF($A1606=M$3,AND($A1606=M$3,$D1606<0),0)","v":0},0,{"$f":"IF($A1606=O$3,AND($A1606=O$3,$D1606<0),0)","v":0},0,0,0,0,0,0,0,{"$f":"IF($A1606=W$3,AND($A1606=W$3,$D1606<0),0)","v":0},0,{"$f":"IF($A1606=Y$3,AND($A1606=Y$3,$D1606<0),0)","v":0},0,{"$f":"IF($A1606=AA$3,AND($A1606=AA$3,$D1606<0),0)","v":0},0,{"$f":"IF($A1606=AC$3,AND($A1606=AC$3,$D1606<0),0)","v":0},0,0]
[{"$f":"IF(B1609=0,\"\",MONTH(B1609))","v":""},null,null,null,{"$f":"IF(D1609=\"\",\"\",IF(D1609<0,\"DEBITO\",\"CREDITO\"))","v":""},null,{"$f":"AND(A1609=$E$3,D1609>0)","v":false},{"$f":"AND(A1609=$E$3,D1609<0)","v":false},0,{"$f":"IF($A1609=I$3,AND($A1609=I$3,$D1609<0),0)","v":0},0,{"$f":"IF($A1609=K$3,AND($A1609=K$3,$D1609<0),0)","v":0},0,{"$f":"IF($A1609=M$3,AND($A1609=M$3,$D1609<0),0)","v":0},0,{"$f":"IF($A1609=O$3,AND($A1609=O$3,$D1609<0),0)","v":0},0,{"$f":"IF($A1609=Q$3,AND($A1609=Q$3,$D1609<0),0)","v":0},0,0,0,0,0,{"$f":"IF($A1609=W$3,AND($A1609=W$3,$D1609<0),0)","v":0},0,{"$f":"IF($A1609=Y$3,AND($A1609=Y$3,$D1609<0),0)","v":0},0,{"$f":"IF($A1609=AA$3,AND($A1609=AA$3,$D1609<0),0)","v":0},0,{"$f":"IF($A1609=AC$3,AND($A1609=AC$3,$D1609<0),0)","v":0},0,{"$f":"IF($A1609=AE$3,AND($A1609=AE$3,$D1609<0),0)","v":0}]
[{"$f":"IF(B1611=0,\"\",MONTH(B1611))","v":""},null,null,null,{"$f":"IF(D1611=\"\",\"\",IF(D1611<0,\"DEBITO\",\"CREDITO\"))","v":""},null,false,false,0,{"$f":"IF($A1611=I$3,AND($A1611=I$3,$D1611<0),0)","v":0},0,{"$f":"IF($A1611=K$3,AND($A1611=K$3,$D1611<0),0)","v":0},0,{"$f":"IF($A1611=M$3,AND($A1611=M$3,$D1611<0),0)","v":0},0,{"$f":"IF($A1611=O$3,AND($A1611=O$3,$D1611<0),0)","v":0},0,0,0,0,0,0,0,{"$f":"IF($A1611=W$3,AND($A1611=W$3,$D1611<0),0)","v":0},0,{"$f":"IF($A1611=Y$3,AND($A1611=Y$3,$D1611<0),0)","v":0},0,{"$f":"IF($A1611=AA$3,AND($A1611=AA$3,$D1611<0),0)","v":0},0,{"$f":"IF($A1611=AC$3,AND($A1611=AC$3,$D1611<0),0)","v":0},0,0]
[{"$f":"IF(B1614=0,\"\",MONTH(B1614))","v":""},null,null,null,{"$f":"IF(D1614=\"\",\"\",IF(D1614<0,\"DEBITO\",\"CREDITO\"))","v":""},null,false,false,0,{"$f":"IF($A1614=I$3,AND($A1614=I$3,$D1614<0),0)","v":0},0,{"$f":"IF($A1614=K$3,AND($A1614=K$3,$D1614<0),0)","v":0},0,{"$f":"IF($A1614=M$3,AND($A1614=M$3,$D1614<0),0)","v":0},0,{"$f":"IF($A1614=O$3,AND($A1614=O$3,$D1614<0),0)","v":0},0,0,0,0,0,0,0,{"$f":"IF($A1614=W$3,AND($A1614=W$3,$D1614<0),0)","v":0},0,{"$f":"IF($A1614=Y$3,AND($A1614=Y$3,$D1614<0),0)","v":0},0,{"$f":"IF($A1614=AA$3,AND($A1614=AA$3,$D1614<0),0)","v":0},0,{"$f":"IF($A1614=AC$3,AND($A1614=AC$3,$D1614<0),0)","v":0},0,0]
[{"$f":"IF(B1615=0,\"\",MONTH(B1615))","v":""},null,null,null,{"$f":"IF(D1615=\"\",\"\",IF(D1615<0,\"DEBITO\",\"CREDITO\"))","v":""},null,false,false,0,{"$f":"IF($A1615=I$3,AND($A1615=I$3,$D1615<0),0)","v":0},0,{"$f":"IF($A1615=K$3,AND($A1615=K$3,$D1615<0),0)","v":0},0,{"$f":"IF($A1615=M$3,AND($A1615=M$3,$D1615<0),0)","v":0},0,{"$f":"IF($A1615=O$3,AND($A1615=O$3,$D1615<0),0)","v":0},0,0,0,0,0,0,0,{"$f":"IF($A1615=W$3,AND($A1615=W$3,$D1615<0),0)","v":0},0,{"$f":"IF($A1615=Y$3,AND($A1615=Y$3,$D1615<0),0)","v":0},0,{"$f":"IF($A1615=AA$3,AND($A1615=AA$3,$D1615<0),0)","v":0},0,{"$f":"IF($A1615=AC$3,AND($A1615=AC$3,$D1615<0),0)","v":0},0,0]
[{"$f":"IF(B1618=0,\"\",MONTH(B1618))","v":""},null,null,null,{"$f":"IF(D1618=\"\",\"\",IF(D1618<0,\"DEBITO\",\"CREDITO\"))","v":""},null,false,false,0,{"$f":"IF($A1618=I$3,AND($A1618=I$3,$D1618<0),0)","v":0},0,{"$f":"IF($A1618=K$3,AND($A1618=K$3,$D1618<0),0)","v":0},0,{"$f":"IF($A1618=M$3,AND($A1618=M$3,$D1618<0),0)","v":0},0,{"$f":"IF($A1618=O$3,AND($A1618=O$3,$D1618<0),0)","v":0},0,0,0,0,0,0,0,{"$f":"IF($A1618=W$3,AND($A1618=W$3,$D1618<0),0)","v":0},0,{"$f":"IF($A1618=Y$3,AND($A1618=Y$3,$D1618<0),0)","v":0},0,{"$f":"IF($A1618=AA$3,AND($A1618=AA$3,$D1618<0),0)","v":0},0,{"$f":"IF($A1618=AC$3,AND($A1618=AC$3,$D1618<0),0)","v":0},0,0]
[{"$f":"IF(B1619=0,\"\",MONTH(B1619))","v":""},null,null,null,{"$f":"IF(D1619=\"\",\"\",IF(D1619<0,\"DEBITO\",\"CREDITO\"))","v":""},null,false,false,0,{"$f":"IF($A1619=I$3,AND($A1619=I$3,$D1619<0),0)","v":0},0,{"$f":"IF($A1619=K$3,AND($A1619=K$3,$D1619<0),0)","v":0},0,{"$f":"IF($A1619=M$3,AND($A1619=M$3,$D1619<0),0)","v":0},0,{"$f":"IF($A1619=O$3,AND($A1619=O$3,$D1619<0),0)","v":0},0,0,0,0,0,0,0,{"$f":"IF($A1619=W$3,AND($A1619=W$3,$D1619<0),0)","v":0},0,{"$f":"IF($A1619=Y$3,AND($A1619=Y$3,$D1619<0),0)","v":0},0,{"$f":"IF($A1619=AA$3,AND($A1619=AA$3,$D1619<0),0)","v":0},0,{"$f":"IF($A1619=AC$3,AND($A1619=AC$3,$D1619<0),0)","v":0},0,0]
[{"$f":"IF(B1622=0,\"\",MONTH(B1622))","v":""},null,null,null,{"$f":"IF(D1622=\"\",\"\",IF(D1622<0,\"DEBITO\",\"CREDITO\"))","v":""},null,false,false,0,{"$f":"IF($A1622=I$3,AND($A1622=I$3,$D1622<0),0)","v":0},0,{"$f":"IF($A1622=K$3,AND($A1622=K$3,$D1622<0),0)","v":0},0,{"$f":"IF($A1622=M$3,AND($A1622=M$3,$D1622<0),0)","v":0},0,{"$f":"IF($A1622=O$3,AND($A1622=O$3,$D1622<0),0)","v":0},0,0,0,0,0,0,0,{"$f":"IF($A1622=W$3,AND($A1622=W$3,$D1622<0),0)","v":0},0,{"$f":"IF($A1622=Y$3,AND($A1622=Y$3,$D1622<0),0)","v":0},0,{"$f":"IF($A1622=AA$3,AND($A1622=AA$3,$D1622<0),0)","v":0},0,{"$f":"IF($A1622=AC$3,AND($A1622=AC$3,$D1622<0),0)","v":0},0,0]
[{"$f":"IF(B1623=0,\"\",MONTH(B1623))","v":""},null,null,null,{"$f":"IF(D1623=\"\",\"\",IF(D1623<0,\"DEBITO\",\"CREDITO\"))","v":""},null,false,false,0,{"$f":"IF($A1623=I$3,AND($A1623=I$3,$D1623<0),0)","v":0},0,{"$f":"IF($A1623=K$3,AND($A1623=K$3,$D1623<0),0)","v":0},0,{"$f":"IF($A1623=M$3,AND($A1623=M$3,$D1623<0),0)","v":0},0,{"$f":"IF($A1623=O$3,AND($A1623=O$3,$D1623<0),0)","v":0},0,0,0,0,0,0,0,{"$f":"IF($A1623=W$3,AND($A1623=W$3,$D1623<0),0)","v":0},0,{"$f":"IF($A1623=Y$3,AND($A1623=Y$3,$D1623<0),0)","v":0},0,{"$f":"IF($A1623=AA$3,AND($A1623=AA$3,$D1623<0),0)","v":0},0,{"$f":"IF($A1623=AC$3,AND($A1623=AC$3,$D1623<0),0)","v":0},0,0]
[{"$f":"IF(B1626=0,\"\",MONTH(B1626))","v":""},null,null,null,{"$f":"IF(D1626=\"\",\"\",IF(D1626<0,\"DEBITO\",\"CREDITO\"))","v":""},null,false,false,0,{"$f":"IF($A1626=I$3,AND($A1626=I$3,$D1626<0),0)","v":0},0,{"$f":"IF($A1626=K$3,AND($A1626=K$3,$D1626<0),0)","v":0},0,{"$f":"IF($A1626=M$3,AND($A1626=M$3,$D1626<0),0)","v":0},0,{"$f":"IF($A1626=O$3,AND($A1626=O$3,$D1626<0),0)","v":0},0,0,0,0,0,0,0,{"$f":"IF($A1626=W$3,AND($A1626=W$3,$D1626<0),0)","v":0},0,{"$f":"IF($A1626=Y$3,AND($A1626=Y$3,$D1626<0),0)","v":0},0,{"$f":"IF($A1626=AA$3,AND($A1626=AA$3,$D1626<0),0)","v":0},0,{"$f":"IF($A1626=AC$3,AND($A1626=AC$3,$D1626<0),0)","v":0},0,0]
[{"$f":"IF(B1627=0,\"\",MONTH(B1627))","v":""},null,null,null,{"$f":"IF(D1627=\"\",\"\",IF(D1627<0,\"DEBITO\",\"CREDITO\"))","v":""},null,false,false,0,{"$f":"IF($A1627=I$3,AND($A1627=I$3,$D1627<0),0)","v":0},0,{"$f":"IF($A1627=K$3,AND($A1627=K$3,$D1627<0),0)","v":0},0,{"$f":"IF($A1627=M$3,AND($A1627=M$3,$D1627<0),0)","v":0},0,{"$f":"IF($A1627=O$3,AND($A1627=O$3,$D1627<0),0)","v":0},0,0,0,0,0,0,0,{"$f":"IF($A1627=W$3,AND($A1627=W$3,$D1627<0),0)","v":0},0,{"$f":"IF($A1627=Y$3,AND($A1627=Y$3,$D1627<0),0)","v":0},0,{"$f":"IF($A1627=AA$3,AND($A1627=AA$3,$D1627<0),0)","v":0},0,{"$f":"IF($A1627=AC$3,AND($A1627=AC$3,$D1627<0),0)","v":0},0,0]
[{"$f":"IF(B1630=0,\"\",MONTH(B1630))","v":""},null,null,null,{"$f":"IF(D1630=\"\",\"\",IF(D1630<0,\"DEBITO\",\"CREDITO\"))","v":""},null,false,false,0,{"$f":"IF($A1630=I$3,AND($A1630=I$3,$D1630<0),0)","v":0},0,{"$f":"IF($A1630=K$3,AND($A1630=K$3,$D1630<0),0)","v":0},0,{"$f":"IF($A1630=M$3,AND($A1630=M$3,$D1630<0),0)","v":0},0,{"$f":"IF($A1630=O$3,AND($A1630=O$3,$D1630<0),0)","v":0},0,0,0,0,0,0,0,{"$f":"IF($A1630=W$3,AND($A1630=W$3,$D1630<0),0)","v":0},0,{"$f":"IF($A1630=Y$3,AND($A1630=Y$3,$D1630<0),0)","v":0},0,{"$f":"IF($A1630=AA$3,AND($A1630=AA$3,$D1630<0),0)","v":0},0,{"$f":"IF($A1630=AC$3,AND($A1630=AC$3,$D1630<0),0)","v":0},0,0]
[{"$f":"IF(B1631=0,\"\",MONTH(B1631))","v":""},null,null,null,{"$f":"IF(D1631=\"\",\"\",IF(D1631<0,\"DEBITO\",\"CREDITO\"))","v":""},null,false,false,0,{"$f":"IF($A1631=I$3,AND($A1631=I$3,$D1631<0),0)","v":0},0,{"$f":"IF($A1631=K$3,AND($A1631=K$3,$D1631<0),0)","v":0},0,{"$f":"IF($A1631=M$3,AND($A1631=M$3,$D1631<0),0)","v":0},0,{"$f":"IF($A1631=O$3,AND($A1631=O$3,$D1631<0),0)","v":0},0,0,0,0,0,0,0,{"$f":"IF($A1631=W$3,AND($A1631=W$3,$D1631<0),0)","v":0},0,{"$f":"IF($A1631=Y$3,AND($A1631=Y$3,$D1631<0),0)","v":0},0,{"$f":"IF($A1631=AA$3,AND($A1631=AA$3,$D1631<0),0)","v":0},0,{"$f":"IF($A1631=AC$3,AND($A1631=AC$3,$D1631<0),0)","v":0},0,0]
[{"$f":"IF(B1635=0,\"\",MONTH(B1635))","v":""},null,null,null,{"$f":"IF(D1635=\"\",\"\",IF(D1635<0,\"DEBITO\",\"CREDITO\"))","v":""},null,false,false,0,{"$f":"IF($A1635=I$3,AND($A1635=I$3,$D1635<0),0)","v":0},0,{"$f":"IF($A1635=K$3,AND($A1635=K$3,$D1635<0),0)","v":0},0,{"$f":"IF($A1635=M$3,AND($A1635=M$3,$D1635<0),0)","v":0},0,{"$f":"IF($A1635=O$3,AND($A1635=O$3,$D1635<0),0)","v":0},0,0,0,0,0,0,0,{"$f":"IF($A1635=W$3,AND($A1635=W$3,$D1635<0),0)","v":0},0,{"$f":"IF($A1635=Y$3,AND($A1635=Y$3,$D1635<0),0)","v":0},0,{"$f":"IF($A1635=AA$3,AND($A1635=AA$3,$D1635<0),0)","v":0},0,{"$f":"IF($A1635=AC$3,AND($A1635=AC$3,$D1635<0),0)","v":0},0,0]
[{"$f":"IF(B1636=0,\"\",MONTH(B1636))","v":""},null,null,null,{"$f":"IF(D1636=\"\",\"\",IF(D1636<0,\"DEBITO\",\"CREDITO\"))","v":""},null,false,false,0,{"$f":"IF($A1636=I$3,AND($A1636=I$3,$D1636<0),0)","v":0},0,{"$f":"IF($A1636=K$3,AND($A1636=K$3,$D1636<0),0)","v":0},0,{"$f":"IF($A1636=M$3,AND($A1636=M$3,$D1636<0),0)","v":0},0,{"$f":"IF($A1636=O$3,AND($A1636=O$3,$D1636<0),0)","v":0},0,0,0,0,0,0,0,{"$f":"IF($A1636=W$3,AND($A1636=W$3,$D1636<0),0)","v":0},0,{"$f":"IF($A1636=Y$3,AND($A1636=Y$3,$D1636<0),0)","v":0},0,{"$f":"IF($A1636=AA$3,AND($A1636=AA$3,$D1636<0),0)","v":0},0,{"$f":"IF($A1636=AC$3,AND($A1636=AC$3,$D1636<0),0)","v":0},0,0]
[{"$f":"IF(B1639=0,\"\",MONTH(B1639))","v":""},null,null,null,{"$f":"IF(D1639=\"\",\"\",IF(D1639<0,\"DEBITO\",\"CREDITO\"))","v":""},null,false,false,0,{"$f":"IF($A1639=I$3,AND($A1639=I$3,$D1639<0),0)","v":0},0,{"$f":"IF($A1639=K$3,AND($A1639=K$3,$D1639<0),0)","v":0},0,{"$f":"IF($A1639=M$3,AND($A1639=M$3,$D1639<0),0)","v":0},0,{"$f":"IF($A1639=O$3,AND($A1639=O$3,$D1639<0),0)","v":0},0,0,0,0,0,0,0,{"$f":"IF($A1639=W$3,AND($A1639=W$3,$D1639<0),0)","v":0},0,{"$f":"IF($A1639=Y$3,AND($A1639=Y$3,$D1639<0),0)","v":0},0,{"$f":"IF($A1639=AA$3,AND($A1639=AA$3,$D1639<0),0)","v":0},0,{"$f":"IF($A1639=AC$3,AND($A1639=AC$3,$D1639<0),0)","v":0},0,0]
[{"$f":"IF(B1640=0,\"\",MONTH(B1640))","v":""},null,null,null,{"$f":"IF(D1640=\"\",\"\",IF(D1640<0,\"DEBITO\",\"CREDITO\"))","v":""},null,false,false,0,{"$f":"IF($A1640=I$3,AND($A1640=I$3,$D1640<0),0)","v":0},0,{"$f":"IF($A1640=K$3,AND($A1640=K$3,$D1640<0),0)","v":0},0,{"$f":"IF($A1640=M$3,AND($A1640=M$3,$D1640<0),0)","v":0},0,{"$f":"IF($A1640=O$3,AND($A1640=O$3,$D1640<0),0)","v":0},0,0,0,0,0,0,0,{"$f":"IF($A1640=W$3,AND($A1640=W$3,$D1640<0),0)","v":0},0,{"$f":"IF($A1640=Y$3,AND($A1640=Y$3,$D1640<0),0)","v":0},0,{"$f":"IF($A1640=AA$3,AND($A1640=AA$3,$D1640<0),0)","v":0},0,{"$f":"IF($A1640=AC$3,AND($A1640=AC$3,$D1640<0),0)","v":0},0,0]
[{"$f":"IF(B1643=0,\"\",MONTH(B1643))","v":""},null,null,null,{"$f":"IF(D1643=\"\",\"\",IF(D1643<0,\"DEBITO\",\"CREDITO\"))","v":""},null,false,false,0,{"$f":"IF($A1643=I$3,AND($A1643=I$3,$D1643<0),0)","v":0},0,{"$f":"IF($A1643=K$3,AND($A1643=K$3,$D1643<0),0)","v":0},0,{"$f":"IF($A1643=M$3,AND($A1643=M$3,$D1643<0),0)","v":0},0,{"$f":"IF($A1643=O$3,AND($A1643=O$3,$D1643<0),0)","v":0},0,0,0,0,0,0,0,{"$f":"IF($A1643=W$3,AND($A1643=W$3,$D1643<0),0)","v":0},0,{"$f":"IF($A1643=Y$3,AND($A1643=Y$3,$D1643<0),0)","v":0},0,{"$f":"IF($A1643=AA$3,AND($A1643=AA$3,$D1643<0),0)","v":0},0,{"$f":"IF($A1643=AC$3,AND($A1643=AC$3,$D1643<0),0)","v":0},0,0]
[{"$f":"IF(B1644=0,\"\",MONTH(B1644))","v":""},null,null,null,{"$f":"IF(D1644=\"\",\"\",IF(D1644<0,\"DEBITO\",\"CREDITO\"))","v":""},null,false,false,0,{"$f":"IF($A1644=I$3,AND($A1644=I$3,$D1644<0),0)","v":0},0,{"$f":"IF($A1644=K$3,AND($A1644=K$3,$D1644<0),0)","v":0},0,{"$f":"IF($A1644=M$3,AND($A1644=M$3,$D1644<0),0)","v":0},0,{"$f":"IF($A1644=O$3,AND($A1644=O$3,$D1644<0),0)","v":0},0,0,0,0,0,0,0,{"$f":"IF($A1644=W$3,AND($A1644=W$3,$D1644<0),0)","v":0},0,{"$f":"IF($A1644=Y$3,AND($A1644=Y$3,$D1644<0),0)","v":0},0,{"$f":"IF($A1644=AA$3,AND($A1644=AA$3,$D1644<0),0)","v":0},0,{"$f":"IF($A1644=AC$3,AND($A1644=AC$3,$D1644<0),0)","v":0},0,0]
[{"$f":"IF(B1647=0,\"\",MONTH(B1647))","v":""},null,null,null,{"$f":"IF(D1647=\"\",\"\",IF(D1647<0,\"DEBITO\",\"CREDITO\"))","v":""},null,false,false,0,{"$f":"IF($A1647=I$3,AND($A1647=I$3,$D1647<0),0)","v":0},0,{"$f":"IF($A1647=K$3,AND($A1647=K$3,$D1647<0),0)","v":0},0,{"$f":"IF($A1647=M$3,AND($A1647=M$3,$D1647<0),0)","v":0},0,{"$f":"IF($A1647=O$3,AND($A1647=O$3,$D1647<0),0)","v":0},0,0,0,0,0,0,0,{"$f":"IF($A1647=W$3,AND($A1647=W$3,$D1647<0),0)","v":0},0,{"$f":"IF($A1647=Y$3,AND($A1647=Y$3,$D1647<0),0)","v":0},0,{"$f":"IF($A1647=AA$3,AND($A1647=AA$3,$D1647<0),0)","v":0},0,{"$f":"IF($A1647=AC$3,AND($A1647=AC$3,$D1647<0),0)","v":0},0,0]
[{"$f":"IF(B1648=0,\"\",MONTH(B1648))","v":""},null,null,null,{"$f":"IF(D1648=\"\",\"\",IF(D1648<0,\"DEBITO\",\"CREDITO\"))","v":""},null,false,false,0,{"$f":"IF($A1648=I$3,AND($A1648=I$3,$D1648<0),0)","v":0},0,{"$f":"IF($A1648=K$3,AND($A1648=K$3,$D1648<0),0)","v":0},0,{"$f":"IF($A1648=M$3,AND($A1648=M$3,$D1648<0),0)","v":0},0,{"$f":"IF($A1648=O$3,AND($A1648=O$3,$D1648<0),0)","v":0},0,0,0,0,0,0,0,{"$f":"IF($A1648=W$3,AND($A1648=W$3,$D1648<0),0)","v":0},0,{"$f":"IF($A1648=Y$3,AND($A1648=Y$3,$D1648<0),0)","v":0},0,{"$f":"IF($A1648=AA$3,AND($A1648=AA$3,$D1648<0),0)","v":0},0,{"$f":"IF($A1648=AC$3,AND($A1648=AC$3,$D1648<0),0)","v":0},0,0]
[{"$f":"IF(B1651=0,\"\",MONTH(B1651))","v":""},null,null,null,{"$f":"IF(D1651=\"\",\"\",IF(D1651<0,\"DEBITO\",\"CREDITO\"))","v":""},null,false,false,0,{"$f":"IF($A1651=I$3,AND($A1651=I$3,$D1651<0),0)","v":0},0,{"$f":"IF($A1651=K$3,AND($A1651=K$3,$D1651<0),0)","v":0},0,{"$f":"IF($A1651=M$3,AND($A1651=M$3,$D1651<0),0)","v":0},0,{"$f":"IF($A1651=O$3,AND($A1651=O$3,$D1651<0),0)","v":0},0,0,0,0,0,0,0,{"$f":"IF($A1651=W$3,AND($A1651=W$3,$D1651<0),0)","v":0},0,{"$f":"IF($A1651=Y$3,AND($A1651=Y$3,$D1651<0),0)","v":0},0,{"$f":"IF($A1651=AA$3,AND($A1651=AA$3,$D1651<0),0)","v":0},0,{"$f":"IF($A1651=AC$3,AND($A1651=AC$3,$D1651<0),0)","v":0},0,0]
[{"$f":"IF(B1652=0,\"\",MONTH(B1652))","v":""},null,null,null,{"$f":"IF(D1652=\"\",\"\",IF(D1652<0,\"DEBITO\",\"CREDITO\"))","v":""},null,false,false,0,{"$f":"IF($A1652=I$3,AND($A1652=I$3,$D1652<0),0)","v":0},0,{"$f":"IF($A1652=K$3,AND($A1652=K$3,$D1652<0),0)","v":0},0,{"$f":"IF($A1652=M$3,AND($A1652=M$3,$D1652<0),0)","v":0},0,{"$f":"IF($A1652=O$3,AND($A1652=O$3,$D1652<0),0)","v":0},0,0,0,0,0,0,0,{"$f":"IF($A1652=W$3,AND($A1652=W$3,$D1652<0),0)","v":0},0,{"$f":"IF($A1652=Y$3,AND($A1652=Y$3,$D1652<0),0)","v":0},0,{"$f":"IF($A1652=AA$3,AND($A1652=AA$3,$D1652<0),0)","v":0},0,{"$f":"IF($A1652=AC$3,AND($A1652=AC$3,$D1652<0),0)","v":0},0,0]
[{"$f":"IF(B1654=0,\"\",MONTH(B1654))","v":""},null,null,null,{"$f":"IF(D1654=\"\",\"\",IF(D1654<0,\"DEBITO\",\"CREDITO\"))","v":""},null,false,false,0,{"$f":"IF($A1654=I$3,AND($A1654=I$3,$D1654<0),0)","v":0},0,{"$f":"IF($A1654=K$3,AND($A1654=K$3,$D1654<0),0)","v":0},0,{"$f":"IF($A1654=M$3,AND($A1654=M$3,$D1654<0),0)","v":0},0,{"$f":"IF($A1654=O$3,AND($A1654=O$3,$D1654<0),0)","v":0},0,0,0,0,0,0,0,{"$f":"IF($A1654=W$3,AND($A1654=W$3,$D1654<0),0)","v":0},0,{"$f":"IF($A1654=Y$3,AND($A1654=Y$3,$D1654<0),0)","v":0},0,{"$f":"IF($A1654=AA$3,AND($A1654=AA$3,$D1654<0),0)","v":0},0,{"$f":"IF($A1654=AC$3,AND($A1654=AC$3,$D1654<0),0)","v":0},0,0]
[{"$f":"IF(B1657=0,\"\",MONTH(B1657))","v":""},null,null,null,{"$f":"IF(D1657=\"\",\"\",IF(D1657<0,\"DEBITO\",\"CREDITO\"))","v":""},null,false,false,0,{"$f":"IF($A1657=I$3,AND($A1657=I$3,$D1657<0),0)","v":0},0,{"$f":"IF($A1657=K$3,AND($A1657=K$3,$D1657<0),0)","v":0},0,{"$f":"IF($A1657=M$3,AND($A1657=M$3,$D1657<0),0)","v":0},0,{"$f":"IF($A1657=O$3,AND($A1657=O$3,$D1657<0),0)","v":0},0,0,0,0,0,0,0,{"$f":"IF($A1657=W$3,AND($A1657=W$3,$D1657<0),0)","v":0},0,{"$f":"IF($A1657=Y$3,AND($A1657=Y$3,$D1657<0),0)","v":0},0,{"$f":"IF($A1657=AA$3,AND($A1657=AA$3,$D1657<0),0)","v":0},0,{"$f":"IF($A1657=AC$3,AND($A1657=AC$3,$D1657<0),0)","v":0},0,0]
[{"$f":"IF(B1660=0,\"\",MONTH(B1660))","v":""},null,null,null,{"$f":"IF(D1660=\"\",\"\",IF(D1660<0,\"DEBITO\",\"CREDITO\"))","v":""},null,false,false,0,{"$f":"IF($A1660=I$3,AND($A1660=I$3,$D1660<0),0)","v":0},0,{"$f":"IF($A1660=K$3,AND($A1660=K$3,$D1660<0),0)","v":0},0,{"$f":"IF($A1660=M$3,AND($A1660=M$3,$D1660<0),0)","v":0},0,{"$f":"IF($A1660=O$3,AND($A1660=O$3,$D1660<0),0)","v":0},0,0,0,0,0,0,0,{"$f":"IF($A1660=W$3,AND($A1660=W$3,$D1660<0),0)","v":0},0,{"$f":"IF($A1660=Y$3,AND($A1660=Y$3,$D1660<0),0)","v":0},0,{"$f":"IF($A1660=AA$3,AND($A1660=AA$3,$D1660<0),0)","v":0},0,{"$f":"IF($A1660=AC$3,AND($A1660=AC$3,$D1660<0),0)","v":0},0,0]
[{"$f":"IF(B1661=0,\"\",MONTH(B1661))","v":""},null,null,null,{"$f":"IF(D1661=\"\",\"\",IF(D1661<0,\"DEBITO\",\"CREDITO\"))","v":""},null,false,false,0,{"$f":"IF($A1661=I$3,AND($A1661=I$3,$D1661<0),0)","v":0},0,{"$f":"IF($A1661=K$3,AND($A1661=K$3,$D1661<0),0)","v":0},0,{"$f":"IF($A1661=M$3,AND($A1661=M$3,$D1661<0),0)","v":0},0,{"$f":"IF($A1661=O$3,AND($A1661=O$3,$D1661<0),0)","v":0},0,0,0,0,0,0,0,{"$f":"IF($A1661=W$3,AND($A1661=W$3,$D1661<0),0)","v":0},0,{"$f":"IF($A1661=Y$3,AND($A1661=Y$3,$D1661<0),0)","v":0},0,{"$f":"IF($A1661=AA$3,AND($A1661=AA$3,$D1661<0),0)","v":0},0,{"$f":"IF($A1661=AC$3,AND($A1661=AC$3,$D1661<0),0)","v":0},0,0]
[{"$f":"IF(B1664=0,\"\",MONTH(B1664))","v":""},null,null,null,{"$f":"IF(D1664=\"\",\"\",IF(D1664<0,\"DEBITO\",\"CREDITO\"))","v":""},null,false,false,0,{"$f":"IF($A1664=I$3,AND($A1664=I$3,$D1664<0),0)","v":0},0,{"$f":"IF($A1664=K$3,AND($A1664=K$3,$D1664<0),0)","v":0},0,{"$f":"IF($A1664=M$3,AND($A1664=M$3,$D1664<0),0)","v":0},0,{"$f":"IF($A1664=O$3,AND($A1664=O$3,$D1664<0),0)","v":0},0,0,0,0,0,0,0,{"$f":"IF($A1664=W$3,AND($A1664=W$3,$D1664<0),0)","v":0},0,{"$f":"IF($A1664=Y$3,AND($A1664=Y$3,$D1664<0),0)","v":0},0,{"$f":"IF($A1664=AA$3,AND($A1664=AA$3,$D1664<0),0)","v":0},0,{"$f":"IF($A1664=AC$3,AND($A1664=AC$3,$D1664<0),0)","v":0},0,0]
[{"$f":"IF(B1665=0,\"\",MONTH(B1665))","v":""},null,null,null,{"$f":"IF(D1665=\"\",\"\",IF(D1665<0,\"DEBITO\",\"CREDITO\"))","v":""},null,false,false,0,{"$f":"IF($A1665=I$3,AND($A1665=I$3,$D1665<0),0)","v":0},0,{"$f":"IF($A1665=K$3,AND($A1665=K$3,$D1665<0),0)","v":0},0,{"$f":"IF($A1665=M$3,AND($A1665=M$3,$D1665<0),0)","v":0},0,{"$f":"IF($A1665=O$3,AND($A1665=O$3,$D1665<0),0)","v":0},0,0,0,0,0,0,0,{"$f":"IF($A1665=W$3,AND($A1665=W$3,$D1665<0),0)","v":0},0,{"$f":"IF($A1665=Y$3,AND($A1665=Y$3,$D1665<0),0)","v":0},0,{"$f":"IF($A1665=AA$3,AND($A1665=AA$3,$D1665<0),0)","v":0},0,{"$f":"IF($A1665=AC$3,AND($A1665=AC$3,$D1665<0),0)","v":0},0,0]
[{"$f":"IF(B1668=0,\"\",MONTH(B1668))","v":""},null,null,null,{"$f":"IF(D1668=\"\",\"\",IF(D1668<0,\"DEBITO\",\"CREDITO\"))","v":""},null,false,false,0,{"$f":"IF($A1668=I$3,AND($A1668=I$3,$D1668<0),0)","v":0},0,{"$f":"IF($A1668=K$3,AND($A1668=K$3,$D1668<0),0)","v":0},0,{"$f":"IF($A1668=M$3,AND($A1668=M$3,$D1668<0),0)","v":0},0,{"$f":"IF($A1668=O$3,AND($A1668=O$3,$D1668<0),0)","v":0},0,0,0,0,0,0,0,{"$f":"IF($A1668=W$3,AND($A1668=W$3,$D1668<0),0)","v":0},0,{"$f":"IF($A1668=Y$3,AND($A1668=Y$3,$D1668<0),0)","v":0},0,{"$f":"IF($A1668=AA$3,AND($A1668=AA$3,$D1668<0),0)","v":0},0,{"$f":"IF($A1668=AC$3,AND($A1668=AC$3,$D1668<0),0)","v":0},0,0]
[{"$f":"IF(B1669=0,\"\",MONTH(B1669))","v":""},null,null,null,{"$f":"IF(D1669=\"\",\"\",IF(D1669<0,\"DEBITO\",\"CREDITO\"))","v":""},null,false,false,0,{"$f":"IF($A1669=I$3,AND($A1669=I$3,$D1669<0),0)","v":0},0,{"$f":"IF($A1669=K$3,AND($A1669=K$3,$D1669<0),0)","v":0},0,{"$f":"IF($A1669=M$3,AND($A1669=M$3,$D1669<0),0)","v":0},0,{"$f":"IF($A1669=O$3,AND($A1669=O$3,$D1669<0),0)","v":0},0,0,0,0,0,0,0,{"$f":"IF($A1669=W$3,AND($A1669=W$3,$D1669<0),0)","v":0},0,{"$f":"IF($A1669=Y$3,AND($A1669=Y$3,$D1669<0),0)","v":0},0,{"$f":"IF($A1669=AA$3,AND($A1669=AA$3,$D1669<0),0)","v":0},0,{"$f":"IF($A1669=AC$3,AND($A1669=AC$3,$D1669<0),0)","v":0},0,0]
[{"$f":"IF(B1672=0,\"\",MONTH(B1672))","v":""},null,null,null,{"$f":"IF(D1672=\"\",\"\",IF(D1672<0,\"DEBITO\",\"CREDITO\"))","v":""},null,false,false,0,{"$f":"IF($A1672=I$3,AND($A1672=I$3,$D1672<0),0)","v":0},0,{"$f":"IF($A1672=K$3,AND($A1672=K$3,$D1672<0),0)","v":0},0,{"$f":"IF($A1672=M$3,AND($A1672=M$3,$D1672<0),0)","v":0},0,{"$f":"IF($A1672=O$3,AND($A1672=O$3,$D1672<0),0)","v":0},0,0,0,0,0,0,0,{"$f":"IF($A1672=W$3,AND($A1672=W$3,$D1672<0),0)","v":0},0,{"$f":"IF($A1672=Y$3,AND($A1672=Y$3,$D1672<0),0)","v":0},0,{"$f":"IF($A1672=AA$3,AND($A1672=AA$3,$D1672<0),0)","v":0},0,{"$f":"IF($A1672=AC$3,AND($A1672=AC$3,$D1672<0),0)","v":0},0,0]
[{"$f":"IF(B1673=0,\"\",MONTH(B1673))","v":""},null,null,null,{"$f":"IF(D1673=\"\",\"\",IF(D1673<0,\"DEBITO\",\"CREDITO\"))","v":""},null,{"$f":"AND(A1673=$E$3,D1673>0)","v":false},{"$f":"AND(A1673=$E$3,D1673<0)","v":false},0,{"$f":"IF($A1673=I$3,AND($A1673=I$3,$D1673<0),0)","v":0},0,{"$f":"IF($A1673=K$3,AND($A1673=K$3,$D1673<0),0)","v":0},0,{"$f":"IF($A1673=M$3,AND($A1673=M$3,$D1673<0),0)","v":0},0,{"$f":"IF($A1673=O$3,AND($A1673=O$3,$D1673<0),0)","v":0},0,{"$f":"IF($A1673=Q$3,AND($A1673=Q$3,$D1673<0),0)","v":0},0,0,0,0,0,{"$f":"IF($A1673=W$3,AND($A1673=W$3,$D1673<0),0)","v":0},0,{"$f":"IF($A1673=Y$3,AND($A1673=Y$3,$D1673<0),0)","v":0},0,{"$f":"IF($A1673=AA$3,AND($A1673=AA$3,$D1673<0),0)","v":0},0,{"$f":"IF($A1673=AC$3,AND($A1673=AC$3,$D1673<0),0)","v":0},0,{"$f":"IF($A1673=AE$3,AND($A1673=AE$3,$D1673<0),0)","v":0}]
[{"$f":"IF(B1675=0,\"\",MONTH(B1675))","v":""},null,null,null,{"$f":"IF(D1675=\"\",\"\",IF(D1675<0,\"DEBITO\",\"CREDITO\"))","v":""},null,false,false,0,{"$f":"IF($A1675=I$3,AND($A1675=I$3,$D1675<0),0)","v":0},0,{"$f":"IF($A1675=K$3,AND($A1675=K$3,$D1675<0),0)","v":0},0,{"$f":"IF($A1675=M$3,AND($A1675=M$3,$D1675<0),0)","v":0},0,{"$f":"IF($A1675=O$3,AND($A1675=O$3,$D1675<0),0)","v":0},0,0,0,0,0,0,0,{"$f":"IF($A1675=W$3,AND($A1675=W$3,$D1675<0),0)","v":0},0,{"$f":"IF($A1675=Y$3,AND($A1675=Y$3,$D1675<0),0)","v":0},0,{"$f":"IF($A1675=AA$3,AND($A1675=AA$3,$D1675<0),0)","v":0},0,{"$f":"IF($A1675=AC$3,AND($A1675=AC$3,$D1675<0),0)","v":0},0,0]
[{"$f":"IF(B1678=0,\"\",MONTH(B1678))","v":""},null,null,null,{"$f":"IF(D1678=\"\",\"\",IF(D1678<0,\"DEBITO\",\"CREDITO\"))","v":""},null,false,false,0,{"$f":"IF($A1678=I$3,AND($A1678=I$3,$D1678<0),0)","v":0},0,{"$f":"IF($A1678=K$3,AND($A1678=K$3,$D1678<0),0)","v":0},0,{"$f":"IF($A1678=M$3,AND($A1678=M$3,$D1678<0),0)","v":0},0,{"$f":"IF($A1678=O$3,AND($A1678=O$3,$D1678<0),0)","v":0},0,0,0,0,0,0,0,{"$f":"IF($A1678=W$3,AND($A1678=W$3,$D1678<0),0)","v":0},0,{"$f":"IF($A1678=Y$3,AND($A1678=Y$3,$D1678<0),0)","v":0},0,{"$f":"IF($A1678=AA$3,AND($A1678=AA$3,$D1678<0),0)","v":0},0,{"$f":"IF($A1678=AC$3,AND($A1678=AC$3,$D1678<0),0)","v":0},0,0]
[{"$f":"IF(B1681=0,\"\",MONTH(B1681))","v":""},null,null,null,{"$f":"IF(D1681=\"\",\"\",IF(D1681<0,\"DEBITO\",\"CREDITO\"))","v":""},null,false,false,0,{"$f":"IF($A1681=I$3,AND($A1681=I$3,$D1681<0),0)","v":0},0,{"$f":"IF($A1681=K$3,AND($A1681=K$3,$D1681<0),0)","v":0},0,{"$f":"IF($A1681=M$3,AND($A1681=M$3,$D1681<0),0)","v":0},0,{"$f":"IF($A1681=O$3,AND($A1681=O$3,$D1681<0),0)","v":0},0,0,0,0,0,0,0,{"$f":"IF($A1681=W$3,AND($A1681=W$3,$D1681<0),0)","v":0},0,{"$f":"IF($A1681=Y$3,AND($A1681=Y$3,$D1681<0),0)","v":0},0,{"$f":"IF($A1681=AA$3,AND($A1681=AA$3,$D1681<0),0)","v":0},0,{"$f":"IF($A1681=AC$3,AND($A1681=AC$3,$D1681<0),0)","v":0},0,0]
[{"$f":"IF(B1682=0,\"\",MONTH(B1682))","v":""},null,null,null,{"$f":"IF(D1682=\"\",\"\",IF(D1682<0,\"DEBITO\",\"CREDITO\"))","v":""},null,false,false,0,{"$f":"IF($A1682=I$3,AND($A1682=I$3,$D1682<0),0)","v":0},0,{"$f":"IF($A1682=K$3,AND($A1682=K$3,$D1682<0),0)","v":0},0,{"$f":"IF($A1682=M$3,AND($A1682=M$3,$D1682<0),0)","v":0},0,{"$f":"IF($A1682=O$3,AND($A1682=O$3,$D1682<0),0)","v":0},0,0,0,0,0,0,0,{"$f":"IF($A1682=W$3,AND($A1682=W$3,$D1682<0),0)","v":0},0,{"$f":"IF($A1682=Y$3,AND($A1682=Y$3,$D1682<0),0)","v":0},0,{"$f":"IF($A1682=AA$3,AND($A1682=AA$3,$D1682<0),0)","v":0},0,{"$f":"IF($A1682=AC$3,AND($A1682=AC$3,$D1682<0),0)","v":0},0,0]
[{"$f":"IF(B1685=0,\"\",MONTH(B1685))","v":""},null,null,null,{"$f":"IF(D1685=\"\",\"\",IF(D1685<0,\"DEBITO\",\"CREDITO\"))","v":""},null,false,false,0,{"$f":"IF($A1685=I$3,AND($A1685=I$3,$D1685<0),0)","v":0},0,{"$f":"IF($A1685=K$3,AND($A1685=K$3,$D1685<0),0)","v":0},0,{"$f":"IF($A1685=M$3,AND($A1685=M$3,$D1685<0),0)","v":0},0,{"$f":"IF($A1685=O$3,AND($A1685=O$3,$D1685<0),0)","v":0},0,0,0,0,0,0,0,{"$f":"IF($A1685=W$3,AND($A1685=W$3,$D1685<0),0)","v":0},0,{"$f":"IF($A1685=Y$3,AND($A1685=Y$3,$D1685<0),0)","v":0},0,{"$f":"IF($A1685=AA$3,AND($A1685=AA$3,$D1685<0),0)","v":0},0,{"$f":"IF($A1685=AC$3,AND($A1685=AC$3,$D1685<0),0)","v":0},0,0]
[{"$f":"IF(B1686=0,\"\",MONTH(B1686))","v":""},null,null,null,{"$f":"IF(D1686=\"\",\"\",IF(D1686<0,\"DEBITO\",\"CREDITO\"))","v":""},null,false,false,0,{"$f":"IF($A1686=I$3,AND($A1686=I$3,$D1686<0),0)","v":0},0,{"$f":"IF($A1686=K$3,AND($A1686=K$3,$D1686<0),0)","v":0},0,{"$f":"IF($A1686=M$3,AND($A1686=M$3,$D1686<0),0)","v":0},0,{"$f":"IF($A1686=O$3,AND($A1686=O$3,$D1686<0),0)","v":0},0,0,0,0,0,0,0,{"$f":"IF($A1686=W$3,AND($A1686=W$3,$D1686<0),0)","v":0},0,{"$f":"IF($A1686=Y$3,AND($A1686=Y$3,$D1686<0),0)","v":0},0,{"$f":"IF($A1686=AA$3,AND($A1686=AA$3,$D1686<0),0)","v":0},0,{"$f":"IF($A1686=AC$3,AND($A1686=AC$3,$D1686<0),0)","v":0},0,0]
[{"$f":"IF(B1689=0,\"\",MONTH(B1689))","v":""},null,null,null,{"$f":"IF(D1689=\"\",\"\",IF(D1689<0,\"DEBITO\",\"CREDITO\"))","v":""},null,false,false,{"$f":"IF($A1689=I$3,AND($A1689=I$3,$D1689>0),0)","v":0},{"$f":"IF($A1689=I$3,AND($A1689=I$3,$D1689<0),0)","v":0},{"$f":"IF($A1689=K$3,AND($A1689=K$3,$D1689>0),0)","v":0},{"$f":"IF($A1689=K$3,AND($A1689=K$3,$D1689<0),0)","v":0},{"$f":"IF($A1689=M$3,AND($A1689=M$3,$D1689>0),0)","v":0},{"$f":"IF($A1689=M$3,AND($A1689=M$3,$D1689<0),0)","v":0},{"$f":"IF($A1689=O$3,AND($A1689=O$3,$D1689>0),0)","v":0},{"$f":"IF($A1689=O$3,AND($A1689=O$3,$D1689<0),0)","v":0},{"$f":"IF($A1689=Q$3,AND($A1689=Q$3,$D1689>0),0)","v":0},0,0,0,0,0,{"$f":"IF($A1689=W$3,AND($A1689=W$3,$D1689>0),0)","v":0},{"$f":"IF($A1689=W$3,AND($A1689=W$3,$D1689<0),0)","v":0},{"$f":"IF($A1689=Y$3,AND($A1689=Y$3,$D1689>0),0)","v":0},{"$f":"IF($A1689=Y$3,AND($A1689=Y$3,$D1689<0),0)","v":0},{"$f":"IF($A1689=AA$3,AND($A1689=AA$3,$D1689>0),0)","v":0},{"$f":"IF($A1689=AA$3,AND($A1689=AA$3,$D1689<0),0)","v":0},{"$f":"IF($A1689=AC$3,AND($A1689=AC$3,$D1689>0),0)","v":0},{"$f":"IF($A1689=AC$3,AND($A1689=AC$3,$D1689<0),0)","v":0},{"$f":"IF($A1689=AE$3,AND($A1689=AE$3,$D1689>0),0)","v":0},0]
[{"$f":"IF(B1690=0,\"\",MONTH(B1690))","v":""},null,null,null,{"$f":"IF(D1690=\"\",\"\",IF(D1690<0,\"DEBITO\",\"CREDITO\"))","v":""},null,false,false,0,{"$f":"IF($A1690=I$3,AND($A1690=I$3,$D1690<0),0)","v":0},0,{"$f":"IF($A1690=K$3,AND($A1690=K$3,$D1690<0),0)","v":0},0,{"$f":"IF($A1690=M$3,AND($A1690=M$3,$D1690<0),0)","v":0},0,{"$f":"IF($A1690=O$3,AND($A1690=O$3,$D1690<0),0)","v":0},0,0,0,0,0,0,0,{"$f":"IF($A1690=W$3,AND($A1690=W$3,$D1690<0),0)","v":0},0,{"$f":"IF($A1690=Y$3,AND($A1690=Y$3,$D1690<0),0)","v":0},0,{"$f":"IF($A1690=AA$3,AND($A1690=AA$3,$D1690<0),0)","v":0},0,{"$f":"IF($A1690=AC$3,AND($A1690=AC$3,$D1690<0),0)","v":0},0,0]
[{"$f":"IF(B1693=0,\"\",MONTH(B1693))","v":""},null,null,null,{"$f":"IF(D1693=\"\",\"\",IF(D1693<0,\"DEBITO\",\"CREDITO\"))","v":""},null,false,false,0,{"$f":"IF($A1693=I$3,AND($A1693=I$3,$D1693<0),0)","v":0},0,{"$f":"IF($A1693=K$3,AND($A1693=K$3,$D1693<0),0)","v":0},0,{"$f":"IF($A1693=M$3,AND($A1693=M$3,$D1693<0),0)","v":0},0,{"$f":"IF($A1693=O$3,AND($A1693=O$3,$D1693<0),0)","v":0},0,0,0,0,0,0,0,{"$f":"IF($A1693=W$3,AND($A1693=W$3,$D1693<0),0)","v":0},0,{"$f":"IF($A1693=Y$3,AND($A1693=Y$3,$D1693<0),0)","v":0},0,{"$f":"IF($A1693=AA$3,AND($A1693=AA$3,$D1693<0),0)","v":0},0,{"$f":"IF($A1693=AC$3,AND($A1693=AC$3,$D1693<0),0)","v":0},0,0]
[{"$f":"IF(B1694=0,\"\",MONTH(B1694))","v":""},null,null,null,{"$f":"IF(D1694=\"\",\"\",IF(D1694<0,\"DEBITO\",\"CREDITO\"))","v":""},null,false,false,0,{"$f":"IF($A1694=I$3,AND($A1694=I$3,$D1694<0),0)","v":0},0,{"$f":"IF($A1694=K$3,AND($A1694=K$3,$D1694<0),0)","v":0},0,{"$f":"IF($A1694=M$3,AND($A1694=M$3,$D1694<0),0)","v":0},0,{"$f":"IF($A1694=O$3,AND($A1694=O$3,$D1694<0),0)","v":0},0,0,0,0,0,0,0,{"$f":"IF($A1694=W$3,AND($A1694=W$3,$D1694<0),0)","v":0},0,{"$f":"IF($A1694=Y$3,AND($A1694=Y$3,$D1694<0),0)","v":0},0,{"$f":"IF($A1694=AA$3,AND($A1694=AA$3,$D1694<0),0)","v":0},0,{"$f":"IF($A1694=AC$3,AND($A1694=AC$3,$D1694<0),0)","v":0},0,0]
[{"$f":"IF(B1697=0,\"\",MONTH(B1697))","v":""},null,null,null,{"$f":"IF(D1697=\"\",\"\",IF(D1697<0,\"DEBITO\",\"CREDITO\"))","v":""},null,false,false,0,{"$f":"IF($A1697=I$3,AND($A1697=I$3,$D1697<0),0)","v":0},0,{"$f":"IF($A1697=K$3,AND($A1697=K$3,$D1697<0),0)","v":0},0,{"$f":"IF($A1697=M$3,AND($A1697=M$3,$D1697<0),0)","v":0},0,{"$f":"IF($A1697=O$3,AND($A1697=O$3,$D1697<0),0)","v":0},0,0,0,0,0,0,0,{"$f":"IF($A1697=W$3,AND($A1697=W$3,$D1697<0),0)","v":0},0,{"$f":"IF($A1697=Y$3,AND($A1697=Y$3,$D1697<0),0)","v":0},0,{"$f":"IF($A1697=AA$3,AND($A1697=AA$3,$D1697<0),0)","v":0},0,{"$f":"IF($A1697=AC$3,AND($A1697=AC$3,$D1697<0),0)","v":0},0,0]
[{"$f":"IF(B1700=0,\"\",MONTH(B1700))","v":""},null,null,null,{"$f":"IF(D1700=\"\",\"\",IF(D1700<0,\"DEBITO\",\"CREDITO\"))","v":""},null,false,false,0,{"$f":"IF($A1700=I$3,AND($A1700=I$3,$D1700<0),0)","v":0},0,{"$f":"IF($A1700=K$3,AND($A1700=K$3,$D1700<0),0)","v":0},0,{"$f":"IF($A1700=M$3,AND($A1700=M$3,$D1700<0),0)","v":0},0,{"$f":"IF($A1700=O$3,AND($A1700=O$3,$D1700<0),0)","v":0},0,0,0,0,0,0,0,{"$f":"IF($A1700=W$3,AND($A1700=W$3,$D1700<0),0)","v":0},0,{"$f":"IF($A1700=Y$3,AND($A1700=Y$3,$D1700<0),0)","v":0},0,{"$f":"IF($A1700=AA$3,AND($A1700=AA$3,$D1700<0),0)","v":0},0,{"$f":"IF($A1700=AC$3,AND($A1700=AC$3,$D1700<0),0)","v":0},0,0]
[{"$f":"IF(B1702=0,\"\",MONTH(B1702))","v":""},null,null,null,{"$f":"IF(D1702=\"\",\"\",IF(D1702<0,\"DEBITO\",\"CREDITO\"))","v":""},null,false,false,0,{"$f":"IF($A1702=I$3,AND($A1702=I$3,$D1702<0),0)","v":0},0,{"$f":"IF($A1702=K$3,AND($A1702=K$3,$D1702<0),0)","v":0},0,{"$f":"IF($A1702=M$3,AND($A1702=M$3,$D1702<0),0)","v":0},0,{"$f":"IF($A1702=O$3,AND($A1702=O$3,$D1702<0),0)","v":0},0,0,0,0,0,0,0,{"$f":"IF($A1702=W$3,AND($A1702=W$3,$D1702<0),0)","v":0},0,{"$f":"IF($A1702=Y$3,AND($A1702=Y$3,$D1702<0),0)","v":0},0,{"$f":"IF($A1702=AA$3,AND($A1702=AA$3,$D1702<0),0)","v":0},0,{"$f":"IF($A1702=AC$3,AND($A1702=AC$3,$D1702<0),0)","v":0},0,0]
[{"$f":"IF(B1703=0,\"\",MONTH(B1703))","v":""},null,null,null,{"$f":"IF(D1703=\"\",\"\",IF(D1703<0,\"DEBITO\",\"CREDITO\"))","v":""},null,false,false,0,{"$f":"IF($A1703=I$3,AND($A1703=I$3,$D1703<0),0)","v":0},0,{"$f":"IF($A1703=K$3,AND($A1703=K$3,$D1703<0),0)","v":0},0,{"$f":"IF($A1703=M$3,AND($A1703=M$3,$D1703<0),0)","v":0},0,{"$f":"IF($A1703=O$3,AND($A1703=O$3,$D1703<0),0)","v":0},0,0,0,0,0,0,0,{"$f":"IF($A1703=W$3,AND($A1703=W$3,$D1703<0),0)","v":0},0,{"$f":"IF($A1703=Y$3,AND($A1703=Y$3,$D1703<0),0)","v":0},0,{"$f":"IF($A1703=AA$3,AND($A1703=AA$3,$D1703<0),0)","v":0},0,{"$f":"IF($A1703=AC$3,AND($A1703=AC$3,$D1703<0),0)","v":0},0,0]
[{"$f":"IF(B1706=0,\"\",MONTH(B1706))","v":""},null,null,null,{"$f":"IF(D1706=\"\",\"\",IF(D1706<0,\"DEBITO\",\"CREDITO\"))","v":""},null,false,false,0,{"$f":"IF($A1706=I$3,AND($A1706=I$3,$D1706<0),0)","v":0},0,{"$f":"IF($A1706=K$3,AND($A1706=K$3,$D1706<0),0)","v":0},0,{"$f":"IF($A1706=M$3,AND($A1706=M$3,$D1706<0),0)","v":0},0,{"$f":"IF($A1706=O$3,AND($A1706=O$3,$D1706<0),0)","v":0},0,0,0,0,0,0,0,{"$f":"IF($A1706=W$3,AND($A1706=W$3,$D1706<0),0)","v":0},0,{"$f":"IF($A1706=Y$3,AND($A1706=Y$3,$D1706<0),0)","v":0},0,{"$f":"IF($A1706=AA$3,AND($A1706=AA$3,$D1706<0),0)","v":0},0,{"$f":"IF($A1706=AC$3,AND($A1706=AC$3,$D1706<0),0)","v":0},0,0]
[{"$f":"IF(B1707=0,\"\",MONTH(B1707))","v":""},null,null,null,{"$f":"IF(D1707=\"\",\"\",IF(D1707<0,\"DEBITO\",\"CREDITO\"))","v":""},null,false,false,0,{"$f":"IF($A1707=I$3,AND($A1707=I$3,$D1707<0),0)","v":0},0,{"$f":"IF($A1707=K$3,AND($A1707=K$3,$D1707<0),0)","v":0},0,{"$f":"IF($A1707=M$3,AND($A1707=M$3,$D1707<0),0)","v":0},0,{"$f":"IF($A1707=O$3,AND($A1707=O$3,$D1707<0),0)","v":0},0,0,0,0,0,0,0,{"$f":"IF($A1707=W$3,AND($A1707=W$3,$D1707<0),0)","v":0},0,{"$f":"IF($A1707=Y$3,AND($A1707=Y$3,$D1707<0),0)","v":0},0,{"$f":"IF($A1707=AA$3,AND($A1707=AA$3,$D1707<0),0)","v":0},0,{"$f":"IF($A1707=AC$3,AND($A1707=AC$3,$D1707<0),0)","v":0},0,0]
[{"$f":"IF(B1710=0,\"\",MONTH(B1710))","v":""},null,null,null,{"$f":"IF(D1710=\"\",\"\",IF(D1710<0,\"DEBITO\",\"CREDITO\"))","v":""},null,false,false,0,{"$f":"IF($A1710=I$3,AND($A1710=I$3,$D1710<0),0)","v":0},0,{"$f":"IF($A1710=K$3,AND($A1710=K$3,$D1710<0),0)","v":0},0,{"$f":"IF($A1710=M$3,AND($A1710=M$3,$D1710<0),0)","v":0},0,{"$f":"IF($A1710=O$3,AND($A1710=O$3,$D1710<0),0)","v":0},0,0,0,0,0,0,0,{"$f":"IF($A1710=W$3,AND($A1710=W$3,$D1710<0),0)","v":0},0,{"$f":"IF($A1710=Y$3,AND($A1710=Y$3,$D1710<0),0)","v":0},0,{"$f":"IF($A1710=AA$3,AND($A1710=AA$3,$D1710<0),0)","v":0},0,{"$f":"IF($A1710=AC$3,AND($A1710=AC$3,$D1710<0),0)","v":0},0,0]
[{"$f":"IF(B1711=0,\"\",MONTH(B1711))","v":""},null,null,null,{"$f":"IF(D1711=\"\",\"\",IF(D1711<0,\"DEBITO\",\"CREDITO\"))","v":""},null,false,false,0,{"$f":"IF($A1711=I$3,AND($A1711=I$3,$D1711<0),0)","v":0},0,{"$f":"IF($A1711=K$3,AND($A1711=K$3,$D1711<0),0)","v":0},0,{"$f":"IF($A1711=M$3,AND($A1711=M$3,$D1711<0),0)","v":0},0,{"$f":"IF($A1711=O$3,AND($A1711=O$3,$D1711<0),0)","v":0},0,0,0,0,0,0,0,{"$f":"IF($A1711=W$3,AND($A1711=W$3,$D1711<0),0)","v":0},0,{"$f":"IF($A1711=Y$3,AND($A1711=Y$3,$D1711<0),0)","v":0},0,{"$f":"IF($A1711=AA$3,AND($A1711=AA$3,$D1711<0),0)","v":0},0,{"$f":"IF($A1711=AC$3,AND($A1711=AC$3,$D1711<0),0)","v":0},0,0]
[{"$f":"IF(B1714=0,\"\",MONTH(B1714))","v":""},null,null,null,{"$f":"IF(D1714=\"\",\"\",IF(D1714<0,\"DEBITO\",\"CREDITO\"))","v":""},null,false,false,0,{"$f":"IF($A1714=I$3,AND($A1714=I$3,$D1714<0),0)","v":0},0,{"$f":"IF($A1714=K$3,AND($A1714=K$3,$D1714<0),0)","v":0},0,{"$f":"IF($A1714=M$3,AND($A1714=M$3,$D1714<0),0)","v":0},0,{"$f":"IF($A1714=O$3,AND($A1714=O$3,$D1714<0),0)","v":0},0,0,0,0,0,0,0,{"$f":"IF($A1714=W$3,AND($A1714=W$3,$D1714<0),0)","v":0},0,{"$f":"IF($A1714=Y$3,AND($A1714=Y$3,$D1714<0),0)","v":0},0,{"$f":"IF($A1714=AA$3,AND($A1714=AA$3,$D1714<0),0)","v":0},0,{"$f":"IF($A1714=AC$3,AND($A1714=AC$3,$D1714<0),0)","v":0},0,0]
[{"$f":"IF(B1715=0,\"\",MONTH(B1715))","v":""},null,null,null,{"$f":"IF(D1715=\"\",\"\",IF(D1715<0,\"DEBITO\",\"CREDITO\"))","v":""},null,false,false,0,{"$f":"IF($A1715=I$3,AND($A1715=I$3,$D1715<0),0)","v":0},0,{"$f":"IF($A1715=K$3,AND($A1715=K$3,$D1715<0),0)","v":0},0,{"$f":"IF($A1715=M$3,AND($A1715=M$3,$D1715<0),0)","v":0},0,{"$f":"IF($A1715=O$3,AND($A1715=O$3,$D1715<0),0)","v":0},0,0,0,0,0,0,0,{"$f":"IF($A1715=W$3,AND($A1715=W$3,$D1715<0),0)","v":0},0,{"$f":"IF($A1715=Y$3,AND($A1715=Y$3,$D1715<0),0)","v":0},0,{"$f":"IF($A1715=AA$3,AND($A1715=AA$3,$D1715<0),0)","v":0},0,{"$f":"IF($A1715=AC$3,AND($A1715=AC$3,$D1715<0),0)","v":0},0,0]
[{"$f":"IF(B1718=0,\"\",MONTH(B1718))","v":""},null,null,null,{"$f":"IF(D1718=\"\",\"\",IF(D1718<0,\"DEBITO\",\"CREDITO\"))","v":""},null,false,false,0,{"$f":"IF($A1718=I$3,AND($A1718=I$3,$D1718<0),0)","v":0},0,{"$f":"IF($A1718=K$3,AND($A1718=K$3,$D1718<0),0)","v":0},0,{"$f":"IF($A1718=M$3,AND($A1718=M$3,$D1718<0),0)","v":0},0,{"$f":"IF($A1718=O$3,AND($A1718=O$3,$D1718<0),0)","v":0},0,0,0,0,0,0,0,{"$f":"IF($A1718=W$3,AND($A1718=W$3,$D1718<0),0)","v":0},0,{"$f":"IF($A1718=Y$3,AND($A1718=Y$3,$D1718<0),0)","v":0},0,{"$f":"IF($A1718=AA$3,AND($A1718=AA$3,$D1718<0),0)","v":0},0,{"$f":"IF($A1718=AC$3,AND($A1718=AC$3,$D1718<0),0)","v":0},0,0]
[{"$f":"IF(B1719=0,\"\",MONTH(B1719))","v":""},null,null,null,{"$f":"IF(D1719=\"\",\"\",IF(D1719<0,\"DEBITO\",\"CREDITO\"))","v":""},null,false,false,0,{"$f":"IF($A1719=I$3,AND($A1719=I$3,$D1719<0),0)","v":0},0,{"$f":"IF($A1719=K$3,AND($A1719=K$3,$D1719<0),0)","v":0},0,{"$f":"IF($A1719=M$3,AND($A1719=M$3,$D1719<0),0)","v":0},0,{"$f":"IF($A1719=O$3,AND($A1719=O$3,$D1719<0),0)","v":0},0,0,0,0,0,0,0,{"$f":"IF($A1719=W$3,AND($A1719=W$3,$D1719<0),0)","v":0},0,{"$f":"IF($A1719=Y$3,AND($A1719=Y$3,$D1719<0),0)","v":0},0,{"$f":"IF($A1719=AA$3,AND($A1719=AA$3,$D1719<0),0)","v":0},0,{"$f":"IF($A1719=AC$3,AND($A1719=AC$3,$D1719<0),0)","v":0},0,0]
[{"$f":"IF(B1723=0,\"\",MONTH(B1723))","v":""},null,null,null,{"$f":"IF(D1723=\"\",\"\",IF(D1723<0,\"DEBITO\",\"CREDITO\"))","v":""},null,false,false,0,{"$f":"IF($A1723=I$3,AND($A1723=I$3,$D1723<0),0)","v":0},0,{"$f":"IF($A1723=K$3,AND($A1723=K$3,$D1723<0),0)","v":0},0,{"$f":"IF($A1723=M$3,AND($A1723=M$3,$D1723<0),0)","v":0},0,{"$f":"IF($A1723=O$3,AND($A1723=O$3,$D1723<0),0)","v":0},0,0,0,0,0,0,0,{"$f":"IF($A1723=W$3,AND($A1723=W$3,$D1723<0),0)","v":0},0,{"$f":"IF($A1723=Y$3,AND($A1723=Y$3,$D1723<0),0)","v":0},0,{"$f":"IF($A1723=AA$3,AND($A1723=AA$3,$D1723<0),0)","v":0},0,{"$f":"IF($A1723=AC$3,AND($A1723=AC$3,$D1723<0),0)","v":0},0,0]
[{"$f":"IF(B1724=0,\"\",MONTH(B1724))","v":""},null,null,null,{"$f":"IF(D1724=\"\",\"\",IF(D1724<0,\"DEBITO\",\"CREDITO\"))","v":""},null,false,false,0,{"$f":"IF($A1724=I$3,AND($A1724=I$3,$D1724<0),0)","v":0},0,{"$f":"IF($A1724=K$3,AND($A1724=K$3,$D1724<0),0)","v":0},0,{"$f":"IF($A1724=M$3,AND($A1724=M$3,$D1724<0),0)","v":0},0,{"$f":"IF($A1724=O$3,AND($A1724=O$3,$D1724<0),0)","v":0},0,0,0,0,0,0,0,{"$f":"IF($A1724=W$3,AND($A1724=W$3,$D1724<0),0)","v":0},0,{"$f":"IF($A1724=Y$3,AND($A1724=Y$3,$D1724<0),0)","v":0},0,{"$f":"IF($A1724=AA$3,AND($A1724=AA$3,$D1724<0),0)","v":0},0,{"$f":"IF($A1724=AC$3,AND($A1724=AC$3,$D1724<0),0)","v":0},0,0]
[{"$f":"IF(B1727=0,\"\",MONTH(B1727))","v":""},null,null,null,{"$f":"IF(D1727=\"\",\"\",IF(D1727<0,\"DEBITO\",\"CREDITO\"))","v":""},null,false,false,0,{"$f":"IF($A1727=I$3,AND($A1727=I$3,$D1727<0),0)","v":0},0,{"$f":"IF($A1727=K$3,AND($A1727=K$3,$D1727<0),0)","v":0},0,{"$f":"IF($A1727=M$3,AND($A1727=M$3,$D1727<0),0)","v":0},0,{"$f":"IF($A1727=O$3,AND($A1727=O$3,$D1727<0),0)","v":0},0,0,0,0,0,0,0,{"$f":"IF($A1727=W$3,AND($A1727=W$3,$D1727<0),0)","v":0},0,{"$f":"IF($A1727=Y$3,AND($A1727=Y$3,$D1727<0),0)","v":0},0,{"$f":"IF($A1727=AA$3,AND($A1727=AA$3,$D1727<0),0)","v":0},0,{"$f":"IF($A1727=AC$3,AND($A1727=AC$3,$D1727<0),0)","v":0},0,0]
[{"$f":"IF(B1728=0,\"\",MONTH(B1728))","v":""},null,null,null,{"$f":"IF(D1728=\"\",\"\",IF(D1728<0,\"DEBITO\",\"CREDITO\"))","v":""},null,false,false,0,{"$f":"IF($A1728=I$3,AND($A1728=I$3,$D1728<0),0)","v":0},0,{"$f":"IF($A1728=K$3,AND($A1728=K$3,$D1728<0),0)","v":0},0,{"$f":"IF($A1728=M$3,AND($A1728=M$3,$D1728<0),0)","v":0},0,{"$f":"IF($A1728=O$3,AND($A1728=O$3,$D1728<0),0)","v":0},0,0,0,0,0,0,0,{"$f":"IF($A1728=W$3,AND($A1728=W$3,$D1728<0),0)","v":0},0,{"$f":"IF($A1728=Y$3,AND($A1728=Y$3,$D1728<0),0)","v":0},0,{"$f":"IF($A1728=AA$3,AND($A1728=AA$3,$D1728<0),0)","v":0},0,{"$f":"IF($A1728=AC$3,AND($A1728=AC$3,$D1728<0),0)","v":0},0,0]
[{"$f":"IF(B1731=0,\"\",MONTH(B1731))","v":""},null,null,null,{"$f":"IF(D1731=\"\",\"\",IF(D1731<0,\"DEBITO\",\"CREDITO\"))","v":""},null,false,false,0,{"$f":"IF($A1731=I$3,AND($A1731=I$3,$D1731<0),0)","v":0},0,{"$f":"IF($A1731=K$3,AND($A1731=K$3,$D1731<0),0)","v":0},0,{"$f":"IF($A1731=M$3,AND($A1731=M$3,$D1731<0),0)","v":0},0,{"$f":"IF($A1731=O$3,AND($A1731=O$3,$D1731<0),0)","v":0},0,0,0,0,0,0,0,{"$f":"IF($A1731=W$3,AND($A1731=W$3,$D1731<0),0)","v":0},0,{"$f":"IF($A1731=Y$3,AND($A1731=Y$3,$D1731<0),0)","v":0},0,{"$f":"IF($A1731=AA$3,AND($A1731=AA$3,$D1731<0),0)","v":0},0,{"$f":"IF($A1731=AC$3,AND($A1731=AC$3,$D1731<0),0)","v":0},0,0]
[{"$f":"IF(B1732=0,\"\",MONTH(B1732))","v":""},null,null,null,{"$f":"IF(D1732=\"\",\"\",IF(D1732<0,\"DEBITO\",\"CREDITO\"))","v":""},null,false,false,0,{"$f":"IF($A1732=I$3,AND($A1732=I$3,$D1732<0),0)","v":0},0,{"$f":"IF($A1732=K$3,AND($A1732=K$3,$D1732<0),0)","v":0},0,{"$f":"IF($A1732=M$3,AND($A1732=M$3,$D1732<0),0)","v":0},0,{"$f":"IF($A1732=O$3,AND($A1732=O$3,$D1732<0),0)","v":0},0,0,0,0,0,0,0,{"$f":"IF($A1732=W$3,AND($A1732=W$3,$D1732<0),0)","v":0},0,{"$f":"IF($A1732=Y$3,AND($A1732=Y$3,$D1732<0),0)","v":0},0,{"$f":"IF($A1732=AA$3,AND($A1732=AA$3,$D1732<0),0)","v":0},0,{"$f":"IF($A1732=AC$3,AND($A1732=AC$3,$D1732<0),0)","v":0},0,0]
[{"$f":"IF(B1735=0,\"\",MONTH(B1735))","v":""},null,null,null,{"$f":"IF(D1735=\"\",\"\",IF(D1735<0,\"DEBITO\",\"CREDITO\"))","v":""},null,false,false,0,{"$f":"IF($A1735=I$3,AND($A1735=I$3,$D1735<0),0)","v":0},0,{"$f":"IF($A1735=K$3,AND($A1735=K$3,$D1735<0),0)","v":0},0,{"$f":"IF($A1735=M$3,AND($A1735=M$3,$D1735<0),0)","v":0},0,{"$f":"IF($A1735=O$3,AND($A1735=O$3,$D1735<0),0)","v":0},0,0,0,0,0,0,0,{"$f":"IF($A1735=W$3,AND($A1735=W$3,$D1735<0),0)","v":0},0,{"$f":"IF($A1735=Y$3,AND($A1735=Y$3,$D1735<0),0)","v":0},0,{"$f":"IF($A1735=AA$3,AND($A1735=AA$3,$D1735<0),0)","v":0},0,{"$f":"IF($A1735=AC$3,AND($A1735=AC$3,$D1735<0),0)","v":0},0,0]
[{"$f":"IF(B1736=0,\"\",MONTH(B1736))","v":""},null,null,null,{"$f":"IF(D1736=\"\",\"\",IF(D1736<0,\"DEBITO\",\"CREDITO\"))","v":""},null,false,false,0,{"$f":"IF($A1736=I$3,AND($A1736=I$3,$D1736<0),0)","v":0},0,{"$f":"IF($A1736=K$3,AND($A1736=K$3,$D1736<0),0)","v":0},0,{"$f":"IF($A1736=M$3,AND($A1736=M$3,$D1736<0),0)","v":0},0,{"$f":"IF($A1736=O$3,AND($A1736=O$3,$D1736<0),0)","v":0},0,0,0,0,0,0,0,{"$f":"IF($A1736=W$3,AND($A1736=W$3,$D1736<0),0)","v":0},0,{"$f":"IF($A1736=Y$3,AND($A1736=Y$3,$D1736<0),0)","v":0},0,{"$f":"IF($A1736=AA$3,AND($A1736=AA$3,$D1736<0),0)","v":0},0,{"$f":"IF($A1736=AC$3,AND($A1736=AC$3,$D1736<0),0)","v":0},0,0]
[{"$f":"IF(B1739=0,\"\",MONTH(B1739))","v":""},null,null,null,{"$f":"IF(D1739=\"\",\"\",IF(D1739<0,\"DEBITO\",\"CREDITO\"))","v":""},null,false,false,0,{"$f":"IF($A1739=I$3,AND($A1739=I$3,$D1739<0),0)","v":0},0,{"$f":"IF($A1739=K$3,AND($A1739=K$3,$D1739<0),0)","v":0},0,{"$f":"IF($A1739=M$3,AND($A1739=M$3,$D1739<0),0)","v":0},0,{"$f":"IF($A1739=O$3,AND($A1739=O$3,$D1739<0),0)","v":0},0,0,0,0,0,0,0,{"$f":"IF($A1739=W$3,AND($A1739=W$3,$D1739<0),0)","v":0},0,{"$f":"IF($A1739=Y$3,AND($A1739=Y$3,$D1739<0),0)","v":0},0,{"$f":"IF($A1739=AA$3,AND($A1739=AA$3,$D1739<0),0)","v":0},0,{"$f":"IF($A1739=AC$3,AND($A1739=AC$3,$D1739<0),0)","v":0},0,0]
[{"$f":"IF(B1740=0,\"\",MONTH(B1740))","v":""},null,null,null,{"$f":"IF(D1740=\"\",\"\",IF(D1740<0,\"DEBITO\",\"CREDITO\"))","v":""},null,false,false,0,{"$f":"IF($A1740=I$3,AND($A1740=I$3,$D1740<0),0)","v":0},0,{"$f":"IF($A1740=K$3,AND($A1740=K$3,$D1740<0),0)","v":0},0,{"$f":"IF($A1740=M$3,AND($A1740=M$3,$D1740<0),0)","v":0},0,{"$f":"IF($A1740=O$3,AND($A1740=O$3,$D1740<0),0)","v":0},0,0,0,0,0,0,0,{"$f":"IF($A1740=W$3,AND($A1740=W$3,$D1740<0),0)","v":0},0,{"$f":"IF($A1740=Y$3,AND($A1740=Y$3,$D1740<0),0)","v":0},0,{"$f":"IF($A1740=AA$3,AND($A1740=AA$3,$D1740<0),0)","v":0},0,{"$f":"IF($A1740=AC$3,AND($A1740=AC$3,$D1740<0),0)","v":0},0,0]
[{"$f":"IF(B1743=0,\"\",MONTH(B1743))","v":""},null,null,null,{"$f":"IF(D1743=\"\",\"\",IF(D1743<0,\"DEBITO\",\"CREDITO\"))","v":""},null,false,false,0,{"$f":"IF($A1743=I$3,AND($A1743=I$3,$D1743<0),0)","v":0},0,{"$f":"IF($A1743=K$3,AND($A1743=K$3,$D1743<0),0)","v":0},0,{"$f":"IF($A1743=M$3,AND($A1743=M$3,$D1743<0),0)","v":0},0,{"$f":"IF($A1743=O$3,AND($A1743=O$3,$D1743<0),0)","v":0},0,0,0,0,0,0,0,{"$f":"IF($A1743=W$3,AND($A1743=W$3,$D1743<0),0)","v":0},0,{"$f":"IF($A1743=Y$3,AND($A1743=Y$3,$D1743<0),0)","v":0},0,{"$f":"IF($A1743=AA$3,AND($A1743=AA$3,$D1743<0),0)","v":0},0,{"$f":"IF($A1743=AC$3,AND($A1743=AC$3,$D1743<0),0)","v":0},0,0]
[{"$f":"IF(B1745=0,\"\",MONTH(B1745))","v":""},null,null,null,{"$f":"IF(D1745=\"\",\"\",IF(D1745<0,\"DEBITO\",\"CREDITO\"))","v":""},null,false,false,0,{"$f":"IF($A1745=I$3,AND($A1745=I$3,$D1745<0),0)","v":0},0,{"$f":"IF($A1745=K$3,AND($A1745=K$3,$D1745<0),0)","v":0},0,{"$f":"IF($A1745=M$3,AND($A1745=M$3,$D1745<0),0)","v":0},0,{"$f":"IF($A1745=O$3,AND($A1745=O$3,$D1745<0),0)","v":0},0,0,0,0,0,0,0,{"$f":"IF($A1745=W$3,AND($A1745=W$3,$D1745<0),0)","v":0},0,{"$f":"IF($A1745=Y$3,AND($A1745=Y$3,$D1745<0),0)","v":0},0,{"$f":"IF($A1745=AA$3,AND($A1745=AA$3,$D1745<0),0)","v":0},0,{"$f":"IF($A1745=AC$3,AND($A1745=AC$3,$D1745<0),0)","v":0},0,0]
[{"$f":"IF(B1748=0,\"\",MONTH(B1748))","v":""},null,null,null,{"$f":"IF(D1748=\"\",\"\",IF(D1748<0,\"DEBITO\",\"CREDITO\"))","v":""},null,false,false,0,{"$f":"IF($A1748=I$3,AND($A1748=I$3,$D1748<0),0)","v":0},0,{"$f":"IF($A1748=K$3,AND($A1748=K$3,$D1748<0),0)","v":0},0,{"$f":"IF($A1748=M$3,AND($A1748=M$3,$D1748<0),0)","v":0},0,{"$f":"IF($A1748=O$3,AND($A1748=O$3,$D1748<0),0)","v":0},0,0,0,0,0,0,0,{"$f":"IF($A1748=W$3,AND($A1748=W$3,$D1748<0),0)","v":0},0,{"$f":"IF($A1748=Y$3,AND($A1748=Y$3,$D1748<0),0)","v":0},0,{"$f":"IF($A1748=AA$3,AND($A1748=AA$3,$D1748<0),0)","v":0},0,{"$f":"IF($A1748=AC$3,AND($A1748=AC$3,$D1748<0),0)","v":0},0,0]
[{"$f":"IF(B1749=0,\"\",MONTH(B1749))","v":""},null,null,null,{"$f":"IF(D1749=\"\",\"\",IF(D1749<0,\"DEBITO\",\"CREDITO\"))","v":""},null,false,false,0,{"$f":"IF($A1749=I$3,AND($A1749=I$3,$D1749<0),0)","v":0},0,{"$f":"IF($A1749=K$3,AND($A1749=K$3,$D1749<0),0)","v":0},0,{"$f":"IF($A1749=M$3,AND($A1749=M$3,$D1749<0),0)","v":0},0,{"$f":"IF($A1749=O$3,AND($A1749=O$3,$D1749<0),0)","v":0},0,0,0,0,0,0,0,{"$f":"IF($A1749=W$3,AND($A1749=W$3,$D1749<0),0)","v":0},0,{"$f":"IF($A1749=Y$3,AND($A1749=Y$3,$D1749<0),0)","v":0},0,{"$f":"IF($A1749=AA$3,AND($A1749=AA$3,$D1749<0),0)","v":0},0,{"$f":"IF($A1749=AC$3,AND($A1749=AC$3,$D1749<0),0)","v":0},0,0]
[{"$f":"IF(B1752=0,\"\",MONTH(B1752))","v":""},null,null,null,{"$f":"IF(D1752=\"\",\"\",IF(D1752<0,\"DEBITO\",\"CREDITO\"))","v":""},null,false,false,0,{"$f":"IF($A1752=I$3,AND($A1752=I$3,$D1752<0),0)","v":0},0,{"$f":"IF($A1752=K$3,AND($A1752=K$3,$D1752<0),0)","v":0},0,{"$f":"IF($A1752=M$3,AND($A1752=M$3,$D1752<0),0)","v":0},0,{"$f":"IF($A1752=O$3,AND($A1752=O$3,$D1752<0),0)","v":0},0,0,0,0,0,0,0,{"$f":"IF($A1752=W$3,AND($A1752=W$3,$D1752<0),0)","v":0},0,{"$f":"IF($A1752=Y$3,AND($A1752=Y$3,$D1752<0),0)","v":0},0,{"$f":"IF($A1752=AA$3,AND($A1752=AA$3,$D1752<0),0)","v":0},0,{"$f":"IF($A1752=AC$3,AND($A1752=AC$3,$D1752<0),0)","v":0},0,0]
[{"$f":"IF(B1753=0,\"\",MONTH(B1753))","v":""},null,null,null,{"$f":"IF(D1753=\"\",\"\",IF(D1753<0,\"DEBITO\",\"CREDITO\"))","v":""},null,false,false,{"$f":"IF($A1753=I$3,AND($A1753=I$3,$D1753>0),0)","v":0},{"$f":"IF($A1753=I$3,AND($A1753=I$3,$D1753<0),0)","v":0},{"$f":"IF($A1753=K$3,AND($A1753=K$3,$D1753>0),0)","v":0},{"$f":"IF($A1753=K$3,AND($A1753=K$3,$D1753<0),0)","v":0},{"$f":"IF($A1753=M$3,AND($A1753=M$3,$D1753>0),0)","v":0},{"$f":"IF($A1753=M$3,AND($A1753=M$3,$D1753<0),0)","v":0},{"$f":"IF($A1753=O$3,AND($A1753=O$3,$D1753>0),0)","v":0},{"$f":"IF($A1753=O$3,AND($A1753=O$3,$D1753<0),0)","v":0},{"$f":"IF($A1753=Q$3,AND($A1753=Q$3,$D1753>0),0)","v":0},0,0,0,0,0,{"$f":"IF($A1753=W$3,AND($A1753=W$3,$D1753>0),0)","v":0},{"$f":"IF($A1753=W$3,AND($A1753=W$3,$D1753<0),0)","v":0},{"$f":"IF($A1753=Y$3,AND($A1753=Y$3,$D1753>0),0)","v":0},{"$f":"IF($A1753=Y$3,AND($A1753=Y$3,$D1753<0),0)","v":0},{"$f":"IF($A1753=AA$3,AND($A1753=AA$3,$D1753>0),0)","v":0},{"$f":"IF($A1753=AA$3,AND($A1753=AA$3,$D1753<0),0)","v":0},{"$f":"IF($A1753=AC$3,AND($A1753=AC$3,$D1753>0),0)","v":0},{"$f":"IF($A1753=AC$3,AND($A1753=AC$3,$D1753<0),0)","v":0},{"$f":"IF($A1753=AE$3,AND($A1753=AE$3,$D1753>0),0)","v":0},0]
[{"$f":"IF(B1756=0,\"\",MONTH(B1756))","v":""},null,null,null,{"$f":"IF(D1756=\"\",\"\",IF(D1756<0,\"DEBITO\",\"CREDITO\"))","v":""},null,false,false,0,{"$f":"IF($A1756=I$3,AND($A1756=I$3,$D1756<0),0)","v":0},0,{"$f":"IF($A1756=K$3,AND($A1756=K$3,$D1756<0),0)","v":0},0,{"$f":"IF($A1756=M$3,AND($A1756=M$3,$D1756<0),0)","v":0},0,{"$f":"IF($A1756=O$3,AND($A1756=O$3,$D1756<0),0)","v":0},0,0,0,0,0,0,0,{"$f":"IF($A1756=W$3,AND($A1756=W$3,$D1756<0),0)","v":0},0,{"$f":"IF($A1756=Y$3,AND($A1756=Y$3,$D1756<0),0)","v":0},0,{"$f":"IF($A1756=AA$3,AND($A1756=AA$3,$D1756<0),0)","v":0},0,{"$f":"IF($A1756=AC$3,AND($A1756=AC$3,$D1756<0),0)","v":0},0,0]
[{"$f":"IF(B1757=0,\"\",MONTH(B1757))","v":""},null,null,null,{"$f":"IF(D1757=\"\",\"\",IF(D1757<0,\"DEBITO\",\"CREDITO\"))","v":""},null,false,false,0,{"$f":"IF($A1757=I$3,AND($A1757=I$3,$D1757<0),0)","v":0},0,{"$f":"IF($A1757=K$3,AND($A1757=K$3,$D1757<0),0)","v":0},0,{"$f":"IF($A1757=M$3,AND($A1757=M$3,$D1757<0),0)","v":0},0,{"$f":"IF($A1757=O$3,AND($A1757=O$3,$D1757<0),0)","v":0},0,0,0,0,0,0,0,{"$f":"IF($A1757=W$3,AND($A1757=W$3,$D1757<0),0)","v":0},0,{"$f":"IF($A1757=Y$3,AND($A1757=Y$3,$D1757<0),0)","v":0},0,{"$f":"IF($A1757=AA$3,AND($A1757=AA$3,$D1757<0),0)","v":0},0,{"$f":"IF($A1757=AC$3,AND($A1757=AC$3,$D1757<0),0)","v":0},0,0]
[{"$f":"IF(B1760=0,\"\",MONTH(B1760))","v":""},null,null,null,{"$f":"IF(D1760=\"\",\"\",IF(D1760<0,\"DEBITO\",\"CREDITO\"))","v":""},null,false,false,0,{"$f":"IF($A1760=I$3,AND($A1760=I$3,$D1760<0),0)","v":0},0,{"$f":"IF($A1760=K$3,AND($A1760=K$3,$D1760<0),0)","v":0},0,{"$f":"IF($A1760=M$3,AND($A1760=M$3,$D1760<0),0)","v":0},0,{"$f":"IF($A1760=O$3,AND($A1760=O$3,$D1760<0),0)","v":0},0,0,0,0,0,0,0,{"$f":"IF($A1760=W$3,AND($A1760=W$3,$D1760<0),0)","v":0},0,{"$f":"IF($A1760=Y$3,AND($A1760=Y$3,$D1760<0),0)","v":0},0,{"$f":"IF($A1760=AA$3,AND($A1760=AA$3,$D1760<0),0)","v":0},0,{"$f":"IF($A1760=AC$3,AND($A1760=AC$3,$D1760<0),0)","v":0},0,0]
[{"$f":"IF(B1761=0,\"\",MONTH(B1761))","v":""},null,null,null,{"$f":"IF(D1761=\"\",\"\",IF(D1761<0,\"DEBITO\",\"CREDITO\"))","v":""},null,false,false,0,{"$f":"IF($A1761=I$3,AND($A1761=I$3,$D1761<0),0)","v":0},0,{"$f":"IF($A1761=K$3,AND($A1761=K$3,$D1761<0),0)","v":0},0,{"$f":"IF($A1761=M$3,AND($A1761=M$3,$D1761<0),0)","v":0},0,{"$f":"IF($A1761=O$3,AND($A1761=O$3,$D1761<0),0)","v":0},0,0,0,0,0,0,0,{"$f":"IF($A1761=W$3,AND($A1761=W$3,$D1761<0),0)","v":0},0,{"$f":"IF($A1761=Y$3,AND($A1761=Y$3,$D1761<0),0)","v":0},0,{"$f":"IF($A1761=AA$3,AND($A1761=AA$3,$D1761<0),0)","v":0},0,{"$f":"IF($A1761=AC$3,AND($A1761=AC$3,$D1761<0),0)","v":0},0,0]
[{"$f":"IF(B1765=0,\"\",MONTH(B1765))","v":""},null,null,null,{"$f":"IF(D1765=\"\",\"\",IF(D1765<0,\"DEBITO\",\"CREDITO\"))","v":""},null,false,false,0,{"$f":"IF($A1765=I$3,AND($A1765=I$3,$D1765<0),0)","v":0},0,{"$f":"IF($A1765=K$3,AND($A1765=K$3,$D1765<0),0)","v":0},0,{"$f":"IF($A1765=M$3,AND($A1765=M$3,$D1765<0),0)","v":0},0,{"$f":"IF($A1765=O$3,AND($A1765=O$3,$D1765<0),0)","v":0},0,0,0,0,0,0,0,{"$f":"IF($A1765=W$3,AND($A1765=W$3,$D1765<0),0)","v":0},0,{"$f":"IF($A1765=Y$3,AND($A1765=Y$3,$D1765<0),0)","v":0},0,{"$f":"IF($A1765=AA$3,AND($A1765=AA$3,$D1765<0),0)","v":0},0,{"$f":"IF($A1765=AC$3,AND($A1765=AC$3,$D1765<0),0)","v":0},0,0]
[{"$f":"IF(B1766=0,\"\",MONTH(B1766))","v":""},null,null,null,{"$f":"IF(D1766=\"\",\"\",IF(D1766<0,\"DEBITO\",\"CREDITO\"))","v":""},null,false,false,0,{"$f":"IF($A1766=I$3,AND($A1766=I$3,$D1766<0),0)","v":0},0,{"$f":"IF($A1766=K$3,AND($A1766=K$3,$D1766<0),0)","v":0},0,{"$f":"IF($A1766=M$3,AND($A1766=M$3,$D1766<0),0)","v":0},0,{"$f":"IF($A1766=O$3,AND($A1766=O$3,$D1766<0),0)","v":0},0,0,0,0,0,0,0,{"$f":"IF($A1766=W$3,AND($A1766=W$3,$D1766<0),0)","v":0},0,{"$f":"IF($A1766=Y$3,AND($A1766=Y$3,$D1766<0),0)","v":0},0,{"$f":"IF($A1766=AA$3,AND($A1766=AA$3,$D1766<0),0)","v":0},0,{"$f":"IF($A1766=AC$3,AND($A1766=AC$3,$D1766<0),0)","v":0},0,0]
[{"$f":"IF(B1769=0,\"\",MONTH(B1769))","v":""},null,null,null,{"$f":"IF(D1769=\"\",\"\",IF(D1769<0,\"DEBITO\",\"CREDITO\"))","v":""},null,false,false,0,{"$f":"IF($A1769=I$3,AND($A1769=I$3,$D1769<0),0)","v":0},0,{"$f":"IF($A1769=K$3,AND($A1769=K$3,$D1769<0),0)","v":0},0,{"$f":"IF($A1769=M$3,AND($A1769=M$3,$D1769<0),0)","v":0},0,{"$f":"IF($A1769=O$3,AND($A1769=O$3,$D1769<0),0)","v":0},0,0,0,0,0,0,0,{"$f":"IF($A1769=W$3,AND($A1769=W$3,$D1769<0),0)","v":0},0,{"$f":"IF($A1769=Y$3,AND($A1769=Y$3,$D1769<0),0)","v":0},0,{"$f":"IF($A1769=AA$3,AND($A1769=AA$3,$D1769<0),0)","v":0},0,{"$f":"IF($A1769=AC$3,AND($A1769=AC$3,$D1769<0),0)","v":0},0,0]
[{"$f":"IF(B1770=0,\"\",MONTH(B1770))","v":""},null,null,null,{"$f":"IF(D1770=\"\",\"\",IF(D1770<0,\"DEBITO\",\"CREDITO\"))","v":""},null,false,false,0,{"$f":"IF($A1770=I$3,AND($A1770=I$3,$D1770<0),0)","v":0},0,{"$f":"IF($A1770=K$3,AND($A1770=K$3,$D1770<0),0)","v":0},0,{"$f":"IF($A1770=M$3,AND($A1770=M$3,$D1770<0),0)","v":0},0,{"$f":"IF($A1770=O$3,AND($A1770=O$3,$D1770<0),0)","v":0},0,0,0,0,0,0,0,{"$f":"IF($A1770=W$3,AND($A1770=W$3,$D1770<0),0)","v":0},0,{"$f":"IF($A1770=Y$3,AND($A1770=Y$3,$D1770<0),0)","v":0},0,{"$f":"IF($A1770=AA$3,AND($A1770=AA$3,$D1770<0),0)","v":0},0,{"$f":"IF($A1770=AC$3,AND($A1770=AC$3,$D1770<0),0)","v":0},0,0]
[{"$f":"IF(B1773=0,\"\",MONTH(B1773))","v":""},null,null,null,{"$f":"IF(D1773=\"\",\"\",IF(D1773<0,\"DEBITO\",\"CREDITO\"))","v":""},null,false,false,0,{"$f":"IF($A1773=I$3,AND($A1773=I$3,$D1773<0),0)","v":0},0,{"$f":"IF($A1773=K$3,AND($A1773=K$3,$D1773<0),0)","v":0},0,{"$f":"IF($A1773=M$3,AND($A1773=M$3,$D1773<0),0)","v":0},0,{"$f":"IF($A1773=O$3,AND($A1773=O$3,$D1773<0),0)","v":0},0,0,0,0,0,0,0,{"$f":"IF($A1773=W$3,AND($A1773=W$3,$D1773<0),0)","v":0},0,{"$f":"IF($A1773=Y$3,AND($A1773=Y$3,$D1773<0),0)","v":0},0,{"$f":"IF($A1773=AA$3,AND($A1773=AA$3,$D1773<0),0)","v":0},0,{"$f":"IF($A1773=AC$3,AND($A1773=AC$3,$D1773<0),0)","v":0},0,0]
[{"$f":"IF(B1774=0,\"\",MONTH(B1774))","v":""},null,null,null,{"$f":"IF(D1774=\"\",\"\",IF(D1774<0,\"DEBITO\",\"CREDITO\"))","v":""},null,false,false,0,{"$f":"IF($A1774=I$3,AND($A1774=I$3,$D1774<0),0)","v":0},0,{"$f":"IF($A1774=K$3,AND($A1774=K$3,$D1774<0),0)","v":0},0,{"$f":"IF($A1774=M$3,AND($A1774=M$3,$D1774<0),0)","v":0},0,{"$f":"IF($A1774=O$3,AND($A1774=O$3,$D1774<0),0)","v":0},0,0,0,0,0,0,0,{"$f":"IF($A1774=W$3,AND($A1774=W$3,$D1774<0),0)","v":0},0,{"$f":"IF($A1774=Y$3,AND($A1774=Y$3,$D1774<0),0)","v":0},0,{"$f":"IF($A1774=AA$3,AND($A1774=AA$3,$D1774<0),0)","v":0},0,{"$f":"IF($A1774=AC$3,AND($A1774=AC$3,$D1774<0),0)","v":0},0,0]
[{"$f":"IF(B1777=0,\"\",MONTH(B1777))","v":""},null,null,null,{"$f":"IF(D1777=\"\",\"\",IF(D1777<0,\"DEBITO\",\"CREDITO\"))","v":""},null,false,false,0,{"$f":"IF($A1777=I$3,AND($A1777=I$3,$D1777<0),0)","v":0},0,{"$f":"IF($A1777=K$3,AND($A1777=K$3,$D1777<0),0)","v":0},0,{"$f":"IF($A1777=M$3,AND($A1777=M$3,$D1777<0),0)","v":0},0,{"$f":"IF($A1777=O$3,AND($A1777=O$3,$D1777<0),0)","v":0},0,0,0,0,0,0,0,{"$f":"IF($A1777=W$3,AND($A1777=W$3,$D1777<0),0)","v":0},0,{"$f":"IF($A1777=Y$3,AND($A1777=Y$3,$D1777<0),0)","v":0},0,{"$f":"IF($A1777=AA$3,AND($A1777=AA$3,$D1777<0),0)","v":0},0,{"$f":"IF($A1777=AC$3,AND($A1777=AC$3,$D1777<0),0)","v":0},0,0]
[{"$f":"IF(B1778=0,\"\",MONTH(B1778))","v":""},null,null,null,{"$f":"IF(D1778=\"\",\"\",IF(D1778<0,\"DEBITO\",\"CREDITO\"))","v":""},null,false,false,0,{"$f":"IF($A1778=I$3,AND($A1778=I$3,$D1778<0),0)","v":0},0,{"$f":"IF($A1778=K$3,AND($A1778=K$3,$D1778<0),0)","v":0},0,{"$f":"IF($A1778=M$3,AND($A1778=M$3,$D1778<0),0)","v":0},0,{"$f":"IF($A1778=O$3,AND($A1778=O$3,$D1778<0),0)","v":0},0,0,0,0,0,0,0,{"$f":"IF($A1778=W$3,AND($A1778=W$3,$D1778<0),0)","v":0},0,{"$f":"IF($A1778=Y$3,AND($A1778=Y$3,$D1778<0),0)","v":0},0,{"$f":"IF($A1778=AA$3,AND($A1778=AA$3,$D1778<0),0)","v":0},0,{"$f":"IF($A1778=AC$3,AND($A1778=AC$3,$D1778<0),0)","v":0},0,0]
[{"$f":"IF(B1781=0,\"\",MONTH(B1781))","v":""},null,null,null,{"$f":"IF(D1781=\"\",\"\",IF(D1781<0,\"DEBITO\",\"CREDITO\"))","v":""},null,false,false,0,{"$f":"IF($A1781=I$3,AND($A1781=I$3,$D1781<0),0)","v":0},0,{"$f":"IF($A1781=K$3,AND($A1781=K$3,$D1781<0),0)","v":0},0,{"$f":"IF($A1781=M$3,AND($A1781=M$3,$D1781<0),0)","v":0},0,{"$f":"IF($A1781=O$3,AND($A1781=O$3,$D1781<0),0)","v":0},0,0,0,0,0,0,0,{"$f":"IF($A1781=W$3,AND($A1781=W$3,$D1781<0),0)","v":0},0,{"$f":"IF($A1781=Y$3,AND($A1781=Y$3,$D1781<0),0)","v":0},0,{"$f":"IF($A1781=AA$3,AND($A1781=AA$3,$D1781<0),0)","v":0},0,{"$f":"IF($A1781=AC$3,AND($A1781=AC$3,$D1781<0),0)","v":0},0,0]
[{"$f":"IF(B1782=0,\"\",MONTH(B1782))","v":""},null,null,null,{"$f":"IF(D1782=\"\",\"\",IF(D1782<0,\"DEBITO\",\"CREDITO\"))","v":""},null,false,false,0,{"$f":"IF($A1782=I$3,AND($A1782=I$3,$D1782<0),0)","v":0},0,{"$f":"IF($A1782=K$3,AND($A1782=K$3,$D1782<0),0)","v":0},0,{"$f":"IF($A1782=M$3,AND($A1782=M$3,$D1782<0),0)","v":0},0,{"$f":"IF($A1782=O$3,AND($A1782=O$3,$D1782<0),0)","v":0},0,0,0,0,0,0,0,{"$f":"IF($A1782=W$3,AND($A1782=W$3,$D1782<0),0)","v":0},0,{"$f":"IF($A1782=Y$3,AND($A1782=Y$3,$D1782<0),0)","v":0},0,{"$f":"IF($A1782=AA$3,AND($A1782=AA$3,$D1782<0),0)","v":0},0,{"$f":"IF($A1782=AC$3,AND($A1782=AC$3,$D1782<0),0)","v":0},0,0]
[{"$f":"IF(B1786=0,\"\",MONTH(B1786))","v":""},null,null,null,{"$f":"IF(D1786=\"\",\"\",IF(D1786<0,\"DEBITO\",\"CREDITO\"))","v":""},null,false,false,0,{"$f":"IF($A1786=I$3,AND($A1786=I$3,$D1786<0),0)","v":0},0,{"$f":"IF($A1786=K$3,AND($A1786=K$3,$D1786<0),0)","v":0},0,{"$f":"IF($A1786=M$3,AND($A1786=M$3,$D1786<0),0)","v":0},0,{"$f":"IF($A1786=O$3,AND($A1786=O$3,$D1786<0),0)","v":0},0,0,0,0,0,0,0,{"$f":"IF($A1786=W$3,AND($A1786=W$3,$D1786<0),0)","v":0},0,{"$f":"IF($A1786=Y$3,AND($A1786=Y$3,$D1786<0),0)","v":0},0,{"$f":"IF($A1786=AA$3,AND($A1786=AA$3,$D1786<0),0)","v":0},0,{"$f":"IF($A1786=AC$3,AND($A1786=AC$3,$D1786<0),0)","v":0},0,0]
[{"$f":"IF(B1787=0,\"\",MONTH(B1787))","v":""},null,null,null,{"$f":"IF(D1787=\"\",\"\",IF(D1787<0,\"DEBITO\",\"CREDITO\"))","v":""},null,false,false,0,{"$f":"IF($A1787=I$3,AND($A1787=I$3,$D1787<0),0)","v":0},0,{"$f":"IF($A1787=K$3,AND($A1787=K$3,$D1787<0),0)","v":0},0,{"$f":"IF($A1787=M$3,AND($A1787=M$3,$D1787<0),0)","v":0},0,{"$f":"IF($A1787=O$3,AND($A1787=O$3,$D1787<0),0)","v":0},0,0,0,0,0,0,0,{"$f":"IF($A1787=W$3,AND($A1787=W$3,$D1787<0),0)","v":0},0,{"$f":"IF($A1787=Y$3,AND($A1787=Y$3,$D1787<0),0)","v":0},0,{"$f":"IF($A1787=AA$3,AND($A1787=AA$3,$D1787<0),0)","v":0},0,{"$f":"IF($A1787=AC$3,AND($A1787=AC$3,$D1787<0),0)","v":0},0,0]
[{"$f":"IF(B1790=0,\"\",MONTH(B1790))","v":""},null,null,null,{"$f":"IF(D1790=\"\",\"\",IF(D1790<0,\"DEBITO\",\"CREDITO\"))","v":""},null,false,false,0,{"$f":"IF($A1790=I$3,AND($A1790=I$3,$D1790<0),0)","v":0},0,{"$f":"IF($A1790=K$3,AND($A1790=K$3,$D1790<0),0)","v":0},0,{"$f":"IF($A1790=M$3,AND($A1790=M$3,$D1790<0),0)","v":0},0,{"$f":"IF($A1790=O$3,AND($A1790=O$3,$D1790<0),0)","v":0},0,0,0,0,0,0,0,{"$f":"IF($A1790=W$3,AND($A1790=W$3,$D1790<0),0)","v":0},0,{"$f":"IF($A1790=Y$3,AND($A1790=Y$3,$D1790<0),0)","v":0},0,{"$f":"IF($A1790=AA$3,AND($A1790=AA$3,$D1790<0),0)","v":0},0,{"$f":"IF($A1790=AC$3,AND($A1790=AC$3,$D1790<0),0)","v":0},0,0]
[{"$f":"IF(B1791=0,\"\",MONTH(B1791))","v":""},null,null,null,{"$f":"IF(D1791=\"\",\"\",IF(D1791<0,\"DEBITO\",\"CREDITO\"))","v":""},null,false,false,0,{"$f":"IF($A1791=I$3,AND($A1791=I$3,$D1791<0),0)","v":0},0,{"$f":"IF($A1791=K$3,AND($A1791=K$3,$D1791<0),0)","v":0},0,{"$f":"IF($A1791=M$3,AND($A1791=M$3,$D1791<0),0)","v":0},0,{"$f":"IF($A1791=O$3,AND($A1791=O$3,$D1791<0),0)","v":0},0,0,0,0,0,0,0,{"$f":"IF($A1791=W$3,AND($A1791=W$3,$D1791<0),0)","v":0},0,{"$f":"IF($A1791=Y$3,AND($A1791=Y$3,$D1791<0),0)","v":0},0,{"$f":"IF($A1791=AA$3,AND($A1791=AA$3,$D1791<0),0)","v":0},0,{"$f":"IF($A1791=AC$3,AND($A1791=AC$3,$D1791<0),0)","v":0},0,0]
[{"$f":"IF(B1794=0,\"\",MONTH(B1794))","v":""},null,null,null,{"$f":"IF(D1794=\"\",\"\",IF(D1794<0,\"DEBITO\",\"CREDITO\"))","v":""},null,false,false,0,{"$f":"IF($A1794=I$3,AND($A1794=I$3,$D1794<0),0)","v":0},0,{"$f":"IF($A1794=K$3,AND($A1794=K$3,$D1794<0),0)","v":0},0,{"$f":"IF($A1794=M$3,AND($A1794=M$3,$D1794<0),0)","v":0},0,{"$f":"IF($A1794=O$3,AND($A1794=O$3,$D1794<0),0)","v":0},0,0,0,0,0,0,0,{"$f":"IF($A1794=W$3,AND($A1794=W$3,$D1794<0),0)","v":0},0,{"$f":"IF($A1794=Y$3,AND($A1794=Y$3,$D1794<0),0)","v":0},0,{"$f":"IF($A1794=AA$3,AND($A1794=AA$3,$D1794<0),0)","v":0},0,{"$f":"IF($A1794=AC$3,AND($A1794=AC$3,$D1794<0),0)","v":0},0,0]
[{"$f":"IF(B1795=0,\"\",MONTH(B1795))","v":""},null,null,null,{"$f":"IF(D1795=\"\",\"\",IF(D1795<0,\"DEBITO\",\"CREDITO\"))","v":""},null,false,false,0,{"$f":"IF($A1795=I$3,AND($A1795=I$3,$D1795<0),0)","v":0},0,{"$f":"IF($A1795=K$3,AND($A1795=K$3,$D1795<0),0)","v":0},0,{"$f":"IF($A1795=M$3,AND($A1795=M$3,$D1795<0),0)","v":0},0,{"$f":"IF($A1795=O$3,AND($A1795=O$3,$D1795<0),0)","v":0},0,0,0,0,0,0,0,{"$f":"IF($A1795=W$3,AND($A1795=W$3,$D1795<0),0)","v":0},0,{"$f":"IF($A1795=Y$3,AND($A1795=Y$3,$D1795<0),0)","v":0},0,{"$f":"IF($A1795=AA$3,AND($A1795=AA$3,$D1795<0),0)","v":0},0,{"$f":"IF($A1795=AC$3,AND($A1795=AC$3,$D1795<0),0)","v":0},0,0]
[{"$f":"IF(B1798=0,\"\",MONTH(B1798))","v":""},null,null,null,{"$f":"IF(D1798=\"\",\"\",IF(D1798<0,\"DEBITO\",\"CREDITO\"))","v":""},null,false,false,0,{"$f":"IF($A1798=I$3,AND($A1798=I$3,$D1798<0),0)","v":0},0,{"$f":"IF($A1798=K$3,AND($A1798=K$3,$D1798<0),0)","v":0},0,{"$f":"IF($A1798=M$3,AND($A1798=M$3,$D1798<0),0)","v":0},0,{"$f":"IF($A1798=O$3,AND($A1798=O$3,$D1798<0),0)","v":0},0,0,0,0,0,0,0,{"$f":"IF($A1798=W$3,AND($A1798=W$3,$D1798<0),0)","v":0},0,{"$f":"IF($A1798=Y$3,AND($A1798=Y$3,$D1798<0),0)","v":0},0,{"$f":"IF($A1798=AA$3,AND($A1798=AA$3,$D1798<0),0)","v":0},0,{"$f":"IF($A1798=AC$3,AND($A1798=AC$3,$D1798<0),0)","v":0},0,0]
[{"$f":"IF(B1799=0,\"\",MONTH(B1799))","v":""},null,null,null,{"$f":"IF(D1799=\"\",\"\",IF(D1799<0,\"DEBITO\",\"CREDITO\"))","v":""},null,false,false,0,{"$f":"IF($A1799=I$3,AND($A1799=I$3,$D1799<0),0)","v":0},0,{"$f":"IF($A1799=K$3,AND($A1799=K$3,$D1799<0),0)","v":0},0,{"$f":"IF($A1799=M$3,AND($A1799=M$3,$D1799<0),0)","v":0},0,{"$f":"IF($A1799=O$3,AND($A1799=O$3,$D1799<0),0)","v":0},0,0,0,0,0,0,0,{"$f":"IF($A1799=W$3,AND($A1799=W$3,$D1799<0),0)","v":0},0,{"$f":"IF($A1799=Y$3,AND($A1799=Y$3,$D1799<0),0)","v":0},0,{"$f":"IF($A1799=AA$3,AND($A1799=AA$3,$D1799<0),0)","v":0},0,{"$f":"IF($A1799=AC$3,AND($A1799=AC$3,$D1799<0),0)","v":0},0,0]
[{"$f":"IF(B1802=0,\"\",MONTH(B1802))","v":""},null,null,null,{"$f":"IF(D1802=\"\",\"\",IF(D1802<0,\"DEBITO\",\"CREDITO\"))","v":""},null,false,false,0,{"$f":"IF($A1802=I$3,AND($A1802=I$3,$D1802<0),0)","v":0},0,{"$f":"IF($A1802=K$3,AND($A1802=K$3,$D1802<0),0)","v":0},0,{"$f":"IF($A1802=M$3,AND($A1802=M$3,$D1802<0),0)","v":0},0,{"$f":"IF($A1802=O$3,AND($A1802=O$3,$D1802<0),0)","v":0},0,0,{"$f":"IF($A1802=S$3,AND($A1802=S$3,$D1802>0),0)","v":0},{"$f":"IF($A1802=S$3,AND($A1802=S$3,$D1802<0),0)","v":0},{"$f":"IF($A1802=U$3,AND($A1802=U$3,$D1802>0),0)","v":0},{"$f":"IF($A1802=U$3,AND($A1802=U$3,$D1802<0),0)","v":0},0,{"$f":"IF($A1802=W$3,AND($A1802=W$3,$D1802<0),0)","v":0},0,{"$f":"IF($A1802=Y$3,AND($A1802=Y$3,$D1802<0),0)","v":0},0,{"$f":"IF($A1802=AA$3,AND($A1802=AA$3,$D1802<0),0)","v":0},0,{"$f":"IF($A1802=AC$3,AND($A1802=AC$3,$D1802<0),0)","v":0},0,0]
[{"$f":"IF(B1803=0,\"\",MONTH(B1803))","v":""},null,null,null,{"$f":"IF(D1803=\"\",\"\",IF(D1803<0,\"DEBITO\",\"CREDITO\"))","v":""},null,false,false,0,{"$f":"IF($A1803=I$3,AND($A1803=I$3,$D1803<0),0)","v":0},0,{"$f":"IF($A1803=K$3,AND($A1803=K$3,$D1803<0),0)","v":0},0,{"$f":"IF($A1803=M$3,AND($A1803=M$3,$D1803<0),0)","v":0},0,{"$f":"IF($A1803=O$3,AND($A1803=O$3,$D1803<0),0)","v":0},0,0,0,0,0,0,0,{"$f":"IF($A1803=W$3,AND($A1803=W$3,$D1803<0),0)","v":0},0,{"$f":"IF($A1803=Y$3,AND($A1803=Y$3,$D1803<0),0)","v":0},0,{"$f":"IF($A1803=AA$3,AND($A1803=AA$3,$D1803<0),0)","v":0},0,{"$f":"IF($A1803=AC$3,AND($A1803=AC$3,$D1803<0),0)","v":0},0,0]
[{"$f":"IF(B1806=0,\"\",MONTH(B1806))","v":""},null,null,null,{"$f":"IF(D1806=\"\",\"\",IF(D1806<0,\"DEBITO\",\"CREDITO\"))","v":""},null,false,false,0,{"$f":"IF($A1806=I$3,AND($A1806=I$3,$D1806<0),0)","v":0},0,{"$f":"IF($A1806=K$3,AND($A1806=K$3,$D1806<0),0)","v":0},0,{"$f":"IF($A1806=M$3,AND($A1806=M$3,$D1806<0),0)","v":0},0,{"$f":"IF($A1806=O$3,AND($A1806=O$3,$D1806<0),0)","v":0},0,0,0,0,0,0,0,{"$f":"IF($A1806=W$3,AND($A1806=W$3,$D1806<0),0)","v":0},0,{"$f":"IF($A1806=Y$3,AND($A1806=Y$3,$D1806<0),0)","v":0},0,{"$f":"IF($A1806=AA$3,AND($A1806=AA$3,$D1806<0),0)","v":0},0,{"$f":"IF($A1806=AC$3,AND($A1806=AC$3,$D1806<0),0)","v":0},0,0]
[{"$f":"IF(B1808=0,\"\",MONTH(B1808))","v":""},null,null,null,{"$f":"IF(D1808=\"\",\"\",IF(D1808<0,\"DEBITO\",\"CREDITO\"))","v":""},null,false,false,0,{"$f":"IF($A1808=I$3,AND($A1808=I$3,$D1808<0),0)","v":0},0,{"$f":"IF($A1808=K$3,AND($A1808=K$3,$D1808<0),0)","v":0},0,{"$f":"IF($A1808=M$3,AND($A1808=M$3,$D1808<0),0)","v":0},0,{"$f":"IF($A1808=O$3,AND($A1808=O$3,$D1808<0),0)","v":0},0,0,0,0,0,0,0,{"$f":"IF($A1808=W$3,AND($A1808=W$3,$D1808<0),0)","v":0},0,{"$f":"IF($A1808=Y$3,AND($A1808=Y$3,$D1808<0),0)","v":0},0,{"$f":"IF($A1808=AA$3,AND($A1808=AA$3,$D1808<0),0)","v":0},0,{"$f":"IF($A1808=AC$3,AND($A1808=AC$3,$D1808<0),0)","v":0},0,0]
[{"$f":"IF(B1811=0,\"\",MONTH(B1811))","v":""},null,null,null,{"$f":"IF(D1811=\"\",\"\",IF(D1811<0,\"DEBITO\",\"CREDITO\"))","v":""},null,false,false,0,{"$f":"IF($A1811=I$3,AND($A1811=I$3,$D1811<0),0)","v":0},0,{"$f":"IF($A1811=K$3,AND($A1811=K$3,$D1811<0),0)","v":0},0,{"$f":"IF($A1811=M$3,AND($A1811=M$3,$D1811<0),0)","v":0},0,{"$f":"IF($A1811=O$3,AND($A1811=O$3,$D1811<0),0)","v":0},0,0,0,0,0,0,0,{"$f":"IF($A1811=W$3,AND($A1811=W$3,$D1811<0),0)","v":0},0,{"$f":"IF($A1811=Y$3,AND($A1811=Y$3,$D1811<0),0)","v":0},0,{"$f":"IF($A1811=AA$3,AND($A1811=AA$3,$D1811<0),0)","v":0},0,{"$f":"IF($A1811=AC$3,AND($A1811=AC$3,$D1811<0),0)","v":0},0,0]
[{"$f":"IF(B1812=0,\"\",MONTH(B1812))","v":""},null,null,null,{"$f":"IF(D1812=\"\",\"\",IF(D1812<0,\"DEBITO\",\"CREDITO\"))","v":""},null,false,false,0,{"$f":"IF($A1812=I$3,AND($A1812=I$3,$D1812<0),0)","v":0},0,{"$f":"IF($A1812=K$3,AND($A1812=K$3,$D1812<0),0)","v":0},0,{"$f":"IF($A1812=M$3,AND($A1812=M$3,$D1812<0),0)","v":0},0,{"$f":"IF($A1812=O$3,AND($A1812=O$3,$D1812<0),0)","v":0},0,0,0,0,0,0,0,{"$f":"IF($A1812=W$3,AND($A1812=W$3,$D1812<0),0)","v":0},0,{"$f":"IF($A1812=Y$3,AND($A1812=Y$3,$D1812<0),0)","v":0},0,{"$f":"IF($A1812=AA$3,AND($A1812=AA$3,$D1812<0),0)","v":0},0,{"$f":"IF($A1812=AC$3,AND($A1812=AC$3,$D1812<0),0)","v":0},0,0]
[{"$f":"IF(B1815=0,\"\",MONTH(B1815))","v":""},null,null,null,{"$f":"IF(D1815=\"\",\"\",IF(D1815<0,\"DEBITO\",\"CREDITO\"))","v":""},null,false,false,0,{"$f":"IF($A1815=I$3,AND($A1815=I$3,$D1815<0),0)","v":0},0,{"$f":"IF($A1815=K$3,AND($A1815=K$3,$D1815<0),0)","v":0},0,{"$f":"IF($A1815=M$3,AND($A1815=M$3,$D1815<0),0)","v":0},0,{"$f":"IF($A1815=O$3,AND($A1815=O$3,$D1815<0),0)","v":0},0,0,0,0,0,0,0,{"$f":"IF($A1815=W$3,AND($A1815=W$3,$D1815<0),0)","v":0},0,{"$f":"IF($A1815=Y$3,AND($A1815=Y$3,$D1815<0),0)","v":0},0,{"$f":"IF($A1815=AA$3,AND($A1815=AA$3,$D1815<0),0)","v":0},0,{"$f":"IF($A1815=AC$3,AND($A1815=AC$3,$D1815<0),0)","v":0},0,0]
[{"$f":"IF(B1816=0,\"\",MONTH(B1816))","v":""},null,null,null,{"$f":"IF(D1816=\"\",\"\",IF(D1816<0,\"DEBITO\",\"CREDITO\"))","v":""},null,false,false,0,{"$f":"IF($A1816=I$3,AND($A1816=I$3,$D1816<0),0)","v":0},0,{"$f":"IF($A1816=K$3,AND($A1816=K$3,$D1816<0),0)","v":0},0,{"$f":"IF($A1816=M$3,AND($A1816=M$3,$D1816<0),0)","v":0},0,{"$f":"IF($A1816=O$3,AND($A1816=O$3,$D1816<0),0)","v":0},0,0,0,0,0,0,0,{"$f":"IF($A1816=W$3,AND($A1816=W$3,$D1816<0),0)","v":0},0,{"$f":"IF($A1816=Y$3,AND($A1816=Y$3,$D1816<0),0)","v":0},0,{"$f":"IF($A1816=AA$3,AND($A1816=AA$3,$D1816<0),0)","v":0},0,{"$f":"IF($A1816=AC$3,AND($A1816=AC$3,$D1816<0),0)","v":0},0,0]
[{"$f":"IF(B1819=0,\"\",MONTH(B1819))","v":""},null,null,null,{"$f":"IF(D1819=\"\",\"\",IF(D1819<0,\"DEBITO\",\"CREDITO\"))","v":""},null,false,false,0,{"$f":"IF($A1819=I$3,AND($A1819=I$3,$D1819<0),0)","v":0},0,{"$f":"IF($A1819=K$3,AND($A1819=K$3,$D1819<0),0)","v":0},0,{"$f":"IF($A1819=M$3,AND($A1819=M$3,$D1819<0),0)","v":0},0,{"$f":"IF($A1819=O$3,AND($A1819=O$3,$D1819<0),0)","v":0},0,0,0,0,0,0,0,{"$f":"IF($A1819=W$3,AND($A1819=W$3,$D1819<0),0)","v":0},0,{"$f":"IF($A1819=Y$3,AND($A1819=Y$3,$D1819<0),0)","v":0},0,{"$f":"IF($A1819=AA$3,AND($A1819=AA$3,$D1819<0),0)","v":0},0,{"$f":"IF($A1819=AC$3,AND($A1819=AC$3,$D1819<0),0)","v":0},0,0]
[{"$f":"IF(B1820=0,\"\",MONTH(B1820))","v":""},null,null,null,{"$f":"IF(D1820=\"\",\"\",IF(D1820<0,\"DEBITO\",\"CREDITO\"))","v":""},null,false,false,0,{"$f":"IF($A1820=I$3,AND($A1820=I$3,$D1820<0),0)","v":0},0,{"$f":"IF($A1820=K$3,AND($A1820=K$3,$D1820<0),0)","v":0},0,{"$f":"IF($A1820=M$3,AND($A1820=M$3,$D1820<0),0)","v":0},0,{"$f":"IF($A1820=O$3,AND($A1820=O$3,$D1820<0),0)","v":0},0,0,0,0,0,0,0,{"$f":"IF($A1820=W$3,AND($A1820=W$3,$D1820<0),0)","v":0},0,{"$f":"IF($A1820=Y$3,AND($A1820=Y$3,$D1820<0),0)","v":0},0,{"$f":"IF($A1820=AA$3,AND($A1820=AA$3,$D1820<0),0)","v":0},0,{"$f":"IF($A1820=AC$3,AND($A1820=AC$3,$D1820<0),0)","v":0},0,0]
[{"$f":"IF(B1823=0,\"\",MONTH(B1823))","v":""},null,null,null,{"$f":"IF(D1823=\"\",\"\",IF(D1823<0,\"DEBITO\",\"CREDITO\"))","v":""},null,false,false,0,{"$f":"IF($A1823=I$3,AND($A1823=I$3,$D1823<0),0)","v":0},0,{"$f":"IF($A1823=K$3,AND($A1823=K$3,$D1823<0),0)","v":0},0,{"$f":"IF($A1823=M$3,AND($A1823=M$3,$D1823<0),0)","v":0},0,{"$f":"IF($A1823=O$3,AND($A1823=O$3,$D1823<0),0)","v":0},0,0,0,0,0,0,0,{"$f":"IF($A1823=W$3,AND($A1823=W$3,$D1823<0),0)","v":0},0,{"$f":"IF($A1823=Y$3,AND($A1823=Y$3,$D1823<0),0)","v":0},0,{"$f":"IF($A1823=AA$3,AND($A1823=AA$3,$D1823<0),0)","v":0},0,{"$f":"IF($A1823=AC$3,AND($A1823=AC$3,$D1823<0),0)","v":0},0,0]
[{"$f":"IF(B1824=0,\"\",MONTH(B1824))","v":""},null,null,null,{"$f":"IF(D1824=\"\",\"\",IF(D1824<0,\"DEBITO\",\"CREDITO\"))","v":""},null,false,false,0,{"$f":"IF($A1824=I$3,AND($A1824=I$3,$D1824<0),0)","v":0},0,{"$f":"IF($A1824=K$3,AND($A1824=K$3,$D1824<0),0)","v":0},0,{"$f":"IF($A1824=M$3,AND($A1824=M$3,$D1824<0),0)","v":0},0,{"$f":"IF($A1824=O$3,AND($A1824=O$3,$D1824<0),0)","v":0},0,0,0,0,0,0,0,{"$f":"IF($A1824=W$3,AND($A1824=W$3,$D1824<0),0)","v":0},0,{"$f":"IF($A1824=Y$3,AND($A1824=Y$3,$D1824<0),0)","v":0},0,{"$f":"IF($A1824=AA$3,AND($A1824=AA$3,$D1824<0),0)","v":0},0,{"$f":"IF($A1824=AC$3,AND($A1824=AC$3,$D1824<0),0)","v":0},0,0]
[{"$f":"IF(B1827=0,\"\",MONTH(B1827))","v":""},null,null,null,{"$f":"IF(D1827=\"\",\"\",IF(D1827<0,\"DEBITO\",\"CREDITO\"))","v":""},null,false,false,0,{"$f":"IF($A1827=I$3,AND($A1827=I$3,$D1827<0),0)","v":0},0,{"$f":"IF($A1827=K$3,AND($A1827=K$3,$D1827<0),0)","v":0},0,{"$f":"IF($A1827=M$3,AND($A1827=M$3,$D1827<0),0)","v":0},0,{"$f":"IF($A1827=O$3,AND($A1827=O$3,$D1827<0),0)","v":0},0,0,0,0,0,0,0,{"$f":"IF($A1827=W$3,AND($A1827=W$3,$D1827<0),0)","v":0},0,{"$f":"IF($A1827=Y$3,AND($A1827=Y$3,$D1827<0),0)","v":0},0,{"$f":"IF($A1827=AA$3,AND($A1827=AA$3,$D1827<0),0)","v":0},0,{"$f":"IF($A1827=AC$3,AND($A1827=AC$3,$D1827<0),0)","v":0},0,0]
[{"$f":"IF(B1829=0,\"\",MONTH(B1829))","v":""},null,null,null,{"$f":"IF(D1829=\"\",\"\",IF(D1829<0,\"DEBITO\",\"CREDITO\"))","v":""},null,false,false,0,{"$f":"IF($A1829=I$3,AND($A1829=I$3,$D1829<0),0)","v":0},0,{"$f":"IF($A1829=K$3,AND($A1829=K$3,$D1829<0),0)","v":0},0,{"$f":"IF($A1829=M$3,AND($A1829=M$3,$D1829<0),0)","v":0},0,{"$f":"IF($A1829=O$3,AND($A1829=O$3,$D1829<0),0)","v":0},0,0,0,0,0,0,0,{"$f":"IF($A1829=W$3,AND($A1829=W$3,$D1829<0),0)","v":0},0,{"$f":"IF($A1829=Y$3,AND($A1829=Y$3,$D1829<0),0)","v":0},0,{"$f":"IF($A1829=AA$3,AND($A1829=AA$3,$D1829<0),0)","v":0},0,{"$f":"IF($A1829=AC$3,AND($A1829=AC$3,$D1829<0),0)","v":0},0,0]
[{"$f":"IF(B1832=0,\"\",MONTH(B1832))","v":""},null,null,null,{"$f":"IF(D1832=\"\",\"\",IF(D1832<0,\"DEBITO\",\"CREDITO\"))","v":""},null,false,false,0,{"$f":"IF($A1832=I$3,AND($A1832=I$3,$D1832<0),0)","v":0},0,{"$f":"IF($A1832=K$3,AND($A1832=K$3,$D1832<0),0)","v":0},0,{"$f":"IF($A1832=M$3,AND($A1832=M$3,$D1832<0),0)","v":0},0,{"$f":"IF($A1832=O$3,AND($A1832=O$3,$D1832<0),0)","v":0},0,0,0,0,0,0,0,{"$f":"IF($A1832=W$3,AND($A1832=W$3,$D1832<0),0)","v":0},0,{"$f":"IF($A1832=Y$3,AND($A1832=Y$3,$D1832<0),0)","v":0},0,{"$f":"IF($A1832=AA$3,AND($A1832=AA$3,$D1832<0),0)","v":0},0,{"$f":"IF($A1832=AC$3,AND($A1832=AC$3,$D1832<0),0)","v":0},0,0]
[{"$f":"IF(B1833=0,\"\",MONTH(B1833))","v":""},null,null,null,{"$f":"IF(D1833=\"\",\"\",IF(D1833<0,\"DEBITO\",\"CREDITO\"))","v":""},null,false,false,0,{"$f":"IF($A1833=I$3,AND($A1833=I$3,$D1833<0),0)","v":0},0,{"$f":"IF($A1833=K$3,AND($A1833=K$3,$D1833<0),0)","v":0},0,{"$f":"IF($A1833=M$3,AND($A1833=M$3,$D1833<0),0)","v":0},0,{"$f":"IF($A1833=O$3,AND($A1833=O$3,$D1833<0),0)","v":0},0,0,0,0,0,0,0,{"$f":"IF($A1833=W$3,AND($A1833=W$3,$D1833<0),0)","v":0},0,{"$f":"IF($A1833=Y$3,AND($A1833=Y$3,$D1833<0),0)","v":0},0,{"$f":"IF($A1833=AA$3,AND($A1833=AA$3,$D1833<0),0)","v":0},0,{"$f":"IF($A1833=AC$3,AND($A1833=AC$3,$D1833<0),0)","v":0},0,0]
[{"$f":"IF(B1836=0,\"\",MONTH(B1836))","v":""},null,null,null,{"$f":"IF(D1836=\"\",\"\",IF(D1836<0,\"DEBITO\",\"CREDITO\"))","v":""},null,false,false,0,{"$f":"IF($A1836=I$3,AND($A1836=I$3,$D1836<0),0)","v":0},0,{"$f":"IF($A1836=K$3,AND($A1836=K$3,$D1836<0),0)","v":0},0,{"$f":"IF($A1836=M$3,AND($A1836=M$3,$D1836<0),0)","v":0},0,{"$f":"IF($A1836=O$3,AND($A1836=O$3,$D1836<0),0)","v":0},0,0,0,0,0,0,0,{"$f":"IF($A1836=W$3,AND($A1836=W$3,$D1836<0),0)","v":0},0,{"$f":"IF($A1836=Y$3,AND($A1836=Y$3,$D1836<0),0)","v":0},0,{"$f":"IF($A1836=AA$3,AND($A1836=AA$3,$D1836<0),0)","v":0},0,{"$f":"IF($A1836=AC$3,AND($A1836=AC$3,$D1836<0),0)","v":0},0,0]
[{"$f":"IF(B1837=0,\"\",MONTH(B1837))","v":""},null,null,null,{"$f":"IF(D1837=\"\",\"\",IF(D1837<0,\"DEBITO\",\"CREDITO\"))","v":""},null,false,false,0,{"$f":"IF($A1837=I$3,AND($A1837=I$3,$D1837<0),0)","v":0},0,{"$f":"IF($A1837=K$3,AND($A1837=K$3,$D1837<0),0)","v":0},0,{"$f":"IF($A1837=M$3,AND($A1837=M$3,$D1837<0),0)","v":0},0,{"$f":"IF($A1837=O$3,AND($A1837=O$3,$D1837<0),0)","v":0},0,0,0,0,0,0,0,{"$f":"IF($A1837=W$3,AND($A1837=W$3,$D1837<0),0)","v":0},0,{"$f":"IF($A1837=Y$3,AND($A1837=Y$3,$D1837<0),0)","v":0},0,{"$f":"IF($A1837=AA$3,AND($A1837=AA$3,$D1837<0),0)","v":0},0,{"$f":"IF($A1837=AC$3,AND($A1837=AC$3,$D1837<0),0)","v":0},0,0]
[{"$f":"IF(B1840=0,\"\",MONTH(B1840))","v":""},null,null,null,{"$f":"IF(D1840=\"\",\"\",IF(D1840<0,\"DEBITO\",\"CREDITO\"))","v":""},null,false,false,0,{"$f":"IF($A1840=I$3,AND($A1840=I$3,$D1840<0),0)","v":0},0,{"$f":"IF($A1840=K$3,AND($A1840=K$3,$D1840<0),0)","v":0},0,{"$f":"IF($A1840=M$3,AND($A1840=M$3,$D1840<0),0)","v":0},0,{"$f":"IF($A1840=O$3,AND($A1840=O$3,$D1840<0),0)","v":0},0,0,0,0,0,0,0,{"$f":"IF($A1840=W$3,AND($A1840=W$3,$D1840<0),0)","v":0},0,{"$f":"IF($A1840=Y$3,AND($A1840=Y$3,$D1840<0),0)","v":0},0,{"$f":"IF($A1840=AA$3,AND($A1840=AA$3,$D1840<0),0)","v":0},0,{"$f":"IF($A1840=AC$3,AND($A1840=AC$3,$D1840<0),0)","v":0},0,0]
[{"$f":"IF(B1841=0,\"\",MONTH(B1841))","v":""},null,null,null,{"$f":"IF(D1841=\"\",\"\",IF(D1841<0,\"DEBITO\",\"CREDITO\"))","v":""},null,false,false,0,{"$f":"IF($A1841=I$3,AND($A1841=I$3,$D1841<0),0)","v":0},0,{"$f":"IF($A1841=K$3,AND($A1841=K$3,$D1841<0),0)","v":0},0,{"$f":"IF($A1841=M$3,AND($A1841=M$3,$D1841<0),0)","v":0},0,{"$f":"IF($A1841=O$3,AND($A1841=O$3,$D1841<0),0)","v":0},0,0,0,0,0,0,0,{"$f":"IF($A1841=W$3,AND($A1841=W$3,$D1841<0),0)","v":0},0,{"$f":"IF($A1841=Y$3,AND($A1841=Y$3,$D1841<0),0)","v":0},0,{"$f":"IF($A1841=AA$3,AND($A1841=AA$3,$D1841<0),0)","v":0},0,{"$f":"IF($A1841=AC$3,AND($A1841=AC$3,$D1841<0),0)","v":0},0,0]
[{"$f":"IF(B1844=0,\"\",MONTH(B1844))","v":""},null,null,null,{"$f":"IF(D1844=\"\",\"\",IF(D1844<0,\"DEBITO\",\"CREDITO\"))","v":""},null,false,false,0,{"$f":"IF($A1844=I$3,AND($A1844=I$3,$D1844<0),0)","v":0},0,{"$f":"IF($A1844=K$3,AND($A1844=K$3,$D1844<0),0)","v":0},0,{"$f":"IF($A1844=M$3,AND($A1844=M$3,$D1844<0),0)","v":0},0,{"$f":"IF($A1844=O$3,AND($A1844=O$3,$D1844<0),0)","v":0},0,0,0,0,0,0,0,{"$f":"IF($A1844=W$3,AND($A1844=W$3,$D1844<0),0)","v":0},0,{"$f":"IF($A1844=Y$3,AND($A1844=Y$3,$D1844<0),0)","v":0},0,{"$f":"IF($A1844=AA$3,AND($A1844=AA$3,$D1844<0),0)","v":0},0,{"$f":"IF($A1844=AC$3,AND($A1844=AC$3,$D1844<0),0)","v":0},0,0]
[{"$f":"IF(B1845=0,\"\",MONTH(B1845))","v":""},null,null,null,{"$f":"IF(D1845=\"\",\"\",IF(D1845<0,\"DEBITO\",\"CREDITO\"))","v":""},null,false,false,0,{"$f":"IF($A1845=I$3,AND($A1845=I$3,$D1845<0),0)","v":0},0,{"$f":"IF($A1845=K$3,AND($A1845=K$3,$D1845<0),0)","v":0},0,{"$f":"IF($A1845=M$3,AND($A1845=M$3,$D1845<0),0)","v":0},0,{"$f":"IF($A1845=O$3,AND($A1845=O$3,$D1845<0),0)","v":0},0,0,0,0,0,0,0,{"$f":"IF($A1845=W$3,AND($A1845=W$3,$D1845<0),0)","v":0},0,{"$f":"IF($A1845=Y$3,AND($A1845=Y$3,$D1845<0),0)","v":0},0,{"$f":"IF($A1845=AA$3,AND($A1845=AA$3,$D1845<0),0)","v":0},0,{"$f":"IF($A1845=AC$3,AND($A1845=AC$3,$D1845<0),0)","v":0},0,0]
[{"$f":"IF(B1848=0,\"\",MONTH(B1848))","v":""},null,null,null,{"$f":"IF(D1848=\"\",\"\",IF(D1848<0,\"DEBITO\",\"CREDITO\"))","v":""},null,false,false,0,{"$f":"IF($A1848=I$3,AND($A1848=I$3,$D1848<0),0)","v":0},0,{"$f":"IF($A1848=K$3,AND($A1848=K$3,$D1848<0),0)","v":0},0,{"$f":"IF($A1848=M$3,AND($A1848=M$3,$D1848<0),0)","v":0},0,{"$f":"IF($A1848=O$3,AND($A1848=O$3,$D1848<0),0)","v":0},0,0,0,0,0,0,0,{"$f":"IF($A1848=W$3,AND($A1848=W$3,$D1848<0),0)","v":0},0,{"$f":"IF($A1848=Y$3,AND($A1848=Y$3,$D1848<0),0)","v":0},0,{"$f":"IF($A1848=AA$3,AND($A1848=AA$3,$D1848<0),0)","v":0},0,{"$f":"IF($A1848=AC$3,AND($A1848=AC$3,$D1848<0),0)","v":0},0,0]
[{"$f":"IF(B1849=0,\"\",MONTH(B1849))","v":""},null,null,null,{"$f":"IF(D1849=\"\",\"\",IF(D1849<0,\"DEBITO\",\"CREDITO\"))","v":""},null,false,false,0,{"$f":"IF($A1849=I$3,AND($A1849=I$3,$D1849<0),0)","v":0},0,{"$f":"IF($A1849=K$3,AND($A1849=K$3,$D1849<0),0)","v":0},0,{"$f":"IF($A1849=M$3,AND($A1849=M$3,$D1849<0),0)","v":0},0,{"$f":"IF($A1849=O$3,AND($A1849=O$3,$D1849<0),0)","v":0},0,0,0,0,0,0,0,{"$f":"IF($A1849=W$3,AND($A1849=W$3,$D1849<0),0)","v":0},0,{"$f":"IF($A1849=Y$3,AND($A1849=Y$3,$D1849<0),0)","v":0},0,{"$f":"IF($A1849=AA$3,AND($A1849=AA$3,$D1849<0),0)","v":0},0,{"$f":"IF($A1849=AC$3,AND($A1849=AC$3,$D1849<0),0)","v":0},0,0]
[{"$f":"IF(B1851=0,\"\",MONTH(B1851))","v":""},null,null,null,{"$f":"IF(D1851=\"\",\"\",IF(D1851<0,\"DEBITO\",\"CREDITO\"))","v":""},null,false,false,0,{"$f":"IF($A1851=I$3,AND($A1851=I$3,$D1851<0),0)","v":0},0,{"$f":"IF($A1851=K$3,AND($A1851=K$3,$D1851<0),0)","v":0},0,{"$f":"IF($A1851=M$3,AND($A1851=M$3,$D1851<0),0)","v":0},0,{"$f":"IF($A1851=O$3,AND($A1851=O$3,$D1851<0),0)","v":0},0,0,0,0,0,0,0,{"$f":"IF($A1851=W$3,AND($A1851=W$3,$D1851<0),0)","v":0},0,{"$f":"IF($A1851=Y$3,AND($A1851=Y$3,$D1851<0),0)","v":0},0,{"$f":"IF($A1851=AA$3,AND($A1851=AA$3,$D1851<0),0)","v":0},0,{"$f":"IF($A1851=AC$3,AND($A1851=AC$3,$D1851<0),0)","v":0},0,0]
[{"$f":"IF(B1854=0,\"\",MONTH(B1854))","v":""},null,null,null,{"$f":"IF(D1854=\"\",\"\",IF(D1854<0,\"DEBITO\",\"CREDITO\"))","v":""},null,false,false,0,{"$f":"IF($A1854=I$3,AND($A1854=I$3,$D1854<0),0)","v":0},0,{"$f":"IF($A1854=K$3,AND($A1854=K$3,$D1854<0),0)","v":0},0,{"$f":"IF($A1854=M$3,AND($A1854=M$3,$D1854<0),0)","v":0},0,{"$f":"IF($A1854=O$3,AND($A1854=O$3,$D1854<0),0)","v":0},0,0,0,0,0,0,0,{"$f":"IF($A1854=W$3,AND($A1854=W$3,$D1854<0),0)","v":0},0,{"$f":"IF($A1854=Y$3,AND($A1854=Y$3,$D1854<0),0)","v":0},0,{"$f":"IF($A1854=AA$3,AND($A1854=AA$3,$D1854<0),0)","v":0},0,{"$f":"IF($A1854=AC$3,AND($A1854=AC$3,$D1854<0),0)","v":0},0,0]
[{"$f":"IF(B1857=0,\"\",MONTH(B1857))","v":""},null,null,null,{"$f":"IF(D1857=\"\",\"\",IF(D1857<0,\"DEBITO\",\"CREDITO\"))","v":""},null,false,false,0,{"$f":"IF($A1857=I$3,AND($A1857=I$3,$D1857<0),0)","v":0},0,{"$f":"IF($A1857=K$3,AND($A1857=K$3,$D1857<0),0)","v":0},0,{"$f":"IF($A1857=M$3,AND($A1857=M$3,$D1857<0),0)","v":0},0,{"$f":"IF($A1857=O$3,AND($A1857=O$3,$D1857<0),0)","v":0},0,0,0,0,0,0,0,{"$f":"IF($A1857=W$3,AND($A1857=W$3,$D1857<0),0)","v":0},0,{"$f":"IF($A1857=Y$3,AND($A1857=Y$3,$D1857<0),0)","v":0},0,{"$f":"IF($A1857=AA$3,AND($A1857=AA$3,$D1857<0),0)","v":0},0,{"$f":"IF($A1857=AC$3,AND($A1857=AC$3,$D1857<0),0)","v":0},0,0]
[{"$f":"IF(B1858=0,\"\",MONTH(B1858))","v":""},null,null,null,{"$f":"IF(D1858=\"\",\"\",IF(D1858<0,\"DEBITO\",\"CREDITO\"))","v":""},null,false,false,0,{"$f":"IF($A1858=I$3,AND($A1858=I$3,$D1858<0),0)","v":0},0,{"$f":"IF($A1858=K$3,AND($A1858=K$3,$D1858<0),0)","v":0},0,{"$f":"IF($A1858=M$3,AND($A1858=M$3,$D1858<0),0)","v":0},0,{"$f":"IF($A1858=O$3,AND($A1858=O$3,$D1858<0),0)","v":0},0,0,0,0,0,0,0,{"$f":"IF($A1858=W$3,AND($A1858=W$3,$D1858<0),0)","v":0},0,{"$f":"IF($A1858=Y$3,AND($A1858=Y$3,$D1858<0),0)","v":0},0,{"$f":"IF($A1858=AA$3,AND($A1858=AA$3,$D1858<0),0)","v":0},0,{"$f":"IF($A1858=AC$3,AND($A1858=AC$3,$D1858<0),0)","v":0},0,0]
[{"$f":"IF(B1861=0,\"\",MONTH(B1861))","v":""},null,null,null,{"$f":"IF(D1861=\"\",\"\",IF(D1861<0,\"DEBITO\",\"CREDITO\"))","v":""},null,false,false,0,{"$f":"IF($A1861=I$3,AND($A1861=I$3,$D1861<0),0)","v":0},0,{"$f":"IF($A1861=K$3,AND($A1861=K$3,$D1861<0),0)","v":0},0,{"$f":"IF($A1861=M$3,AND($A1861=M$3,$D1861<0),0)","v":0},0,{"$f":"IF($A1861=O$3,AND($A1861=O$3,$D1861<0),0)","v":0},0,0,0,0,0,0,0,{"$f":"IF($A1861=W$3,AND($A1861=W$3,$D1861<0),0)","v":0},0,{"$f":"IF($A1861=Y$3,AND($A1861=Y$3,$D1861<0),0)","v":0},0,{"$f":"IF($A1861=AA$3,AND($A1861=AA$3,$D1861<0),0)","v":0},0,{"$f":"IF($A1861=AC$3,AND($A1861=AC$3,$D1861<0),0)","v":0},0,0]
[{"$f":"IF(B1862=0,\"\",MONTH(B1862))","v":""},null,null,null,{"$f":"IF(D1862=\"\",\"\",IF(D1862<0,\"DEBITO\",\"CREDITO\"))","v":""},null,false,false,0,{"$f":"IF($A1862=I$3,AND($A1862=I$3,$D1862<0),0)","v":0},0,{"$f":"IF($A1862=K$3,AND($A1862=K$3,$D1862<0),0)","v":0},0,{"$f":"IF($A1862=M$3,AND($A1862=M$3,$D1862<0),0)","v":0},0,{"$f":"IF($A1862=O$3,AND($A1862=O$3,$D1862<0),0)","v":0},0,0,0,0,0,0,0,{"$f":"IF($A1862=W$3,AND($A1862=W$3,$D1862<0),0)","v":0},0,{"$f":"IF($A1862=Y$3,AND($A1862=Y$3,$D1862<0),0)","v":0},0,{"$f":"IF($A1862=AA$3,AND($A1862=AA$3,$D1862<0),0)","v":0},0,{"$f":"IF($A1862=AC$3,AND($A1862=AC$3,$D1862<0),0)","v":0},0,0]
[{"$f":"IF(B1865=0,\"\",MONTH(B1865))","v":""},null,null,null,{"$f":"IF(D1865=\"\",\"\",IF(D1865<0,\"DEBITO\",\"CREDITO\"))","v":""},null,{"$f":"AND(A1865=$E$3,D1865>0)","v":false},{"$f":"AND(A1865=$E$3,D1865<0)","v":false},0,{"$f":"IF($A1865=I$3,AND($A1865=I$3,$D1865<0),0)","v":0},0,{"$f":"IF($A1865=K$3,AND($A1865=K$3,$D1865<0),0)","v":0},0,{"$f":"IF($A1865=M$3,AND($A1865=M$3,$D1865<0),0)","v":0},0,{"$f":"IF($A1865=O$3,AND($A1865=O$3,$D1865<0),0)","v":0},0,{"$f":"IF($A1865=Q$3,AND($A1865=Q$3,$D1865<0),0)","v":0},0,0,0,0,0,{"$f":"IF($A1865=W$3,AND($A1865=W$3,$D1865<0),0)","v":0},0,{"$f":"IF($A1865=Y$3,AND($A1865=Y$3,$D1865<0),0)","v":0},0,{"$f":"IF($A1865=AA$3,AND($A1865=AA$3,$D1865<0),0)","v":0},0,{"$f":"IF($A1865=AC$3,AND($A1865=AC$3,$D1865<0),0)","v":0},0,{"$f":"IF($A1865=AE$3,AND($A1865=AE$3,$D1865<0),0)","v":0}]
[{"$f":"IF(B1866=0,\"\",MONTH(B1866))","v":""},null,null,null,{"$f":"IF(D1866=\"\",\"\",IF(D1866<0,\"DEBITO\",\"CREDITO\"))","v":""},null,false,false,0,{"$f":"IF($A1866=I$3,AND($A1866=I$3,$D1866<0),0)","v":0},0,{"$f":"IF($A1866=K$3,AND($A1866=K$3,$D1866<0),0)","v":0},0,{"$f":"IF($A1866=M$3,AND($A1866=M$3,$D1866<0),0)","v":0},0,{"$f":"IF($A1866=O$3,AND($A1866=O$3,$D1866<0),0)","v":0},0,0,{"$f":"IF($A1866=S$3,AND($A1866=S$3,$D1866>0),0)","v":0},{"$f":"IF($A1866=S$3,AND($A1866=S$3,$D1866<0),0)","v":0},{"$f":"IF($A1866=U$3,AND($A1866=U$3,$D1866>0),0)","v":0},{"$f":"IF($A1866=U$3,AND($A1866=U$3,$D1866<0),0)","v":0},0,{"$f":"IF($A1866=W$3,AND($A1866=W$3,$D1866<0),0)","v":0},0,{"$f":"IF($A1866=Y$3,AND($A1866=Y$3,$D1866<0),0)","v":0},0,{"$f":"IF($A1866=AA$3,AND($A1866=AA$3,$D1866<0),0)","v":0},0,{"$f":"IF($A1866=AC$3,AND($A1866=AC$3,$D1866<0),0)","v":0},0,0]
[{"$f":"IF(B1869=0,\"\",MONTH(B1869))","v":""},null,null,null,{"$f":"IF(D1869=\"\",\"\",IF(D1869<0,\"DEBITO\",\"CREDITO\"))","v":""},null,false,false,0,{"$f":"IF($A1869=I$3,AND($A1869=I$3,$D1869<0),0)","v":0},0,{"$f":"IF($A1869=K$3,AND($A1869=K$3,$D1869<0),0)","v":0},0,{"$f":"IF($A1869=M$3,AND($A1869=M$3,$D1869<0),0)","v":0},0,{"$f":"IF($A1869=O$3,AND($A1869=O$3,$D1869<0),0)","v":0},0,0,0,0,0,0,0,{"$f":"IF($A1869=W$3,AND($A1869=W$3,$D1869<0),0)","v":0},0,{"$f":"IF($A1869=Y$3,AND($A1869=Y$3,$D1869<0),0)","v":0},0,{"$f":"IF($A1869=AA$3,AND($A1869=AA$3,$D1869<0),0)","v":0},0,{"$f":"IF($A1869=AC$3,AND($A1869=AC$3,$D1869<0),0)","v":0},0,0]
[{"$f":"IF(B1870=0,\"\",MONTH(B1870))","v":""},null,null,null,{"$f":"IF(D1870=\"\",\"\",IF(D1870<0,\"DEBITO\",\"CREDITO\"))","v":""},null,false,false,0,{"$f":"IF($A1870=I$3,AND($A1870=I$3,$D1870<0),0)","v":0},0,{"$f":"IF($A1870=K$3,AND($A1870=K$3,$D1870<0),0)","v":0},0,{"$f":"IF($A1870=M$3,AND($A1870=M$3,$D1870<0),0)","v":0},0,{"$f":"IF($A1870=O$3,AND($A1870=O$3,$D1870<0),0)","v":0},0,0,0,0,0,0,0,{"$f":"IF($A1870=W$3,AND($A1870=W$3,$D1870<0),0)","v":0},0,{"$f":"IF($A1870=Y$3,AND($A1870=Y$3,$D1870<0),0)","v":0},0,{"$f":"IF($A1870=AA$3,AND($A1870=AA$3,$D1870<0),0)","v":0},0,{"$f":"IF($A1870=AC$3,AND($A1870=AC$3,$D1870<0),0)","v":0},0,0]
[{"$f":"IF(B1872=0,\"\",MONTH(B1872))","v":""},null,null,null,{"$f":"IF(D1872=\"\",\"\",IF(D1872<0,\"DEBITO\",\"CREDITO\"))","v":""},null,false,false,0,{"$f":"IF($A1872=I$3,AND($A1872=I$3,$D1872<0),0)","v":0},0,{"$f":"IF($A1872=K$3,AND($A1872=K$3,$D1872<0),0)","v":0},0,{"$f":"IF($A1872=M$3,AND($A1872=M$3,$D1872<0),0)","v":0},0,{"$f":"IF($A1872=O$3,AND($A1872=O$3,$D1872<0),0)","v":0},0,0,0,0,0,0,0,{"$f":"IF($A1872=W$3,AND($A1872=W$3,$D1872<0),0)","v":0},0,{"$f":"IF($A1872=Y$3,AND($A1872=Y$3,$D1872<0),0)","v":0},0,{"$f":"IF($A1872=AA$3,AND($A1872=AA$3,$D1872<0),0)","v":0},0,{"$f":"IF($A1872=AC$3,AND($A1872=AC$3,$D1872<0),0)","v":0},0,0]
[{"$f":"IF(B1875=0,\"\",MONTH(B1875))","v":""},null,null,null,{"$f":"IF(D1875=\"\",\"\",IF(D1875<0,\"DEBITO\",\"CREDITO\"))","v":""},null,false,false,0,{"$f":"IF($A1875=I$3,AND($A1875=I$3,$D1875<0),0)","v":0},0,{"$f":"IF($A1875=K$3,AND($A1875=K$3,$D1875<0),0)","v":0},0,{"$f":"IF($A1875=M$3,AND($A1875=M$3,$D1875<0),0)","v":0},0,{"$f":"IF($A1875=O$3,AND($A1875=O$3,$D1875<0),0)","v":0},0,0,0,0,0,0,0,{"$f":"IF($A1875=W$3,AND($A1875=W$3,$D1875<0),0)","v":0},0,{"$f":"IF($A1875=Y$3,AND($A1875=Y$3,$D1875<0),0)","v":0},0,{"$f":"IF($A1875=AA$3,AND($A1875=AA$3,$D1875<0),0)","v":0},0,{"$f":"IF($A1875=AC$3,AND($A1875=AC$3,$D1875<0),0)","v":0},0,0]
[{"$f":"IF(B1878=0,\"\",MONTH(B1878))","v":""},null,null,null,{"$f":"IF(D1878=\"\",\"\",IF(D1878<0,\"DEBITO\",\"CREDITO\"))","v":""},null,false,false,0,{"$f":"IF($A1878=I$3,AND($A1878=I$3,$D1878<0),0)","v":0},0,{"$f":"IF($A1878=K$3,AND($A1878=K$3,$D1878<0),0)","v":0},0,{"$f":"IF($A1878=M$3,AND($A1878=M$3,$D1878<0),0)","v":0},0,{"$f":"IF($A1878=O$3,AND($A1878=O$3,$D1878<0),0)","v":0},0,0,0,0,0,0,0,{"$f":"IF($A1878=W$3,AND($A1878=W$3,$D1878<0),0)","v":0},0,{"$f":"IF($A1878=Y$3,AND($A1878=Y$3,$D1878<0),0)","v":0},0,{"$f":"IF($A1878=AA$3,AND($A1878=AA$3,$D1878<0),0)","v":0},0,{"$f":"IF($A1878=AC$3,AND($A1878=AC$3,$D1878<0),0)","v":0},0,0]
[{"$f":"IF(B1879=0,\"\",MONTH(B1879))","v":""},null,null,null,{"$f":"IF(D1879=\"\",\"\",IF(D1879<0,\"DEBITO\",\"CREDITO\"))","v":""},null,false,false,0,{"$f":"IF($A1879=I$3,AND($A1879=I$3,$D1879<0),0)","v":0},0,{"$f":"IF($A1879=K$3,AND($A1879=K$3,$D1879<0),0)","v":0},0,{"$f":"IF($A1879=M$3,AND($A1879=M$3,$D1879<0),0)","v":0},0,{"$f":"IF($A1879=O$3,AND($A1879=O$3,$D1879<0),0)","v":0},0,0,0,0,0,0,0,{"$f":"IF($A1879=W$3,AND($A1879=W$3,$D1879<0),0)","v":0},0,{"$f":"IF($A1879=Y$3,AND($A1879=Y$3,$D1879<0),0)","v":0},0,{"$f":"IF($A1879=AA$3,AND($A1879=AA$3,$D1879<0),0)","v":0},0,{"$f":"IF($A1879=AC$3,AND($A1879=AC$3,$D1879<0),0)","v":0},0,0]
[{"$f":"IF(B1882=0,\"\",MONTH(B1882))","v":""},null,null,null,{"$f":"IF(D1882=\"\",\"\",IF(D1882<0,\"DEBITO\",\"CREDITO\"))","v":""},null,false,false,0,{"$f":"IF($A1882=I$3,AND($A1882=I$3,$D1882<0),0)","v":0},0,{"$f":"IF($A1882=K$3,AND($A1882=K$3,$D1882<0),0)","v":0},0,{"$f":"IF($A1882=M$3,AND($A1882=M$3,$D1882<0),0)","v":0},0,{"$f":"IF($A1882=O$3,AND($A1882=O$3,$D1882<0),0)","v":0},0,0,0,0,0,0,0,{"$f":"IF($A1882=W$3,AND($A1882=W$3,$D1882<0),0)","v":0},0,{"$f":"IF($A1882=Y$3,AND($A1882=Y$3,$D1882<0),0)","v":0},0,{"$f":"IF($A1882=AA$3,AND($A1882=AA$3,$D1882<0),0)","v":0},0,{"$f":"IF($A1882=AC$3,AND($A1882=AC$3,$D1882<0),0)","v":0},0,0]
[{"$f":"IF(B1883=0,\"\",MONTH(B1883))","v":""},null,null,null,{"$f":"IF(D1883=\"\",\"\",IF(D1883<0,\"DEBITO\",\"CREDITO\"))","v":""},null,false,false,0,{"$f":"IF($A1883=I$3,AND($A1883=I$3,$D1883<0),0)","v":0},0,{"$f":"IF($A1883=K$3,AND($A1883=K$3,$D1883<0),0)","v":0},0,{"$f":"IF($A1883=M$3,AND($A1883=M$3,$D1883<0),0)","v":0},0,{"$f":"IF($A1883=O$3,AND($A1883=O$3,$D1883<0),0)","v":0},0,0,0,0,0,0,0,{"$f":"IF($A1883=W$3,AND($A1883=W$3,$D1883<0),0)","v":0},0,{"$f":"IF($A1883=Y$3,AND($A1883=Y$3,$D1883<0),0)","v":0},0,{"$f":"IF($A1883=AA$3,AND($A1883=AA$3,$D1883<0),0)","v":0},0,{"$f":"IF($A1883=AC$3,AND($A1883=AC$3,$D1883<0),0)","v":0},0,0]
[{"$f":"IF(B1886=0,\"\",MONTH(B1886))","v":""},null,null,null,{"$f":"IF(D1886=\"\",\"\",IF(D1886<0,\"DEBITO\",\"CREDITO\"))","v":""},null,false,false,0,{"$f":"IF($A1886=I$3,AND($A1886=I$3,$D1886<0),0)","v":0},0,{"$f":"IF($A1886=K$3,AND($A1886=K$3,$D1886<0),0)","v":0},0,{"$f":"IF($A1886=M$3,AND($A1886=M$3,$D1886<0),0)","v":0},0,{"$f":"IF($A1886=O$3,AND($A1886=O$3,$D1886<0),0)","v":0},0,0,0,0,0,0,0,{"$f":"IF($A1886=W$3,AND($A1886=W$3,$D1886<0),0)","v":0},0,{"$f":"IF($A1886=Y$3,AND($A1886=Y$3,$D1886<0),0)","v":0},0,{"$f":"IF($A1886=AA$3,AND($A1886=AA$3,$D1886<0),0)","v":0},0,{"$f":"IF($A1886=AC$3,AND($A1886=AC$3,$D1886<0),0)","v":0},0,0]
[{"$f":"IF(B1887=0,\"\",MONTH(B1887))","v":""},null,null,null,{"$f":"IF(D1887=\"\",\"\",IF(D1887<0,\"DEBITO\",\"CREDITO\"))","v":""},null,false,false,0,{"$f":"IF($A1887=I$3,AND($A1887=I$3,$D1887<0),0)","v":0},0,{"$f":"IF($A1887=K$3,AND($A1887=K$3,$D1887<0),0)","v":0},0,{"$f":"IF($A1887=M$3,AND($A1887=M$3,$D1887<0),0)","v":0},0,{"$f":"IF($A1887=O$3,AND($A1887=O$3,$D1887<0),0)","v":0},0,0,0,0,0,0,0,{"$f":"IF($A1887=W$3,AND($A1887=W$3,$D1887<0),0)","v":0},0,{"$f":"IF($A1887=Y$3,AND($A1887=Y$3,$D1887<0),0)","v":0},0,{"$f":"IF($A1887=AA$3,AND($A1887=AA$3,$D1887<0),0)","v":0},0,{"$f":"IF($A1887=AC$3,AND($A1887=AC$3,$D1887<0),0)","v":0},0,0]
[{"$f":"IF(B1890=0,\"\",MONTH(B1890))","v":""},null,null,null,{"$f":"IF(D1890=\"\",\"\",IF(D1890<0,\"DEBITO\",\"CREDITO\"))","v":""},null,false,false,0,{"$f":"IF($A1890=I$3,AND($A1890=I$3,$D1890<0),0)","v":0},0,{"$f":"IF($A1890=K$3,AND($A1890=K$3,$D1890<0),0)","v":0},0,{"$f":"IF($A1890=M$3,AND($A1890=M$3,$D1890<0),0)","v":0},0,{"$f":"IF($A1890=O$3,AND($A1890=O$3,$D1890<0),0)","v":0},0,0,0,0,0,0,0,{"$f":"IF($A1890=W$3,AND($A1890=W$3,$D1890<0),0)","v":0},0,{"$f":"IF($A1890=Y$3,AND($A1890=Y$3,$D1890<0),0)","v":0},0,{"$f":"IF($A1890=AA$3,AND($A1890=AA$3,$D1890<0),0)","v":0},0,{"$f":"IF($A1890=AC$3,AND($A1890=AC$3,$D1890<0),0)","v":0},0,0]
[{"$f":"IF(B1891=0,\"\",MONTH(B1891))","v":""},null,null,null,{"$f":"IF(D1891=\"\",\"\",IF(D1891<0,\"DEBITO\",\"CREDITO\"))","v":""},null,false,false,0,{"$f":"IF($A1891=I$3,AND($A1891=I$3,$D1891<0),0)","v":0},0,{"$f":"IF($A1891=K$3,AND($A1891=K$3,$D1891<0),0)","v":0},0,{"$f":"IF($A1891=M$3,AND($A1891=M$3,$D1891<0),0)","v":0},0,{"$f":"IF($A1891=O$3,AND($A1891=O$3,$D1891<0),0)","v":0},0,0,0,0,0,0,0,{"$f":"IF($A1891=W$3,AND($A1891=W$3,$D1891<0),0)","v":0},0,{"$f":"IF($A1891=Y$3,AND($A1891=Y$3,$D1891<0),0)","v":0},0,{"$f":"IF($A1891=AA$3,AND($A1891=AA$3,$D1891<0),0)","v":0},0,{"$f":"IF($A1891=AC$3,AND($A1891=AC$3,$D1891<0),0)","v":0},0,0]
[{"$f":"IF(B1894=0,\"\",MONTH(B1894))","v":""},null,null,null,{"$f":"IF(D1894=\"\",\"\",IF(D1894<0,\"DEBITO\",\"CREDITO\"))","v":""},null,false,false,0,{"$f":"IF($A1894=I$3,AND($A1894=I$3,$D1894<0),0)","v":0},0,{"$f":"IF($A1894=K$3,AND($A1894=K$3,$D1894<0),0)","v":0},0,{"$f":"IF($A1894=M$3,AND($A1894=M$3,$D1894<0),0)","v":0},0,{"$f":"IF($A1894=O$3,AND($A1894=O$3,$D1894<0),0)","v":0},0,0,0,0,0,0,0,{"$f":"IF($A1894=W$3,AND($A1894=W$3,$D1894<0),0)","v":0},0,{"$f":"IF($A1894=Y$3,AND($A1894=Y$3,$D1894<0),0)","v":0},0,{"$f":"IF($A1894=AA$3,AND($A1894=AA$3,$D1894<0),0)","v":0},0,{"$f":"IF($A1894=AC$3,AND($A1894=AC$3,$D1894<0),0)","v":0},0,0]
[{"$f":"IF(B1897=0,\"\",MONTH(B1897))","v":""},null,null,null,{"$f":"IF(D1897=\"\",\"\",IF(D1897<0,\"DEBITO\",\"CREDITO\"))","v":""},null,false,false,0,{"$f":"IF($A1897=I$3,AND($A1897=I$3,$D1897<0),0)","v":0},0,{"$f":"IF($A1897=K$3,AND($A1897=K$3,$D1897<0),0)","v":0},0,{"$f":"IF($A1897=M$3,AND($A1897=M$3,$D1897<0),0)","v":0},0,{"$f":"IF($A1897=O$3,AND($A1897=O$3,$D1897<0),0)","v":0},0,0,0,0,0,0,0,{"$f":"IF($A1897=W$3,AND($A1897=W$3,$D1897<0),0)","v":0},0,{"$f":"IF($A1897=Y$3,AND($A1897=Y$3,$D1897<0),0)","v":0},0,{"$f":"IF($A1897=AA$3,AND($A1897=AA$3,$D1897<0),0)","v":0},0,{"$f":"IF($A1897=AC$3,AND($A1897=AC$3,$D1897<0),0)","v":0},0,0]
[{"$f":"IF(B1899=0,\"\",MONTH(B1899))","v":""},null,null,null,{"$f":"IF(D1899=\"\",\"\",IF(D1899<0,\"DEBITO\",\"CREDITO\"))","v":""},null,false,false,0,{"$f":"IF($A1899=I$3,AND($A1899=I$3,$D1899<0),0)","v":0},0,{"$f":"IF($A1899=K$3,AND($A1899=K$3,$D1899<0),0)","v":0},0,{"$f":"IF($A1899=M$3,AND($A1899=M$3,$D1899<0),0)","v":0},0,{"$f":"IF($A1899=O$3,AND($A1899=O$3,$D1899<0),0)","v":0},0,0,0,0,0,0,0,{"$f":"IF($A1899=W$3,AND($A1899=W$3,$D1899<0),0)","v":0},0,{"$f":"IF($A1899=Y$3,AND($A1899=Y$3,$D1899<0),0)","v":0},0,{"$f":"IF($A1899=AA$3,AND($A1899=AA$3,$D1899<0),0)","v":0},0,{"$f":"IF($A1899=AC$3,AND($A1899=AC$3,$D1899<0),0)","v":0},0,0]
[{"$f":"IF(B1900=0,\"\",MONTH(B1900))","v":""},null,null,null,{"$f":"IF(D1900=\"\",\"\",IF(D1900<0,\"DEBITO\",\"CREDITO\"))","v":""},null,false,false,0,{"$f":"IF($A1900=I$3,AND($A1900=I$3,$D1900<0),0)","v":0},0,{"$f":"IF($A1900=K$3,AND($A1900=K$3,$D1900<0),0)","v":0},0,{"$f":"IF($A1900=M$3,AND($A1900=M$3,$D1900<0),0)","v":0},0,{"$f":"IF($A1900=O$3,AND($A1900=O$3,$D1900<0),0)","v":0},0,0,0,0,0,0,0,{"$f":"IF($A1900=W$3,AND($A1900=W$3,$D1900<0),0)","v":0},0,{"$f":"IF($A1900=Y$3,AND($A1900=Y$3,$D1900<0),0)","v":0},0,{"$f":"IF($A1900=AA$3,AND($A1900=AA$3,$D1900<0),0)","v":0},0,{"$f":"IF($A1900=AC$3,AND($A1900=AC$3,$D1900<0),0)","v":0},0,0]
[{"$f":"IF(B1903=0,\"\",MONTH(B1903))","v":""},null,null,null,{"$f":"IF(D1903=\"\",\"\",IF(D1903<0,\"DEBITO\",\"CREDITO\"))","v":""},null,false,false,0,{"$f":"IF($A1903=I$3,AND($A1903=I$3,$D1903<0),0)","v":0},0,{"$f":"IF($A1903=K$3,AND($A1903=K$3,$D1903<0),0)","v":0},0,{"$f":"IF($A1903=M$3,AND($A1903=M$3,$D1903<0),0)","v":0},0,{"$f":"IF($A1903=O$3,AND($A1903=O$3,$D1903<0),0)","v":0},0,0,0,0,0,0,0,{"$f":"IF($A1903=W$3,AND($A1903=W$3,$D1903<0),0)","v":0},0,{"$f":"IF($A1903=Y$3,AND($A1903=Y$3,$D1903<0),0)","v":0},0,{"$f":"IF($A1903=AA$3,AND($A1903=AA$3,$D1903<0),0)","v":0},0,{"$f":"IF($A1903=AC$3,AND($A1903=AC$3,$D1903<0),0)","v":0},0,0]
[{"$f":"IF(B1904=0,\"\",MONTH(B1904))","v":""},null,null,null,{"$f":"IF(D1904=\"\",\"\",IF(D1904<0,\"DEBITO\",\"CREDITO\"))","v":""},null,false,false,0,{"$f":"IF($A1904=I$3,AND($A1904=I$3,$D1904<0),0)","v":0},0,{"$f":"IF($A1904=K$3,AND($A1904=K$3,$D1904<0),0)","v":0},0,{"$f":"IF($A1904=M$3,AND($A1904=M$3,$D1904<0),0)","v":0},0,{"$f":"IF($A1904=O$3,AND($A1904=O$3,$D1904<0),0)","v":0},0,0,0,0,0,0,0,{"$f":"IF($A1904=W$3,AND($A1904=W$3,$D1904<0),0)","v":0},0,{"$f":"IF($A1904=Y$3,AND($A1904=Y$3,$D1904<0),0)","v":0},0,{"$f":"IF($A1904=AA$3,AND($A1904=AA$3,$D1904<0),0)","v":0},0,{"$f":"IF($A1904=AC$3,AND($A1904=AC$3,$D1904<0),0)","v":0},0,0]
[{"$f":"IF(B1907=0,\"\",MONTH(B1907))","v":""},null,null,null,{"$f":"IF(D1907=\"\",\"\",IF(D1907<0,\"DEBITO\",\"CREDITO\"))","v":""},null,false,false,0,{"$f":"IF($A1907=I$3,AND($A1907=I$3,$D1907<0),0)","v":0},0,{"$f":"IF($A1907=K$3,AND($A1907=K$3,$D1907<0),0)","v":0},0,{"$f":"IF($A1907=M$3,AND($A1907=M$3,$D1907<0),0)","v":0},0,{"$f":"IF($A1907=O$3,AND($A1907=O$3,$D1907<0),0)","v":0},0,0,0,0,0,0,0,{"$f":"IF($A1907=W$3,AND($A1907=W$3,$D1907<0),0)","v":0},0,{"$f":"IF($A1907=Y$3,AND($A1907=Y$3,$D1907<0),0)","v":0},0,{"$f":"IF($A1907=AA$3,AND($A1907=AA$3,$D1907<0),0)","v":0},0,{"$f":"IF($A1907=AC$3,AND($A1907=AC$3,$D1907<0),0)","v":0},0,0]
[{"$f":"IF(B1908=0,\"\",MONTH(B1908))","v":""},null,null,null,{"$f":"IF(D1908=\"\",\"\",IF(D1908<0,\"DEBITO\",\"CREDITO\"))","v":""},null,false,false,0,{"$f":"IF($A1908=I$3,AND($A1908=I$3,$D1908<0),0)","v":0},0,{"$f":"IF($A1908=K$3,AND($A1908=K$3,$D1908<0),0)","v":0},0,{"$f":"IF($A1908=M$3,AND($A1908=M$3,$D1908<0),0)","v":0},0,{"$f":"IF($A1908=O$3,AND($A1908=O$3,$D1908<0),0)","v":0},0,0,0,0,0,0,0,{"$f":"IF($A1908=W$3,AND($A1908=W$3,$D1908<0),0)","v":0},0,{"$f":"IF($A1908=Y$3,AND($A1908=Y$3,$D1908<0),0)","v":0},0,{"$f":"IF($A1908=AA$3,AND($A1908=AA$3,$D1908<0),0)","v":0},0,{"$f":"IF($A1908=AC$3,AND($A1908=AC$3,$D1908<0),0)","v":0},0,0]
[{"$f":"IF(B1911=0,\"\",MONTH(B1911))","v":""},null,null,null,{"$f":"IF(D1911=\"\",\"\",IF(D1911<0,\"DEBITO\",\"CREDITO\"))","v":""},null,false,false,0,{"$f":"IF($A1911=I$3,AND($A1911=I$3,$D1911<0),0)","v":0},0,{"$f":"IF($A1911=K$3,AND($A1911=K$3,$D1911<0),0)","v":0},0,{"$f":"IF($A1911=M$3,AND($A1911=M$3,$D1911<0),0)","v":0},0,{"$f":"IF($A1911=O$3,AND($A1911=O$3,$D1911<0),0)","v":0},0,0,0,0,0,0,0,{"$f":"IF($A1911=W$3,AND($A1911=W$3,$D1911<0),0)","v":0},0,{"$f":"IF($A1911=Y$3,AND($A1911=Y$3,$D1911<0),0)","v":0},0,{"$f":"IF($A1911=AA$3,AND($A1911=AA$3,$D1911<0),0)","v":0},0,{"$f":"IF($A1911=AC$3,AND($A1911=AC$3,$D1911<0),0)","v":0},0,0]
[{"$f":"IF(B1912=0,\"\",MONTH(B1912))","v":""},null,null,null,{"$f":"IF(D1912=\"\",\"\",IF(D1912<0,\"DEBITO\",\"CREDITO\"))","v":""},null,false,false,0,{"$f":"IF($A1912=I$3,AND($A1912=I$3,$D1912<0),0)","v":0},0,{"$f":"IF($A1912=K$3,AND($A1912=K$3,$D1912<0),0)","v":0},0,{"$f":"IF($A1912=M$3,AND($A1912=M$3,$D1912<0),0)","v":0},0,{"$f":"IF($A1912=O$3,AND($A1912=O$3,$D1912<0),0)","v":0},0,0,0,0,0,0,0,{"$f":"IF($A1912=W$3,AND($A1912=W$3,$D1912<0),0)","v":0},0,{"$f":"IF($A1912=Y$3,AND($A1912=Y$3,$D1912<0),0)","v":0},0,{"$f":"IF($A1912=AA$3,AND($A1912=AA$3,$D1912<0),0)","v":0},0,{"$f":"IF($A1912=AC$3,AND($A1912=AC$3,$D1912<0),0)","v":0},0,0]
[{"$f":"IF(B1915=0,\"\",MONTH(B1915))","v":""},null,null,null,{"$f":"IF(D1915=\"\",\"\",IF(D1915<0,\"DEBITO\",\"CREDITO\"))","v":""},null,false,false,0,{"$f":"IF($A1915=I$3,AND($A1915=I$3,$D1915<0),0)","v":0},0,{"$f":"IF($A1915=K$3,AND($A1915=K$3,$D1915<0),0)","v":0},0,{"$f":"IF($A1915=M$3,AND($A1915=M$3,$D1915<0),0)","v":0},0,{"$f":"IF($A1915=O$3,AND($A1915=O$3,$D1915<0),0)","v":0},0,0,0,0,0,0,0,{"$f":"IF($A1915=W$3,AND($A1915=W$3,$D1915<0),0)","v":0},0,{"$f":"IF($A1915=Y$3,AND($A1915=Y$3,$D1915<0),0)","v":0},0,{"$f":"IF($A1915=AA$3,AND($A1915=AA$3,$D1915<0),0)","v":0},0,{"$f":"IF($A1915=AC$3,AND($A1915=AC$3,$D1915<0),0)","v":0},0,0]
[{"$f":"IF(B1918=0,\"\",MONTH(B1918))","v":""},null,null,null,{"$f":"IF(D1918=\"\",\"\",IF(D1918<0,\"DEBITO\",\"CREDITO\"))","v":""},null,false,false,0,{"$f":"IF($A1918=I$3,AND($A1918=I$3,$D1918<0),0)","v":0},0,{"$f":"IF($A1918=K$3,AND($A1918=K$3,$D1918<0),0)","v":0},0,{"$f":"IF($A1918=M$3,AND($A1918=M$3,$D1918<0),0)","v":0},0,{"$f":"IF($A1918=O$3,AND($A1918=O$3,$D1918<0),0)","v":0},0,0,0,0,0,0,0,{"$f":"IF($A1918=W$3,AND($A1918=W$3,$D1918<0),0)","v":0},0,{"$f":"IF($A1918=Y$3,AND($A1918=Y$3,$D1918<0),0)","v":0},0,{"$f":"IF($A1918=AA$3,AND($A1918=AA$3,$D1918<0),0)","v":0},0,{"$f":"IF($A1918=AC$3,AND($A1918=AC$3,$D1918<0),0)","v":0},0,0]
[{"$f":"IF(B1920=0,\"\",MONTH(B1920))","v":""},null,null,null,{"$f":"IF(D1920=\"\",\"\",IF(D1920<0,\"DEBITO\",\"CREDITO\"))","v":""},null,false,false,0,{"$f":"IF($A1920=I$3,AND($A1920=I$3,$D1920<0),0)","v":0},0,{"$f":"IF($A1920=K$3,AND($A1920=K$3,$D1920<0),0)","v":0},0,{"$f":"IF($A1920=M$3,AND($A1920=M$3,$D1920<0),0)","v":0},0,{"$f":"IF($A1920=O$3,AND($A1920=O$3,$D1920<0),0)","v":0},0,0,0,0,0,0,0,{"$f":"IF($A1920=W$3,AND($A1920=W$3,$D1920<0),0)","v":0},0,{"$f":"IF($A1920=Y$3,AND($A1920=Y$3,$D1920<0),0)","v":0},0,{"$f":"IF($A1920=AA$3,AND($A1920=AA$3,$D1920<0),0)","v":0},0,{"$f":"IF($A1920=AC$3,AND($A1920=AC$3,$D1920<0),0)","v":0},0,0]
[{"$f":"IF(B1921=0,\"\",MONTH(B1921))","v":""},null,null,null,{"$f":"IF(D1921=\"\",\"\",IF(D1921<0,\"DEBITO\",\"CREDITO\"))","v":""},null,false,false,0,{"$f":"IF($A1921=I$3,AND($A1921=I$3,$D1921<0),0)","v":0},0,{"$f":"IF($A1921=K$3,AND($A1921=K$3,$D1921<0),0)","v":0},0,{"$f":"IF($A1921=M$3,AND($A1921=M$3,$D1921<0),0)","v":0},0,{"$f":"IF($A1921=O$3,AND($A1921=O$3,$D1921<0),0)","v":0},0,0,0,0,0,0,0,{"$f":"IF($A1921=W$3,AND($A1921=W$3,$D1921<0),0)","v":0},0,{"$f":"IF($A1921=Y$3,AND($A1921=Y$3,$D1921<0),0)","v":0},0,{"$f":"IF($A1921=AA$3,AND($A1921=AA$3,$D1921<0),0)","v":0},0,{"$f":"IF($A1921=AC$3,AND($A1921=AC$3,$D1921<0),0)","v":0},0,0]
[{"$f":"IF(B1924=0,\"\",MONTH(B1924))","v":""},null,null,null,{"$f":"IF(D1924=\"\",\"\",IF(D1924<0,\"DEBITO\",\"CREDITO\"))","v":""},null,false,false,0,{"$f":"IF($A1924=I$3,AND($A1924=I$3,$D1924<0),0)","v":0},0,{"$f":"IF($A1924=K$3,AND($A1924=K$3,$D1924<0),0)","v":0},0,{"$f":"IF($A1924=M$3,AND($A1924=M$3,$D1924<0),0)","v":0},0,{"$f":"IF($A1924=O$3,AND($A1924=O$3,$D1924<0),0)","v":0},0,0,0,0,0,0,0,{"$f":"IF($A1924=W$3,AND($A1924=W$3,$D1924<0),0)","v":0},0,{"$f":"IF($A1924=Y$3,AND($A1924=Y$3,$D1924<0),0)","v":0},0,{"$f":"IF($A1924=AA$3,AND($A1924=AA$3,$D1924<0),0)","v":0},0,{"$f":"IF($A1924=AC$3,AND($A1924=AC$3,$D1924<0),0)","v":0},0,0]
[{"$f":"IF(B1925=0,\"\",MONTH(B1925))","v":""},null,null,null,{"$f":"IF(D1925=\"\",\"\",IF(D1925<0,\"DEBITO\",\"CREDITO\"))","v":""},null,false,false,0,{"$f":"IF($A1925=I$3,AND($A1925=I$3,$D1925<0),0)","v":0},0,{"$f":"IF($A1925=K$3,AND($A1925=K$3,$D1925<0),0)","v":0},0,{"$f":"IF($A1925=M$3,AND($A1925=M$3,$D1925<0),0)","v":0},0,{"$f":"IF($A1925=O$3,AND($A1925=O$3,$D1925<0),0)","v":0},0,0,0,0,0,0,0,{"$f":"IF($A1925=W$3,AND($A1925=W$3,$D1925<0),0)","v":0},0,{"$f":"IF($A1925=Y$3,AND($A1925=Y$3,$D1925<0),0)","v":0},0,{"$f":"IF($A1925=AA$3,AND($A1925=AA$3,$D1925<0),0)","v":0},0,{"$f":"IF($A1925=AC$3,AND($A1925=AC$3,$D1925<0),0)","v":0},0,0]
[{"$f":"IF(B1928=0,\"\",MONTH(B1928))","v":""},null,null,null,{"$f":"IF(D1928=\"\",\"\",IF(D1928<0,\"DEBITO\",\"CREDITO\"))","v":""},null,false,false,0,{"$f":"IF($A1928=I$3,AND($A1928=I$3,$D1928<0),0)","v":0},0,{"$f":"IF($A1928=K$3,AND($A1928=K$3,$D1928<0),0)","v":0},0,{"$f":"IF($A1928=M$3,AND($A1928=M$3,$D1928<0),0)","v":0},0,{"$f":"IF($A1928=O$3,AND($A1928=O$3,$D1928<0),0)","v":0},0,0,0,0,0,0,0,{"$f":"IF($A1928=W$3,AND($A1928=W$3,$D1928<0),0)","v":0},0,{"$f":"IF($A1928=Y$3,AND($A1928=Y$3,$D1928<0),0)","v":0},0,{"$f":"IF($A1928=AA$3,AND($A1928=AA$3,$D1928<0),0)","v":0},0,{"$f":"IF($A1928=AC$3,AND($A1928=AC$3,$D1928<0),0)","v":0},0,0]
[{"$f":"IF(B1929=0,\"\",MONTH(B1929))","v":""},null,null,null,{"$f":"IF(D1929=\"\",\"\",IF(D1929<0,\"DEBITO\",\"CREDITO\"))","v":""},null,{"$f":"AND(A1929=$E$3,D1929>0)","v":false},{"$f":"AND(A1929=$E$3,D1929<0)","v":false},0,{"$f":"IF($A1929=I$3,AND($A1929=I$3,$D1929<0),0)","v":0},0,{"$f":"IF($A1929=K$3,AND($A1929=K$3,$D1929<0),0)","v":0},0,{"$f":"IF($A1929=M$3,AND($A1929=M$3,$D1929<0),0)","v":0},0,{"$f":"IF($A1929=O$3,AND($A1929=O$3,$D1929<0),0)","v":0},0,{"$f":"IF($A1929=Q$3,AND($A1929=Q$3,$D1929<0),0)","v":0},0,0,0,0,0,{"$f":"IF($A1929=W$3,AND($A1929=W$3,$D1929<0),0)","v":0},0,{"$f":"IF($A1929=Y$3,AND($A1929=Y$3,$D1929<0),0)","v":0},0,{"$f":"IF($A1929=AA$3,AND($A1929=AA$3,$D1929<0),0)","v":0},0,{"$f":"IF($A1929=AC$3,AND($A1929=AC$3,$D1929<0),0)","v":0},0,{"$f":"IF($A1929=AE$3,AND($A1929=AE$3,$D1929<0),0)","v":0}]
[{"$f":"IF(B1932=0,\"\",MONTH(B1932))","v":""},null,null,null,{"$f":"IF(D1932=\"\",\"\",IF(D1932<0,\"DEBITO\",\"CREDITO\"))","v":""},null,false,false,0,{"$f":"IF($A1932=I$3,AND($A1932=I$3,$D1932<0),0)","v":0},0,{"$f":"IF($A1932=K$3,AND($A1932=K$3,$D1932<0),0)","v":0},0,{"$f":"IF($A1932=M$3,AND($A1932=M$3,$D1932<0),0)","v":0},0,{"$f":"IF($A1932=O$3,AND($A1932=O$3,$D1932<0),0)","v":0},0,0,0,0,0,0,0,{"$f":"IF($A1932=W$3,AND($A1932=W$3,$D1932<0),0)","v":0},0,{"$f":"IF($A1932=Y$3,AND($A1932=Y$3,$D1932<0),0)","v":0},0,{"$f":"IF($A1932=AA$3,AND($A1932=AA$3,$D1932<0),0)","v":0},0,{"$f":"IF($A1932=AC$3,AND($A1932=AC$3,$D1932<0),0)","v":0},0,0]
[{"$f":"IF(B1933=0,\"\",MONTH(B1933))","v":""},null,null,null,{"$f":"IF(D1933=\"\",\"\",IF(D1933<0,\"DEBITO\",\"CREDITO\"))","v":""},null,false,false,0,{"$f":"IF($A1933=I$3,AND($A1933=I$3,$D1933<0),0)","v":0},0,{"$f":"IF($A1933=K$3,AND($A1933=K$3,$D1933<0),0)","v":0},0,{"$f":"IF($A1933=M$3,AND($A1933=M$3,$D1933<0),0)","v":0},0,{"$f":"IF($A1933=O$3,AND($A1933=O$3,$D1933<0),0)","v":0},0,0,0,0,0,0,0,{"$f":"IF($A1933=W$3,AND($A1933=W$3,$D1933<0),0)","v":0},0,{"$f":"IF($A1933=Y$3,AND($A1933=Y$3,$D1933<0),0)","v":0},0,{"$f":"IF($A1933=AA$3,AND($A1933=AA$3,$D1933<0),0)","v":0},0,{"$f":"IF($A1933=AC$3,AND($A1933=AC$3,$D1933<0),0)","v":0},0,0]
[{"$f":"IF(B1936=0,\"\",MONTH(B1936))","v":""},null,null,null,{"$f":"IF(D1936=\"\",\"\",IF(D1936<0,\"DEBITO\",\"CREDITO\"))","v":""},null,false,false,0,{"$f":"IF($A1936=I$3,AND($A1936=I$3,$D1936<0),0)","v":0},0,{"$f":"IF($A1936=K$3,AND($A1936=K$3,$D1936<0),0)","v":0},0,{"$f":"IF($A1936=M$3,AND($A1936=M$3,$D1936<0),0)","v":0},0,{"$f":"IF($A1936=O$3,AND($A1936=O$3,$D1936<0),0)","v":0},0,0,0,0,0,0,0,{"$f":"IF($A1936=W$3,AND($A1936=W$3,$D1936<0),0)","v":0},0,{"$f":"IF($A1936=Y$3,AND($A1936=Y$3,$D1936<0),0)","v":0},0,{"$f":"IF($A1936=AA$3,AND($A1936=AA$3,$D1936<0),0)","v":0},0,{"$f":"IF($A1936=AC$3,AND($A1936=AC$3,$D1936<0),0)","v":0},0,0]
[{"$f":"IF(B1937=0,\"\",MONTH(B1937))","v":""},null,null,null,{"$f":"IF(D1937=\"\",\"\",IF(D1937<0,\"DEBITO\",\"CREDITO\"))","v":""},null,false,false,0,{"$f":"IF($A1937=I$3,AND($A1937=I$3,$D1937<0),0)","v":0},0,{"$f":"IF($A1937=K$3,AND($A1937=K$3,$D1937<0),0)","v":0},0,{"$f":"IF($A1937=M$3,AND($A1937=M$3,$D1937<0),0)","v":0},0,{"$f":"IF($A1937=O$3,AND($A1937=O$3,$D1937<0),0)","v":0},0,0,0,0,0,0,0,{"$f":"IF($A1937=W$3,AND($A1937=W$3,$D1937<0),0)","v":0},0,{"$f":"IF($A1937=Y$3,AND($A1937=Y$3,$D1937<0),0)","v":0},0,{"$f":"IF($A1937=AA$3,AND($A1937=AA$3,$D1937<0),0)","v":0},0,{"$f":"IF($A1937=AC$3,AND($A1937=AC$3,$D1937<0),0)","v":0},0,0]
[{"$f":"IF(B1941=0,\"\",MONTH(B1941))","v":""},null,null,null,{"$f":"IF(D1941=\"\",\"\",IF(D1941<0,\"DEBITO\",\"CREDITO\"))","v":""},null,false,false,0,{"$f":"IF($A1941=I$3,AND($A1941=I$3,$D1941<0),0)","v":0},0,{"$f":"IF($A1941=K$3,AND($A1941=K$3,$D1941<0),0)","v":0},0,{"$f":"IF($A1941=M$3,AND($A1941=M$3,$D1941<0),0)","v":0},0,{"$f":"IF($A1941=O$3,AND($A1941=O$3,$D1941<0),0)","v":0},0,0,0,0,0,0,0,{"$f":"IF($A1941=W$3,AND($A1941=W$3,$D1941<0),0)","v":0},0,{"$f":"IF($A1941=Y$3,AND($A1941=Y$3,$D1941<0),0)","v":0},0,{"$f":"IF($A1941=AA$3,AND($A1941=AA$3,$D1941<0),0)","v":0},0,{"$f":"IF($A1941=AC$3,AND($A1941=AC$3,$D1941<0),0)","v":0},0,0]
[{"$f":"IF(B1942=0,\"\",MONTH(B1942))","v":""},null,null,null,{"$f":"IF(D1942=\"\",\"\",IF(D1942<0,\"DEBITO\",\"CREDITO\"))","v":""},null,false,false,0,{"$f":"IF($A1942=I$3,AND($A1942=I$3,$D1942<0),0)","v":0},0,{"$f":"IF($A1942=K$3,AND($A1942=K$3,$D1942<0),0)","v":0},0,{"$f":"IF($A1942=M$3,AND($A1942=M$3,$D1942<0),0)","v":0},0,{"$f":"IF($A1942=O$3,AND($A1942=O$3,$D1942<0),0)","v":0},0,0,0,0,0,0,0,{"$f":"IF($A1942=W$3,AND($A1942=W$3,$D1942<0),0)","v":0},0,{"$f":"IF($A1942=Y$3,AND($A1942=Y$3,$D1942<0),0)","v":0},0,{"$f":"IF($A1942=AA$3,AND($A1942=AA$3,$D1942<0),0)","v":0},0,{"$f":"IF($A1942=AC$3,AND($A1942=AC$3,$D1942<0),0)","v":0},0,0]
[{"$f":"IF(B1945=0,\"\",MONTH(B1945))","v":""},null,null,null,{"$f":"IF(D1945=\"\",\"\",IF(D1945<0,\"DEBITO\",\"CREDITO\"))","v":""},null,false,false,{"$f":"IF($A1945=I$3,AND($A1945=I$3,$D1945>0),0)","v":0},{"$f":"IF($A1945=I$3,AND($A1945=I$3,$D1945<0),0)","v":0},{"$f":"IF($A1945=K$3,AND($A1945=K$3,$D1945>0),0)","v":0},{"$f":"IF($A1945=K$3,AND($A1945=K$3,$D1945<0),0)","v":0},{"$f":"IF($A1945=M$3,AND($A1945=M$3,$D1945>0),0)","v":0},{"$f":"IF($A1945=M$3,AND($A1945=M$3,$D1945<0),0)","v":0},{"$f":"IF($A1945=O$3,AND($A1945=O$3,$D1945>0),0)","v":0},{"$f":"IF($A1945=O$3,AND($A1945=O$3,$D1945<0),0)","v":0},{"$f":"IF($A1945=Q$3,AND($A1945=Q$3,$D1945>0),0)","v":0},0,0,0,0,0,{"$f":"IF($A1945=W$3,AND($A1945=W$3,$D1945>0),0)","v":0},{"$f":"IF($A1945=W$3,AND($A1945=W$3,$D1945<0),0)","v":0},{"$f":"IF($A1945=Y$3,AND($A1945=Y$3,$D1945>0),0)","v":0},{"$f":"IF($A1945=Y$3,AND($A1945=Y$3,$D1945<0),0)","v":0},{"$f":"IF($A1945=AA$3,AND($A1945=AA$3,$D1945>0),0)","v":0},{"$f":"IF($A1945=AA$3,AND($A1945=AA$3,$D1945<0),0)","v":0},{"$f":"IF($A1945=AC$3,AND($A1945=AC$3,$D1945>0),0)","v":0},{"$f":"IF($A1945=AC$3,AND($A1945=AC$3,$D1945<0),0)","v":0},{"$f":"IF($A1945=AE$3,AND($A1945=AE$3,$D1945>0),0)","v":0},0]
[{"$f":"IF(B1946=0,\"\",MONTH(B1946))","v":""},null,null,null,{"$f":"IF(D1946=\"\",\"\",IF(D1946<0,\"DEBITO\",\"CREDITO\"))","v":""},null,false,false,0,{"$f":"IF($A1946=I$3,AND($A1946=I$3,$D1946<0),0)","v":0},0,{"$f":"IF($A1946=K$3,AND($A1946=K$3,$D1946<0),0)","v":0},0,{"$f":"IF($A1946=M$3,AND($A1946=M$3,$D1946<0),0)","v":0},0,{"$f":"IF($A1946=O$3,AND($A1946=O$3,$D1946<0),0)","v":0},0,0,0,0,0,0,0,{"$f":"IF($A1946=W$3,AND($A1946=W$3,$D1946<0),0)","v":0},0,{"$f":"IF($A1946=Y$3,AND($A1946=Y$3,$D1946<0),0)","v":0},0,{"$f":"IF($A1946=AA$3,AND($A1946=AA$3,$D1946<0),0)","v":0},0,{"$f":"IF($A1946=AC$3,AND($A1946=AC$3,$D1946<0),0)","v":0},0,0]
[{"$f":"IF(B1949=0,\"\",MONTH(B1949))","v":""},null,null,null,{"$f":"IF(D1949=\"\",\"\",IF(D1949<0,\"DEBITO\",\"CREDITO\"))","v":""},null,false,false,0,{"$f":"IF($A1949=I$3,AND($A1949=I$3,$D1949<0),0)","v":0},0,{"$f":"IF($A1949=K$3,AND($A1949=K$3,$D1949<0),0)","v":0},0,{"$f":"IF($A1949=M$3,AND($A1949=M$3,$D1949<0),0)","v":0},0,{"$f":"IF($A1949=O$3,AND($A1949=O$3,$D1949<0),0)","v":0},0,0,0,0,0,0,0,{"$f":"IF($A1949=W$3,AND($A1949=W$3,$D1949<0),0)","v":0},0,{"$f":"IF($A1949=Y$3,AND($A1949=Y$3,$D1949<0),0)","v":0},0,{"$f":"IF($A1949=AA$3,AND($A1949=AA$3,$D1949<0),0)","v":0},0,{"$f":"IF($A1949=AC$3,AND($A1949=AC$3,$D1949<0),0)","v":0},0,0]
[{"$f":"IF(B1950=0,\"\",MONTH(B1950))","v":""},null,null,null,{"$f":"IF(D1950=\"\",\"\",IF(D1950<0,\"DEBITO\",\"CREDITO\"))","v":""},null,false,false,0,{"$f":"IF($A1950=I$3,AND($A1950=I$3,$D1950<0),0)","v":0},0,{"$f":"IF($A1950=K$3,AND($A1950=K$3,$D1950<0),0)","v":0},0,{"$f":"IF($A1950=M$3,AND($A1950=M$3,$D1950<0),0)","v":0},0,{"$f":"IF($A1950=O$3,AND($A1950=O$3,$D1950<0),0)","v":0},0,0,0,0,0,0,0,{"$f":"IF($A1950=W$3,AND($A1950=W$3,$D1950<0),0)","v":0},0,{"$f":"IF($A1950=Y$3,AND($A1950=Y$3,$D1950<0),0)","v":0},0,{"$f":"IF($A1950=AA$3,AND($A1950=AA$3,$D1950<0),0)","v":0},0,{"$f":"IF($A1950=AC$3,AND($A1950=AC$3,$D1950<0),0)","v":0},0,0]
[{"$f":"IF(B1953=0,\"\",MONTH(B1953))","v":""},null,null,null,{"$f":"IF(D1953=\"\",\"\",IF(D1953<0,\"DEBITO\",\"CREDITO\"))","v":""},null,false,false,0,{"$f":"IF($A1953=I$3,AND($A1953=I$3,$D1953<0),0)","v":0},0,{"$f":"IF($A1953=K$3,AND($A1953=K$3,$D1953<0),0)","v":0},0,{"$f":"IF($A1953=M$3,AND($A1953=M$3,$D1953<0),0)","v":0},0,{"$f":"IF($A1953=O$3,AND($A1953=O$3,$D1953<0),0)","v":0},0,0,0,0,0,0,0,{"$f":"IF($A1953=W$3,AND($A1953=W$3,$D1953<0),0)","v":0},0,{"$f":"IF($A1953=Y$3,AND($A1953=Y$3,$D1953<0),0)","v":0},0,{"$f":"IF($A1953=AA$3,AND($A1953=AA$3,$D1953<0),0)","v":0},0,{"$f":"IF($A1953=AC$3,AND($A1953=AC$3,$D1953<0),0)","v":0},0,0]
[{"$f":"IF(B1954=0,\"\",MONTH(B1954))","v":""},null,null,null,{"$f":"IF(D1954=\"\",\"\",IF(D1954<0,\"DEBITO\",\"CREDITO\"))","v":""},null,false,false,0,{"$f":"IF($A1954=I$3,AND($A1954=I$3,$D1954<0),0)","v":0},0,{"$f":"IF($A1954=K$3,AND($A1954=K$3,$D1954<0),0)","v":0},0,{"$f":"IF($A1954=M$3,AND($A1954=M$3,$D1954<0),0)","v":0},0,{"$f":"IF($A1954=O$3,AND($A1954=O$3,$D1954<0),0)","v":0},0,0,0,0,0,0,0,{"$f":"IF($A1954=W$3,AND($A1954=W$3,$D1954<0),0)","v":0},0,{"$f":"IF($A1954=Y$3,AND($A1954=Y$3,$D1954<0),0)","v":0},0,{"$f":"IF($A1954=AA$3,AND($A1954=AA$3,$D1954<0),0)","v":0},0,{"$f":"IF($A1954=AC$3,AND($A1954=AC$3,$D1954<0),0)","v":0},0,0]
[{"$f":"IF(B1957=0,\"\",MONTH(B1957))","v":""},null,null,null,{"$f":"IF(D1957=\"\",\"\",IF(D1957<0,\"DEBITO\",\"CREDITO\"))","v":""},null,false,false,0,{"$f":"IF($A1957=I$3,AND($A1957=I$3,$D1957<0),0)","v":0},0,{"$f":"IF($A1957=K$3,AND($A1957=K$3,$D1957<0),0)","v":0},0,{"$f":"IF($A1957=M$3,AND($A1957=M$3,$D1957<0),0)","v":0},0,{"$f":"IF($A1957=O$3,AND($A1957=O$3,$D1957<0),0)","v":0},0,0,0,0,0,0,0,{"$f":"IF($A1957=W$3,AND($A1957=W$3,$D1957<0),0)","v":0},0,{"$f":"IF($A1957=Y$3,AND($A1957=Y$3,$D1957<0),0)","v":0},0,{"$f":"IF($A1957=AA$3,AND($A1957=AA$3,$D1957<0),0)","v":0},0,{"$f":"IF($A1957=AC$3,AND($A1957=AC$3,$D1957<0),0)","v":0},0,0]
[{"$f":"IF(B1958=0,\"\",MONTH(B1958))","v":""},null,null,null,{"$f":"IF(D1958=\"\",\"\",IF(D1958<0,\"DEBITO\",\"CREDITO\"))","v":""},null,false,false,0,{"$f":"IF($A1958=I$3,AND($A1958=I$3,$D1958<0),0)","v":0},0,{"$f":"IF($A1958=K$3,AND($A1958=K$3,$D1958<0),0)","v":0},0,{"$f":"IF($A1958=M$3,AND($A1958=M$3,$D1958<0),0)","v":0},0,{"$f":"IF($A1958=O$3,AND($A1958=O$3,$D1958<0),0)","v":0},0,0,0,0,0,0,0,{"$f":"IF($A1958=W$3,AND($A1958=W$3,$D1958<0),0)","v":0},0,{"$f":"IF($A1958=Y$3,AND($A1958=Y$3,$D1958<0),0)","v":0},0,{"$f":"IF($A1958=AA$3,AND($A1958=AA$3,$D1958<0),0)","v":0},0,{"$f":"IF($A1958=AC$3,AND($A1958=AC$3,$D1958<0),0)","v":0},0,0]
[{"$f":"IF(B1961=0,\"\",MONTH(B1961))","v":""},null,null,null,{"$f":"IF(D1961=\"\",\"\",IF(D1961<0,\"DEBITO\",\"CREDITO\"))","v":""},null,false,false,0,{"$f":"IF($A1961=I$3,AND($A1961=I$3,$D1961<0),0)","v":0},0,{"$f":"IF($A1961=K$3,AND($A1961=K$3,$D1961<0),0)","v":0},0,{"$f":"IF($A1961=M$3,AND($A1961=M$3,$D1961<0),0)","v":0},0,{"$f":"IF($A1961=O$3,AND($A1961=O$3,$D1961<0),0)","v":0},0,0,0,0,0,0,0,{"$f":"IF($A1961=W$3,AND($A1961=W$3,$D1961<0),0)","v":0},0,{"$f":"IF($A1961=Y$3,AND($A1961=Y$3,$D1961<0),0)","v":0},0,{"$f":"IF($A1961=AA$3,AND($A1961=AA$3,$D1961<0),0)","v":0},0,{"$f":"IF($A1961=AC$3,AND($A1961=AC$3,$D1961<0),0)","v":0},0,0]
[{"$f":"IF(B1963=0,\"\",MONTH(B1963))","v":""},null,null,null,{"$f":"IF(D1963=\"\",\"\",IF(D1963<0,\"DEBITO\",\"CREDITO\"))","v":""},null,false,false,0,{"$f":"IF($A1963=I$3,AND($A1963=I$3,$D1963<0),0)","v":0},0,{"$f":"IF($A1963=K$3,AND($A1963=K$3,$D1963<0),0)","v":0},0,{"$f":"IF($A1963=M$3,AND($A1963=M$3,$D1963<0),0)","v":0},0,{"$f":"IF($A1963=O$3,AND($A1963=O$3,$D1963<0),0)","v":0},0,0,0,0,0,0,0,{"$f":"IF($A1963=W$3,AND($A1963=W$3,$D1963<0),0)","v":0},0,{"$f":"IF($A1963=Y$3,AND($A1963=Y$3,$D1963<0),0)","v":0},0,{"$f":"IF($A1963=AA$3,AND($A1963=AA$3,$D1963<0),0)","v":0},0,{"$f":"IF($A1963=AC$3,AND($A1963=AC$3,$D1963<0),0)","v":0},0,0]
[{"$f":"IF(B1966=0,\"\",MONTH(B1966))","v":""},null,null,null,{"$f":"IF(D1966=\"\",\"\",IF(D1966<0,\"DEBITO\",\"CREDITO\"))","v":""},null,false,false,0,{"$f":"IF($A1966=I$3,AND($A1966=I$3,$D1966<0),0)","v":0},0,{"$f":"IF($A1966=K$3,AND($A1966=K$3,$D1966<0),0)","v":0},0,{"$f":"IF($A1966=M$3,AND($A1966=M$3,$D1966<0),0)","v":0},0,{"$f":"IF($A1966=O$3,AND($A1966=O$3,$D1966<0),0)","v":0},0,0,0,0,0,0,0,{"$f":"IF($A1966=W$3,AND($A1966=W$3,$D1966<0),0)","v":0},0,{"$f":"IF($A1966=Y$3,AND($A1966=Y$3,$D1966<0),0)","v":0},0,{"$f":"IF($A1966=AA$3,AND($A1966=AA$3,$D1966<0),0)","v":0},0,{"$f":"IF($A1966=AC$3,AND($A1966=AC$3,$D1966<0),0)","v":0},0,0]
[{"$f":"IF(B1967=0,\"\",MONTH(B1967))","v":""},null,null,null,{"$f":"IF(D1967=\"\",\"\",IF(D1967<0,\"DEBITO\",\"CREDITO\"))","v":""},null,false,false,0,{"$f":"IF($A1967=I$3,AND($A1967=I$3,$D1967<0),0)","v":0},0,{"$f":"IF($A1967=K$3,AND($A1967=K$3,$D1967<0),0)","v":0},0,{"$f":"IF($A1967=M$3,AND($A1967=M$3,$D1967<0),0)","v":0},0,{"$f":"IF($A1967=O$3,AND($A1967=O$3,$D1967<0),0)","v":0},0,0,0,0,0,0,0,{"$f":"IF($A1967=W$3,AND($A1967=W$3,$D1967<0),0)","v":0},0,{"$f":"IF($A1967=Y$3,AND($A1967=Y$3,$D1967<0),0)","v":0},0,{"$f":"IF($A1967=AA$3,AND($A1967=AA$3,$D1967<0),0)","v":0},0,{"$f":"IF($A1967=AC$3,AND($A1967=AC$3,$D1967<0),0)","v":0},0,0]
[{"$f":"IF(B1970=0,\"\",MONTH(B1970))","v":""},null,null,null,{"$f":"IF(D1970=\"\",\"\",IF(D1970<0,\"DEBITO\",\"CREDITO\"))","v":""},null,false,false,0,{"$f":"IF($A1970=I$3,AND($A1970=I$3,$D1970<0),0)","v":0},0,{"$f":"IF($A1970=K$3,AND($A1970=K$3,$D1970<0),0)","v":0},0,{"$f":"IF($A1970=M$3,AND($A1970=M$3,$D1970<0),0)","v":0},0,{"$f":"IF($A1970=O$3,AND($A1970=O$3,$D1970<0),0)","v":0},0,0,0,0,0,0,0,{"$f":"IF($A1970=W$3,AND($A1970=W$3,$D1970<0),0)","v":0},0,{"$f":"IF($A1970=Y$3,AND($A1970=Y$3,$D1970<0),0)","v":0},0,{"$f":"IF($A1970=AA$3,AND($A1970=AA$3,$D1970<0),0)","v":0},0,{"$f":"IF($A1970=AC$3,AND($A1970=AC$3,$D1970<0),0)","v":0},0,0]
[{"$f":"IF(B1971=0,\"\",MONTH(B1971))","v":""},null,null,null,{"$f":"IF(D1971=\"\",\"\",IF(D1971<0,\"DEBITO\",\"CREDITO\"))","v":""},null,false,false,0,{"$f":"IF($A1971=I$3,AND($A1971=I$3,$D1971<0),0)","v":0},0,{"$f":"IF($A1971=K$3,AND($A1971=K$3,$D1971<0),0)","v":0},0,{"$f":"IF($A1971=M$3,AND($A1971=M$3,$D1971<0),0)","v":0},0,{"$f":"IF($A1971=O$3,AND($A1971=O$3,$D1971<0),0)","v":0},0,0,0,0,0,0,0,{"$f":"IF($A1971=W$3,AND($A1971=W$3,$D1971<0),0)","v":0},0,{"$f":"IF($A1971=Y$3,AND($A1971=Y$3,$D1971<0),0)","v":0},0,{"$f":"IF($A1971=AA$3,AND($A1971=AA$3,$D1971<0),0)","v":0},0,{"$f":"IF($A1971=AC$3,AND($A1971=AC$3,$D1971<0),0)","v":0},0,0]
[{"$f":"IF(B1974=0,\"\",MONTH(B1974))","v":""},null,null,null,{"$f":"IF(D1974=\"\",\"\",IF(D1974<0,\"DEBITO\",\"CREDITO\"))","v":""},null,false,false,0,{"$f":"IF($A1974=I$3,AND($A1974=I$3,$D1974<0),0)","v":0},0,{"$f":"IF($A1974=K$3,AND($A1974=K$3,$D1974<0),0)","v":0},0,{"$f":"IF($A1974=M$3,AND($A1974=M$3,$D1974<0),0)","v":0},0,{"$f":"IF($A1974=O$3,AND($A1974=O$3,$D1974<0),0)","v":0},0,0,0,0,0,0,0,{"$f":"IF($A1974=W$3,AND($A1974=W$3,$D1974<0),0)","v":0},0,{"$f":"IF($A1974=Y$3,AND($A1974=Y$3,$D1974<0),0)","v":0},0,{"$f":"IF($A1974=AA$3,AND($A1974=AA$3,$D1974<0),0)","v":0},0,{"$f":"IF($A1974=AC$3,AND($A1974=AC$3,$D1974<0),0)","v":0},0,0]
[{"$f":"IF(B1975=0,\"\",MONTH(B1975))","v":""},null,null,null,{"$f":"IF(D1975=\"\",\"\",IF(D1975<0,\"DEBITO\",\"CREDITO\"))","v":""},null,false,false,0,{"$f":"IF($A1975=I$3,AND($A1975=I$3,$D1975<0),0)","v":0},0,{"$f":"IF($A1975=K$3,AND($A1975=K$3,$D1975<0),0)","v":0},0,{"$f":"IF($A1975=M$3,AND($A1975=M$3,$D1975<0),0)","v":0},0,{"$f":"IF($A1975=O$3,AND($A1975=O$3,$D1975<0),0)","v":0},0,0,0,0,0,0,0,{"$f":"IF($A1975=W$3,AND($A1975=W$3,$D1975<0),0)","v":0},0,{"$f":"IF($A1975=Y$3,AND($A1975=Y$3,$D1975<0),0)","v":0},0,{"$f":"IF($A1975=AA$3,AND($A1975=AA$3,$D1975<0),0)","v":0},0,{"$f":"IF($A1975=AC$3,AND($A1975=AC$3,$D1975<0),0)","v":0},0,0]
[{"$f":"IF(B1978=0,\"\",MONTH(B1978))","v":""},null,null,null,{"$f":"IF(D1978=\"\",\"\",IF(D1978<0,\"DEBITO\",\"CREDITO\"))","v":""},null,false,false,0,{"$f":"IF($A1978=I$3,AND($A1978=I$3,$D1978<0),0)","v":0},0,{"$f":"IF($A1978=K$3,AND($A1978=K$3,$D1978<0),0)","v":0},0,{"$f":"IF($A1978=M$3,AND($A1978=M$3,$D1978<0),0)","v":0},0,{"$f":"IF($A1978=O$3,AND($A1978=O$3,$D1978<0),0)","v":0},0,0,0,0,0,0,0,{"$f":"IF($A1978=W$3,AND($A1978=W$3,$D1978<0),0)","v":0},0,{"$f":"IF($A1978=Y$3,AND($A1978=Y$3,$D1978<0),0)","v":0},0,{"$f":"IF($A1978=AA$3,AND($A1978=AA$3,$D1978<0),0)","v":0},0,{"$f":"IF($A1978=AC$3,AND($A1978=AC$3,$D1978<0),0)","v":0},0,0]
[{"$f":"IF(B1979=0,\"\",MONTH(B1979))","v":""},null,null,null,{"$f":"IF(D1979=\"\",\"\",IF(D1979<0,\"DEBITO\",\"CREDITO\"))","v":""},null,false,false,0,{"$f":"IF($A1979=I$3,AND($A1979=I$3,$D1979<0),0)","v":0},0,{"$f":"IF($A1979=K$3,AND($A1979=K$3,$D1979<0),0)","v":0},0,{"$f":"IF($A1979=M$3,AND($A1979=M$3,$D1979<0),0)","v":0},0,{"$f":"IF($A1979=O$3,AND($A1979=O$3,$D1979<0),0)","v":0},0,0,0,0,0,0,0,{"$f":"IF($A1979=W$3,AND($A1979=W$3,$D1979<0),0)","v":0},0,{"$f":"IF($A1979=Y$3,AND($A1979=Y$3,$D1979<0),0)","v":0},0,{"$f":"IF($A1979=AA$3,AND($A1979=AA$3,$D1979<0),0)","v":0},0,{"$f":"IF($A1979=AC$3,AND($A1979=AC$3,$D1979<0),0)","v":0},0,0]
[{"$f":"IF(B1983=0,\"\",MONTH(B1983))","v":""},null,null,null,{"$f":"IF(D1983=\"\",\"\",IF(D1983<0,\"DEBITO\",\"CREDITO\"))","v":""},null,false,false,0,{"$f":"IF($A1983=I$3,AND($A1983=I$3,$D1983<0),0)","v":0},0,{"$f":"IF($A1983=K$3,AND($A1983=K$3,$D1983<0),0)","v":0},0,{"$f":"IF($A1983=M$3,AND($A1983=M$3,$D1983<0),0)","v":0},0,{"$f":"IF($A1983=O$3,AND($A1983=O$3,$D1983<0),0)","v":0},0,0,0,0,0,0,0,{"$f":"IF($A1983=W$3,AND($A1983=W$3,$D1983<0),0)","v":0},0,{"$f":"IF($A1983=Y$3,AND($A1983=Y$3,$D1983<0),0)","v":0},0,{"$f":"IF($A1983=AA$3,AND($A1983=AA$3,$D1983<0),0)","v":0},0,{"$f":"IF($A1983=AC$3,AND($A1983=AC$3,$D1983<0),0)","v":0},0,0]
[{"$f":"IF(B1984=0,\"\",MONTH(B1984))","v":""},null,null,null,{"$f":"IF(D1984=\"\",\"\",IF(D1984<0,\"DEBITO\",\"CREDITO\"))","v":""},null,false,false,0,{"$f":"IF($A1984=I$3,AND($A1984=I$3,$D1984<0),0)","v":0},0,{"$f":"IF($A1984=K$3,AND($A1984=K$3,$D1984<0),0)","v":0},0,{"$f":"IF($A1984=M$3,AND($A1984=M$3,$D1984<0),0)","v":0},0,{"$f":"IF($A1984=O$3,AND($A1984=O$3,$D1984<0),0)","v":0},0,0,0,0,0,0,0,{"$f":"IF($A1984=W$3,AND($A1984=W$3,$D1984<0),0)","v":0},0,{"$f":"IF($A1984=Y$3,AND($A1984=Y$3,$D1984<0),0)","v":0},0,{"$f":"IF($A1984=AA$3,AND($A1984=AA$3,$D1984<0),0)","v":0},0,{"$f":"IF($A1984=AC$3,AND($A1984=AC$3,$D1984<0),0)","v":0},0,0]
[{"$f":"IF(B1987=0,\"\",MONTH(B1987))","v":""},null,null,null,{"$f":"IF(D1987=\"\",\"\",IF(D1987<0,\"DEBITO\",\"CREDITO\"))","v":""},null,false,false,0,{"$f":"IF($A1987=I$3,AND($A1987=I$3,$D1987<0),0)","v":0},0,{"$f":"IF($A1987=K$3,AND($A1987=K$3,$D1987<0),0)","v":0},0,{"$f":"IF($A1987=M$3,AND($A1987=M$3,$D1987<0),0)","v":0},0,{"$f":"IF($A1987=O$3,AND($A1987=O$3,$D1987<0),0)","v":0},0,0,0,0,0,0,0,{"$f":"IF($A1987=W$3,AND($A1987=W$3,$D1987<0),0)","v":0},0,{"$f":"IF($A1987=Y$3,AND($A1987=Y$3,$D1987<0),0)","v":0},0,{"$f":"IF($A1987=AA$3,AND($A1987=AA$3,$D1987<0),0)","v":0},0,{"$f":"IF($A1987=AC$3,AND($A1987=AC$3,$D1987<0),0)","v":0},0,0]
[{"$f":"IF(B1988=0,\"\",MONTH(B1988))","v":""},null,null,null,{"$f":"IF(D1988=\"\",\"\",IF(D1988<0,\"DEBITO\",\"CREDITO\"))","v":""},null,false,false,0,{"$f":"IF($A1988=I$3,AND($A1988=I$3,$D1988<0),0)","v":0},0,{"$f":"IF($A1988=K$3,AND($A1988=K$3,$D1988<0),0)","v":0},0,{"$f":"IF($A1988=M$3,AND($A1988=M$3,$D1988<0),0)","v":0},0,{"$f":"IF($A1988=O$3,AND($A1988=O$3,$D1988<0),0)","v":0},0,0,0,0,0,0,0,{"$f":"IF($A1988=W$3,AND($A1988=W$3,$D1988<0),0)","v":0},0,{"$f":"IF($A1988=Y$3,AND($A1988=Y$3,$D1988<0),0)","v":0},0,{"$f":"IF($A1988=AA$3,AND($A1988=AA$3,$D1988<0),0)","v":0},0,{"$f":"IF($A1988=AC$3,AND($A1988=AC$3,$D1988<0),0)","v":0},0,0]
[{"$f":"IF(B1991=0,\"\",MONTH(B1991))","v":""},null,null,null,{"$f":"IF(D1991=\"\",\"\",IF(D1991<0,\"DEBITO\",\"CREDITO\"))","v":""},null,false,false,0,{"$f":"IF($A1991=I$3,AND($A1991=I$3,$D1991<0),0)","v":0},0,{"$f":"IF($A1991=K$3,AND($A1991=K$3,$D1991<0),0)","v":0},0,{"$f":"IF($A1991=M$3,AND($A1991=M$3,$D1991<0),0)","v":0},0,{"$f":"IF($A1991=O$3,AND($A1991=O$3,$D1991<0),0)","v":0},0,0,0,0,0,0,0,{"$f":"IF($A1991=W$3,AND($A1991=W$3,$D1991<0),0)","v":0},0,{"$f":"IF($A1991=Y$3,AND($A1991=Y$3,$D1991<0),0)","v":0},0,{"$f":"IF($A1991=AA$3,AND($A1991=AA$3,$D1991<0),0)","v":0},0,{"$f":"IF($A1991=AC$3,AND($A1991=AC$3,$D1991<0),0)","v":0},0,0]
[{"$f":"IF(B1992=0,\"\",MONTH(B1992))","v":""},null,null,null,{"$f":"IF(D1992=\"\",\"\",IF(D1992<0,\"DEBITO\",\"CREDITO\"))","v":""},null,false,false,0,{"$f":"IF($A1992=I$3,AND($A1992=I$3,$D1992<0),0)","v":0},0,{"$f":"IF($A1992=K$3,AND($A1992=K$3,$D1992<0),0)","v":0},0,{"$f":"IF($A1992=M$3,AND($A1992=M$3,$D1992<0),0)","v":0},0,{"$f":"IF($A1992=O$3,AND($A1992=O$3,$D1992<0),0)","v":0},0,0,0,0,0,0,0,{"$f":"IF($A1992=W$3,AND($A1992=W$3,$D1992<0),0)","v":0},0,{"$f":"IF($A1992=Y$3,AND($A1992=Y$3,$D1992<0),0)","v":0},0,{"$f":"IF($A1992=AA$3,AND($A1992=AA$3,$D1992<0),0)","v":0},0,{"$f":"IF($A1992=AC$3,AND($A1992=AC$3,$D1992<0),0)","v":0},0,0]
[{"$f":"IF(B1995=0,\"\",MONTH(B1995))","v":""},null,null,null,{"$f":"IF(D1995=\"\",\"\",IF(D1995<0,\"DEBITO\",\"CREDITO\"))","v":""},null,false,false,0,{"$f":"IF($A1995=I$3,AND($A1995=I$3,$D1995<0),0)","v":0},0,{"$f":"IF($A1995=K$3,AND($A1995=K$3,$D1995<0),0)","v":0},0,{"$f":"IF($A1995=M$3,AND($A1995=M$3,$D1995<0),0)","v":0},0,{"$f":"IF($A1995=O$3,AND($A1995=O$3,$D1995<0),0)","v":0},0,0,0,0,0,0,0,{"$f":"IF($A1995=W$3,AND($A1995=W$3,$D1995<0),0)","v":0},0,{"$f":"IF($A1995=Y$3,AND($A1995=Y$3,$D1995<0),0)","v":0},0,{"$f":"IF($A1995=AA$3,AND($A1995=AA$3,$D1995<0),0)","v":0},0,{"$f":"IF($A1995=AC$3,AND($A1995=AC$3,$D1995<0),0)","v":0},0,0]
[{"$f":"IF(B1996=0,\"\",MONTH(B1996))","v":""},null,null,null,{"$f":"IF(D1996=\"\",\"\",IF(D1996<0,\"DEBITO\",\"CREDITO\"))","v":""},null,false,false,0,{"$f":"IF($A1996=I$3,AND($A1996=I$3,$D1996<0),0)","v":0},0,{"$f":"IF($A1996=K$3,AND($A1996=K$3,$D1996<0),0)","v":0},0,{"$f":"IF($A1996=M$3,AND($A1996=M$3,$D1996<0),0)","v":0},0,{"$f":"IF($A1996=O$3,AND($A1996=O$3,$D1996<0),0)","v":0},0,0,0,0,0,0,0,{"$f":"IF($A1996=W$3,AND($A1996=W$3,$D1996<0),0)","v":0},0,{"$f":"IF($A1996=Y$3,AND($A1996=Y$3,$D1996<0),0)","v":0},0,{"$f":"IF($A1996=AA$3,AND($A1996=AA$3,$D1996<0),0)","v":0},0,{"$f":"IF($A1996=AC$3,AND($A1996=AC$3,$D1996<0),0)","v":0},0,0]
[{"$f":"IF(B1999=0,\"\",MONTH(B1999))","v":""},null,null,null,{"$f":"IF(D1999=\"\",\"\",IF(D1999<0,\"DEBITO\",\"CREDITO\"))","v":""},null,false,false,0,{"$f":"IF($A1999=I$3,AND($A1999=I$3,$D1999<0),0)","v":0},0,{"$f":"IF($A1999=K$3,AND($A1999=K$3,$D1999<0),0)","v":0},0,{"$f":"IF($A1999=M$3,AND($A1999=M$3,$D1999<0),0)","v":0},0,{"$f":"IF($A1999=O$3,AND($A1999=O$3,$D1999<0),0)","v":0},0,0,0,0,0,0,0,{"$f":"IF($A1999=W$3,AND($A1999=W$3,$D1999<0),0)","v":0},0,{"$f":"IF($A1999=Y$3,AND($A1999=Y$3,$D1999<0),0)","v":0},0,{"$f":"IF($A1999=AA$3,AND($A1999=AA$3,$D1999<0),0)","v":0},0,{"$f":"IF($A1999=AC$3,AND($A1999=AC$3,$D1999<0),0)","v":0},0,0]
[{"$f":"IF(B2000=0,\"\",MONTH(B2000))","v":""},null,null,null,{"$f":"IF(D2000=\"\",\"\",IF(D2000<0,\"DEBITO\",\"CREDITO\"))","v":""},null,false,false,0,{"$f":"IF($A2000=I$3,AND($A2000=I$3,$D2000<0),0)","v":0},0,{"$f":"IF($A2000=K$3,AND($A2000=K$3,$D2000<0),0)","v":0},0,{"$f":"IF($A2000=M$3,AND($A2000=M$3,$D2000<0),0)","v":0},0,{"$f":"IF($A2000=O$3,AND($A2000=O$3,$D2000<0),0)","v":0},0,0,0,0,0,0,0,{"$f":"IF($A2000=W$3,AND($A2000=W$3,$D2000<0),0)","v":0},0,{"$f":"IF($A2000=Y$3,AND($A2000=Y$3,$D2000<0),0)","v":0},0,{"$f":"IF($A2000=AA$3,AND($A2000=AA$3,$D2000<0),0)","v":0},0,{"$f":"IF($A2000=AC$3,AND($A2000=AC$3,$D2000<0),0)","v":0},0,0]
[{"$f":"IF(B2003=0,\"\",MONTH(B2003))","v":""},null,null,null,{"$f":"IF(D2003=\"\",\"\",IF(D2003<0,\"DEBITO\",\"CREDITO\"))","v":""},null,false,false,0,{"$f":"IF($A2003=I$3,AND($A2003=I$3,$D2003<0),0)","v":0},0,{"$f":"IF($A2003=K$3,AND($A2003=K$3,$D2003<0),0)","v":0},0,{"$f":"IF($A2003=M$3,AND($A2003=M$3,$D2003<0),0)","v":0},0,{"$f":"IF($A2003=O$3,AND($A2003=O$3,$D2003<0),0)","v":0},0,0,0,0,0,0,0,{"$f":"IF($A2003=W$3,AND($A2003=W$3,$D2003<0),0)","v":0},0,{"$f":"IF($A2003=Y$3,AND($A2003=Y$3,$D2003<0),0)","v":0},0,{"$f":"IF($A2003=AA$3,AND($A2003=AA$3,$D2003<0),0)","v":0},0,{"$f":"IF($A2003=AC$3,AND($A2003=AC$3,$D2003<0),0)","v":0},0,0]
[{"$f":"IF(B2004=0,\"\",MONTH(B2004))","v":""},null,null,null,{"$f":"IF(D2004=\"\",\"\",IF(D2004<0,\"DEBITO\",\"CREDITO\"))","v":""},null,false,false,0,{"$f":"IF($A2004=I$3,AND($A2004=I$3,$D2004<0),0)","v":0},0,{"$f":"IF($A2004=K$3,AND($A2004=K$3,$D2004<0),0)","v":0},0,{"$f":"IF($A2004=M$3,AND($A2004=M$3,$D2004<0),0)","v":0},0,{"$f":"IF($A2004=O$3,AND($A2004=O$3,$D2004<0),0)","v":0},0,0,0,0,0,0,0,{"$f":"IF($A2004=W$3,AND($A2004=W$3,$D2004<0),0)","v":0},0,{"$f":"IF($A2004=Y$3,AND($A2004=Y$3,$D2004<0),0)","v":0},0,{"$f":"IF($A2004=AA$3,AND($A2004=AA$3,$D2004<0),0)","v":0},0,{"$f":"IF($A2004=AC$3,AND($A2004=AC$3,$D2004<0),0)","v":0},0,0]
[{"$f":"IF(B2008=0,\"\",MONTH(B2008))","v":""},null,null,null,{"$f":"IF(D2008=\"\",\"\",IF(D2008<0,\"DEBITO\",\"CREDITO\"))","v":""},null,false,false,0,{"$f":"IF($A2008=I$3,AND($A2008=I$3,$D2008<0),0)","v":0},0,{"$f":"IF($A2008=K$3,AND($A2008=K$3,$D2008<0),0)","v":0},0,{"$f":"IF($A2008=M$3,AND($A2008=M$3,$D2008<0),0)","v":0},0,{"$f":"IF($A2008=O$3,AND($A2008=O$3,$D2008<0),0)","v":0},0,0,0,0,0,0,0,{"$f":"IF($A2008=W$3,AND($A2008=W$3,$D2008<0),0)","v":0},0,{"$f":"IF($A2008=Y$3,AND($A2008=Y$3,$D2008<0),0)","v":0},0,{"$f":"IF($A2008=AA$3,AND($A2008=AA$3,$D2008<0),0)","v":0},0,{"$f":"IF($A2008=AC$3,AND($A2008=AC$3,$D2008<0),0)","v":0},0,0]
[{"$f":"IF(B2009=0,\"\",MONTH(B2009))","v":""},null,null,null,{"$f":"IF(D2009=\"\",\"\",IF(D2009<0,\"DEBITO\",\"CREDITO\"))","v":""},null,false,false,{"$f":"IF($A2009=I$3,AND($A2009=I$3,$D2009>0),0)","v":0},{"$f":"IF($A2009=I$3,AND($A2009=I$3,$D2009<0),0)","v":0},{"$f":"IF($A2009=K$3,AND($A2009=K$3,$D2009>0),0)","v":0},{"$f":"IF($A2009=K$3,AND($A2009=K$3,$D2009<0),0)","v":0},{"$f":"IF($A2009=M$3,AND($A2009=M$3,$D2009>0),0)","v":0},{"$f":"IF($A2009=M$3,AND($A2009=M$3,$D2009<0),0)","v":0},{"$f":"IF($A2009=O$3,AND($A2009=O$3,$D2009>0),0)","v":0},{"$f":"IF($A2009=O$3,AND($A2009=O$3,$D2009<0),0)","v":0},{"$f":"IF($A2009=Q$3,AND($A2009=Q$3,$D2009>0),0)","v":0},0,0,0,0,0,{"$f":"IF($A2009=W$3,AND($A2009=W$3,$D2009>0),0)","v":0},{"$f":"IF($A2009=W$3,AND($A2009=W$3,$D2009<0),0)","v":0},{"$f":"IF($A2009=Y$3,AND($A2009=Y$3,$D2009>0),0)","v":0},{"$f":"IF($A2009=Y$3,AND($A2009=Y$3,$D2009<0),0)","v":0},{"$f":"IF($A2009=AA$3,AND($A2009=AA$3,$D2009>0),0)","v":0},{"$f":"IF($A2009=AA$3,AND($A2009=AA$3,$D2009<0),0)","v":0},{"$f":"IF($A2009=AC$3,AND($A2009=AC$3,$D2009>0),0)","v":0},{"$f":"IF($A2009=AC$3,AND($A2009=AC$3,$D2009<0),0)","v":0},{"$f":"IF($A2009=AE$3,AND($A2009=AE$3,$D2009>0),0)","v":0},0]
[{"$f":"IF(B2012=0,\"\",MONTH(B2012))","v":""},null,null,null,{"$f":"IF(D2012=\"\",\"\",IF(D2012<0,\"DEBITO\",\"CREDITO\"))","v":""},null,false,false,0,{"$f":"IF($A2012=I$3,AND($A2012=I$3,$D2012<0),0)","v":0},0,{"$f":"IF($A2012=K$3,AND($A2012=K$3,$D2012<0),0)","v":0},0,{"$f":"IF($A2012=M$3,AND($A2012=M$3,$D2012<0),0)","v":0},0,{"$f":"IF($A2012=O$3,AND($A2012=O$3,$D2012<0),0)","v":0},0,0,0,0,0,0,0,{"$f":"IF($A2012=W$3,AND($A2012=W$3,$D2012<0),0)","v":0},0,{"$f":"IF($A2012=Y$3,AND($A2012=Y$3,$D2012<0),0)","v":0},0,{"$f":"IF($A2012=AA$3,AND($A2012=AA$3,$D2012<0),0)","v":0},0,{"$f":"IF($A2012=AC$3,AND($A2012=AC$3,$D2012<0),0)","v":0},0,0]
[{"$f":"IF(B2013=0,\"\",MONTH(B2013))","v":""},null,null,null,{"$f":"IF(D2013=\"\",\"\",IF(D2013<0,\"DEBITO\",\"CREDITO\"))","v":""},null,false,false,0,{"$f":"IF($A2013=I$3,AND($A2013=I$3,$D2013<0),0)","v":0},0,{"$f":"IF($A2013=K$3,AND($A2013=K$3,$D2013<0),0)","v":0},0,{"$f":"IF($A2013=M$3,AND($A2013=M$3,$D2013<0),0)","v":0},0,{"$f":"IF($A2013=O$3,AND($A2013=O$3,$D2013<0),0)","v":0},0,0,0,0,0,0,0,{"$f":"IF($A2013=W$3,AND($A2013=W$3,$D2013<0),0)","v":0},0,{"$f":"IF($A2013=Y$3,AND($A2013=Y$3,$D2013<0),0)","v":0},0,{"$f":"IF($A2013=AA$3,AND($A2013=AA$3,$D2013<0),0)","v":0},0,{"$f":"IF($A2013=AC$3,AND($A2013=AC$3,$D2013<0),0)","v":0},0,0]
[{"$f":"IF(B2016=0,\"\",MONTH(B2016))","v":""},null,null,null,{"$f":"IF(D2016=\"\",\"\",IF(D2016<0,\"DEBITO\",\"CREDITO\"))","v":""},null,false,false,0,{"$f":"IF($A2016=I$3,AND($A2016=I$3,$D2016<0),0)","v":0},0,{"$f":"IF($A2016=K$3,AND($A2016=K$3,$D2016<0),0)","v":0},0,{"$f":"IF($A2016=M$3,AND($A2016=M$3,$D2016<0),0)","v":0},0,{"$f":"IF($A2016=O$3,AND($A2016=O$3,$D2016<0),0)","v":0},0,0,0,0,0,0,0,{"$f":"IF($A2016=W$3,AND($A2016=W$3,$D2016<0),0)","v":0},0,{"$f":"IF($A2016=Y$3,AND($A2016=Y$3,$D2016<0),0)","v":0},0,{"$f":"IF($A2016=AA$3,AND($A2016=AA$3,$D2016<0),0)","v":0},0,{"$f":"IF($A2016=AC$3,AND($A2016=AC$3,$D2016<0),0)","v":0},0,0]
[{"$f":"IF(B2017=0,\"\",MONTH(B2017))","v":""},null,null,null,{"$f":"IF(D2017=\"\",\"\",IF(D2017<0,\"DEBITO\",\"CREDITO\"))","v":""},null,false,false,0,{"$f":"IF($A2017=I$3,AND($A2017=I$3,$D2017<0),0)","v":0},0,{"$f":"IF($A2017=K$3,AND($A2017=K$3,$D2017<0),0)","v":0},0,{"$f":"IF($A2017=M$3,AND($A2017=M$3,$D2017<0),0)","v":0},0,{"$f":"IF($A2017=O$3,AND($A2017=O$3,$D2017<0),0)","v":0},0,0,0,0,0,0,0,{"$f":"IF($A2017=W$3,AND($A2017=W$3,$D2017<0),0)","v":0},0,{"$f":"IF($A2017=Y$3,AND($A2017=Y$3,$D2017<0),0)","v":0},0,{"$f":"IF($A2017=AA$3,AND($A2017=AA$3,$D2017<0),0)","v":0},0,{"$f":"IF($A2017=AC$3,AND($A2017=AC$3,$D2017<0),0)","v":0},0,0]
[{"$f":"IF(B2020=0,\"\",MONTH(B2020))","v":""},null,null,null,{"$f":"IF(D2020=\"\",\"\",IF(D2020<0,\"DEBITO\",\"CREDITO\"))","v":""},null,false,false,0,{"$f":"IF($A2020=I$3,AND($A2020=I$3,$D2020<0),0)","v":0},0,{"$f":"IF($A2020=K$3,AND($A2020=K$3,$D2020<0),0)","v":0},0,{"$f":"IF($A2020=M$3,AND($A2020=M$3,$D2020<0),0)","v":0},0,{"$f":"IF($A2020=O$3,AND($A2020=O$3,$D2020<0),0)","v":0},0,0,0,0,0,0,0,{"$f":"IF($A2020=W$3,AND($A2020=W$3,$D2020<0),0)","v":0},0,{"$f":"IF($A2020=Y$3,AND($A2020=Y$3,$D2020<0),0)","v":0},0,{"$f":"IF($A2020=AA$3,AND($A2020=AA$3,$D2020<0),0)","v":0},0,{"$f":"IF($A2020=AC$3,AND($A2020=AC$3,$D2020<0),0)","v":0},0,0]
[{"$f":"IF(B2021=0,\"\",MONTH(B2021))","v":""},null,null,null,{"$f":"IF(D2021=\"\",\"\",IF(D2021<0,\"DEBITO\",\"CREDITO\"))","v":""},null,false,false,0,{"$f":"IF($A2021=I$3,AND($A2021=I$3,$D2021<0),0)","v":0},0,{"$f":"IF($A2021=K$3,AND($A2021=K$3,$D2021<0),0)","v":0},0,{"$f":"IF($A2021=M$3,AND($A2021=M$3,$D2021<0),0)","v":0},0,{"$f":"IF($A2021=O$3,AND($A2021=O$3,$D2021<0),0)","v":0},0,0,0,0,0,0,0,{"$f":"IF($A2021=W$3,AND($A2021=W$3,$D2021<0),0)","v":0},0,{"$f":"IF($A2021=Y$3,AND($A2021=Y$3,$D2021<0),0)","v":0},0,{"$f":"IF($A2021=AA$3,AND($A2021=AA$3,$D2021<0),0)","v":0},0,{"$f":"IF($A2021=AC$3,AND($A2021=AC$3,$D2021<0),0)","v":0},0,0]
[{"$f":"IF(B2024=0,\"\",MONTH(B2024))","v":""},null,null,null,{"$f":"IF(D2024=\"\",\"\",IF(D2024<0,\"DEBITO\",\"CREDITO\"))","v":""},null,false,false,0,{"$f":"IF($A2024=I$3,AND($A2024=I$3,$D2024<0),0)","v":0},0,{"$f":"IF($A2024=K$3,AND($A2024=K$3,$D2024<0),0)","v":0},0,{"$f":"IF($A2024=M$3,AND($A2024=M$3,$D2024<0),0)","v":0},0,{"$f":"IF($A2024=O$3,AND($A2024=O$3,$D2024<0),0)","v":0},0,0,0,0,0,0,0,{"$f":"IF($A2024=W$3,AND($A2024=W$3,$D2024<0),0)","v":0},0,{"$f":"IF($A2024=Y$3,AND($A2024=Y$3,$D2024<0),0)","v":0},0,{"$f":"IF($A2024=AA$3,AND($A2024=AA$3,$D2024<0),0)","v":0},0,{"$f":"IF($A2024=AC$3,AND($A2024=AC$3,$D2024<0),0)","v":0},0,0]
[{"$f":"IF(B2026=0,\"\",MONTH(B2026))","v":""},null,null,null,{"$f":"IF(D2026=\"\",\"\",IF(D2026<0,\"DEBITO\",\"CREDITO\"))","v":""},null,false,false,0,{"$f":"IF($A2026=I$3,AND($A2026=I$3,$D2026<0),0)","v":0},0,{"$f":"IF($A2026=K$3,AND($A2026=K$3,$D2026<0),0)","v":0},0,{"$f":"IF($A2026=M$3,AND($A2026=M$3,$D2026<0),0)","v":0},0,{"$f":"IF($A2026=O$3,AND($A2026=O$3,$D2026<0),0)","v":0},0,0,0,0,0,0,0,{"$f":"IF($A2026=W$3,AND($A2026=W$3,$D2026<0),0)","v":0},0,{"$f":"IF($A2026=Y$3,AND($A2026=Y$3,$D2026<0),0)","v":0},0,{"$f":"IF($A2026=AA$3,AND($A2026=AA$3,$D2026<0),0)","v":0},0,{"$f":"IF($A2026=AC$3,AND($A2026=AC$3,$D2026<0),0)","v":0},0,0]
[{"$f":"IF(B2029=0,\"\",MONTH(B2029))","v":""},null,null,null,{"$f":"IF(D2029=\"\",\"\",IF(D2029<0,\"DEBITO\",\"CREDITO\"))","v":""},null,false,false,0,{"$f":"IF($A2029=I$3,AND($A2029=I$3,$D2029<0),0)","v":0},0,{"$f":"IF($A2029=K$3,AND($A2029=K$3,$D2029<0),0)","v":0},0,{"$f":"IF($A2029=M$3,AND($A2029=M$3,$D2029<0),0)","v":0},0,{"$f":"IF($A2029=O$3,AND($A2029=O$3,$D2029<0),0)","v":0},0,0,0,0,0,0,0,{"$f":"IF($A2029=W$3,AND($A2029=W$3,$D2029<0),0)","v":0},0,{"$f":"IF($A2029=Y$3,AND($A2029=Y$3,$D2029<0),0)","v":0},0,{"$f":"IF($A2029=AA$3,AND($A2029=AA$3,$D2029<0),0)","v":0},0,{"$f":"IF($A2029=AC$3,AND($A2029=AC$3,$D2029<0),0)","v":0},0,0]
[{"$f":"IF(B2030=0,\"\",MONTH(B2030))","v":""},null,null,null,{"$f":"IF(D2030=\"\",\"\",IF(D2030<0,\"DEBITO\",\"CREDITO\"))","v":""},null,false,false,0,{"$f":"IF($A2030=I$3,AND($A2030=I$3,$D2030<0),0)","v":0},0,{"$f":"IF($A2030=K$3,AND($A2030=K$3,$D2030<0),0)","v":0},0,{"$f":"IF($A2030=M$3,AND($A2030=M$3,$D2030<0),0)","v":0},0,{"$f":"IF($A2030=O$3,AND($A2030=O$3,$D2030<0),0)","v":0},0,0,0,0,0,0,0,{"$f":"IF($A2030=W$3,AND($A2030=W$3,$D2030<0),0)","v":0},0,{"$f":"IF($A2030=Y$3,AND($A2030=Y$3,$D2030<0),0)","v":0},0,{"$f":"IF($A2030=AA$3,AND($A2030=AA$3,$D2030<0),0)","v":0},0,{"$f":"IF($A2030=AC$3,AND($A2030=AC$3,$D2030<0),0)","v":0},0,0]
[{"$f":"IF(B2033=0,\"\",MONTH(B2033))","v":""},null,null,null,{"$f":"IF(D2033=\"\",\"\",IF(D2033<0,\"DEBITO\",\"CREDITO\"))","v":""},null,false,false,0,{"$f":"IF($A2033=I$3,AND($A2033=I$3,$D2033<0),0)","v":0},0,{"$f":"IF($A2033=K$3,AND($A2033=K$3,$D2033<0),0)","v":0},0,{"$f":"IF($A2033=M$3,AND($A2033=M$3,$D2033<0),0)","v":0},0,{"$f":"IF($A2033=O$3,AND($A2033=O$3,$D2033<0),0)","v":0},0,0,0,0,0,0,0,{"$f":"IF($A2033=W$3,AND($A2033=W$3,$D2033<0),0)","v":0},0,{"$f":"IF($A2033=Y$3,AND($A2033=Y$3,$D2033<0),0)","v":0},0,{"$f":"IF($A2033=AA$3,AND($A2033=AA$3,$D2033<0),0)","v":0},0,{"$f":"IF($A2033=AC$3,AND($A2033=AC$3,$D2033<0),0)","v":0},0,0]
[{"$f":"IF(B2034=0,\"\",MONTH(B2034))","v":""},null,null,null,{"$f":"IF(D2034=\"\",\"\",IF(D2034<0,\"DEBITO\",\"CREDITO\"))","v":""},null,false,false,0,{"$f":"IF($A2034=I$3,AND($A2034=I$3,$D2034<0),0)","v":0},0,{"$f":"IF($A2034=K$3,AND($A2034=K$3,$D2034<0),0)","v":0},0,{"$f":"IF($A2034=M$3,AND($A2034=M$3,$D2034<0),0)","v":0},0,{"$f":"IF($A2034=O$3,AND($A2034=O$3,$D2034<0),0)","v":0},0,0,0,0,0,0,0,{"$f":"IF($A2034=W$3,AND($A2034=W$3,$D2034<0),0)","v":0},0,{"$f":"IF($A2034=Y$3,AND($A2034=Y$3,$D2034<0),0)","v":0},0,{"$f":"IF($A2034=AA$3,AND($A2034=AA$3,$D2034<0),0)","v":0},0,{"$f":"IF($A2034=AC$3,AND($A2034=AC$3,$D2034<0),0)","v":0},0,0]
[{"$f":"IF(B2037=0,\"\",MONTH(B2037))","v":""},null,null,null,{"$f":"IF(D2037=\"\",\"\",IF(D2037<0,\"DEBITO\",\"CREDITO\"))","v":""},null,false,false,0,{"$f":"IF($A2037=I$3,AND($A2037=I$3,$D2037<0),0)","v":0},0,{"$f":"IF($A2037=K$3,AND($A2037=K$3,$D2037<0),0)","v":0},0,{"$f":"IF($A2037=M$3,AND($A2037=M$3,$D2037<0),0)","v":0},0,{"$f":"IF($A2037=O$3,AND($A2037=O$3,$D2037<0),0)","v":0},0,0,0,0,0,0,0,{"$f":"IF($A2037=W$3,AND($A2037=W$3,$D2037<0),0)","v":0},0,{"$f":"IF($A2037=Y$3,AND($A2037=Y$3,$D2037<0),0)","v":0},0,{"$f":"IF($A2037=AA$3,AND($A2037=AA$3,$D2037<0),0)","v":0},0,{"$f":"IF($A2037=AC$3,AND($A2037=AC$3,$D2037<0),0)","v":0},0,0]
[{"$f":"IF(B2038=0,\"\",MONTH(B2038))","v":""},null,null,null,{"$f":"IF(D2038=\"\",\"\",IF(D2038<0,\"DEBITO\",\"CREDITO\"))","v":""},null,false,false,0,{"$f":"IF($A2038=I$3,AND($A2038=I$3,$D2038<0),0)","v":0},0,{"$f":"IF($A2038=K$3,AND($A2038=K$3,$D2038<0),0)","v":0},0,{"$f":"IF($A2038=M$3,AND($A2038=M$3,$D2038<0),0)","v":0},0,{"$f":"IF($A2038=O$3,AND($A2038=O$3,$D2038<0),0)","v":0},0,0,0,0,0,0,0,{"$f":"IF($A2038=W$3,AND($A2038=W$3,$D2038<0),0)","v":0},0,{"$f":"IF($A2038=Y$3,AND($A2038=Y$3,$D2038<0),0)","v":0},0,{"$f":"IF($A2038=AA$3,AND($A2038=AA$3,$D2038<0),0)","v":0},0,{"$f":"IF($A2038=AC$3,AND($A2038=AC$3,$D2038<0),0)","v":0},0,0]
[{"$f":"IF(B2041=0,\"\",MONTH(B2041))","v":""},null,null,null,{"$f":"IF(D2041=\"\",\"\",IF(D2041<0,\"DEBITO\",\"CREDITO\"))","v":""},null,false,false,0,{"$f":"IF($A2041=I$3,AND($A2041=I$3,$D2041<0),0)","v":0},0,{"$f":"IF($A2041=K$3,AND($A2041=K$3,$D2041<0),0)","v":0},0,{"$f":"IF($A2041=M$3,AND($A2041=M$3,$D2041<0),0)","v":0},0,{"$f":"IF($A2041=O$3,AND($A2041=O$3,$D2041<0),0)","v":0},0,0,0,0,0,0,0,{"$f":"IF($A2041=W$3,AND($A2041=W$3,$D2041<0),0)","v":0},0,{"$f":"IF($A2041=Y$3,AND($A2041=Y$3,$D2041<0),0)","v":0},0,{"$f":"IF($A2041=AA$3,AND($A2041=AA$3,$D2041<0),0)","v":0},0,{"$f":"IF($A2041=AC$3,AND($A2041=AC$3,$D2041<0),0)","v":0},0,0]
[{"$f":"IF(B2042=0,\"\",MONTH(B2042))","v":""},null,null,null,{"$f":"IF(D2042=\"\",\"\",IF(D2042<0,\"DEBITO\",\"CREDITO\"))","v":""},null,false,false,0,{"$f":"IF($A2042=I$3,AND($A2042=I$3,$D2042<0),0)","v":0},0,{"$f":"IF($A2042=K$3,AND($A2042=K$3,$D2042<0),0)","v":0},0,{"$f":"IF($A2042=M$3,AND($A2042=M$3,$D2042<0),0)","v":0},0,{"$f":"IF($A2042=O$3,AND($A2042=O$3,$D2042<0),0)","v":0},0,0,0,0,0,0,0,{"$f":"IF($A2042=W$3,AND($A2042=W$3,$D2042<0),0)","v":0},0,{"$f":"IF($A2042=Y$3,AND($A2042=Y$3,$D2042<0),0)","v":0},0,{"$f":"IF($A2042=AA$3,AND($A2042=AA$3,$D2042<0),0)","v":0},0,{"$f":"IF($A2042=AC$3,AND($A2042=AC$3,$D2042<0),0)","v":0},0,0]
[{"$f":"IF(B2045=0,\"\",MONTH(B2045))","v":""},null,null,null,{"$f":"IF(D2045=\"\",\"\",IF(D2045<0,\"DEBITO\",\"CREDITO\"))","v":""},null,false,false,0,{"$f":"IF($A2045=I$3,AND($A2045=I$3,$D2045<0),0)","v":0},0,{"$f":"IF($A2045=K$3,AND($A2045=K$3,$D2045<0),0)","v":0},0,{"$f":"IF($A2045=M$3,AND($A2045=M$3,$D2045<0),0)","v":0},0,{"$f":"IF($A2045=O$3,AND($A2045=O$3,$D2045<0),0)","v":0},0,0,0,0,0,0,0,{"$f":"IF($A2045=W$3,AND($A2045=W$3,$D2045<0),0)","v":0},0,{"$f":"IF($A2045=Y$3,AND($A2045=Y$3,$D2045<0),0)","v":0},0,{"$f":"IF($A2045=AA$3,AND($A2045=AA$3,$D2045<0),0)","v":0},0,{"$f":"IF($A2045=AC$3,AND($A2045=AC$3,$D2045<0),0)","v":0},0,0]
[{"$f":"IF(B2048=0,\"\",MONTH(B2048))","v":""},null,null,null,{"$f":"IF(D2048=\"\",\"\",IF(D2048<0,\"DEBITO\",\"CREDITO\"))","v":""},null,false,false,0,{"$f":"IF($A2048=I$3,AND($A2048=I$3,$D2048<0),0)","v":0},0,{"$f":"IF($A2048=K$3,AND($A2048=K$3,$D2048<0),0)","v":0},0,{"$f":"IF($A2048=M$3,AND($A2048=M$3,$D2048<0),0)","v":0},0,{"$f":"IF($A2048=O$3,AND($A2048=O$3,$D2048<0),0)","v":0},0,0,0,0,0,0,0,{"$f":"IF($A2048=W$3,AND($A2048=W$3,$D2048<0),0)","v":0},0,{"$f":"IF($A2048=Y$3,AND($A2048=Y$3,$D2048<0),0)","v":0},0,{"$f":"IF($A2048=AA$3,AND($A2048=AA$3,$D2048<0),0)","v":0},0,{"$f":"IF($A2048=AC$3,AND($A2048=AC$3,$D2048<0),0)","v":0},0,0]
[{"$f":"IF(B2050=0,\"\",MONTH(B2050))","v":""},null,null,null,{"$f":"IF(D2050=\"\",\"\",IF(D2050<0,\"DEBITO\",\"CREDITO\"))","v":""},null,false,false,0,{"$f":"IF($A2050=I$3,AND($A2050=I$3,$D2050<0),0)","v":0},0,{"$f":"IF($A2050=K$3,AND($A2050=K$3,$D2050<0),0)","v":0},0,{"$f":"IF($A2050=M$3,AND($A2050=M$3,$D2050<0),0)","v":0},0,{"$f":"IF($A2050=O$3,AND($A2050=O$3,$D2050<0),0)","v":0},0,0,0,0,0,0,0,{"$f":"IF($A2050=W$3,AND($A2050=W$3,$D2050<0),0)","v":0},0,{"$f":"IF($A2050=Y$3,AND($A2050=Y$3,$D2050<0),0)","v":0},0,{"$f":"IF($A2050=AA$3,AND($A2050=AA$3,$D2050<0),0)","v":0},0,{"$f":"IF($A2050=AC$3,AND($A2050=AC$3,$D2050<0),0)","v":0},0,0]
[{"$f":"IF(B2051=0,\"\",MONTH(B2051))","v":""},null,null,null,{"$f":"IF(D2051=\"\",\"\",IF(D2051<0,\"DEBITO\",\"CREDITO\"))","v":""},null,false,false,0,{"$f":"IF($A2051=I$3,AND($A2051=I$3,$D2051<0),0)","v":0},0,{"$f":"IF($A2051=K$3,AND($A2051=K$3,$D2051<0),0)","v":0},0,{"$f":"IF($A2051=M$3,AND($A2051=M$3,$D2051<0),0)","v":0},0,{"$f":"IF($A2051=O$3,AND($A2051=O$3,$D2051<0),0)","v":0},0,0,0,0,0,0,0,{"$f":"IF($A2051=W$3,AND($A2051=W$3,$D2051<0),0)","v":0},0,{"$f":"IF($A2051=Y$3,AND($A2051=Y$3,$D2051<0),0)","v":0},0,{"$f":"IF($A2051=AA$3,AND($A2051=AA$3,$D2051<0),0)","v":0},0,{"$f":"IF($A2051=AC$3,AND($A2051=AC$3,$D2051<0),0)","v":0},0,0]
[{"$f":"IF(B2054=0,\"\",MONTH(B2054))","v":""},null,null,null,{"$f":"IF(D2054=\"\",\"\",IF(D2054<0,\"DEBITO\",\"CREDITO\"))","v":""},null,false,false,0,{"$f":"IF($A2054=I$3,AND($A2054=I$3,$D2054<0),0)","v":0},0,{"$f":"IF($A2054=K$3,AND($A2054=K$3,$D2054<0),0)","v":0},0,{"$f":"IF($A2054=M$3,AND($A2054=M$3,$D2054<0),0)","v":0},0,{"$f":"IF($A2054=O$3,AND($A2054=O$3,$D2054<0),0)","v":0},0,0,0,0,0,0,0,{"$f":"IF($A2054=W$3,AND($A2054=W$3,$D2054<0),0)","v":0},0,{"$f":"IF($A2054=Y$3,AND($A2054=Y$3,$D2054<0),0)","v":0},0,{"$f":"IF($A2054=AA$3,AND($A2054=AA$3,$D2054<0),0)","v":0},0,{"$f":"IF($A2054=AC$3,AND($A2054=AC$3,$D2054<0),0)","v":0},0,0]
[{"$f":"IF(B2055=0,\"\",MONTH(B2055))","v":""},null,null,null,{"$f":"IF(D2055=\"\",\"\",IF(D2055<0,\"DEBITO\",\"CREDITO\"))","v":""},null,false,false,0,{"$f":"IF($A2055=I$3,AND($A2055=I$3,$D2055<0),0)","v":0},0,{"$f":"IF($A2055=K$3,AND($A2055=K$3,$D2055<0),0)","v":0},0,{"$f":"IF($A2055=M$3,AND($A2055=M$3,$D2055<0),0)","v":0},0,{"$f":"IF($A2055=O$3,AND($A2055=O$3,$D2055<0),0)","v":0},0,0,0,0,0,0,0,{"$f":"IF($A2055=W$3,AND($A2055=W$3,$D2055<0),0)","v":0},0,{"$f":"IF($A2055=Y$3,AND($A2055=Y$3,$D2055<0),0)","v":0},0,{"$f":"IF($A2055=AA$3,AND($A2055=AA$3,$D2055<0),0)","v":0},0,{"$f":"IF($A2055=AC$3,AND($A2055=AC$3,$D2055<0),0)","v":0},0,0]
[{"$f":"IF(B2058=0,\"\",MONTH(B2058))","v":""},null,null,null,{"$f":"IF(D2058=\"\",\"\",IF(D2058<0,\"DEBITO\",\"CREDITO\"))","v":""},null,false,false,0,{"$f":"IF($A2058=I$3,AND($A2058=I$3,$D2058<0),0)","v":0},0,{"$f":"IF($A2058=K$3,AND($A2058=K$3,$D2058<0),0)","v":0},0,{"$f":"IF($A2058=M$3,AND($A2058=M$3,$D2058<0),0)","v":0},0,{"$f":"IF($A2058=O$3,AND($A2058=O$3,$D2058<0),0)","v":0},0,0,{"$f":"IF($A2058=S$3,AND($A2058=S$3,$D2058>0),0)","v":0},{"$f":"IF($A2058=S$3,AND($A2058=S$3,$D2058<0),0)","v":0},{"$f":"IF($A2058=U$3,AND($A2058=U$3,$D2058>0),0)","v":0},{"$f":"IF($A2058=U$3,AND($A2058=U$3,$D2058<0),0)","v":0},0,{"$f":"IF($A2058=W$3,AND($A2058=W$3,$D2058<0),0)","v":0},0,{"$f":"IF($A2058=Y$3,AND($A2058=Y$3,$D2058<0),0)","v":0},0,{"$f":"IF($A2058=AA$3,AND($A2058=AA$3,$D2058<0),0)","v":0},0,{"$f":"IF($A2058=AC$3,AND($A2058=AC$3,$D2058<0),0)","v":0},0,0]
[{"$f":"IF(B2059=0,\"\",MONTH(B2059))","v":""},null,null,null,{"$f":"IF(D2059=\"\",\"\",IF(D2059<0,\"DEBITO\",\"CREDITO\"))","v":""},null,false,false,0,{"$f":"IF($A2059=I$3,AND($A2059=I$3,$D2059<0),0)","v":0},0,{"$f":"IF($A2059=K$3,AND($A2059=K$3,$D2059<0),0)","v":0},0,{"$f":"IF($A2059=M$3,AND($A2059=M$3,$D2059<0),0)","v":0},0,{"$f":"IF($A2059=O$3,AND($A2059=O$3,$D2059<0),0)","v":0},0,0,0,0,0,0,0,{"$f":"IF($A2059=W$3,AND($A2059=W$3,$D2059<0),0)","v":0},0,{"$f":"IF($A2059=Y$3,AND($A2059=Y$3,$D2059<0),0)","v":0},0,{"$f":"IF($A2059=AA$3,AND($A2059=AA$3,$D2059<0),0)","v":0},0,{"$f":"IF($A2059=AC$3,AND($A2059=AC$3,$D2059<0),0)","v":0},0,0]
[{"$f":"IF(B2062=0,\"\",MONTH(B2062))","v":""},null,null,null,{"$f":"IF(D2062=\"\",\"\",IF(D2062<0,\"DEBITO\",\"CREDITO\"))","v":""},null,false,false,0,{"$f":"IF($A2062=I$3,AND($A2062=I$3,$D2062<0),0)","v":0},0,{"$f":"IF($A2062=K$3,AND($A2062=K$3,$D2062<0),0)","v":0},0,{"$f":"IF($A2062=M$3,AND($A2062=M$3,$D2062<0),0)","v":0},0,{"$f":"IF($A2062=O$3,AND($A2062=O$3,$D2062<0),0)","v":0},0,0,0,0,0,0,0,{"$f":"IF($A2062=W$3,AND($A2062=W$3,$D2062<0),0)","v":0},0,{"$f":"IF($A2062=Y$3,AND($A2062=Y$3,$D2062<0),0)","v":0},0,{"$f":"IF($A2062=AA$3,AND($A2062=AA$3,$D2062<0),0)","v":0},0,{"$f":"IF($A2062=AC$3,AND($A2062=AC$3,$D2062<0),0)","v":0},0,0]
[{"$f":"IF(B2063=0,\"\",MONTH(B2063))","v":""},null,null,null,{"$f":"IF(D2063=\"\",\"\",IF(D2063<0,\"DEBITO\",\"CREDITO\"))","v":""},null,false,false,0,{"$f":"IF($A2063=I$3,AND($A2063=I$3,$D2063<0),0)","v":0},0,{"$f":"IF($A2063=K$3,AND($A2063=K$3,$D2063<0),0)","v":0},0,{"$f":"IF($A2063=M$3,AND($A2063=M$3,$D2063<0),0)","v":0},0,{"$f":"IF($A2063=O$3,AND($A2063=O$3,$D2063<0),0)","v":0},0,0,0,0,0,0,0,{"$f":"IF($A2063=W$3,AND($A2063=W$3,$D2063<0),0)","v":0},0,{"$f":"IF($A2063=Y$3,AND($A2063=Y$3,$D2063<0),0)","v":0},0,{"$f":"IF($A2063=AA$3,AND($A2063=AA$3,$D2063<0),0)","v":0},0,{"$f":"IF($A2063=AC$3,AND($A2063=AC$3,$D2063<0),0)","v":0},0,0]
[{"$f":"IF(B2066=0,\"\",MONTH(B2066))","v":""},null,null,null,{"$f":"IF(D2066=\"\",\"\",IF(D2066<0,\"DEBITO\",\"CREDITO\"))","v":""},null,false,false,0,{"$f":"IF($A2066=I$3,AND($A2066=I$3,$D2066<0),0)","v":0},0,{"$f":"IF($A2066=K$3,AND($A2066=K$3,$D2066<0),0)","v":0},0,{"$f":"IF($A2066=M$3,AND($A2066=M$3,$D2066<0),0)","v":0},0,{"$f":"IF($A2066=O$3,AND($A2066=O$3,$D2066<0),0)","v":0},0,0,0,0,0,0,0,{"$f":"IF($A2066=W$3,AND($A2066=W$3,$D2066<0),0)","v":0},0,{"$f":"IF($A2066=Y$3,AND($A2066=Y$3,$D2066<0),0)","v":0},0,{"$f":"IF($A2066=AA$3,AND($A2066=AA$3,$D2066<0),0)","v":0},0,{"$f":"IF($A2066=AC$3,AND($A2066=AC$3,$D2066<0),0)","v":0},0,0]
[{"$f":"IF(B2067=0,\"\",MONTH(B2067))","v":""},null,null,null,{"$f":"IF(D2067=\"\",\"\",IF(D2067<0,\"DEBITO\",\"CREDITO\"))","v":""},null,false,false,0,{"$f":"IF($A2067=I$3,AND($A2067=I$3,$D2067<0),0)","v":0},0,{"$f":"IF($A2067=K$3,AND($A2067=K$3,$D2067<0),0)","v":0},0,{"$f":"IF($A2067=M$3,AND($A2067=M$3,$D2067<0),0)","v":0},0,{"$f":"IF($A2067=O$3,AND($A2067=O$3,$D2067<0),0)","v":0},0,0,0,0,0,0,0,{"$f":"IF($A2067=W$3,AND($A2067=W$3,$D2067<0),0)","v":0},0,{"$f":"IF($A2067=Y$3,AND($A2067=Y$3,$D2067<0),0)","v":0},0,{"$f":"IF($A2067=AA$3,AND($A2067=AA$3,$D2067<0),0)","v":0},0,{"$f":"IF($A2067=AC$3,AND($A2067=AC$3,$D2067<0),0)","v":0},0,0]
[{"$f":"IF(B2069=0,\"\",MONTH(B2069))","v":""},null,null,null,{"$f":"IF(D2069=\"\",\"\",IF(D2069<0,\"DEBITO\",\"CREDITO\"))","v":""},null,false,false,0,{"$f":"IF($A2069=I$3,AND($A2069=I$3,$D2069<0),0)","v":0},0,{"$f":"IF($A2069=K$3,AND($A2069=K$3,$D2069<0),0)","v":0},0,{"$f":"IF($A2069=M$3,AND($A2069=M$3,$D2069<0),0)","v":0},0,{"$f":"IF($A2069=O$3,AND($A2069=O$3,$D2069<0),0)","v":0},0,0,0,0,0,0,0,{"$f":"IF($A2069=W$3,AND($A2069=W$3,$D2069<0),0)","v":0},0,{"$f":"IF($A2069=Y$3,AND($A2069=Y$3,$D2069<0),0)","v":0},0,{"$f":"IF($A2069=AA$3,AND($A2069=AA$3,$D2069<0),0)","v":0},0,{"$f":"IF($A2069=AC$3,AND($A2069=AC$3,$D2069<0),0)","v":0},0,0]
[{"$f":"IF(B2072=0,\"\",MONTH(B2072))","v":""},null,null,null,{"$f":"IF(D2072=\"\",\"\",IF(D2072<0,\"DEBITO\",\"CREDITO\"))","v":""},null,false,false,0,{"$f":"IF($A2072=I$3,AND($A2072=I$3,$D2072<0),0)","v":0},0,{"$f":"IF($A2072=K$3,AND($A2072=K$3,$D2072<0),0)","v":0},0,{"$f":"IF($A2072=M$3,AND($A2072=M$3,$D2072<0),0)","v":0},0,{"$f":"IF($A2072=O$3,AND($A2072=O$3,$D2072<0),0)","v":0},0,0,0,0,0,0,0,{"$f":"IF($A2072=W$3,AND($A2072=W$3,$D2072<0),0)","v":0},0,{"$f":"IF($A2072=Y$3,AND($A2072=Y$3,$D2072<0),0)","v":0},0,{"$f":"IF($A2072=AA$3,AND($A2072=AA$3,$D2072<0),0)","v":0},0,{"$f":"IF($A2072=AC$3,AND($A2072=AC$3,$D2072<0),0)","v":0},0,0]
[{"$f":"IF(B2075=0,\"\",MONTH(B2075))","v":""},null,null,null,{"$f":"IF(D2075=\"\",\"\",IF(D2075<0,\"DEBITO\",\"CREDITO\"))","v":""},null,false,false,0,{"$f":"IF($A2075=I$3,AND($A2075=I$3,$D2075<0),0)","v":0},0,{"$f":"IF($A2075=K$3,AND($A2075=K$3,$D2075<0),0)","v":0},0,{"$f":"IF($A2075=M$3,AND($A2075=M$3,$D2075<0),0)","v":0},0,{"$f":"IF($A2075=O$3,AND($A2075=O$3,$D2075<0),0)","v":0},0,0,0,0,0,0,0,{"$f":"IF($A2075=W$3,AND($A2075=W$3,$D2075<0),0)","v":0},0,{"$f":"IF($A2075=Y$3,AND($A2075=Y$3,$D2075<0),0)","v":0},0,{"$f":"IF($A2075=AA$3,AND($A2075=AA$3,$D2075<0),0)","v":0},0,{"$f":"IF($A2075=AC$3,AND($A2075=AC$3,$D2075<0),0)","v":0},0,0]
[{"$f":"IF(B2076=0,\"\",MONTH(B2076))","v":""},null,null,null,{"$f":"IF(D2076=\"\",\"\",IF(D2076<0,\"DEBITO\",\"CREDITO\"))","v":""},null,false,false,0,{"$f":"IF($A2076=I$3,AND($A2076=I$3,$D2076<0),0)","v":0},0,{"$f":"IF($A2076=K$3,AND($A2076=K$3,$D2076<0),0)","v":0},0,{"$f":"IF($A2076=M$3,AND($A2076=M$3,$D2076<0),0)","v":0},0,{"$f":"IF($A2076=O$3,AND($A2076=O$3,$D2076<0),0)","v":0},0,0,0,0,0,0,0,{"$f":"IF($A2076=W$3,AND($A2076=W$3,$D2076<0),0)","v":0},0,{"$f":"IF($A2076=Y$3,AND($A2076=Y$3,$D2076<0),0)","v":0},0,{"$f":"IF($A2076=AA$3,AND($A2076=AA$3,$D2076<0),0)","v":0},0,{"$f":"IF($A2076=AC$3,AND($A2076=AC$3,$D2076<0),0)","v":0},0,0]
[{"$f":"IF(B2079=0,\"\",MONTH(B2079))","v":""},null,null,null,{"$f":"IF(D2079=\"\",\"\",IF(D2079<0,\"DEBITO\",\"CREDITO\"))","v":""},null,false,false,0,{"$f":"IF($A2079=I$3,AND($A2079=I$3,$D2079<0),0)","v":0},0,{"$f":"IF($A2079=K$3,AND($A2079=K$3,$D2079<0),0)","v":0},0,{"$f":"IF($A2079=M$3,AND($A2079=M$3,$D2079<0),0)","v":0},0,{"$f":"IF($A2079=O$3,AND($A2079=O$3,$D2079<0),0)","v":0},0,0,0,0,0,0,0,{"$f":"IF($A2079=W$3,AND($A2079=W$3,$D2079<0),0)","v":0},0,{"$f":"IF($A2079=Y$3,AND($A2079=Y$3,$D2079<0),0)","v":0},0,{"$f":"IF($A2079=AA$3,AND($A2079=AA$3,$D2079<0),0)","v":0},0,{"$f":"IF($A2079=AC$3,AND($A2079=AC$3,$D2079<0),0)","v":0},0,0]
[{"$f":"IF(B2080=0,\"\",MONTH(B2080))","v":""},null,null,null,{"$f":"IF(D2080=\"\",\"\",IF(D2080<0,\"DEBITO\",\"CREDITO\"))","v":""},null,false,false,0,{"$f":"IF($A2080=I$3,AND($A2080=I$3,$D2080<0),0)","v":0},0,{"$f":"IF($A2080=K$3,AND($A2080=K$3,$D2080<0),0)","v":0},0,{"$f":"IF($A2080=M$3,AND($A2080=M$3,$D2080<0),0)","v":0},0,{"$f":"IF($A2080=O$3,AND($A2080=O$3,$D2080<0),0)","v":0},0,0,0,0,0,0,0,{"$f":"IF($A2080=W$3,AND($A2080=W$3,$D2080<0),0)","v":0},0,{"$f":"IF($A2080=Y$3,AND($A2080=Y$3,$D2080<0),0)","v":0},0,{"$f":"IF($A2080=AA$3,AND($A2080=AA$3,$D2080<0),0)","v":0},0,{"$f":"IF($A2080=AC$3,AND($A2080=AC$3,$D2080<0),0)","v":0},0,0]
[{"$f":"IF(B2083=0,\"\",MONTH(B2083))","v":""},null,null,null,{"$f":"IF(D2083=\"\",\"\",IF(D2083<0,\"DEBITO\",\"CREDITO\"))","v":""},null,false,false,0,{"$f":"IF($A2083=I$3,AND($A2083=I$3,$D2083<0),0)","v":0},0,{"$f":"IF($A2083=K$3,AND($A2083=K$3,$D2083<0),0)","v":0},0,{"$f":"IF($A2083=M$3,AND($A2083=M$3,$D2083<0),0)","v":0},0,{"$f":"IF($A2083=O$3,AND($A2083=O$3,$D2083<0),0)","v":0},0,0,0,0,0,0,0,{"$f":"IF($A2083=W$3,AND($A2083=W$3,$D2083<0),0)","v":0},0,{"$f":"IF($A2083=Y$3,AND($A2083=Y$3,$D2083<0),0)","v":0},0,{"$f":"IF($A2083=AA$3,AND($A2083=AA$3,$D2083<0),0)","v":0},0,{"$f":"IF($A2083=AC$3,AND($A2083=AC$3,$D2083<0),0)","v":0},0,0]
[{"$f":"IF(B2084=0,\"\",MONTH(B2084))","v":""},null,null,null,{"$f":"IF(D2084=\"\",\"\",IF(D2084<0,\"DEBITO\",\"CREDITO\"))","v":""},null,false,false,0,{"$f":"IF($A2084=I$3,AND($A2084=I$3,$D2084<0),0)","v":0},0,{"$f":"IF($A2084=K$3,AND($A2084=K$3,$D2084<0),0)","v":0},0,{"$f":"IF($A2084=M$3,AND($A2084=M$3,$D2084<0),0)","v":0},0,{"$f":"IF($A2084=O$3,AND($A2084=O$3,$D2084<0),0)","v":0},0,0,0,0,0,0,0,{"$f":"IF($A2084=W$3,AND($A2084=W$3,$D2084<0),0)","v":0},0,{"$f":"IF($A2084=Y$3,AND($A2084=Y$3,$D2084<0),0)","v":0},0,{"$f":"IF($A2084=AA$3,AND($A2084=AA$3,$D2084<0),0)","v":0},0,{"$f":"IF($A2084=AC$3,AND($A2084=AC$3,$D2084<0),0)","v":0},0,0]
[{"$f":"IF(B2087=0,\"\",MONTH(B2087))","v":""},null,null,null,{"$f":"IF(D2087=\"\",\"\",IF(D2087<0,\"DEBITO\",\"CREDITO\"))","v":""},null,false,false,0,{"$f":"IF($A2087=I$3,AND($A2087=I$3,$D2087<0),0)","v":0},0,{"$f":"IF($A2087=K$3,AND($A2087=K$3,$D2087<0),0)","v":0},0,{"$f":"IF($A2087=M$3,AND($A2087=M$3,$D2087<0),0)","v":0},0,{"$f":"IF($A2087=O$3,AND($A2087=O$3,$D2087<0),0)","v":0},0,0,0,0,0,0,0,{"$f":"IF($A2087=W$3,AND($A2087=W$3,$D2087<0),0)","v":0},0,{"$f":"IF($A2087=Y$3,AND($A2087=Y$3,$D2087<0),0)","v":0},0,{"$f":"IF($A2087=AA$3,AND($A2087=AA$3,$D2087<0),0)","v":0},0,{"$f":"IF($A2087=AC$3,AND($A2087=AC$3,$D2087<0),0)","v":0},0,0]
[{"$f":"IF(B2088=0,\"\",MONTH(B2088))","v":""},null,null,null,{"$f":"IF(D2088=\"\",\"\",IF(D2088<0,\"DEBITO\",\"CREDITO\"))","v":""},null,false,false,0,{"$f":"IF($A2088=I$3,AND($A2088=I$3,$D2088<0),0)","v":0},0,{"$f":"IF($A2088=K$3,AND($A2088=K$3,$D2088<0),0)","v":0},0,{"$f":"IF($A2088=M$3,AND($A2088=M$3,$D2088<0),0)","v":0},0,{"$f":"IF($A2088=O$3,AND($A2088=O$3,$D2088<0),0)","v":0},0,0,0,0,0,0,0,{"$f":"IF($A2088=W$3,AND($A2088=W$3,$D2088<0),0)","v":0},0,{"$f":"IF($A2088=Y$3,AND($A2088=Y$3,$D2088<0),0)","v":0},0,{"$f":"IF($A2088=AA$3,AND($A2088=AA$3,$D2088<0),0)","v":0},0,{"$f":"IF($A2088=AC$3,AND($A2088=AC$3,$D2088<0),0)","v":0},0,0]
[{"$f":"IF(B2091=0,\"\",MONTH(B2091))","v":""},null,null,null,{"$f":"IF(D2091=\"\",\"\",IF(D2091<0,\"DEBITO\",\"CREDITO\"))","v":""},null,false,false,0,{"$f":"IF($A2091=I$3,AND($A2091=I$3,$D2091<0),0)","v":0},0,{"$f":"IF($A2091=K$3,AND($A2091=K$3,$D2091<0),0)","v":0},0,{"$f":"IF($A2091=M$3,AND($A2091=M$3,$D2091<0),0)","v":0},0,{"$f":"IF($A2091=O$3,AND($A2091=O$3,$D2091<0),0)","v":0},0,0,0,0,0,0,0,{"$f":"IF($A2091=W$3,AND($A2091=W$3,$D2091<0),0)","v":0},0,{"$f":"IF($A2091=Y$3,AND($A2091=Y$3,$D2091<0),0)","v":0},0,{"$f":"IF($A2091=AA$3,AND($A2091=AA$3,$D2091<0),0)","v":0},0,{"$f":"IF($A2091=AC$3,AND($A2091=AC$3,$D2091<0),0)","v":0},0,0]
[{"$f":"IF(B2093=0,\"\",MONTH(B2093))","v":""},null,null,null,{"$f":"IF(D2093=\"\",\"\",IF(D2093<0,\"DEBITO\",\"CREDITO\"))","v":""},null,false,false,0,{"$f":"IF($A2093=I$3,AND($A2093=I$3,$D2093<0),0)","v":0},0,{"$f":"IF($A2093=K$3,AND($A2093=K$3,$D2093<0),0)","v":0},0,{"$f":"IF($A2093=M$3,AND($A2093=M$3,$D2093<0),0)","v":0},0,{"$f":"IF($A2093=O$3,AND($A2093=O$3,$D2093<0),0)","v":0},0,0,0,0,0,0,0,{"$f":"IF($A2093=W$3,AND($A2093=W$3,$D2093<0),0)","v":0},0,{"$f":"IF($A2093=Y$3,AND($A2093=Y$3,$D2093<0),0)","v":0},0,{"$f":"IF($A2093=AA$3,AND($A2093=AA$3,$D2093<0),0)","v":0},0,{"$f":"IF($A2093=AC$3,AND($A2093=AC$3,$D2093<0),0)","v":0},0,0]
[{"$f":"IF(B2096=0,\"\",MONTH(B2096))","v":""},null,null,null,{"$f":"IF(D2096=\"\",\"\",IF(D2096<0,\"DEBITO\",\"CREDITO\"))","v":""},null,false,false,0,{"$f":"IF($A2096=I$3,AND($A2096=I$3,$D2096<0),0)","v":0},0,{"$f":"IF($A2096=K$3,AND($A2096=K$3,$D2096<0),0)","v":0},0,{"$f":"IF($A2096=M$3,AND($A2096=M$3,$D2096<0),0)","v":0},0,{"$f":"IF($A2096=O$3,AND($A2096=O$3,$D2096<0),0)","v":0},0,0,0,0,0,0,0,{"$f":"IF($A2096=W$3,AND($A2096=W$3,$D2096<0),0)","v":0},0,{"$f":"IF($A2096=Y$3,AND($A2096=Y$3,$D2096<0),0)","v":0},0,{"$f":"IF($A2096=AA$3,AND($A2096=AA$3,$D2096<0),0)","v":0},0,{"$f":"IF($A2096=AC$3,AND($A2096=AC$3,$D2096<0),0)","v":0},0,0]
[{"$f":"IF(B2097=0,\"\",MONTH(B2097))","v":""},null,null,null,{"$f":"IF(D2097=\"\",\"\",IF(D2097<0,\"DEBITO\",\"CREDITO\"))","v":""},null,false,false,0,{"$f":"IF($A2097=I$3,AND($A2097=I$3,$D2097<0),0)","v":0},0,{"$f":"IF($A2097=K$3,AND($A2097=K$3,$D2097<0),0)","v":0},0,{"$f":"IF($A2097=M$3,AND($A2097=M$3,$D2097<0),0)","v":0},0,{"$f":"IF($A2097=O$3,AND($A2097=O$3,$D2097<0),0)","v":0},0,0,0,0,0,0,0,{"$f":"IF($A2097=W$3,AND($A2097=W$3,$D2097<0),0)","v":0},0,{"$f":"IF($A2097=Y$3,AND($A2097=Y$3,$D2097<0),0)","v":0},0,{"$f":"IF($A2097=AA$3,AND($A2097=AA$3,$D2097<0),0)","v":0},0,{"$f":"IF($A2097=AC$3,AND($A2097=AC$3,$D2097<0),0)","v":0},0,0]
[{"$f":"IF(B2100=0,\"\",MONTH(B2100))","v":""},null,null,null,{"$f":"IF(D2100=\"\",\"\",IF(D2100<0,\"DEBITO\",\"CREDITO\"))","v":""},null,false,false,0,{"$f":"IF($A2100=I$3,AND($A2100=I$3,$D2100<0),0)","v":0},0,{"$f":"IF($A2100=K$3,AND($A2100=K$3,$D2100<0),0)","v":0},0,{"$f":"IF($A2100=M$3,AND($A2100=M$3,$D2100<0),0)","v":0},0,{"$f":"IF($A2100=O$3,AND($A2100=O$3,$D2100<0),0)","v":0},0,0,0,0,0,0,0,{"$f":"IF($A2100=W$3,AND($A2100=W$3,$D2100<0),0)","v":0},0,{"$f":"IF($A2100=Y$3,AND($A2100=Y$3,$D2100<0),0)","v":0},0,{"$f":"IF($A2100=AA$3,AND($A2100=AA$3,$D2100<0),0)","v":0},0,{"$f":"IF($A2100=AC$3,AND($A2100=AC$3,$D2100<0),0)","v":0},0,0]
[{"$f":"IF(B2101=0,\"\",MONTH(B2101))","v":""},null,null,null,{"$f":"IF(D2101=\"\",\"\",IF(D2101<0,\"DEBITO\",\"CREDITO\"))","v":""},null,false,false,0,{"$f":"IF($A2101=I$3,AND($A2101=I$3,$D2101<0),0)","v":0},0,{"$f":"IF($A2101=K$3,AND($A2101=K$3,$D2101<0),0)","v":0},0,{"$f":"IF($A2101=M$3,AND($A2101=M$3,$D2101<0),0)","v":0},0,{"$f":"IF($A2101=O$3,AND($A2101=O$3,$D2101<0),0)","v":0},0,0,0,0,0,0,0,{"$f":"IF($A2101=W$3,AND($A2101=W$3,$D2101<0),0)","v":0},0,{"$f":"IF($A2101=Y$3,AND($A2101=Y$3,$D2101<0),0)","v":0},0,{"$f":"IF($A2101=AA$3,AND($A2101=AA$3,$D2101<0),0)","v":0},0,{"$f":"IF($A2101=AC$3,AND($A2101=AC$3,$D2101<0),0)","v":0},0,0]
[{"$f":"IF(B2104=0,\"\",MONTH(B2104))","v":""},null,null,null,{"$f":"IF(D2104=\"\",\"\",IF(D2104<0,\"DEBITO\",\"CREDITO\"))","v":""},null,false,false,0,{"$f":"IF($A2104=I$3,AND($A2104=I$3,$D2104<0),0)","v":0},0,{"$f":"IF($A2104=K$3,AND($A2104=K$3,$D2104<0),0)","v":0},0,{"$f":"IF($A2104=M$3,AND($A2104=M$3,$D2104<0),0)","v":0},0,{"$f":"IF($A2104=O$3,AND($A2104=O$3,$D2104<0),0)","v":0},0,0,0,0,0,0,0,{"$f":"IF($A2104=W$3,AND($A2104=W$3,$D2104<0),0)","v":0},0,{"$f":"IF($A2104=Y$3,AND($A2104=Y$3,$D2104<0),0)","v":0},0,{"$f":"IF($A2104=AA$3,AND($A2104=AA$3,$D2104<0),0)","v":0},0,{"$f":"IF($A2104=AC$3,AND($A2104=AC$3,$D2104<0),0)","v":0},0,0]
[{"$f":"IF(B2105=0,\"\",MONTH(B2105))","v":""},null,null,null,{"$f":"IF(D2105=\"\",\"\",IF(D2105<0,\"DEBITO\",\"CREDITO\"))","v":""},null,false,false,0,{"$f":"IF($A2105=I$3,AND($A2105=I$3,$D2105<0),0)","v":0},0,{"$f":"IF($A2105=K$3,AND($A2105=K$3,$D2105<0),0)","v":0},0,{"$f":"IF($A2105=M$3,AND($A2105=M$3,$D2105<0),0)","v":0},0,{"$f":"IF($A2105=O$3,AND($A2105=O$3,$D2105<0),0)","v":0},0,0,0,0,0,0,0,{"$f":"IF($A2105=W$3,AND($A2105=W$3,$D2105<0),0)","v":0},0,{"$f":"IF($A2105=Y$3,AND($A2105=Y$3,$D2105<0),0)","v":0},0,{"$f":"IF($A2105=AA$3,AND($A2105=AA$3,$D2105<0),0)","v":0},0,{"$f":"IF($A2105=AC$3,AND($A2105=AC$3,$D2105<0),0)","v":0},0,0]
[{"$f":"IF(B2108=0,\"\",MONTH(B2108))","v":""},null,null,null,{"$f":"IF(D2108=\"\",\"\",IF(D2108<0,\"DEBITO\",\"CREDITO\"))","v":""},null,false,false,0,{"$f":"IF($A2108=I$3,AND($A2108=I$3,$D2108<0),0)","v":0},0,{"$f":"IF($A2108=K$3,AND($A2108=K$3,$D2108<0),0)","v":0},0,{"$f":"IF($A2108=M$3,AND($A2108=M$3,$D2108<0),0)","v":0},0,{"$f":"IF($A2108=O$3,AND($A2108=O$3,$D2108<0),0)","v":0},0,0,0,0,0,0,0,{"$f":"IF($A2108=W$3,AND($A2108=W$3,$D2108<0),0)","v":0},0,{"$f":"IF($A2108=Y$3,AND($A2108=Y$3,$D2108<0),0)","v":0},0,{"$f":"IF($A2108=AA$3,AND($A2108=AA$3,$D2108<0),0)","v":0},0,{"$f":"IF($A2108=AC$3,AND($A2108=AC$3,$D2108<0),0)","v":0},0,0]
[{"$f":"IF(B2109=0,\"\",MONTH(B2109))","v":""},null,null,null,{"$f":"IF(D2109=\"\",\"\",IF(D2109<0,\"DEBITO\",\"CREDITO\"))","v":""},null,false,false,0,{"$f":"IF($A2109=I$3,AND($A2109=I$3,$D2109<0),0)","v":0},0,{"$f":"IF($A2109=K$3,AND($A2109=K$3,$D2109<0),0)","v":0},0,{"$f":"IF($A2109=M$3,AND($A2109=M$3,$D2109<0),0)","v":0},0,{"$f":"IF($A2109=O$3,AND($A2109=O$3,$D2109<0),0)","v":0},0,0,0,0,0,0,0,{"$f":"IF($A2109=W$3,AND($A2109=W$3,$D2109<0),0)","v":0},0,{"$f":"IF($A2109=Y$3,AND($A2109=Y$3,$D2109<0),0)","v":0},0,{"$f":"IF($A2109=AA$3,AND($A2109=AA$3,$D2109<0),0)","v":0},0,{"$f":"IF($A2109=AC$3,AND($A2109=AC$3,$D2109<0),0)","v":0},0,0]
[{"$f":"IF(B2112=0,\"\",MONTH(B2112))","v":""},null,null,null,{"$f":"IF(D2112=\"\",\"\",IF(D2112<0,\"DEBITO\",\"CREDITO\"))","v":""},null,false,false,0,{"$f":"IF($A2112=I$3,AND($A2112=I$3,$D2112<0),0)","v":0},0,{"$f":"IF($A2112=K$3,AND($A2112=K$3,$D2112<0),0)","v":0},0,{"$f":"IF($A2112=M$3,AND($A2112=M$3,$D2112<0),0)","v":0},0,{"$f":"IF($A2112=O$3,AND($A2112=O$3,$D2112<0),0)","v":0},0,0,0,0,0,0,0,{"$f":"IF($A2112=W$3,AND($A2112=W$3,$D2112<0),0)","v":0},0,{"$f":"IF($A2112=Y$3,AND($A2112=Y$3,$D2112<0),0)","v":0},0,{"$f":"IF($A2112=AA$3,AND($A2112=AA$3,$D2112<0),0)","v":0},0,{"$f":"IF($A2112=AC$3,AND($A2112=AC$3,$D2112<0),0)","v":0},0,0]
[{"$f":"IF(B2115=0,\"\",MONTH(B2115))","v":""},null,null,null,{"$f":"IF(D2115=\"\",\"\",IF(D2115<0,\"DEBITO\",\"CREDITO\"))","v":""},null,false,false,0,{"$f":"IF($A2115=I$3,AND($A2115=I$3,$D2115<0),0)","v":0},0,{"$f":"IF($A2115=K$3,AND($A2115=K$3,$D2115<0),0)","v":0},0,{"$f":"IF($A2115=M$3,AND($A2115=M$3,$D2115<0),0)","v":0},0,{"$f":"IF($A2115=O$3,AND($A2115=O$3,$D2115<0),0)","v":0},0,0,0,0,0,0,0,{"$f":"IF($A2115=W$3,AND($A2115=W$3,$D2115<0),0)","v":0},0,{"$f":"IF($A2115=Y$3,AND($A2115=Y$3,$D2115<0),0)","v":0},0,{"$f":"IF($A2115=AA$3,AND($A2115=AA$3,$D2115<0),0)","v":0},0,{"$f":"IF($A2115=AC$3,AND($A2115=AC$3,$D2115<0),0)","v":0},0,0]
[{"$f":"IF(B2117=0,\"\",MONTH(B2117))","v":""},null,null,null,{"$f":"IF(D2117=\"\",\"\",IF(D2117<0,\"DEBITO\",\"CREDITO\"))","v":""},null,false,false,0,{"$f":"IF($A2117=I$3,AND($A2117=I$3,$D2117<0),0)","v":0},0,{"$f":"IF($A2117=K$3,AND($A2117=K$3,$D2117<0),0)","v":0},0,{"$f":"IF($A2117=M$3,AND($A2117=M$3,$D2117<0),0)","v":0},0,{"$f":"IF($A2117=O$3,AND($A2117=O$3,$D2117<0),0)","v":0},0,0,0,0,0,0,0,{"$f":"IF($A2117=W$3,AND($A2117=W$3,$D2117<0),0)","v":0},0,{"$f":"IF($A2117=Y$3,AND($A2117=Y$3,$D2117<0),0)","v":0},0,{"$f":"IF($A2117=AA$3,AND($A2117=AA$3,$D2117<0),0)","v":0},0,{"$f":"IF($A2117=AC$3,AND($A2117=AC$3,$D2117<0),0)","v":0},0,0]
[{"$f":"IF(B2118=0,\"\",MONTH(B2118))","v":""},null,null,null,{"$f":"IF(D2118=\"\",\"\",IF(D2118<0,\"DEBITO\",\"CREDITO\"))","v":""},null,false,false,0,{"$f":"IF($A2118=I$3,AND($A2118=I$3,$D2118<0),0)","v":0},0,{"$f":"IF($A2118=K$3,AND($A2118=K$3,$D2118<0),0)","v":0},0,{"$f":"IF($A2118=M$3,AND($A2118=M$3,$D2118<0),0)","v":0},0,{"$f":"IF($A2118=O$3,AND($A2118=O$3,$D2118<0),0)","v":0},0,0,0,0,0,0,0,{"$f":"IF($A2118=W$3,AND($A2118=W$3,$D2118<0),0)","v":0},0,{"$f":"IF($A2118=Y$3,AND($A2118=Y$3,$D2118<0),0)","v":0},0,{"$f":"IF($A2118=AA$3,AND($A2118=AA$3,$D2118<0),0)","v":0},0,{"$f":"IF($A2118=AC$3,AND($A2118=AC$3,$D2118<0),0)","v":0},0,0]
[{"$f":"IF(B2121=0,\"\",MONTH(B2121))","v":""},null,null,null,{"$f":"IF(D2121=\"\",\"\",IF(D2121<0,\"DEBITO\",\"CREDITO\"))","v":""},null,{"$f":"AND(A2121=$E$3,D2121>0)","v":false},{"$f":"AND(A2121=$E$3,D2121<0)","v":false},0,{"$f":"IF($A2121=I$3,AND($A2121=I$3,$D2121<0),0)","v":0},0,{"$f":"IF($A2121=K$3,AND($A2121=K$3,$D2121<0),0)","v":0},0,{"$f":"IF($A2121=M$3,AND($A2121=M$3,$D2121<0),0)","v":0},0,{"$f":"IF($A2121=O$3,AND($A2121=O$3,$D2121<0),0)","v":0},0,{"$f":"IF($A2121=Q$3,AND($A2121=Q$3,$D2121<0),0)","v":0},0,0,0,0,0,{"$f":"IF($A2121=W$3,AND($A2121=W$3,$D2121<0),0)","v":0},0,{"$f":"IF($A2121=Y$3,AND($A2121=Y$3,$D2121<0),0)","v":0},0,{"$f":"IF($A2121=AA$3,AND($A2121=AA$3,$D2121<0),0)","v":0},0,{"$f":"IF($A2121=AC$3,AND($A2121=AC$3,$D2121<0),0)","v":0},0,{"$f":"IF($A2121=AE$3,AND($A2121=AE$3,$D2121<0),0)","v":0}]
[{"$f":"IF(B2122=0,\"\",MONTH(B2122))","v":""},null,null,null,{"$f":"IF(D2122=\"\",\"\",IF(D2122<0,\"DEBITO\",\"CREDITO\"))","v":""},null,false,false,0,{"$f":"IF($A2122=I$3,AND($A2122=I$3,$D2122<0),0)","v":0},0,{"$f":"IF($A2122=K$3,AND($A2122=K$3,$D2122<0),0)","v":0},0,{"$f":"IF($A2122=M$3,AND($A2122=M$3,$D2122<0),0)","v":0},0,{"$f":"IF($A2122=O$3,AND($A2122=O$3,$D2122<0),0)","v":0},0,0,{"$f":"IF($A2122=S$3,AND($A2122=S$3,$D2122>0),0)","v":0},{"$f":"IF($A2122=S$3,AND($A2122=S$3,$D2122<0),0)","v":0},{"$f":"IF($A2122=U$3,AND($A2122=U$3,$D2122>0),0)","v":0},{"$f":"IF($A2122=U$3,AND($A2122=U$3,$D2122<0),0)","v":0},0,{"$f":"IF($A2122=W$3,AND($A2122=W$3,$D2122<0),0)","v":0},0,{"$f":"IF($A2122=Y$3,AND($A2122=Y$3,$D2122<0),0)","v":0},0,{"$f":"IF($A2122=AA$3,AND($A2122=AA$3,$D2122<0),0)","v":0},0,{"$f":"IF($A2122=AC$3,AND($A2122=AC$3,$D2122<0),0)","v":0},0,0]
[{"$f":"IF(B2125=0,\"\",MONTH(B2125))","v":""},null,null,null,{"$f":"IF(D2125=\"\",\"\",IF(D2125<0,\"DEBITO\",\"CREDITO\"))","v":""},null,false,false,0,{"$f":"IF($A2125=I$3,AND($A2125=I$3,$D2125<0),0)","v":0},0,{"$f":"IF($A2125=K$3,AND($A2125=K$3,$D2125<0),0)","v":0},0,{"$f":"IF($A2125=M$3,AND($A2125=M$3,$D2125<0),0)","v":0},0,{"$f":"IF($A2125=O$3,AND($A2125=O$3,$D2125<0),0)","v":0},0,0,0,0,0,0,0,{"$f":"IF($A2125=W$3,AND($A2125=W$3,$D2125<0),0)","v":0},0,{"$f":"IF($A2125=Y$3,AND($A2125=Y$3,$D2125<0),0)","v":0},0,{"$f":"IF($A2125=AA$3,AND($A2125=AA$3,$D2125<0),0)","v":0},0,{"$f":"IF($A2125=AC$3,AND($A2125=AC$3,$D2125<0),0)","v":0},0,0]
[{"$f":"IF(B2126=0,\"\",MONTH(B2126))","v":""},null,null,null,{"$f":"IF(D2126=\"\",\"\",IF(D2126<0,\"DEBITO\",\"CREDITO\"))","v":""},null,false,false,0,{"$f":"IF($A2126=I$3,AND($A2126=I$3,$D2126<0),0)","v":0},0,{"$f":"IF($A2126=K$3,AND($A2126=K$3,$D2126<0),0)","v":0},0,{"$f":"IF($A2126=M$3,AND($A2126=M$3,$D2126<0),0)","v":0},0,{"$f":"IF($A2126=O$3,AND($A2126=O$3,$D2126<0),0)","v":0},0,0,0,0,0,0,0,{"$f":"IF($A2126=W$3,AND($A2126=W$3,$D2126<0),0)","v":0},0,{"$f":"IF($A2126=Y$3,AND($A2126=Y$3,$D2126<0),0)","v":0},0,{"$f":"IF($A2126=AA$3,AND($A2126=AA$3,$D2126<0),0)","v":0},0,{"$f":"IF($A2126=AC$3,AND($A2126=AC$3,$D2126<0),0)","v":0},0,0]
[{"$f":"IF(B2129=0,\"\",MONTH(B2129))","v":""},null,null,null,{"$f":"IF(D2129=\"\",\"\",IF(D2129<0,\"DEBITO\",\"CREDITO\"))","v":""},null,false,false,0,{"$f":"IF($A2129=I$3,AND($A2129=I$3,$D2129<0),0)","v":0},0,{"$f":"IF($A2129=K$3,AND($A2129=K$3,$D2129<0),0)","v":0},0,{"$f":"IF($A2129=M$3,AND($A2129=M$3,$D2129<0),0)","v":0},0,{"$f":"IF($A2129=O$3,AND($A2129=O$3,$D2129<0),0)","v":0},0,0,0,0,0,0,0,{"$f":"IF($A2129=W$3,AND($A2129=W$3,$D2129<0),0)","v":0},0,{"$f":"IF($A2129=Y$3,AND($A2129=Y$3,$D2129<0),0)","v":0},0,{"$f":"IF($A2129=AA$3,AND($A2129=AA$3,$D2129<0),0)","v":0},0,{"$f":"IF($A2129=AC$3,AND($A2129=AC$3,$D2129<0),0)","v":0},0,0]
[{"$f":"IF(B2130=0,\"\",MONTH(B2130))","v":""},null,null,null,{"$f":"IF(D2130=\"\",\"\",IF(D2130<0,\"DEBITO\",\"CREDITO\"))","v":""},null,false,false,0,{"$f":"IF($A2130=I$3,AND($A2130=I$3,$D2130<0),0)","v":0},0,{"$f":"IF($A2130=K$3,AND($A2130=K$3,$D2130<0),0)","v":0},0,{"$f":"IF($A2130=M$3,AND($A2130=M$3,$D2130<0),0)","v":0},0,{"$f":"IF($A2130=O$3,AND($A2130=O$3,$D2130<0),0)","v":0},0,0,0,0,0,0,0,{"$f":"IF($A2130=W$3,AND($A2130=W$3,$D2130<0),0)","v":0},0,{"$f":"IF($A2130=Y$3,AND($A2130=Y$3,$D2130<0),0)","v":0},0,{"$f":"IF($A2130=AA$3,AND($A2130=AA$3,$D2130<0),0)","v":0},0,{"$f":"IF($A2130=AC$3,AND($A2130=AC$3,$D2130<0),0)","v":0},0,0]
[{"$f":"IF(B2133=0,\"\",MONTH(B2133))","v":""},null,null,null,{"$f":"IF(D2133=\"\",\"\",IF(D2133<0,\"DEBITO\",\"CREDITO\"))","v":""},null,false,false,0,{"$f":"IF($A2133=I$3,AND($A2133=I$3,$D2133<0),0)","v":0},0,{"$f":"IF($A2133=K$3,AND($A2133=K$3,$D2133<0),0)","v":0},0,{"$f":"IF($A2133=M$3,AND($A2133=M$3,$D2133<0),0)","v":0},0,{"$f":"IF($A2133=O$3,AND($A2133=O$3,$D2133<0),0)","v":0},0,0,0,0,0,0,0,{"$f":"IF($A2133=W$3,AND($A2133=W$3,$D2133<0),0)","v":0},0,{"$f":"IF($A2133=Y$3,AND($A2133=Y$3,$D2133<0),0)","v":0},0,{"$f":"IF($A2133=AA$3,AND($A2133=AA$3,$D2133<0),0)","v":0},0,{"$f":"IF($A2133=AC$3,AND($A2133=AC$3,$D2133<0),0)","v":0},0,0]
[{"$f":"IF(B2134=0,\"\",MONTH(B2134))","v":""},null,null,null,{"$f":"IF(D2134=\"\",\"\",IF(D2134<0,\"DEBITO\",\"CREDITO\"))","v":""},null,false,false,0,{"$f":"IF($A2134=I$3,AND($A2134=I$3,$D2134<0),0)","v":0},0,{"$f":"IF($A2134=K$3,AND($A2134=K$3,$D2134<0),0)","v":0},0,{"$f":"IF($A2134=M$3,AND($A2134=M$3,$D2134<0),0)","v":0},0,{"$f":"IF($A2134=O$3,AND($A2134=O$3,$D2134<0),0)","v":0},0,0,0,0,0,0,0,{"$f":"IF($A2134=W$3,AND($A2134=W$3,$D2134<0),0)","v":0},0,{"$f":"IF($A2134=Y$3,AND($A2134=Y$3,$D2134<0),0)","v":0},0,{"$f":"IF($A2134=AA$3,AND($A2134=AA$3,$D2134<0),0)","v":0},0,{"$f":"IF($A2134=AC$3,AND($A2134=AC$3,$D2134<0),0)","v":0},0,0]
[{"$f":"IF(B2138=0,\"\",MONTH(B2138))","v":""},null,null,null,{"$f":"IF(D2138=\"\",\"\",IF(D2138<0,\"DEBITO\",\"CREDITO\"))","v":""},null,false,false,0,{"$f":"IF($A2138=I$3,AND($A2138=I$3,$D2138<0),0)","v":0},0,{"$f":"IF($A2138=K$3,AND($A2138=K$3,$D2138<0),0)","v":0},0,{"$f":"IF($A2138=M$3,AND($A2138=M$3,$D2138<0),0)","v":0},0,{"$f":"IF($A2138=O$3,AND($A2138=O$3,$D2138<0),0)","v":0},0,0,0,0,0,0,0,{"$f":"IF($A2138=W$3,AND($A2138=W$3,$D2138<0),0)","v":0},0,{"$f":"IF($A2138=Y$3,AND($A2138=Y$3,$D2138<0),0)","v":0},0,{"$f":"IF($A2138=AA$3,AND($A2138=AA$3,$D2138<0),0)","v":0},0,{"$f":"IF($A2138=AC$3,AND($A2138=AC$3,$D2138<0),0)","v":0},0,0]
[{"$f":"IF(B2139=0,\"\",MONTH(B2139))","v":""},null,null,null,{"$f":"IF(D2139=\"\",\"\",IF(D2139<0,\"DEBITO\",\"CREDITO\"))","v":""},null,false,false,0,{"$f":"IF($A2139=I$3,AND($A2139=I$3,$D2139<0),0)","v":0},0,{"$f":"IF($A2139=K$3,AND($A2139=K$3,$D2139<0),0)","v":0},0,{"$f":"IF($A2139=M$3,AND($A2139=M$3,$D2139<0),0)","v":0},0,{"$f":"IF($A2139=O$3,AND($A2139=O$3,$D2139<0),0)","v":0},0,0,0,0,0,0,0,{"$f":"IF($A2139=W$3,AND($A2139=W$3,$D2139<0),0)","v":0},0,{"$f":"IF($A2139=Y$3,AND($A2139=Y$3,$D2139<0),0)","v":0},0,{"$f":"IF($A2139=AA$3,AND($A2139=AA$3,$D2139<0),0)","v":0},0,{"$f":"IF($A2139=AC$3,AND($A2139=AC$3,$D2139<0),0)","v":0},0,0]
[{"$f":"IF(B2142=0,\"\",MONTH(B2142))","v":""},null,null,null,{"$f":"IF(D2142=\"\",\"\",IF(D2142<0,\"DEBITO\",\"CREDITO\"))","v":""},null,false,false,0,{"$f":"IF($A2142=I$3,AND($A2142=I$3,$D2142<0),0)","v":0},0,{"$f":"IF($A2142=K$3,AND($A2142=K$3,$D2142<0),0)","v":0},0,{"$f":"IF($A2142=M$3,AND($A2142=M$3,$D2142<0),0)","v":0},0,{"$f":"IF($A2142=O$3,AND($A2142=O$3,$D2142<0),0)","v":0},0,0,0,0,0,0,0,{"$f":"IF($A2142=W$3,AND($A2142=W$3,$D2142<0),0)","v":0},0,{"$f":"IF($A2142=Y$3,AND($A2142=Y$3,$D2142<0),0)","v":0},0,{"$f":"IF($A2142=AA$3,AND($A2142=AA$3,$D2142<0),0)","v":0},0,{"$f":"IF($A2142=AC$3,AND($A2142=AC$3,$D2142<0),0)","v":0},0,0]
[{"$f":"IF(B2143=0,\"\",MONTH(B2143))","v":""},null,null,null,{"$f":"IF(D2143=\"\",\"\",IF(D2143<0,\"DEBITO\",\"CREDITO\"))","v":""},null,false,false,0,{"$f":"IF($A2143=I$3,AND($A2143=I$3,$D2143<0),0)","v":0},0,{"$f":"IF($A2143=K$3,AND($A2143=K$3,$D2143<0),0)","v":0},0,{"$f":"IF($A2143=M$3,AND($A2143=M$3,$D2143<0),0)","v":0},0,{"$f":"IF($A2143=O$3,AND($A2143=O$3,$D2143<0),0)","v":0},0,0,0,0,0,0,0,{"$f":"IF($A2143=W$3,AND($A2143=W$3,$D2143<0),0)","v":0},0,{"$f":"IF($A2143=Y$3,AND($A2143=Y$3,$D2143<0),0)","v":0},0,{"$f":"IF($A2143=AA$3,AND($A2143=AA$3,$D2143<0),0)","v":0},0,{"$f":"IF($A2143=AC$3,AND($A2143=AC$3,$D2143<0),0)","v":0},0,0]
[{"$f":"IF(B2146=0,\"\",MONTH(B2146))","v":""},null,null,null,{"$f":"IF(D2146=\"\",\"\",IF(D2146<0,\"DEBITO\",\"CREDITO\"))","v":""},null,false,false,0,{"$f":"IF($A2146=I$3,AND($A2146=I$3,$D2146<0),0)","v":0},0,{"$f":"IF($A2146=K$3,AND($A2146=K$3,$D2146<0),0)","v":0},0,{"$f":"IF($A2146=M$3,AND($A2146=M$3,$D2146<0),0)","v":0},0,{"$f":"IF($A2146=O$3,AND($A2146=O$3,$D2146<0),0)","v":0},0,0,0,0,0,0,0,{"$f":"IF($A2146=W$3,AND($A2146=W$3,$D2146<0),0)","v":0},0,{"$f":"IF($A2146=Y$3,AND($A2146=Y$3,$D2146<0),0)","v":0},0,{"$f":"IF($A2146=AA$3,AND($A2146=AA$3,$D2146<0),0)","v":0},0,{"$f":"IF($A2146=AC$3,AND($A2146=AC$3,$D2146<0),0)","v":0},0,0]
[{"$f":"IF(B2147=0,\"\",MONTH(B2147))","v":""},null,null,null,{"$f":"IF(D2147=\"\",\"\",IF(D2147<0,\"DEBITO\",\"CREDITO\"))","v":""},null,false,false,0,{"$f":"IF($A2147=I$3,AND($A2147=I$3,$D2147<0),0)","v":0},0,{"$f":"IF($A2147=K$3,AND($A2147=K$3,$D2147<0),0)","v":0},0,{"$f":"IF($A2147=M$3,AND($A2147=M$3,$D2147<0),0)","v":0},0,{"$f":"IF($A2147=O$3,AND($A2147=O$3,$D2147<0),0)","v":0},0,0,0,0,0,0,0,{"$f":"IF($A2147=W$3,AND($A2147=W$3,$D2147<0),0)","v":0},0,{"$f":"IF($A2147=Y$3,AND($A2147=Y$3,$D2147<0),0)","v":0},0,{"$f":"IF($A2147=AA$3,AND($A2147=AA$3,$D2147<0),0)","v":0},0,{"$f":"IF($A2147=AC$3,AND($A2147=AC$3,$D2147<0),0)","v":0},0,0]
[{"$f":"IF(B2150=0,\"\",MONTH(B2150))","v":""},null,null,null,{"$f":"IF(D2150=\"\",\"\",IF(D2150<0,\"DEBITO\",\"CREDITO\"))","v":""},null,false,false,0,{"$f":"IF($A2150=I$3,AND($A2150=I$3,$D2150<0),0)","v":0},0,{"$f":"IF($A2150=K$3,AND($A2150=K$3,$D2150<0),0)","v":0},0,{"$f":"IF($A2150=M$3,AND($A2150=M$3,$D2150<0),0)","v":0},0,{"$f":"IF($A2150=O$3,AND($A2150=O$3,$D2150<0),0)","v":0},0,0,0,0,0,0,0,{"$f":"IF($A2150=W$3,AND($A2150=W$3,$D2150<0),0)","v":0},0,{"$f":"IF($A2150=Y$3,AND($A2150=Y$3,$D2150<0),0)","v":0},0,{"$f":"IF($A2150=AA$3,AND($A2150=AA$3,$D2150<0),0)","v":0},0,{"$f":"IF($A2150=AC$3,AND($A2150=AC$3,$D2150<0),0)","v":0},0,0]
[{"$f":"IF(B2151=0,\"\",MONTH(B2151))","v":""},null,null,null,{"$f":"IF(D2151=\"\",\"\",IF(D2151<0,\"DEBITO\",\"CREDITO\"))","v":""},null,false,false,0,{"$f":"IF($A2151=I$3,AND($A2151=I$3,$D2151<0),0)","v":0},0,{"$f":"IF($A2151=K$3,AND($A2151=K$3,$D2151<0),0)","v":0},0,{"$f":"IF($A2151=M$3,AND($A2151=M$3,$D2151<0),0)","v":0},0,{"$f":"IF($A2151=O$3,AND($A2151=O$3,$D2151<0),0)","v":0},0,0,0,0,0,0,0,{"$f":"IF($A2151=W$3,AND($A2151=W$3,$D2151<0),0)","v":0},0,{"$f":"IF($A2151=Y$3,AND($A2151=Y$3,$D2151<0),0)","v":0},0,{"$f":"IF($A2151=AA$3,AND($A2151=AA$3,$D2151<0),0)","v":0},0,{"$f":"IF($A2151=AC$3,AND($A2151=AC$3,$D2151<0),0)","v":0},0,0]
[{"$f":"IF(B2154=0,\"\",MONTH(B2154))","v":""},null,null,null,{"$f":"IF(D2154=\"\",\"\",IF(D2154<0,\"DEBITO\",\"CREDITO\"))","v":""},null,false,false,0,{"$f":"IF($A2154=I$3,AND($A2154=I$3,$D2154<0),0)","v":0},0,{"$f":"IF($A2154=K$3,AND($A2154=K$3,$D2154<0),0)","v":0},0,{"$f":"IF($A2154=M$3,AND($A2154=M$3,$D2154<0),0)","v":0},0,{"$f":"IF($A2154=O$3,AND($A2154=O$3,$D2154<0),0)","v":0},0,0,0,0,0,0,0,{"$f":"IF($A2154=W$3,AND($A2154=W$3,$D2154<0),0)","v":0},0,{"$f":"IF($A2154=Y$3,AND($A2154=Y$3,$D2154<0),0)","v":0},0,{"$f":"IF($A2154=AA$3,AND($A2154=AA$3,$D2154<0),0)","v":0},0,{"$f":"IF($A2154=AC$3,AND($A2154=AC$3,$D2154<0),0)","v":0},0,0]
[{"$f":"IF(B2155=0,\"\",MONTH(B2155))","v":""},null,null,null,{"$f":"IF(D2155=\"\",\"\",IF(D2155<0,\"DEBITO\",\"CREDITO\"))","v":""},null,false,false,0,{"$f":"IF($A2155=I$3,AND($A2155=I$3,$D2155<0),0)","v":0},0,{"$f":"IF($A2155=K$3,AND($A2155=K$3,$D2155<0),0)","v":0},0,{"$f":"IF($A2155=M$3,AND($A2155=M$3,$D2155<0),0)","v":0},0,{"$f":"IF($A2155=O$3,AND($A2155=O$3,$D2155<0),0)","v":0},0,0,0,0,0,0,0,{"$f":"IF($A2155=W$3,AND($A2155=W$3,$D2155<0),0)","v":0},0,{"$f":"IF($A2155=Y$3,AND($A2155=Y$3,$D2155<0),0)","v":0},0,{"$f":"IF($A2155=AA$3,AND($A2155=AA$3,$D2155<0),0)","v":0},0,{"$f":"IF($A2155=AC$3,AND($A2155=AC$3,$D2155<0),0)","v":0},0,0]
[{"$f":"IF(B2158=0,\"\",MONTH(B2158))","v":""},null,null,null,{"$f":"IF(D2158=\"\",\"\",IF(D2158<0,\"DEBITO\",\"CREDITO\"))","v":""},null,false,false,0,{"$f":"IF($A2158=I$3,AND($A2158=I$3,$D2158<0),0)","v":0},0,{"$f":"IF($A2158=K$3,AND($A2158=K$3,$D2158<0),0)","v":0},0,{"$f":"IF($A2158=M$3,AND($A2158=M$3,$D2158<0),0)","v":0},0,{"$f":"IF($A2158=O$3,AND($A2158=O$3,$D2158<0),0)","v":0},0,0,0,0,0,0,0,{"$f":"IF($A2158=W$3,AND($A2158=W$3,$D2158<0),0)","v":0},0,{"$f":"IF($A2158=Y$3,AND($A2158=Y$3,$D2158<0),0)","v":0},0,{"$f":"IF($A2158=AA$3,AND($A2158=AA$3,$D2158<0),0)","v":0},0,{"$f":"IF($A2158=AC$3,AND($A2158=AC$3,$D2158<0),0)","v":0},0,0]
[{"$f":"IF(B2160=0,\"\",MONTH(B2160))","v":""},null,null,null,{"$f":"IF(D2160=\"\",\"\",IF(D2160<0,\"DEBITO\",\"CREDITO\"))","v":""},null,false,false,0,{"$f":"IF($A2160=I$3,AND($A2160=I$3,$D2160<0),0)","v":0},0,{"$f":"IF($A2160=K$3,AND($A2160=K$3,$D2160<0),0)","v":0},0,{"$f":"IF($A2160=M$3,AND($A2160=M$3,$D2160<0),0)","v":0},0,{"$f":"IF($A2160=O$3,AND($A2160=O$3,$D2160<0),0)","v":0},0,0,0,0,0,0,0,{"$f":"IF($A2160=W$3,AND($A2160=W$3,$D2160<0),0)","v":0},0,{"$f":"IF($A2160=Y$3,AND($A2160=Y$3,$D2160<0),0)","v":0},0,{"$f":"IF($A2160=AA$3,AND($A2160=AA$3,$D2160<0),0)","v":0},0,{"$f":"IF($A2160=AC$3,AND($A2160=AC$3,$D2160<0),0)","v":0},0,0]
[{"$f":"IF(B2163=0,\"\",MONTH(B2163))","v":""},null,null,null,{"$f":"IF(D2163=\"\",\"\",IF(D2163<0,\"DEBITO\",\"CREDITO\"))","v":""},null,false,false,0,{"$f":"IF($A2163=I$3,AND($A2163=I$3,$D2163<0),0)","v":0},0,{"$f":"IF($A2163=K$3,AND($A2163=K$3,$D2163<0),0)","v":0},0,{"$f":"IF($A2163=M$3,AND($A2163=M$3,$D2163<0),0)","v":0},0,{"$f":"IF($A2163=O$3,AND($A2163=O$3,$D2163<0),0)","v":0},0,0,0,0,0,0,0,{"$f":"IF($A2163=W$3,AND($A2163=W$3,$D2163<0),0)","v":0},0,{"$f":"IF($A2163=Y$3,AND($A2163=Y$3,$D2163<0),0)","v":0},0,{"$f":"IF($A2163=AA$3,AND($A2163=AA$3,$D2163<0),0)","v":0},0,{"$f":"IF($A2163=AC$3,AND($A2163=AC$3,$D2163<0),0)","v":0},0,0]
[{"$f":"IF(B2164=0,\"\",MONTH(B2164))","v":""},null,null,null,{"$f":"IF(D2164=\"\",\"\",IF(D2164<0,\"DEBITO\",\"CREDITO\"))","v":""},null,false,false,0,{"$f":"IF($A2164=I$3,AND($A2164=I$3,$D2164<0),0)","v":0},0,{"$f":"IF($A2164=K$3,AND($A2164=K$3,$D2164<0),0)","v":0},0,{"$f":"IF($A2164=M$3,AND($A2164=M$3,$D2164<0),0)","v":0},0,{"$f":"IF($A2164=O$3,AND($A2164=O$3,$D2164<0),0)","v":0},0,0,0,0,0,0,0,{"$f":"IF($A2164=W$3,AND($A2164=W$3,$D2164<0),0)","v":0},0,{"$f":"IF($A2164=Y$3,AND($A2164=Y$3,$D2164<0),0)","v":0},0,{"$f":"IF($A2164=AA$3,AND($A2164=AA$3,$D2164<0),0)","v":0},0,{"$f":"IF($A2164=AC$3,AND($A2164=AC$3,$D2164<0),0)","v":0},0,0]
[{"$f":"IF(B2167=0,\"\",MONTH(B2167))","v":""},null,null,null,{"$f":"IF(D2167=\"\",\"\",IF(D2167<0,\"DEBITO\",\"CREDITO\"))","v":""},null,false,false,0,{"$f":"IF($A2167=I$3,AND($A2167=I$3,$D2167<0),0)","v":0},0,{"$f":"IF($A2167=K$3,AND($A2167=K$3,$D2167<0),0)","v":0},0,{"$f":"IF($A2167=M$3,AND($A2167=M$3,$D2167<0),0)","v":0},0,{"$f":"IF($A2167=O$3,AND($A2167=O$3,$D2167<0),0)","v":0},0,0,0,0,0,0,0,{"$f":"IF($A2167=W$3,AND($A2167=W$3,$D2167<0),0)","v":0},0,{"$f":"IF($A2167=Y$3,AND($A2167=Y$3,$D2167<0),0)","v":0},0,{"$f":"IF($A2167=AA$3,AND($A2167=AA$3,$D2167<0),0)","v":0},0,{"$f":"IF($A2167=AC$3,AND($A2167=AC$3,$D2167<0),0)","v":0},0,0]
[{"$f":"IF(B2168=0,\"\",MONTH(B2168))","v":""},null,null,null,{"$f":"IF(D2168=\"\",\"\",IF(D2168<0,\"DEBITO\",\"CREDITO\"))","v":""},null,false,false,0,{"$f":"IF($A2168=I$3,AND($A2168=I$3,$D2168<0),0)","v":0},0,{"$f":"IF($A2168=K$3,AND($A2168=K$3,$D2168<0),0)","v":0},0,{"$f":"IF($A2168=M$3,AND($A2168=M$3,$D2168<0),0)","v":0},0,{"$f":"IF($A2168=O$3,AND($A2168=O$3,$D2168<0),0)","v":0},0,0,0,0,0,0,0,{"$f":"IF($A2168=W$3,AND($A2168=W$3,$D2168<0),0)","v":0},0,{"$f":"IF($A2168=Y$3,AND($A2168=Y$3,$D2168<0),0)","v":0},0,{"$f":"IF($A2168=AA$3,AND($A2168=AA$3,$D2168<0),0)","v":0},0,{"$f":"IF($A2168=AC$3,AND($A2168=AC$3,$D2168<0),0)","v":0},0,0]
[{"$f":"IF(B2171=0,\"\",MONTH(B2171))","v":""},null,null,null,{"$f":"IF(D2171=\"\",\"\",IF(D2171<0,\"DEBITO\",\"CREDITO\"))","v":""},null,false,false,0,{"$f":"IF($A2171=I$3,AND($A2171=I$3,$D2171<0),0)","v":0},0,{"$f":"IF($A2171=K$3,AND($A2171=K$3,$D2171<0),0)","v":0},0,{"$f":"IF($A2171=M$3,AND($A2171=M$3,$D2171<0),0)","v":0},0,{"$f":"IF($A2171=O$3,AND($A2171=O$3,$D2171<0),0)","v":0},0,0,0,0,0,0,0,{"$f":"IF($A2171=W$3,AND($A2171=W$3,$D2171<0),0)","v":0},0,{"$f":"IF($A2171=Y$3,AND($A2171=Y$3,$D2171<0),0)","v":0},0,{"$f":"IF($A2171=AA$3,AND($A2171=AA$3,$D2171<0),0)","v":0},0,{"$f":"IF($A2171=AC$3,AND($A2171=AC$3,$D2171<0),0)","v":0},0,0]
[{"$f":"IF(B2172=0,\"\",MONTH(B2172))","v":""},null,null,null,{"$f":"IF(D2172=\"\",\"\",IF(D2172<0,\"DEBITO\",\"CREDITO\"))","v":""},null,false,false,0,{"$f":"IF($A2172=I$3,AND($A2172=I$3,$D2172<0),0)","v":0},0,{"$f":"IF($A2172=K$3,AND($A2172=K$3,$D2172<0),0)","v":0},0,{"$f":"IF($A2172=M$3,AND($A2172=M$3,$D2172<0),0)","v":0},0,{"$f":"IF($A2172=O$3,AND($A2172=O$3,$D2172<0),0)","v":0},0,0,0,0,0,0,0,{"$f":"IF($A2172=W$3,AND($A2172=W$3,$D2172<0),0)","v":0},0,{"$f":"IF($A2172=Y$3,AND($A2172=Y$3,$D2172<0),0)","v":0},0,{"$f":"IF($A2172=AA$3,AND($A2172=AA$3,$D2172<0),0)","v":0},0,{"$f":"IF($A2172=AC$3,AND($A2172=AC$3,$D2172<0),0)","v":0},0,0]
[{"$f":"IF(B2175=0,\"\",MONTH(B2175))","v":""},null,null,null,{"$f":"IF(D2175=\"\",\"\",IF(D2175<0,\"DEBITO\",\"CREDITO\"))","v":""},null,false,false,0,{"$f":"IF($A2175=I$3,AND($A2175=I$3,$D2175<0),0)","v":0},0,{"$f":"IF($A2175=K$3,AND($A2175=K$3,$D2175<0),0)","v":0},0,{"$f":"IF($A2175=M$3,AND($A2175=M$3,$D2175<0),0)","v":0},0,{"$f":"IF($A2175=O$3,AND($A2175=O$3,$D2175<0),0)","v":0},0,0,0,0,0,0,0,{"$f":"IF($A2175=W$3,AND($A2175=W$3,$D2175<0),0)","v":0},0,{"$f":"IF($A2175=Y$3,AND($A2175=Y$3,$D2175<0),0)","v":0},0,{"$f":"IF($A2175=AA$3,AND($A2175=AA$3,$D2175<0),0)","v":0},0,{"$f":"IF($A2175=AC$3,AND($A2175=AC$3,$D2175<0),0)","v":0},0,0]
[{"$f":"IF(B2176=0,\"\",MONTH(B2176))","v":""},null,null,null,{"$f":"IF(D2176=\"\",\"\",IF(D2176<0,\"DEBITO\",\"CREDITO\"))","v":""},null,false,false,0,{"$f":"IF($A2176=I$3,AND($A2176=I$3,$D2176<0),0)","v":0},0,{"$f":"IF($A2176=K$3,AND($A2176=K$3,$D2176<0),0)","v":0},0,{"$f":"IF($A2176=M$3,AND($A2176=M$3,$D2176<0),0)","v":0},0,{"$f":"IF($A2176=O$3,AND($A2176=O$3,$D2176<0),0)","v":0},0,0,0,0,0,0,0,{"$f":"IF($A2176=W$3,AND($A2176=W$3,$D2176<0),0)","v":0},0,{"$f":"IF($A2176=Y$3,AND($A2176=Y$3,$D2176<0),0)","v":0},0,{"$f":"IF($A2176=AA$3,AND($A2176=AA$3,$D2176<0),0)","v":0},0,{"$f":"IF($A2176=AC$3,AND($A2176=AC$3,$D2176<0),0)","v":0},0,0]
[{"$f":"IF(B2180=0,\"\",MONTH(B2180))","v":""},null,null,null,{"$f":"IF(D2180=\"\",\"\",IF(D2180<0,\"DEBITO\",\"CREDITO\"))","v":""},null,false,false,0,{"$f":"IF($A2180=I$3,AND($A2180=I$3,$D2180<0),0)","v":0},0,{"$f":"IF($A2180=K$3,AND($A2180=K$3,$D2180<0),0)","v":0},0,{"$f":"IF($A2180=M$3,AND($A2180=M$3,$D2180<0),0)","v":0},0,{"$f":"IF($A2180=O$3,AND($A2180=O$3,$D2180<0),0)","v":0},0,0,0,0,0,0,0,{"$f":"IF($A2180=W$3,AND($A2180=W$3,$D2180<0),0)","v":0},0,{"$f":"IF($A2180=Y$3,AND($A2180=Y$3,$D2180<0),0)","v":0},0,{"$f":"IF($A2180=AA$3,AND($A2180=AA$3,$D2180<0),0)","v":0},0,{"$f":"IF($A2180=AC$3,AND($A2180=AC$3,$D2180<0),0)","v":0},0,0]
[{"$f":"IF(B2181=0,\"\",MONTH(B2181))","v":""},null,null,null,{"$f":"IF(D2181=\"\",\"\",IF(D2181<0,\"DEBITO\",\"CREDITO\"))","v":""},null,false,false,0,{"$f":"IF($A2181=I$3,AND($A2181=I$3,$D2181<0),0)","v":0},0,{"$f":"IF($A2181=K$3,AND($A2181=K$3,$D2181<0),0)","v":0},0,{"$f":"IF($A2181=M$3,AND($A2181=M$3,$D2181<0),0)","v":0},0,{"$f":"IF($A2181=O$3,AND($A2181=O$3,$D2181<0),0)","v":0},0,0,0,0,0,0,0,{"$f":"IF($A2181=W$3,AND($A2181=W$3,$D2181<0),0)","v":0},0,{"$f":"IF($A2181=Y$3,AND($A2181=Y$3,$D2181<0),0)","v":0},0,{"$f":"IF($A2181=AA$3,AND($A2181=AA$3,$D2181<0),0)","v":0},0,{"$f":"IF($A2181=AC$3,AND($A2181=AC$3,$D2181<0),0)","v":0},0,0]
[{"$f":"IF(B2184=0,\"\",MONTH(B2184))","v":""},null,null,null,{"$f":"IF(D2184=\"\",\"\",IF(D2184<0,\"DEBITO\",\"CREDITO\"))","v":""},null,false,false,0,{"$f":"IF($A2184=I$3,AND($A2184=I$3,$D2184<0),0)","v":0},0,{"$f":"IF($A2184=K$3,AND($A2184=K$3,$D2184<0),0)","v":0},0,{"$f":"IF($A2184=M$3,AND($A2184=M$3,$D2184<0),0)","v":0},0,{"$f":"IF($A2184=O$3,AND($A2184=O$3,$D2184<0),0)","v":0},0,0,0,0,0,0,0,{"$f":"IF($A2184=W$3,AND($A2184=W$3,$D2184<0),0)","v":0},0,{"$f":"IF($A2184=Y$3,AND($A2184=Y$3,$D2184<0),0)","v":0},0,{"$f":"IF($A2184=AA$3,AND($A2184=AA$3,$D2184<0),0)","v":0},0,{"$f":"IF($A2184=AC$3,AND($A2184=AC$3,$D2184<0),0)","v":0},0,0]
[{"$f":"IF(B2185=0,\"\",MONTH(B2185))","v":""},null,null,null,{"$f":"IF(D2185=\"\",\"\",IF(D2185<0,\"DEBITO\",\"CREDITO\"))","v":""},null,{"$f":"AND(A2185=$E$3,D2185>0)","v":false},{"$f":"AND(A2185=$E$3,D2185<0)","v":false},0,{"$f":"IF($A2185=I$3,AND($A2185=I$3,$D2185<0),0)","v":0},0,{"$f":"IF($A2185=K$3,AND($A2185=K$3,$D2185<0),0)","v":0},0,{"$f":"IF($A2185=M$3,AND($A2185=M$3,$D2185<0),0)","v":0},0,{"$f":"IF($A2185=O$3,AND($A2185=O$3,$D2185<0),0)","v":0},0,{"$f":"IF($A2185=Q$3,AND($A2185=Q$3,$D2185<0),0)","v":0},0,0,0,0,0,{"$f":"IF($A2185=W$3,AND($A2185=W$3,$D2185<0),0)","v":0},0,{"$f":"IF($A2185=Y$3,AND($A2185=Y$3,$D2185<0),0)","v":0},0,{"$f":"IF($A2185=AA$3,AND($A2185=AA$3,$D2185<0),0)","v":0},0,{"$f":"IF($A2185=AC$3,AND($A2185=AC$3,$D2185<0),0)","v":0},0,{"$f":"IF($A2185=AE$3,AND($A2185=AE$3,$D2185<0),0)","v":0}]
[{"$f":"IF(B2188=0,\"\",MONTH(B2188))","v":""},null,null,null,{"$f":"IF(D2188=\"\",\"\",IF(D2188<0,\"DEBITO\",\"CREDITO\"))","v":""},null,false,false,0,{"$f":"IF($A2188=I$3,AND($A2188=I$3,$D2188<0),0)","v":0},0,{"$f":"IF($A2188=K$3,AND($A2188=K$3,$D2188<0),0)","v":0},0,{"$f":"IF($A2188=M$3,AND($A2188=M$3,$D2188<0),0)","v":0},0,{"$f":"IF($A2188=O$3,AND($A2188=O$3,$D2188<0),0)","v":0},0,0,0,0,0,0,0,{"$f":"IF($A2188=W$3,AND($A2188=W$3,$D2188<0),0)","v":0},0,{"$f":"IF($A2188=Y$3,AND($A2188=Y$3,$D2188<0),0)","v":0},0,{"$f":"IF($A2188=AA$3,AND($A2188=AA$3,$D2188<0),0)","v":0},0,{"$f":"IF($A2188=AC$3,AND($A2188=AC$3,$D2188<0),0)","v":0},0,0]
[{"$f":"IF(B2189=0,\"\",MONTH(B2189))","v":""},null,null,null,{"$f":"IF(D2189=\"\",\"\",IF(D2189<0,\"DEBITO\",\"CREDITO\"))","v":""},null,false,false,0,{"$f":"IF($A2189=I$3,AND($A2189=I$3,$D2189<0),0)","v":0},0,{"$f":"IF($A2189=K$3,AND($A2189=K$3,$D2189<0),0)","v":0},0,{"$f":"IF($A2189=M$3,AND($A2189=M$3,$D2189<0),0)","v":0},0,{"$f":"IF($A2189=O$3,AND($A2189=O$3,$D2189<0),0)","v":0},0,0,0,0,0,0,0,{"$f":"IF($A2189=W$3,AND($A2189=W$3,$D2189<0),0)","v":0},0,{"$f":"IF($A2189=Y$3,AND($A2189=Y$3,$D2189<0),0)","v":0},0,{"$f":"IF($A2189=AA$3,AND($A2189=AA$3,$D2189<0),0)","v":0},0,{"$f":"IF($A2189=AC$3,AND($A2189=AC$3,$D2189<0),0)","v":0},0,0]
[{"$f":"IF(B2192=0,\"\",MONTH(B2192))","v":""},null,null,null,{"$f":"IF(D2192=\"\",\"\",IF(D2192<0,\"DEBITO\",\"CREDITO\"))","v":""},null,false,false,0,{"$f":"IF($A2192=I$3,AND($A2192=I$3,$D2192<0),0)","v":0},0,{"$f":"IF($A2192=K$3,AND($A2192=K$3,$D2192<0),0)","v":0},0,{"$f":"IF($A2192=M$3,AND($A2192=M$3,$D2192<0),0)","v":0},0,{"$f":"IF($A2192=O$3,AND($A2192=O$3,$D2192<0),0)","v":0},0,0,0,0,0,0,0,{"$f":"IF($A2192=W$3,AND($A2192=W$3,$D2192<0),0)","v":0},0,{"$f":"IF($A2192=Y$3,AND($A2192=Y$3,$D2192<0),0)","v":0},0,{"$f":"IF($A2192=AA$3,AND($A2192=AA$3,$D2192<0),0)","v":0},0,{"$f":"IF($A2192=AC$3,AND($A2192=AC$3,$D2192<0),0)","v":0},0,0]
[{"$f":"IF(B2193=0,\"\",MONTH(B2193))","v":""},null,null,null,{"$f":"IF(D2193=\"\",\"\",IF(D2193<0,\"DEBITO\",\"CREDITO\"))","v":""},null,false,false,0,{"$f":"IF($A2193=I$3,AND($A2193=I$3,$D2193<0),0)","v":0},0,{"$f":"IF($A2193=K$3,AND($A2193=K$3,$D2193<0),0)","v":0},0,{"$f":"IF($A2193=M$3,AND($A2193=M$3,$D2193<0),0)","v":0},0,{"$f":"IF($A2193=O$3,AND($A2193=O$3,$D2193<0),0)","v":0},0,0,0,0,0,0,0,{"$f":"IF($A2193=W$3,AND($A2193=W$3,$D2193<0),0)","v":0},0,{"$f":"IF($A2193=Y$3,AND($A2193=Y$3,$D2193<0),0)","v":0},0,{"$f":"IF($A2193=AA$3,AND($A2193=AA$3,$D2193<0),0)","v":0},0,{"$f":"IF($A2193=AC$3,AND($A2193=AC$3,$D2193<0),0)","v":0},0,0]
[{"$f":"IF(B2196=0,\"\",MONTH(B2196))","v":""},null,null,null,{"$f":"IF(D2196=\"\",\"\",IF(D2196<0,\"DEBITO\",\"CREDITO\"))","v":""},null,false,false,0,{"$f":"IF($A2196=I$3,AND($A2196=I$3,$D2196<0),0)","v":0},0,{"$f":"IF($A2196=K$3,AND($A2196=K$3,$D2196<0),0)","v":0},0,{"$f":"IF($A2196=M$3,AND($A2196=M$3,$D2196<0),0)","v":0},0,{"$f":"IF($A2196=O$3,AND($A2196=O$3,$D2196<0),0)","v":0},0,0,0,0,0,0,0,{"$f":"IF($A2196=W$3,AND($A2196=W$3,$D2196<0),0)","v":0},0,{"$f":"IF($A2196=Y$3,AND($A2196=Y$3,$D2196<0),0)","v":0},0,{"$f":"IF($A2196=AA$3,AND($A2196=AA$3,$D2196<0),0)","v":0},0,{"$f":"IF($A2196=AC$3,AND($A2196=AC$3,$D2196<0),0)","v":0},0,0]
[{"$f":"IF(B2197=0,\"\",MONTH(B2197))","v":""},null,null,null,{"$f":"IF(D2197=\"\",\"\",IF(D2197<0,\"DEBITO\",\"CREDITO\"))","v":""},null,false,false,0,{"$f":"IF($A2197=I$3,AND($A2197=I$3,$D2197<0),0)","v":0},0,{"$f":"IF($A2197=K$3,AND($A2197=K$3,$D2197<0),0)","v":0},0,{"$f":"IF($A2197=M$3,AND($A2197=M$3,$D2197<0),0)","v":0},0,{"$f":"IF($A2197=O$3,AND($A2197=O$3,$D2197<0),0)","v":0},0,0,0,0,0,0,0,{"$f":"IF($A2197=W$3,AND($A2197=W$3,$D2197<0),0)","v":0},0,{"$f":"IF($A2197=Y$3,AND($A2197=Y$3,$D2197<0),0)","v":0},0,{"$f":"IF($A2197=AA$3,AND($A2197=AA$3,$D2197<0),0)","v":0},0,{"$f":"IF($A2197=AC$3,AND($A2197=AC$3,$D2197<0),0)","v":0},0,0]
[{"$f":"IF(B2199=0,\"\",MONTH(B2199))","v":""},null,null,null,{"$f":"IF(D2199=\"\",\"\",IF(D2199<0,\"DEBITO\",\"CREDITO\"))","v":""},null,false,false,0,{"$f":"IF($A2199=I$3,AND($A2199=I$3,$D2199<0),0)","v":0},0,{"$f":"IF($A2199=K$3,AND($A2199=K$3,$D2199<0),0)","v":0},0,{"$f":"IF($A2199=M$3,AND($A2199=M$3,$D2199<0),0)","v":0},0,{"$f":"IF($A2199=O$3,AND($A2199=O$3,$D2199<0),0)","v":0},0,0,0,0,0,0,0,{"$f":"IF($A2199=W$3,AND($A2199=W$3,$D2199<0),0)","v":0},0,{"$f":"IF($A2199=Y$3,AND($A2199=Y$3,$D2199<0),0)","v":0},0,{"$f":"IF($A2199=AA$3,AND($A2199=AA$3,$D2199<0),0)","v":0},0,{"$f":"IF($A2199=AC$3,AND($A2199=AC$3,$D2199<0),0)","v":0},0,0]
[{"$f":"IF(B2202=0,\"\",MONTH(B2202))","v":""},null,null,null,{"$f":"IF(D2202=\"\",\"\",IF(D2202<0,\"DEBITO\",\"CREDITO\"))","v":""},null,false,false,0,{"$f":"IF($A2202=I$3,AND($A2202=I$3,$D2202<0),0)","v":0},0,{"$f":"IF($A2202=K$3,AND($A2202=K$3,$D2202<0),0)","v":0},0,{"$f":"IF($A2202=M$3,AND($A2202=M$3,$D2202<0),0)","v":0},0,{"$f":"IF($A2202=O$3,AND($A2202=O$3,$D2202<0),0)","v":0},0,0,0,0,0,0,0,{"$f":"IF($A2202=W$3,AND($A2202=W$3,$D2202<0),0)","v":0},0,{"$f":"IF($A2202=Y$3,AND($A2202=Y$3,$D2202<0),0)","v":0},0,{"$f":"IF($A2202=AA$3,AND($A2202=AA$3,$D2202<0),0)","v":0},0,{"$f":"IF($A2202=AC$3,AND($A2202=AC$3,$D2202<0),0)","v":0},0,0]
[{"$f":"IF(B2205=0,\"\",MONTH(B2205))","v":""},null,null,null,{"$f":"IF(D2205=\"\",\"\",IF(D2205<0,\"DEBITO\",\"CREDITO\"))","v":""},null,false,false,0,{"$f":"IF($A2205=I$3,AND($A2205=I$3,$D2205<0),0)","v":0},0,{"$f":"IF($A2205=K$3,AND($A2205=K$3,$D2205<0),0)","v":0},0,{"$f":"IF($A2205=M$3,AND($A2205=M$3,$D2205<0),0)","v":0},0,{"$f":"IF($A2205=O$3,AND($A2205=O$3,$D2205<0),0)","v":0},0,0,0,0,0,0,0,{"$f":"IF($A2205=W$3,AND($A2205=W$3,$D2205<0),0)","v":0},0,{"$f":"IF($A2205=Y$3,AND($A2205=Y$3,$D2205<0),0)","v":0},0,{"$f":"IF($A2205=AA$3,AND($A2205=AA$3,$D2205<0),0)","v":0},0,{"$f":"IF($A2205=AC$3,AND($A2205=AC$3,$D2205<0),0)","v":0},0,0]
[{"$f":"IF(B2206=0,\"\",MONTH(B2206))","v":""},null,null,null,{"$f":"IF(D2206=\"\",\"\",IF(D2206<0,\"DEBITO\",\"CREDITO\"))","v":""},null,false,false,0,{"$f":"IF($A2206=I$3,AND($A2206=I$3,$D2206<0),0)","v":0},0,{"$f":"IF($A2206=K$3,AND($A2206=K$3,$D2206<0),0)","v":0},0,{"$f":"IF($A2206=M$3,AND($A2206=M$3,$D2206<0),0)","v":0},0,{"$f":"IF($A2206=O$3,AND($A2206=O$3,$D2206<0),0)","v":0},0,0,0,0,0,0,0,{"$f":"IF($A2206=W$3,AND($A2206=W$3,$D2206<0),0)","v":0},0,{"$f":"IF($A2206=Y$3,AND($A2206=Y$3,$D2206<0),0)","v":0},0,{"$f":"IF($A2206=AA$3,AND($A2206=AA$3,$D2206<0),0)","v":0},0,{"$f":"IF($A2206=AC$3,AND($A2206=AC$3,$D2206<0),0)","v":0},0,0]
[{"$f":"IF(B2209=0,\"\",MONTH(B2209))","v":""},null,null,null,{"$f":"IF(D2209=\"\",\"\",IF(D2209<0,\"DEBITO\",\"CREDITO\"))","v":""},null,false,false,0,{"$f":"IF($A2209=I$3,AND($A2209=I$3,$D2209<0),0)","v":0},0,{"$f":"IF($A2209=K$3,AND($A2209=K$3,$D2209<0),0)","v":0},0,{"$f":"IF($A2209=M$3,AND($A2209=M$3,$D2209<0),0)","v":0},0,{"$f":"IF($A2209=O$3,AND($A2209=O$3,$D2209<0),0)","v":0},0,0,0,0,0,0,0,{"$f":"IF($A2209=W$3,AND($A2209=W$3,$D2209<0),0)","v":0},0,{"$f":"IF($A2209=Y$3,AND($A2209=Y$3,$D2209<0),0)","v":0},0,{"$f":"IF($A2209=AA$3,AND($A2209=AA$3,$D2209<0),0)","v":0},0,{"$f":"IF($A2209=AC$3,AND($A2209=AC$3,$D2209<0),0)","v":0},0,0]
[{"$f":"IF(B2210=0,\"\",MONTH(B2210))","v":""},null,null,null,{"$f":"IF(D2210=\"\",\"\",IF(D2210<0,\"DEBITO\",\"CREDITO\"))","v":""},null,false,false,0,{"$f":"IF($A2210=I$3,AND($A2210=I$3,$D2210<0),0)","v":0},0,{"$f":"IF($A2210=K$3,AND($A2210=K$3,$D2210<0),0)","v":0},0,{"$f":"IF($A2210=M$3,AND($A2210=M$3,$D2210<0),0)","v":0},0,{"$f":"IF($A2210=O$3,AND($A2210=O$3,$D2210<0),0)","v":0},0,0,0,0,0,0,0,{"$f":"IF($A2210=W$3,AND($A2210=W$3,$D2210<0),0)","v":0},0,{"$f":"IF($A2210=Y$3,AND($A2210=Y$3,$D2210<0),0)","v":0},0,{"$f":"IF($A2210=AA$3,AND($A2210=AA$3,$D2210<0),0)","v":0},0,{"$f":"IF($A2210=AC$3,AND($A2210=AC$3,$D2210<0),0)","v":0},0,0]
[{"$f":"IF(B2213=0,\"\",MONTH(B2213))","v":""},null,null,null,{"$f":"IF(D2213=\"\",\"\",IF(D2213<0,\"DEBITO\",\"CREDITO\"))","v":""},null,false,false,0,{"$f":"IF($A2213=I$3,AND($A2213=I$3,$D2213<0),0)","v":0},0,{"$f":"IF($A2213=K$3,AND($A2213=K$3,$D2213<0),0)","v":0},0,{"$f":"IF($A2213=M$3,AND($A2213=M$3,$D2213<0),0)","v":0},0,{"$f":"IF($A2213=O$3,AND($A2213=O$3,$D2213<0),0)","v":0},0,0,0,0,0,0,0,{"$f":"IF($A2213=W$3,AND($A2213=W$3,$D2213<0),0)","v":0},0,{"$f":"IF($A2213=Y$3,AND($A2213=Y$3,$D2213<0),0)","v":0},0,{"$f":"IF($A2213=AA$3,AND($A2213=AA$3,$D2213<0),0)","v":0},0,{"$f":"IF($A2213=AC$3,AND($A2213=AC$3,$D2213<0),0)","v":0},0,0]
[{"$f":"IF(B2214=0,\"\",MONTH(B2214))","v":""},null,null,null,{"$f":"IF(D2214=\"\",\"\",IF(D2214<0,\"DEBITO\",\"CREDITO\"))","v":""},null,false,false,0,{"$f":"IF($A2214=I$3,AND($A2214=I$3,$D2214<0),0)","v":0},0,{"$f":"IF($A2214=K$3,AND($A2214=K$3,$D2214<0),0)","v":0},0,{"$f":"IF($A2214=M$3,AND($A2214=M$3,$D2214<0),0)","v":0},0,{"$f":"IF($A2214=O$3,AND($A2214=O$3,$D2214<0),0)","v":0},0,0,0,0,0,0,0,{"$f":"IF($A2214=W$3,AND($A2214=W$3,$D2214<0),0)","v":0},0,{"$f":"IF($A2214=Y$3,AND($A2214=Y$3,$D2214<0),0)","v":0},0,{"$f":"IF($A2214=AA$3,AND($A2214=AA$3,$D2214<0),0)","v":0},0,{"$f":"IF($A2214=AC$3,AND($A2214=AC$3,$D2214<0),0)","v":0},0,0]
[{"$f":"IF(B2217=0,\"\",MONTH(B2217))","v":""},null,null,null,{"$f":"IF(D2217=\"\",\"\",IF(D2217<0,\"DEBITO\",\"CREDITO\"))","v":""},null,false,false,0,{"$f":"IF($A2217=I$3,AND($A2217=I$3,$D2217<0),0)","v":0},0,{"$f":"IF($A2217=K$3,AND($A2217=K$3,$D2217<0),0)","v":0},0,{"$f":"IF($A2217=M$3,AND($A2217=M$3,$D2217<0),0)","v":0},0,{"$f":"IF($A2217=O$3,AND($A2217=O$3,$D2217<0),0)","v":0},0,0,0,0,0,0,0,{"$f":"IF($A2217=W$3,AND($A2217=W$3,$D2217<0),0)","v":0},0,{"$f":"IF($A2217=Y$3,AND($A2217=Y$3,$D2217<0),0)","v":0},0,{"$f":"IF($A2217=AA$3,AND($A2217=AA$3,$D2217<0),0)","v":0},0,{"$f":"IF($A2217=AC$3,AND($A2217=AC$3,$D2217<0),0)","v":0},0,0]
[{"$f":"IF(B2218=0,\"\",MONTH(B2218))","v":""},null,null,null,{"$f":"IF(D2218=\"\",\"\",IF(D2218<0,\"DEBITO\",\"CREDITO\"))","v":""},null,false,false,0,{"$f":"IF($A2218=I$3,AND($A2218=I$3,$D2218<0),0)","v":0},0,{"$f":"IF($A2218=K$3,AND($A2218=K$3,$D2218<0),0)","v":0},0,{"$f":"IF($A2218=M$3,AND($A2218=M$3,$D2218<0),0)","v":0},0,{"$f":"IF($A2218=O$3,AND($A2218=O$3,$D2218<0),0)","v":0},0,0,0,0,0,0,0,{"$f":"IF($A2218=W$3,AND($A2218=W$3,$D2218<0),0)","v":0},0,{"$f":"IF($A2218=Y$3,AND($A2218=Y$3,$D2218<0),0)","v":0},0,{"$f":"IF($A2218=AA$3,AND($A2218=AA$3,$D2218<0),0)","v":0},0,{"$f":"IF($A2218=AC$3,AND($A2218=AC$3,$D2218<0),0)","v":0},0,0]
[{"$f":"IF(B2221=0,\"\",MONTH(B2221))","v":""},null,null,null,{"$f":"IF(D2221=\"\",\"\",IF(D2221<0,\"DEBITO\",\"CREDITO\"))","v":""},null,false,false,0,{"$f":"IF($A2221=I$3,AND($A2221=I$3,$D2221<0),0)","v":0},0,{"$f":"IF($A2221=K$3,AND($A2221=K$3,$D2221<0),0)","v":0},0,{"$f":"IF($A2221=M$3,AND($A2221=M$3,$D2221<0),0)","v":0},0,{"$f":"IF($A2221=O$3,AND($A2221=O$3,$D2221<0),0)","v":0},0,0,0,0,0,0,0,{"$f":"IF($A2221=W$3,AND($A2221=W$3,$D2221<0),0)","v":0},0,{"$f":"IF($A2221=Y$3,AND($A2221=Y$3,$D2221<0),0)","v":0},0,{"$f":"IF($A2221=AA$3,AND($A2221=AA$3,$D2221<0),0)","v":0},0,{"$f":"IF($A2221=AC$3,AND($A2221=AC$3,$D2221<0),0)","v":0},0,0]
[{"$f":"IF(B2223=0,\"\",MONTH(B2223))","v":""},null,null,null,{"$f":"IF(D2223=\"\",\"\",IF(D2223<0,\"DEBITO\",\"CREDITO\"))","v":""},null,false,false,0,{"$f":"IF($A2223=I$3,AND($A2223=I$3,$D2223<0),0)","v":0},0,{"$f":"IF($A2223=K$3,AND($A2223=K$3,$D2223<0),0)","v":0},0,{"$f":"IF($A2223=M$3,AND($A2223=M$3,$D2223<0),0)","v":0},0,{"$f":"IF($A2223=O$3,AND($A2223=O$3,$D2223<0),0)","v":0},0,0,0,0,0,0,0,{"$f":"IF($A2223=W$3,AND($A2223=W$3,$D2223<0),0)","v":0},0,{"$f":"IF($A2223=Y$3,AND($A2223=Y$3,$D2223<0),0)","v":0},0,{"$f":"IF($A2223=AA$3,AND($A2223=AA$3,$D2223<0),0)","v":0},0,{"$f":"IF($A2223=AC$3,AND($A2223=AC$3,$D2223<0),0)","v":0},0,0]
[{"$f":"IF(B2226=0,\"\",MONTH(B2226))","v":""},null,null,null,{"$f":"IF(D2226=\"\",\"\",IF(D2226<0,\"DEBITO\",\"CREDITO\"))","v":""},null,false,false,0,{"$f":"IF($A2226=I$3,AND($A2226=I$3,$D2226<0),0)","v":0},0,{"$f":"IF($A2226=K$3,AND($A2226=K$3,$D2226<0),0)","v":0},0,{"$f":"IF($A2226=M$3,AND($A2226=M$3,$D2226<0),0)","v":0},0,{"$f":"IF($A2226=O$3,AND($A2226=O$3,$D2226<0),0)","v":0},0,0,0,0,0,0,0,{"$f":"IF($A2226=W$3,AND($A2226=W$3,$D2226<0),0)","v":0},0,{"$f":"IF($A2226=Y$3,AND($A2226=Y$3,$D2226<0),0)","v":0},0,{"$f":"IF($A2226=AA$3,AND($A2226=AA$3,$D2226<0),0)","v":0},0,{"$f":"IF($A2226=AC$3,AND($A2226=AC$3,$D2226<0),0)","v":0},0,0]
[{"$f":"IF(B2227=0,\"\",MONTH(B2227))","v":""},null,null,null,{"$f":"IF(D2227=\"\",\"\",IF(D2227<0,\"DEBITO\",\"CREDITO\"))","v":""},null,false,false,0,{"$f":"IF($A2227=I$3,AND($A2227=I$3,$D2227<0),0)","v":0},0,{"$f":"IF($A2227=K$3,AND($A2227=K$3,$D2227<0),0)","v":0},0,{"$f":"IF($A2227=M$3,AND($A2227=M$3,$D2227<0),0)","v":0},0,{"$f":"IF($A2227=O$3,AND($A2227=O$3,$D2227<0),0)","v":0},0,0,0,0,0,0,0,{"$f":"IF($A2227=W$3,AND($A2227=W$3,$D2227<0),0)","v":0},0,{"$f":"IF($A2227=Y$3,AND($A2227=Y$3,$D2227<0),0)","v":0},0,{"$f":"IF($A2227=AA$3,AND($A2227=AA$3,$D2227<0),0)","v":0},0,{"$f":"IF($A2227=AC$3,AND($A2227=AC$3,$D2227<0),0)","v":0},0,0]
[{"$f":"IF(B2230=0,\"\",MONTH(B2230))","v":""},null,null,null,{"$f":"IF(D2230=\"\",\"\",IF(D2230<0,\"DEBITO\",\"CREDITO\"))","v":""},null,false,false,0,{"$f":"IF($A2230=I$3,AND($A2230=I$3,$D2230<0),0)","v":0},0,{"$f":"IF($A2230=K$3,AND($A2230=K$3,$D2230<0),0)","v":0},0,{"$f":"IF($A2230=M$3,AND($A2230=M$3,$D2230<0),0)","v":0},0,{"$f":"IF($A2230=O$3,AND($A2230=O$3,$D2230<0),0)","v":0},0,0,0,0,0,0,0,{"$f":"IF($A2230=W$3,AND($A2230=W$3,$D2230<0),0)","v":0},0,{"$f":"IF($A2230=Y$3,AND($A2230=Y$3,$D2230<0),0)","v":0},0,{"$f":"IF($A2230=AA$3,AND($A2230=AA$3,$D2230<0),0)","v":0},0,{"$f":"IF($A2230=AC$3,AND($A2230=AC$3,$D2230<0),0)","v":0},0,0]
[{"$f":"IF(B2231=0,\"\",MONTH(B2231))","v":""},null,null,null,{"$f":"IF(D2231=\"\",\"\",IF(D2231<0,\"DEBITO\",\"CREDITO\"))","v":""},null,false,false,0,{"$f":"IF($A2231=I$3,AND($A2231=I$3,$D2231<0),0)","v":0},0,{"$f":"IF($A2231=K$3,AND($A2231=K$3,$D2231<0),0)","v":0},0,{"$f":"IF($A2231=M$3,AND($A2231=M$3,$D2231<0),0)","v":0},0,{"$f":"IF($A2231=O$3,AND($A2231=O$3,$D2231<0),0)","v":0},0,0,0,0,0,0,0,{"$f":"IF($A2231=W$3,AND($A2231=W$3,$D2231<0),0)","v":0},0,{"$f":"IF($A2231=Y$3,AND($A2231=Y$3,$D2231<0),0)","v":0},0,{"$f":"IF($A2231=AA$3,AND($A2231=AA$3,$D2231<0),0)","v":0},0,{"$f":"IF($A2231=AC$3,AND($A2231=AC$3,$D2231<0),0)","v":0},0,0]
[{"$f":"IF(B2234=0,\"\",MONTH(B2234))","v":""},null,null,null,{"$f":"IF(D2234=\"\",\"\",IF(D2234<0,\"DEBITO\",\"CREDITO\"))","v":""},null,false,false,0,{"$f":"IF($A2234=I$3,AND($A2234=I$3,$D2234<0),0)","v":0},0,{"$f":"IF($A2234=K$3,AND($A2234=K$3,$D2234<0),0)","v":0},0,{"$f":"IF($A2234=M$3,AND($A2234=M$3,$D2234<0),0)","v":0},0,{"$f":"IF($A2234=O$3,AND($A2234=O$3,$D2234<0),0)","v":0},0,0,0,0,0,0,0,{"$f":"IF($A2234=W$3,AND($A2234=W$3,$D2234<0),0)","v":0},0,{"$f":"IF($A2234=Y$3,AND($A2234=Y$3,$D2234<0),0)","v":0},0,{"$f":"IF($A2234=AA$3,AND($A2234=AA$3,$D2234<0),0)","v":0},0,{"$f":"IF($A2234=AC$3,AND($A2234=AC$3,$D2234<0),0)","v":0},0,0]
[{"$f":"IF(B2235=0,\"\",MONTH(B2235))","v":""},null,null,null,{"$f":"IF(D2235=\"\",\"\",IF(D2235<0,\"DEBITO\",\"CREDITO\"))","v":""},null,false,false,0,{"$f":"IF($A2235=I$3,AND($A2235=I$3,$D2235<0),0)","v":0},0,{"$f":"IF($A2235=K$3,AND($A2235=K$3,$D2235<0),0)","v":0},0,{"$f":"IF($A2235=M$3,AND($A2235=M$3,$D2235<0),0)","v":0},0,{"$f":"IF($A2235=O$3,AND($A2235=O$3,$D2235<0),0)","v":0},0,0,0,0,0,0,0,{"$f":"IF($A2235=W$3,AND($A2235=W$3,$D2235<0),0)","v":0},0,{"$f":"IF($A2235=Y$3,AND($A2235=Y$3,$D2235<0),0)","v":0},0,{"$f":"IF($A2235=AA$3,AND($A2235=AA$3,$D2235<0),0)","v":0},0,{"$f":"IF($A2235=AC$3,AND($A2235=AC$3,$D2235<0),0)","v":0},0,0]
[{"$f":"IF(B2238=0,\"\",MONTH(B2238))","v":""},null,null,null,{"$f":"IF(D2238=\"\",\"\",IF(D2238<0,\"DEBITO\",\"CREDITO\"))","v":""},null,false,false,0,{"$f":"IF($A2238=I$3,AND($A2238=I$3,$D2238<0),0)","v":0},0,{"$f":"IF($A2238=K$3,AND($A2238=K$3,$D2238<0),0)","v":0},0,{"$f":"IF($A2238=M$3,AND($A2238=M$3,$D2238<0),0)","v":0},0,{"$f":"IF($A2238=O$3,AND($A2238=O$3,$D2238<0),0)","v":0},0,0,0,0,0,0,0,{"$f":"IF($A2238=W$3,AND($A2238=W$3,$D2238<0),0)","v":0},0,{"$f":"IF($A2238=Y$3,AND($A2238=Y$3,$D2238<0),0)","v":0},0,{"$f":"IF($A2238=AA$3,AND($A2238=AA$3,$D2238<0),0)","v":0},0,{"$f":"IF($A2238=AC$3,AND($A2238=AC$3,$D2238<0),0)","v":0},0,0]
[{"$f":"IF(B2239=0,\"\",MONTH(B2239))","v":""},null,null,null,{"$f":"IF(D2239=\"\",\"\",IF(D2239<0,\"DEBITO\",\"CREDITO\"))","v":""},null,false,false,0,{"$f":"IF($A2239=I$3,AND($A2239=I$3,$D2239<0),0)","v":0},0,{"$f":"IF($A2239=K$3,AND($A2239=K$3,$D2239<0),0)","v":0},0,{"$f":"IF($A2239=M$3,AND($A2239=M$3,$D2239<0),0)","v":0},0,{"$f":"IF($A2239=O$3,AND($A2239=O$3,$D2239<0),0)","v":0},0,0,0,0,0,0,0,{"$f":"IF($A2239=W$3,AND($A2239=W$3,$D2239<0),0)","v":0},0,{"$f":"IF($A2239=Y$3,AND($A2239=Y$3,$D2239<0),0)","v":0},0,{"$f":"IF($A2239=AA$3,AND($A2239=AA$3,$D2239<0),0)","v":0},0,{"$f":"IF($A2239=AC$3,AND($A2239=AC$3,$D2239<0),0)","v":0},0,0]
[{"$f":"IF(B2242=0,\"\",MONTH(B2242))","v":""},null,null,null,{"$f":"IF(D2242=\"\",\"\",IF(D2242<0,\"DEBITO\",\"CREDITO\"))","v":""},null,false,false,0,{"$f":"IF($A2242=I$3,AND($A2242=I$3,$D2242<0),0)","v":0},0,{"$f":"IF($A2242=K$3,AND($A2242=K$3,$D2242<0),0)","v":0},0,{"$f":"IF($A2242=M$3,AND($A2242=M$3,$D2242<0),0)","v":0},0,{"$f":"IF($A2242=O$3,AND($A2242=O$3,$D2242<0),0)","v":0},0,0,0,0,0,0,0,{"$f":"IF($A2242=W$3,AND($A2242=W$3,$D2242<0),0)","v":0},0,{"$f":"IF($A2242=Y$3,AND($A2242=Y$3,$D2242<0),0)","v":0},0,{"$f":"IF($A2242=AA$3,AND($A2242=AA$3,$D2242<0),0)","v":0},0,{"$f":"IF($A2242=AC$3,AND($A2242=AC$3,$D2242<0),0)","v":0},0,0]
[{"$f":"IF(B2245=0,\"\",MONTH(B2245))","v":""},null,null,null,{"$f":"IF(D2245=\"\",\"\",IF(D2245<0,\"DEBITO\",\"CREDITO\"))","v":""},null,false,false,0,{"$f":"IF($A2245=I$3,AND($A2245=I$3,$D2245<0),0)","v":0},0,{"$f":"IF($A2245=K$3,AND($A2245=K$3,$D2245<0),0)","v":0},0,{"$f":"IF($A2245=M$3,AND($A2245=M$3,$D2245<0),0)","v":0},0,{"$f":"IF($A2245=O$3,AND($A2245=O$3,$D2245<0),0)","v":0},0,0,0,0,0,0,0,{"$f":"IF($A2245=W$3,AND($A2245=W$3,$D2245<0),0)","v":0},0,{"$f":"IF($A2245=Y$3,AND($A2245=Y$3,$D2245<0),0)","v":0},0,{"$f":"IF($A2245=AA$3,AND($A2245=AA$3,$D2245<0),0)","v":0},0,{"$f":"IF($A2245=AC$3,AND($A2245=AC$3,$D2245<0),0)","v":0},0,0]
[{"$f":"IF(B2247=0,\"\",MONTH(B2247))","v":""},null,null,null,{"$f":"IF(D2247=\"\",\"\",IF(D2247<0,\"DEBITO\",\"CREDITO\"))","v":""},null,false,false,0,{"$f":"IF($A2247=I$3,AND($A2247=I$3,$D2247<0),0)","v":0},0,{"$f":"IF($A2247=K$3,AND($A2247=K$3,$D2247<0),0)","v":0},0,{"$f":"IF($A2247=M$3,AND($A2247=M$3,$D2247<0),0)","v":0},0,{"$f":"IF($A2247=O$3,AND($A2247=O$3,$D2247<0),0)","v":0},0,0,0,0,0,0,0,{"$f":"IF($A2247=W$3,AND($A2247=W$3,$D2247<0),0)","v":0},0,{"$f":"IF($A2247=Y$3,AND($A2247=Y$3,$D2247<0),0)","v":0},0,{"$f":"IF($A2247=AA$3,AND($A2247=AA$3,$D2247<0),0)","v":0},0,{"$f":"IF($A2247=AC$3,AND($A2247=AC$3,$D2247<0),0)","v":0},0,0]
[{"$f":"IF(B2248=0,\"\",MONTH(B2248))","v":""},null,null,null,{"$f":"IF(D2248=\"\",\"\",IF(D2248<0,\"DEBITO\",\"CREDITO\"))","v":""},null,false,false,0,{"$f":"IF($A2248=I$3,AND($A2248=I$3,$D2248<0),0)","v":0},0,{"$f":"IF($A2248=K$3,AND($A2248=K$3,$D2248<0),0)","v":0},0,{"$f":"IF($A2248=M$3,AND($A2248=M$3,$D2248<0),0)","v":0},0,{"$f":"IF($A2248=O$3,AND($A2248=O$3,$D2248<0),0)","v":0},0,0,0,0,0,0,0,{"$f":"IF($A2248=W$3,AND($A2248=W$3,$D2248<0),0)","v":0},0,{"$f":"IF($A2248=Y$3,AND($A2248=Y$3,$D2248<0),0)","v":0},0,{"$f":"IF($A2248=AA$3,AND($A2248=AA$3,$D2248<0),0)","v":0},0,{"$f":"IF($A2248=AC$3,AND($A2248=AC$3,$D2248<0),0)","v":0},0,0]
[{"$f":"IF(B2251=0,\"\",MONTH(B2251))","v":""},null,null,null,{"$f":"IF(D2251=\"\",\"\",IF(D2251<0,\"DEBITO\",\"CREDITO\"))","v":""},null,false,false,0,{"$f":"IF($A2251=I$3,AND($A2251=I$3,$D2251<0),0)","v":0},0,{"$f":"IF($A2251=K$3,AND($A2251=K$3,$D2251<0),0)","v":0},0,{"$f":"IF($A2251=M$3,AND($A2251=M$3,$D2251<0),0)","v":0},0,{"$f":"IF($A2251=O$3,AND($A2251=O$3,$D2251<0),0)","v":0},0,0,0,0,0,0,0,{"$f":"IF($A2251=W$3,AND($A2251=W$3,$D2251<0),0)","v":0},0,{"$f":"IF($A2251=Y$3,AND($A2251=Y$3,$D2251<0),0)","v":0},0,{"$f":"IF($A2251=AA$3,AND($A2251=AA$3,$D2251<0),0)","v":0},0,{"$f":"IF($A2251=AC$3,AND($A2251=AC$3,$D2251<0),0)","v":0},0,0]
[{"$f":"IF(B2252=0,\"\",MONTH(B2252))","v":""},null,null,null,{"$f":"IF(D2252=\"\",\"\",IF(D2252<0,\"DEBITO\",\"CREDITO\"))","v":""},null,false,false,0,{"$f":"IF($A2252=I$3,AND($A2252=I$3,$D2252<0),0)","v":0},0,{"$f":"IF($A2252=K$3,AND($A2252=K$3,$D2252<0),0)","v":0},0,{"$f":"IF($A2252=M$3,AND($A2252=M$3,$D2252<0),0)","v":0},0,{"$f":"IF($A2252=O$3,AND($A2252=O$3,$D2252<0),0)","v":0},0,0,0,0,0,0,0,{"$f":"IF($A2252=W$3,AND($A2252=W$3,$D2252<0),0)","v":0},0,{"$f":"IF($A2252=Y$3,AND($A2252=Y$3,$D2252<0),0)","v":0},0,{"$f":"IF($A2252=AA$3,AND($A2252=AA$3,$D2252<0),0)","v":0},0,{"$f":"IF($A2252=AC$3,AND($A2252=AC$3,$D2252<0),0)","v":0},0,0]
[{"$f":"IF(B2255=0,\"\",MONTH(B2255))","v":""},null,null,null,{"$f":"IF(D2255=\"\",\"\",IF(D2255<0,\"DEBITO\",\"CREDITO\"))","v":""},null,false,false,0,{"$f":"IF($A2255=I$3,AND($A2255=I$3,$D2255<0),0)","v":0},0,{"$f":"IF($A2255=K$3,AND($A2255=K$3,$D2255<0),0)","v":0},0,{"$f":"IF($A2255=M$3,AND($A2255=M$3,$D2255<0),0)","v":0},0,{"$f":"IF($A2255=O$3,AND($A2255=O$3,$D2255<0),0)","v":0},0,0,0,0,0,0,0,{"$f":"IF($A2255=W$3,AND($A2255=W$3,$D2255<0),0)","v":0},0,{"$f":"IF($A2255=Y$3,AND($A2255=Y$3,$D2255<0),0)","v":0},0,{"$f":"IF($A2255=AA$3,AND($A2255=AA$3,$D2255<0),0)","v":0},0,{"$f":"IF($A2255=AC$3,AND($A2255=AC$3,$D2255<0),0)","v":0},0,0]
[{"$f":"IF(B2256=0,\"\",MONTH(B2256))","v":""},null,null,null,{"$f":"IF(D2256=\"\",\"\",IF(D2256<0,\"DEBITO\",\"CREDITO\"))","v":""},null,false,false,0,{"$f":"IF($A2256=I$3,AND($A2256=I$3,$D2256<0),0)","v":0},0,{"$f":"IF($A2256=K$3,AND($A2256=K$3,$D2256<0),0)","v":0},0,{"$f":"IF($A2256=M$3,AND($A2256=M$3,$D2256<0),0)","v":0},0,{"$f":"IF($A2256=O$3,AND($A2256=O$3,$D2256<0),0)","v":0},0,0,0,0,0,0,0,{"$f":"IF($A2256=W$3,AND($A2256=W$3,$D2256<0),0)","v":0},0,{"$f":"IF($A2256=Y$3,AND($A2256=Y$3,$D2256<0),0)","v":0},0,{"$f":"IF($A2256=AA$3,AND($A2256=AA$3,$D2256<0),0)","v":0},0,{"$f":"IF($A2256=AC$3,AND($A2256=AC$3,$D2256<0),0)","v":0},0,0]
[{"$f":"IF(B2259=0,\"\",MONTH(B2259))","v":""},null,null,null,{"$f":"IF(D2259=\"\",\"\",IF(D2259<0,\"DEBITO\",\"CREDITO\"))","v":""},null,false,false,0,{"$f":"IF($A2259=I$3,AND($A2259=I$3,$D2259<0),0)","v":0},0,{"$f":"IF($A2259=K$3,AND($A2259=K$3,$D2259<0),0)","v":0},0,{"$f":"IF($A2259=M$3,AND($A2259=M$3,$D2259<0),0)","v":0},0,{"$f":"IF($A2259=O$3,AND($A2259=O$3,$D2259<0),0)","v":0},0,0,0,0,0,0,0,{"$f":"IF($A2259=W$3,AND($A2259=W$3,$D2259<0),0)","v":0},0,{"$f":"IF($A2259=Y$3,AND($A2259=Y$3,$D2259<0),0)","v":0},0,{"$f":"IF($A2259=AA$3,AND($A2259=AA$3,$D2259<0),0)","v":0},0,{"$f":"IF($A2259=AC$3,AND($A2259=AC$3,$D2259<0),0)","v":0},0,0]
[{"$f":"IF(B2260=0,\"\",MONTH(B2260))","v":""},null,null,null,{"$f":"IF(D2260=\"\",\"\",IF(D2260<0,\"DEBITO\",\"CREDITO\"))","v":""},null,false,false,0,{"$f":"IF($A2260=I$3,AND($A2260=I$3,$D2260<0),0)","v":0},0,{"$f":"IF($A2260=K$3,AND($A2260=K$3,$D2260<0),0)","v":0},0,{"$f":"IF($A2260=M$3,AND($A2260=M$3,$D2260<0),0)","v":0},0,{"$f":"IF($A2260=O$3,AND($A2260=O$3,$D2260<0),0)","v":0},0,0,0,0,0,0,0,{"$f":"IF($A2260=W$3,AND($A2260=W$3,$D2260<0),0)","v":0},0,{"$f":"IF($A2260=Y$3,AND($A2260=Y$3,$D2260<0),0)","v":0},0,{"$f":"IF($A2260=AA$3,AND($A2260=AA$3,$D2260<0),0)","v":0},0,{"$f":"IF($A2260=AC$3,AND($A2260=AC$3,$D2260<0),0)","v":0},0,0]
[{"$f":"IF(B2263=0,\"\",MONTH(B2263))","v":""},null,null,null,{"$f":"IF(D2263=\"\",\"\",IF(D2263<0,\"DEBITO\",\"CREDITO\"))","v":""},null,false,false,0,{"$f":"IF($A2263=I$3,AND($A2263=I$3,$D2263<0),0)","v":0},0,{"$f":"IF($A2263=K$3,AND($A2263=K$3,$D2263<0),0)","v":0},0,{"$f":"IF($A2263=M$3,AND($A2263=M$3,$D2263<0),0)","v":0},0,{"$f":"IF($A2263=O$3,AND($A2263=O$3,$D2263<0),0)","v":0},0,0,0,0,0,0,0,{"$f":"IF($A2263=W$3,AND($A2263=W$3,$D2263<0),0)","v":0},0,{"$f":"IF($A2263=Y$3,AND($A2263=Y$3,$D2263<0),0)","v":0},0,{"$f":"IF($A2263=AA$3,AND($A2263=AA$3,$D2263<0),0)","v":0},0,{"$f":"IF($A2263=AC$3,AND($A2263=AC$3,$D2263<0),0)","v":0},0,0]
[{"$f":"IF(B2264=0,\"\",MONTH(B2264))","v":""},null,null,null,{"$f":"IF(D2264=\"\",\"\",IF(D2264<0,\"DEBITO\",\"CREDITO\"))","v":""},null,false,false,0,{"$f":"IF($A2264=I$3,AND($A2264=I$3,$D2264<0),0)","v":0},0,{"$f":"IF($A2264=K$3,AND($A2264=K$3,$D2264<0),0)","v":0},0,{"$f":"IF($A2264=M$3,AND($A2264=M$3,$D2264<0),0)","v":0},0,{"$f":"IF($A2264=O$3,AND($A2264=O$3,$D2264<0),0)","v":0},0,0,0,0,0,0,0,{"$f":"IF($A2264=W$3,AND($A2264=W$3,$D2264<0),0)","v":0},0,{"$f":"IF($A2264=Y$3,AND($A2264=Y$3,$D2264<0),0)","v":0},0,{"$f":"IF($A2264=AA$3,AND($A2264=AA$3,$D2264<0),0)","v":0},0,{"$f":"IF($A2264=AC$3,AND($A2264=AC$3,$D2264<0),0)","v":0},0,0]
[{"$f":"IF(B2266=0,\"\",MONTH(B2266))","v":""},null,null,null,{"$f":"IF(D2266=\"\",\"\",IF(D2266<0,\"DEBITO\",\"CREDITO\"))","v":""},null,false,false,0,{"$f":"IF($A2266=I$3,AND($A2266=I$3,$D2266<0),0)","v":0},0,{"$f":"IF($A2266=K$3,AND($A2266=K$3,$D2266<0),0)","v":0},0,{"$f":"IF($A2266=M$3,AND($A2266=M$3,$D2266<0),0)","v":0},0,{"$f":"IF($A2266=O$3,AND($A2266=O$3,$D2266<0),0)","v":0},0,0,0,0,0,0,0,{"$f":"IF($A2266=W$3,AND($A2266=W$3,$D2266<0),0)","v":0},0,{"$f":"IF($A2266=Y$3,AND($A2266=Y$3,$D2266<0),0)","v":0},0,{"$f":"IF($A2266=AA$3,AND($A2266=AA$3,$D2266<0),0)","v":0},0,{"$f":"IF($A2266=AC$3,AND($A2266=AC$3,$D2266<0),0)","v":0},0,0]
[{"$f":"IF(B2269=0,\"\",MONTH(B2269))","v":""},null,null,null,{"$f":"IF(D2269=\"\",\"\",IF(D2269<0,\"DEBITO\",\"CREDITO\"))","v":""},null,false,false,0,{"$f":"IF($A2269=I$3,AND($A2269=I$3,$D2269<0),0)","v":0},0,{"$f":"IF($A2269=K$3,AND($A2269=K$3,$D2269<0),0)","v":0},0,{"$f":"IF($A2269=M$3,AND($A2269=M$3,$D2269<0),0)","v":0},0,{"$f":"IF($A2269=O$3,AND($A2269=O$3,$D2269<0),0)","v":0},0,0,0,0,0,0,0,{"$f":"IF($A2269=W$3,AND($A2269=W$3,$D2269<0),0)","v":0},0,{"$f":"IF($A2269=Y$3,AND($A2269=Y$3,$D2269<0),0)","v":0},0,{"$f":"IF($A2269=AA$3,AND($A2269=AA$3,$D2269<0),0)","v":0},0,{"$f":"IF($A2269=AC$3,AND($A2269=AC$3,$D2269<0),0)","v":0},0,0]
[{"$f":"IF(B2272=0,\"\",MONTH(B2272))","v":""},null,null,null,{"$f":"IF(D2272=\"\",\"\",IF(D2272<0,\"DEBITO\",\"CREDITO\"))","v":""},null,false,false,0,{"$f":"IF($A2272=I$3,AND($A2272=I$3,$D2272<0),0)","v":0},0,{"$f":"IF($A2272=K$3,AND($A2272=K$3,$D2272<0),0)","v":0},0,{"$f":"IF($A2272=M$3,AND($A2272=M$3,$D2272<0),0)","v":0},0,{"$f":"IF($A2272=O$3,AND($A2272=O$3,$D2272<0),0)","v":0},0,0,0,0,0,0,0,{"$f":"IF($A2272=W$3,AND($A2272=W$3,$D2272<0),0)","v":0},0,{"$f":"IF($A2272=Y$3,AND($A2272=Y$3,$D2272<0),0)","v":0},0,{"$f":"IF($A2272=AA$3,AND($A2272=AA$3,$D2272<0),0)","v":0},0,{"$f":"IF($A2272=AC$3,AND($A2272=AC$3,$D2272<0),0)","v":0},0,0]
[{"$f":"IF(B2273=0,\"\",MONTH(B2273))","v":""},null,null,null,{"$f":"IF(D2273=\"\",\"\",IF(D2273<0,\"DEBITO\",\"CREDITO\"))","v":""},null,false,false,0,{"$f":"IF($A2273=I$3,AND($A2273=I$3,$D2273<0),0)","v":0},0,{"$f":"IF($A2273=K$3,AND($A2273=K$3,$D2273<0),0)","v":0},0,{"$f":"IF($A2273=M$3,AND($A2273=M$3,$D2273<0),0)","v":0},0,{"$f":"IF($A2273=O$3,AND($A2273=O$3,$D2273<0),0)","v":0},0,0,0,0,0,0,0,{"$f":"IF($A2273=W$3,AND($A2273=W$3,$D2273<0),0)","v":0},0,{"$f":"IF($A2273=Y$3,AND($A2273=Y$3,$D2273<0),0)","v":0},0,{"$f":"IF($A2273=AA$3,AND($A2273=AA$3,$D2273<0),0)","v":0},0,{"$f":"IF($A2273=AC$3,AND($A2273=AC$3,$D2273<0),0)","v":0},0,0]
[{"$f":"IF(B2276=0,\"\",MONTH(B2276))","v":""},null,null,null,{"$f":"IF(D2276=\"\",\"\",IF(D2276<0,\"DEBITO\",\"CREDITO\"))","v":""},null,false,false,0,{"$f":"IF($A2276=I$3,AND($A2276=I$3,$D2276<0),0)","v":0},0,{"$f":"IF($A2276=K$3,AND($A2276=K$3,$D2276<0),0)","v":0},0,{"$f":"IF($A2276=M$3,AND($A2276=M$3,$D2276<0),0)","v":0},0,{"$f":"IF($A2276=O$3,AND($A2276=O$3,$D2276<0),0)","v":0},0,0,0,0,0,0,0,{"$f":"IF($A2276=W$3,AND($A2276=W$3,$D2276<0),0)","v":0},0,{"$f":"IF($A2276=Y$3,AND($A2276=Y$3,$D2276<0),0)","v":0},0,{"$f":"IF($A2276=AA$3,AND($A2276=AA$3,$D2276<0),0)","v":0},0,{"$f":"IF($A2276=AC$3,AND($A2276=AC$3,$D2276<0),0)","v":0},0,0]
[{"$f":"IF(B2277=0,\"\",MONTH(B2277))","v":""},null,null,null,{"$f":"IF(D2277=\"\",\"\",IF(D2277<0,\"DEBITO\",\"CREDITO\"))","v":""},null,false,false,0,{"$f":"IF($A2277=I$3,AND($A2277=I$3,$D2277<0),0)","v":0},0,{"$f":"IF($A2277=K$3,AND($A2277=K$3,$D2277<0),0)","v":0},0,{"$f":"IF($A2277=M$3,AND($A2277=M$3,$D2277<0),0)","v":0},0,{"$f":"IF($A2277=O$3,AND($A2277=O$3,$D2277<0),0)","v":0},0,0,0,0,0,0,0,{"$f":"IF($A2277=W$3,AND($A2277=W$3,$D2277<0),0)","v":0},0,{"$f":"IF($A2277=Y$3,AND($A2277=Y$3,$D2277<0),0)","v":0},0,{"$f":"IF($A2277=AA$3,AND($A2277=AA$3,$D2277<0),0)","v":0},0,{"$f":"IF($A2277=AC$3,AND($A2277=AC$3,$D2277<0),0)","v":0},0,0]
[{"$f":"IF(B2280=0,\"\",MONTH(B2280))","v":""},null,null,null,{"$f":"IF(D2280=\"\",\"\",IF(D2280<0,\"DEBITO\",\"CREDITO\"))","v":""},null,false,false,0,{"$f":"IF($A2280=I$3,AND($A2280=I$3,$D2280<0),0)","v":0},0,{"$f":"IF($A2280=K$3,AND($A2280=K$3,$D2280<0),0)","v":0},0,{"$f":"IF($A2280=M$3,AND($A2280=M$3,$D2280<0),0)","v":0},0,{"$f":"IF($A2280=O$3,AND($A2280=O$3,$D2280<0),0)","v":0},0,0,0,0,0,0,0,{"$f":"IF($A2280=W$3,AND($A2280=W$3,$D2280<0),0)","v":0},0,{"$f":"IF($A2280=Y$3,AND($A2280=Y$3,$D2280<0),0)","v":0},0,{"$f":"IF($A2280=AA$3,AND($A2280=AA$3,$D2280<0),0)","v":0},0,{"$f":"IF($A2280=AC$3,AND($A2280=AC$3,$D2280<0),0)","v":0},0,0]
[{"$f":"IF(B2281=0,\"\",MONTH(B2281))","v":""},null,null,null,{"$f":"IF(D2281=\"\",\"\",IF(D2281<0,\"DEBITO\",\"CREDITO\"))","v":""},null,false,false,0,{"$f":"IF($A2281=I$3,AND($A2281=I$3,$D2281<0),0)","v":0},0,{"$f":"IF($A2281=K$3,AND($A2281=K$3,$D2281<0),0)","v":0},0,{"$f":"IF($A2281=M$3,AND($A2281=M$3,$D2281<0),0)","v":0},0,{"$f":"IF($A2281=O$3,AND($A2281=O$3,$D2281<0),0)","v":0},0,0,0,0,0,0,0,{"$f":"IF($A2281=W$3,AND($A2281=W$3,$D2281<0),0)","v":0},0,{"$f":"IF($A2281=Y$3,AND($A2281=Y$3,$D2281<0),0)","v":0},0,{"$f":"IF($A2281=AA$3,AND($A2281=AA$3,$D2281<0),0)","v":0},0,{"$f":"IF($A2281=AC$3,AND($A2281=AC$3,$D2281<0),0)","v":0},0,0]
[{"$f":"IF(B2284=0,\"\",MONTH(B2284))","v":""},null,null,null,{"$f":"IF(D2284=\"\",\"\",IF(D2284<0,\"DEBITO\",\"CREDITO\"))","v":""},null,false,false,0,{"$f":"IF($A2284=I$3,AND($A2284=I$3,$D2284<0),0)","v":0},0,{"$f":"IF($A2284=K$3,AND($A2284=K$3,$D2284<0),0)","v":0},0,{"$f":"IF($A2284=M$3,AND($A2284=M$3,$D2284<0),0)","v":0},0,{"$f":"IF($A2284=O$3,AND($A2284=O$3,$D2284<0),0)","v":0},0,0,0,0,0,0,0,{"$f":"IF($A2284=W$3,AND($A2284=W$3,$D2284<0),0)","v":0},0,{"$f":"IF($A2284=Y$3,AND($A2284=Y$3,$D2284<0),0)","v":0},0,{"$f":"IF($A2284=AA$3,AND($A2284=AA$3,$D2284<0),0)","v":0},0,{"$f":"IF($A2284=AC$3,AND($A2284=AC$3,$D2284<0),0)","v":0},0,0]
[{"$f":"IF(B2285=0,\"\",MONTH(B2285))","v":""},null,null,null,{"$f":"IF(D2285=\"\",\"\",IF(D2285<0,\"DEBITO\",\"CREDITO\"))","v":""},null,false,false,0,{"$f":"IF($A2285=I$3,AND($A2285=I$3,$D2285<0),0)","v":0},0,{"$f":"IF($A2285=K$3,AND($A2285=K$3,$D2285<0),0)","v":0},0,{"$f":"IF($A2285=M$3,AND($A2285=M$3,$D2285<0),0)","v":0},0,{"$f":"IF($A2285=O$3,AND($A2285=O$3,$D2285<0),0)","v":0},0,0,0,0,0,0,0,{"$f":"IF($A2285=W$3,AND($A2285=W$3,$D2285<0),0)","v":0},0,{"$f":"IF($A2285=Y$3,AND($A2285=Y$3,$D2285<0),0)","v":0},0,{"$f":"IF($A2285=AA$3,AND($A2285=AA$3,$D2285<0),0)","v":0},0,{"$f":"IF($A2285=AC$3,AND($A2285=AC$3,$D2285<0),0)","v":0},0,0]
[{"$f":"IF(B2288=0,\"\",MONTH(B2288))","v":""},null,null,null,{"$f":"IF(D2288=\"\",\"\",IF(D2288<0,\"DEBITO\",\"CREDITO\"))","v":""},null,false,false,0,{"$f":"IF($A2288=I$3,AND($A2288=I$3,$D2288<0),0)","v":0},0,{"$f":"IF($A2288=K$3,AND($A2288=K$3,$D2288<0),0)","v":0},0,{"$f":"IF($A2288=M$3,AND($A2288=M$3,$D2288<0),0)","v":0},0,{"$f":"IF($A2288=O$3,AND($A2288=O$3,$D2288<0),0)","v":0},0,0,0,0,0,0,0,{"$f":"IF($A2288=W$3,AND($A2288=W$3,$D2288<0),0)","v":0},0,{"$f":"IF($A2288=Y$3,AND($A2288=Y$3,$D2288<0),0)","v":0},0,{"$f":"IF($A2288=AA$3,AND($A2288=AA$3,$D2288<0),0)","v":0},0,{"$f":"IF($A2288=AC$3,AND($A2288=AC$3,$D2288<0),0)","v":0},0,0]
[{"$f":"IF(B2290=0,\"\",MONTH(B2290))","v":""},null,null,null,{"$f":"IF(D2290=\"\",\"\",IF(D2290<0,\"DEBITO\",\"CREDITO\"))","v":""},null,false,false,0,{"$f":"IF($A2290=I$3,AND($A2290=I$3,$D2290<0),0)","v":0},0,{"$f":"IF($A2290=K$3,AND($A2290=K$3,$D2290<0),0)","v":0},0,{"$f":"IF($A2290=M$3,AND($A2290=M$3,$D2290<0),0)","v":0},0,{"$f":"IF($A2290=O$3,AND($A2290=O$3,$D2290<0),0)","v":0},0,0,0,0,0,0,0,{"$f":"IF($A2290=W$3,AND($A2290=W$3,$D2290<0),0)","v":0},0,{"$f":"IF($A2290=Y$3,AND($A2290=Y$3,$D2290<0),0)","v":0},0,{"$f":"IF($A2290=AA$3,AND($A2290=AA$3,$D2290<0),0)","v":0},0,{"$f":"IF($A2290=AC$3,AND($A2290=AC$3,$D2290<0),0)","v":0},0,0]
[{"$f":"IF(B2293=0,\"\",MONTH(B2293))","v":""},null,null,null,{"$f":"IF(D2293=\"\",\"\",IF(D2293<0,\"DEBITO\",\"CREDITO\"))","v":""},null,false,false,0,{"$f":"IF($A2293=I$3,AND($A2293=I$3,$D2293<0),0)","v":0},0,{"$f":"IF($A2293=K$3,AND($A2293=K$3,$D2293<0),0)","v":0},0,{"$f":"IF($A2293=M$3,AND($A2293=M$3,$D2293<0),0)","v":0},0,{"$f":"IF($A2293=O$3,AND($A2293=O$3,$D2293<0),0)","v":0},0,0,0,0,0,0,0,{"$f":"IF($A2293=W$3,AND($A2293=W$3,$D2293<0),0)","v":0},0,{"$f":"IF($A2293=Y$3,AND($A2293=Y$3,$D2293<0),0)","v":0},0,{"$f":"IF($A2293=AA$3,AND($A2293=AA$3,$D2293<0),0)","v":0},0,{"$f":"IF($A2293=AC$3,AND($A2293=AC$3,$D2293<0),0)","v":0},0,0]
[{"$f":"IF(B2294=0,\"\",MONTH(B2294))","v":""},null,null,null,{"$f":"IF(D2294=\"\",\"\",IF(D2294<0,\"DEBITO\",\"CREDITO\"))","v":""},null,false,false,0,{"$f":"IF($A2294=I$3,AND($A2294=I$3,$D2294<0),0)","v":0},0,{"$f":"IF($A2294=K$3,AND($A2294=K$3,$D2294<0),0)","v":0},0,{"$f":"IF($A2294=M$3,AND($A2294=M$3,$D2294<0),0)","v":0},0,{"$f":"IF($A2294=O$3,AND($A2294=O$3,$D2294<0),0)","v":0},0,0,0,0,0,0,0,{"$f":"IF($A2294=W$3,AND($A2294=W$3,$D2294<0),0)","v":0},0,{"$f":"IF($A2294=Y$3,AND($A2294=Y$3,$D2294<0),0)","v":0},0,{"$f":"IF($A2294=AA$3,AND($A2294=AA$3,$D2294<0),0)","v":0},0,{"$f":"IF($A2294=AC$3,AND($A2294=AC$3,$D2294<0),0)","v":0},0,0]
[{"$f":"IF(B2297=0,\"\",MONTH(B2297))","v":""},null,null,null,{"$f":"IF(D2297=\"\",\"\",IF(D2297<0,\"DEBITO\",\"CREDITO\"))","v":""},null,false,false,0,{"$f":"IF($A2297=I$3,AND($A2297=I$3,$D2297<0),0)","v":0},0,{"$f":"IF($A2297=K$3,AND($A2297=K$3,$D2297<0),0)","v":0},0,{"$f":"IF($A2297=M$3,AND($A2297=M$3,$D2297<0),0)","v":0},0,{"$f":"IF($A2297=O$3,AND($A2297=O$3,$D2297<0),0)","v":0},0,0,0,0,0,0,0,{"$f":"IF($A2297=W$3,AND($A2297=W$3,$D2297<0),0)","v":0},0,{"$f":"IF($A2297=Y$3,AND($A2297=Y$3,$D2297<0),0)","v":0},0,{"$f":"IF($A2297=AA$3,AND($A2297=AA$3,$D2297<0),0)","v":0},0,{"$f":"IF($A2297=AC$3,AND($A2297=AC$3,$D2297<0),0)","v":0},0,0]
[{"$f":"IF(B2298=0,\"\",MONTH(B2298))","v":""},null,null,null,{"$f":"IF(D2298=\"\",\"\",IF(D2298<0,\"DEBITO\",\"CREDITO\"))","v":""},null,false,false,0,{"$f":"IF($A2298=I$3,AND($A2298=I$3,$D2298<0),0)","v":0},0,{"$f":"IF($A2298=K$3,AND($A2298=K$3,$D2298<0),0)","v":0},0,{"$f":"IF($A2298=M$3,AND($A2298=M$3,$D2298<0),0)","v":0},0,{"$f":"IF($A2298=O$3,AND($A2298=O$3,$D2298<0),0)","v":0},0,0,0,0,0,0,0,{"$f":"IF($A2298=W$3,AND($A2298=W$3,$D2298<0),0)","v":0},0,{"$f":"IF($A2298=Y$3,AND($A2298=Y$3,$D2298<0),0)","v":0},0,{"$f":"IF($A2298=AA$3,AND($A2298=AA$3,$D2298<0),0)","v":0},0,{"$f":"IF($A2298=AC$3,AND($A2298=AC$3,$D2298<0),0)","v":0},0,0]
[{"$f":"IF(B2301=0,\"\",MONTH(B2301))","v":""},null,null,null,{"$f":"IF(D2301=\"\",\"\",IF(D2301<0,\"DEBITO\",\"CREDITO\"))","v":""},null,false,false,0,{"$f":"IF($A2301=I$3,AND($A2301=I$3,$D2301<0),0)","v":0},0,{"$f":"IF($A2301=K$3,AND($A2301=K$3,$D2301<0),0)","v":0},0,{"$f":"IF($A2301=M$3,AND($A2301=M$3,$D2301<0),0)","v":0},0,{"$f":"IF($A2301=O$3,AND($A2301=O$3,$D2301<0),0)","v":0},0,0,0,0,0,0,0,{"$f":"IF($A2301=W$3,AND($A2301=W$3,$D2301<0),0)","v":0},0,{"$f":"IF($A2301=Y$3,AND($A2301=Y$3,$D2301<0),0)","v":0},0,{"$f":"IF($A2301=AA$3,AND($A2301=AA$3,$D2301<0),0)","v":0},0,{"$f":"IF($A2301=AC$3,AND($A2301=AC$3,$D2301<0),0)","v":0},0,0]
[{"$f":"IF(B2302=0,\"\",MONTH(B2302))","v":""},null,null,null,{"$f":"IF(D2302=\"\",\"\",IF(D2302<0,\"DEBITO\",\"CREDITO\"))","v":""},null,false,false,0,{"$f":"IF($A2302=I$3,AND($A2302=I$3,$D2302<0),0)","v":0},0,{"$f":"IF($A2302=K$3,AND($A2302=K$3,$D2302<0),0)","v":0},0,{"$f":"IF($A2302=M$3,AND($A2302=M$3,$D2302<0),0)","v":0},0,{"$f":"IF($A2302=O$3,AND($A2302=O$3,$D2302<0),0)","v":0},0,0,0,0,0,0,0,{"$f":"IF($A2302=W$3,AND($A2302=W$3,$D2302<0),0)","v":0},0,{"$f":"IF($A2302=Y$3,AND($A2302=Y$3,$D2302<0),0)","v":0},0,{"$f":"IF($A2302=AA$3,AND($A2302=AA$3,$D2302<0),0)","v":0},0,{"$f":"IF($A2302=AC$3,AND($A2302=AC$3,$D2302<0),0)","v":0},0,0]
[{"$f":"IF(B2305=0,\"\",MONTH(B2305))","v":""},null,null,null,{"$f":"IF(D2305=\"\",\"\",IF(D2305<0,\"DEBITO\",\"CREDITO\"))","v":""},null,false,false,0,{"$f":"IF($A2305=I$3,AND($A2305=I$3,$D2305<0),0)","v":0},0,{"$f":"IF($A2305=K$3,AND($A2305=K$3,$D2305<0),0)","v":0},0,{"$f":"IF($A2305=M$3,AND($A2305=M$3,$D2305<0),0)","v":0},0,{"$f":"IF($A2305=O$3,AND($A2305=O$3,$D2305<0),0)","v":0},0,0,0,0,0,0,0,{"$f":"IF($A2305=W$3,AND($A2305=W$3,$D2305<0),0)","v":0},0,{"$f":"IF($A2305=Y$3,AND($A2305=Y$3,$D2305<0),0)","v":0},0,{"$f":"IF($A2305=AA$3,AND($A2305=AA$3,$D2305<0),0)","v":0},0,{"$f":"IF($A2305=AC$3,AND($A2305=AC$3,$D2305<0),0)","v":0},0,0]
[{"$f":"IF(B2306=0,\"\",MONTH(B2306))","v":""},null,null,null,{"$f":"IF(D2306=\"\",\"\",IF(D2306<0,\"DEBITO\",\"CREDITO\"))","v":""},null,false,false,0,{"$f":"IF($A2306=I$3,AND($A2306=I$3,$D2306<0),0)","v":0},0,{"$f":"IF($A2306=K$3,AND($A2306=K$3,$D2306<0),0)","v":0},0,{"$f":"IF($A2306=M$3,AND($A2306=M$3,$D2306<0),0)","v":0},0,{"$f":"IF($A2306=O$3,AND($A2306=O$3,$D2306<0),0)","v":0},0,0,0,0,0,0,0,{"$f":"IF($A2306=W$3,AND($A2306=W$3,$D2306<0),0)","v":0},0,{"$f":"IF($A2306=Y$3,AND($A2306=Y$3,$D2306<0),0)","v":0},0,{"$f":"IF($A2306=AA$3,AND($A2306=AA$3,$D2306<0),0)","v":0},0,{"$f":"IF($A2306=AC$3,AND($A2306=AC$3,$D2306<0),0)","v":0},0,0]
[{"$f":"IF(B2310=0,\"\",MONTH(B2310))","v":""},null,null,null,{"$f":"IF(D2310=\"\",\"\",IF(D2310<0,\"DEBITO\",\"CREDITO\"))","v":""},null,false,false,0,{"$f":"IF($A2310=I$3,AND($A2310=I$3,$D2310<0),0)","v":0},0,{"$f":"IF($A2310=K$3,AND($A2310=K$3,$D2310<0),0)","v":0},0,{"$f":"IF($A2310=M$3,AND($A2310=M$3,$D2310<0),0)","v":0},0,{"$f":"IF($A2310=O$3,AND($A2310=O$3,$D2310<0),0)","v":0},0,0,0,0,0,0,0,{"$f":"IF($A2310=W$3,AND($A2310=W$3,$D2310<0),0)","v":0},0,{"$f":"IF($A2310=Y$3,AND($A2310=Y$3,$D2310<0),0)","v":0},0,{"$f":"IF($A2310=AA$3,AND($A2310=AA$3,$D2310<0),0)","v":0},0,{"$f":"IF($A2310=AC$3,AND($A2310=AC$3,$D2310<0),0)","v":0},0,0]
[{"$f":"IF(B2311=0,\"\",MONTH(B2311))","v":""},null,null,null,{"$f":"IF(D2311=\"\",\"\",IF(D2311<0,\"DEBITO\",\"CREDITO\"))","v":""},null,false,false,0,{"$f":"IF($A2311=I$3,AND($A2311=I$3,$D2311<0),0)","v":0},0,{"$f":"IF($A2311=K$3,AND($A2311=K$3,$D2311<0),0)","v":0},0,{"$f":"IF($A2311=M$3,AND($A2311=M$3,$D2311<0),0)","v":0},0,{"$f":"IF($A2311=O$3,AND($A2311=O$3,$D2311<0),0)","v":0},0,0,0,0,0,0,0,{"$f":"IF($A2311=W$3,AND($A2311=W$3,$D2311<0),0)","v":0},0,{"$f":"IF($A2311=Y$3,AND($A2311=Y$3,$D2311<0),0)","v":0},0,{"$f":"IF($A2311=AA$3,AND($A2311=AA$3,$D2311<0),0)","v":0},0,{"$f":"IF($A2311=AC$3,AND($A2311=AC$3,$D2311<0),0)","v":0},0,0]
[{"$f":"IF(B2314=0,\"\",MONTH(B2314))","v":""},null,null,null,{"$f":"IF(D2314=\"\",\"\",IF(D2314<0,\"DEBITO\",\"CREDITO\"))","v":""},null,false,false,0,{"$f":"IF($A2314=I$3,AND($A2314=I$3,$D2314<0),0)","v":0},0,{"$f":"IF($A2314=K$3,AND($A2314=K$3,$D2314<0),0)","v":0},0,{"$f":"IF($A2314=M$3,AND($A2314=M$3,$D2314<0),0)","v":0},0,{"$f":"IF($A2314=O$3,AND($A2314=O$3,$D2314<0),0)","v":0},0,0,{"$f":"IF($A2314=S$3,AND($A2314=S$3,$D2314>0),0)","v":0},{"$f":"IF($A2314=S$3,AND($A2314=S$3,$D2314<0),0)","v":0},{"$f":"IF($A2314=U$3,AND($A2314=U$3,$D2314>0),0)","v":0},{"$f":"IF($A2314=U$3,AND($A2314=U$3,$D2314<0),0)","v":0},0,{"$f":"IF($A2314=W$3,AND($A2314=W$3,$D2314<0),0)","v":0},0,{"$f":"IF($A2314=Y$3,AND($A2314=Y$3,$D2314<0),0)","v":0},0,{"$f":"IF($A2314=AA$3,AND($A2314=AA$3,$D2314<0),0)","v":0},0,{"$f":"IF($A2314=AC$3,AND($A2314=AC$3,$D2314<0),0)","v":0},0,0]
[{"$f":"IF(B2315=0,\"\",MONTH(B2315))","v":""},null,null,null,{"$f":"IF(D2315=\"\",\"\",IF(D2315<0,\"DEBITO\",\"CREDITO\"))","v":""},null,false,false,0,{"$f":"IF($A2315=I$3,AND($A2315=I$3,$D2315<0),0)","v":0},0,{"$f":"IF($A2315=K$3,AND($A2315=K$3,$D2315<0),0)","v":0},0,{"$f":"IF($A2315=M$3,AND($A2315=M$3,$D2315<0),0)","v":0},0,{"$f":"IF($A2315=O$3,AND($A2315=O$3,$D2315<0),0)","v":0},0,0,0,0,0,0,0,{"$f":"IF($A2315=W$3,AND($A2315=W$3,$D2315<0),0)","v":0},0,{"$f":"IF($A2315=Y$3,AND($A2315=Y$3,$D2315<0),0)","v":0},0,{"$f":"IF($A2315=AA$3,AND($A2315=AA$3,$D2315<0),0)","v":0},0,{"$f":"IF($A2315=AC$3,AND($A2315=AC$3,$D2315<0),0)","v":0},0,0]
[{"$f":"IF(B2318=0,\"\",MONTH(B2318))","v":""},null,null,null,{"$f":"IF(D2318=\"\",\"\",IF(D2318<0,\"DEBITO\",\"CREDITO\"))","v":""},null,false,false,0,{"$f":"IF($A2318=I$3,AND($A2318=I$3,$D2318<0),0)","v":0},0,{"$f":"IF($A2318=K$3,AND($A2318=K$3,$D2318<0),0)","v":0},0,{"$f":"IF($A2318=M$3,AND($A2318=M$3,$D2318<0),0)","v":0},0,{"$f":"IF($A2318=O$3,AND($A2318=O$3,$D2318<0),0)","v":0},0,0,0,0,0,0,0,{"$f":"IF($A2318=W$3,AND($A2318=W$3,$D2318<0),0)","v":0},0,{"$f":"IF($A2318=Y$3,AND($A2318=Y$3,$D2318<0),0)","v":0},0,{"$f":"IF($A2318=AA$3,AND($A2318=AA$3,$D2318<0),0)","v":0},0,{"$f":"IF($A2318=AC$3,AND($A2318=AC$3,$D2318<0),0)","v":0},0,0]
[{"$f":"IF(B2319=0,\"\",MONTH(B2319))","v":""},null,null,null,{"$f":"IF(D2319=\"\",\"\",IF(D2319<0,\"DEBITO\",\"CREDITO\"))","v":""},null,false,false,0,{"$f":"IF($A2319=I$3,AND($A2319=I$3,$D2319<0),0)","v":0},0,{"$f":"IF($A2319=K$3,AND($A2319=K$3,$D2319<0),0)","v":0},0,{"$f":"IF($A2319=M$3,AND($A2319=M$3,$D2319<0),0)","v":0},0,{"$f":"IF($A2319=O$3,AND($A2319=O$3,$D2319<0),0)","v":0},0,0,0,0,0,0,0,{"$f":"IF($A2319=W$3,AND($A2319=W$3,$D2319<0),0)","v":0},0,{"$f":"IF($A2319=Y$3,AND($A2319=Y$3,$D2319<0),0)","v":0},0,{"$f":"IF($A2319=AA$3,AND($A2319=AA$3,$D2319<0),0)","v":0},0,{"$f":"IF($A2319=AC$3,AND($A2319=AC$3,$D2319<0),0)","v":0},0,0]
[{"$f":"IF(B2322=0,\"\",MONTH(B2322))","v":""},null,null,null,{"$f":"IF(D2322=\"\",\"\",IF(D2322<0,\"DEBITO\",\"CREDITO\"))","v":""},null,false,false,0,{"$f":"IF($A2322=I$3,AND($A2322=I$3,$D2322<0),0)","v":0},0,{"$f":"IF($A2322=K$3,AND($A2322=K$3,$D2322<0),0)","v":0},0,{"$f":"IF($A2322=M$3,AND($A2322=M$3,$D2322<0),0)","v":0},0,{"$f":"IF($A2322=O$3,AND($A2322=O$3,$D2322<0),0)","v":0},0,0,0,0,0,0,0,{"$f":"IF($A2322=W$3,AND($A2322=W$3,$D2322<0),0)","v":0},0,{"$f":"IF($A2322=Y$3,AND($A2322=Y$3,$D2322<0),0)","v":0},0,{"$f":"IF($A2322=AA$3,AND($A2322=AA$3,$D2322<0),0)","v":0},0,{"$f":"IF($A2322=AC$3,AND($A2322=AC$3,$D2322<0),0)","v":0},0,0]
[{"$f":"IF(B2323=0,\"\",MONTH(B2323))","v":""},null,null,null,{"$f":"IF(D2323=\"\",\"\",IF(D2323<0,\"DEBITO\",\"CREDITO\"))","v":""},null,false,false,0,{"$f":"IF($A2323=I$3,AND($A2323=I$3,$D2323<0),0)","v":0},0,{"$f":"IF($A2323=K$3,AND($A2323=K$3,$D2323<0),0)","v":0},0,{"$f":"IF($A2323=M$3,AND($A2323=M$3,$D2323<0),0)","v":0},0,{"$f":"IF($A2323=O$3,AND($A2323=O$3,$D2323<0),0)","v":0},0,0,0,0,0,0,0,{"$f":"IF($A2323=W$3,AND($A2323=W$3,$D2323<0),0)","v":0},0,{"$f":"IF($A2323=Y$3,AND($A2323=Y$3,$D2323<0),0)","v":0},0,{"$f":"IF($A2323=AA$3,AND($A2323=AA$3,$D2323<0),0)","v":0},0,{"$f":"IF($A2323=AC$3,AND($A2323=AC$3,$D2323<0),0)","v":0},0,0]
[{"$f":"IF(B2326=0,\"\",MONTH(B2326))","v":""},null,null,null,{"$f":"IF(D2326=\"\",\"\",IF(D2326<0,\"DEBITO\",\"CREDITO\"))","v":""},null,false,false,0,{"$f":"IF($A2326=I$3,AND($A2326=I$3,$D2326<0),0)","v":0},0,{"$f":"IF($A2326=K$3,AND($A2326=K$3,$D2326<0),0)","v":0},0,{"$f":"IF($A2326=M$3,AND($A2326=M$3,$D2326<0),0)","v":0},0,{"$f":"IF($A2326=O$3,AND($A2326=O$3,$D2326<0),0)","v":0},0,0,0,0,0,0,0,{"$f":"IF($A2326=W$3,AND($A2326=W$3,$D2326<0),0)","v":0},0,{"$f":"IF($A2326=Y$3,AND($A2326=Y$3,$D2326<0),0)","v":0},0,{"$f":"IF($A2326=AA$3,AND($A2326=AA$3,$D2326<0),0)","v":0},0,{"$f":"IF($A2326=AC$3,AND($A2326=AC$3,$D2326<0),0)","v":0},0,0]
[{"$f":"IF(B2327=0,\"\",MONTH(B2327))","v":""},null,null,null,{"$f":"IF(D2327=\"\",\"\",IF(D2327<0,\"DEBITO\",\"CREDITO\"))","v":""},null,false,false,0,{"$f":"IF($A2327=I$3,AND($A2327=I$3,$D2327<0),0)","v":0},0,{"$f":"IF($A2327=K$3,AND($A2327=K$3,$D2327<0),0)","v":0},0,{"$f":"IF($A2327=M$3,AND($A2327=M$3,$D2327<0),0)","v":0},0,{"$f":"IF($A2327=O$3,AND($A2327=O$3,$D2327<0),0)","v":0},0,0,0,0,0,0,0,{"$f":"IF($A2327=W$3,AND($A2327=W$3,$D2327<0),0)","v":0},0,{"$f":"IF($A2327=Y$3,AND($A2327=Y$3,$D2327<0),0)","v":0},0,{"$f":"IF($A2327=AA$3,AND($A2327=AA$3,$D2327<0),0)","v":0},0,{"$f":"IF($A2327=AC$3,AND($A2327=AC$3,$D2327<0),0)","v":0},0,0]
[{"$f":"IF(B2330=0,\"\",MONTH(B2330))","v":""},null,null,null,{"$f":"IF(D2330=\"\",\"\",IF(D2330<0,\"DEBITO\",\"CREDITO\"))","v":""},null,false,false,0,{"$f":"IF($A2330=I$3,AND($A2330=I$3,$D2330<0),0)","v":0},0,{"$f":"IF($A2330=K$3,AND($A2330=K$3,$D2330<0),0)","v":0},0,{"$f":"IF($A2330=M$3,AND($A2330=M$3,$D2330<0),0)","v":0},0,{"$f":"IF($A2330=O$3,AND($A2330=O$3,$D2330<0),0)","v":0},0,0,0,0,0,0,0,{"$f":"IF($A2330=W$3,AND($A2330=W$3,$D2330<0),0)","v":0},0,{"$f":"IF($A2330=Y$3,AND($A2330=Y$3,$D2330<0),0)","v":0},0,{"$f":"IF($A2330=AA$3,AND($A2330=AA$3,$D2330<0),0)","v":0},0,{"$f":"IF($A2330=AC$3,AND($A2330=AC$3,$D2330<0),0)","v":0},0,0]
[{"$f":"IF(B2331=0,\"\",MONTH(B2331))","v":""},null,null,null,{"$f":"IF(D2331=\"\",\"\",IF(D2331<0,\"DEBITO\",\"CREDITO\"))","v":""},null,false,false,0,{"$f":"IF($A2331=I$3,AND($A2331=I$3,$D2331<0),0)","v":0},0,{"$f":"IF($A2331=K$3,AND($A2331=K$3,$D2331<0),0)","v":0},0,{"$f":"IF($A2331=M$3,AND($A2331=M$3,$D2331<0),0)","v":0},0,{"$f":"IF($A2331=O$3,AND($A2331=O$3,$D2331<0),0)","v":0},0,0,0,0,0,0,0,{"$f":"IF($A2331=W$3,AND($A2331=W$3,$D2331<0),0)","v":0},0,{"$f":"IF($A2331=Y$3,AND($A2331=Y$3,$D2331<0),0)","v":0},0,{"$f":"IF($A2331=AA$3,AND($A2331=AA$3,$D2331<0),0)","v":0},0,{"$f":"IF($A2331=AC$3,AND($A2331=AC$3,$D2331<0),0)","v":0},0,0]
[{"$f":"IF(B2335=0,\"\",MONTH(B2335))","v":""},null,null,null,{"$f":"IF(D2335=\"\",\"\",IF(D2335<0,\"DEBITO\",\"CREDITO\"))","v":""},null,false,false,0,{"$f":"IF($A2335=I$3,AND($A2335=I$3,$D2335<0),0)","v":0},0,{"$f":"IF($A2335=K$3,AND($A2335=K$3,$D2335<0),0)","v":0},0,{"$f":"IF($A2335=M$3,AND($A2335=M$3,$D2335<0),0)","v":0},0,{"$f":"IF($A2335=O$3,AND($A2335=O$3,$D2335<0),0)","v":0},0,0,0,0,0,0,0,{"$f":"IF($A2335=W$3,AND($A2335=W$3,$D2335<0),0)","v":0},0,{"$f":"IF($A2335=Y$3,AND($A2335=Y$3,$D2335<0),0)","v":0},0,{"$f":"IF($A2335=AA$3,AND($A2335=AA$3,$D2335<0),0)","v":0},0,{"$f":"IF($A2335=AC$3,AND($A2335=AC$3,$D2335<0),0)","v":0},0,0]
[{"$f":"IF(B2336=0,\"\",MONTH(B2336))","v":""},null,null,null,{"$f":"IF(D2336=\"\",\"\",IF(D2336<0,\"DEBITO\",\"CREDITO\"))","v":""},null,false,false,0,{"$f":"IF($A2336=I$3,AND($A2336=I$3,$D2336<0),0)","v":0},0,{"$f":"IF($A2336=K$3,AND($A2336=K$3,$D2336<0),0)","v":0},0,{"$f":"IF($A2336=M$3,AND($A2336=M$3,$D2336<0),0)","v":0},0,{"$f":"IF($A2336=O$3,AND($A2336=O$3,$D2336<0),0)","v":0},0,0,0,0,0,0,0,{"$f":"IF($A2336=W$3,AND($A2336=W$3,$D2336<0),0)","v":0},0,{"$f":"IF($A2336=Y$3,AND($A2336=Y$3,$D2336<0),0)","v":0},0,{"$f":"IF($A2336=AA$3,AND($A2336=AA$3,$D2336<0),0)","v":0},0,{"$f":"IF($A2336=AC$3,AND($A2336=AC$3,$D2336<0),0)","v":0},0,0]
[{"$f":"IF(B2339=0,\"\",MONTH(B2339))","v":""},null,null,null,{"$f":"IF(D2339=\"\",\"\",IF(D2339<0,\"DEBITO\",\"CREDITO\"))","v":""},null,false,false,0,{"$f":"IF($A2339=I$3,AND($A2339=I$3,$D2339<0),0)","v":0},0,{"$f":"IF($A2339=K$3,AND($A2339=K$3,$D2339<0),0)","v":0},0,{"$f":"IF($A2339=M$3,AND($A2339=M$3,$D2339<0),0)","v":0},0,{"$f":"IF($A2339=O$3,AND($A2339=O$3,$D2339<0),0)","v":0},0,0,0,0,0,0,0,{"$f":"IF($A2339=W$3,AND($A2339=W$3,$D2339<0),0)","v":0},0,{"$f":"IF($A2339=Y$3,AND($A2339=Y$3,$D2339<0),0)","v":0},0,{"$f":"IF($A2339=AA$3,AND($A2339=AA$3,$D2339<0),0)","v":0},0,{"$f":"IF($A2339=AC$3,AND($A2339=AC$3,$D2339<0),0)","v":0},0,0]
[{"$f":"IF(B2340=0,\"\",MONTH(B2340))","v":""},null,null,null,{"$f":"IF(D2340=\"\",\"\",IF(D2340<0,\"DEBITO\",\"CREDITO\"))","v":""},null,false,false,0,{"$f":"IF($A2340=I$3,AND($A2340=I$3,$D2340<0),0)","v":0},0,{"$f":"IF($A2340=K$3,AND($A2340=K$3,$D2340<0),0)","v":0},0,{"$f":"IF($A2340=M$3,AND($A2340=M$3,$D2340<0),0)","v":0},0,{"$f":"IF($A2340=O$3,AND($A2340=O$3,$D2340<0),0)","v":0},0,0,0,0,0,0,0,{"$f":"IF($A2340=W$3,AND($A2340=W$3,$D2340<0),0)","v":0},0,{"$f":"IF($A2340=Y$3,AND($A2340=Y$3,$D2340<0),0)","v":0},0,{"$f":"IF($A2340=AA$3,AND($A2340=AA$3,$D2340<0),0)","v":0},0,{"$f":"IF($A2340=AC$3,AND($A2340=AC$3,$D2340<0),0)","v":0},0,0]
[{"$f":"IF(B2343=0,\"\",MONTH(B2343))","v":""},null,null,null,{"$f":"IF(D2343=\"\",\"\",IF(D2343<0,\"DEBITO\",\"CREDITO\"))","v":""},null,false,false,0,{"$f":"IF($A2343=I$3,AND($A2343=I$3,$D2343<0),0)","v":0},0,{"$f":"IF($A2343=K$3,AND($A2343=K$3,$D2343<0),0)","v":0},0,{"$f":"IF($A2343=M$3,AND($A2343=M$3,$D2343<0),0)","v":0},0,{"$f":"IF($A2343=O$3,AND($A2343=O$3,$D2343<0),0)","v":0},0,0,0,0,0,0,0,{"$f":"IF($A2343=W$3,AND($A2343=W$3,$D2343<0),0)","v":0},0,{"$f":"IF($A2343=Y$3,AND($A2343=Y$3,$D2343<0),0)","v":0},0,{"$f":"IF($A2343=AA$3,AND($A2343=AA$3,$D2343<0),0)","v":0},0,{"$f":"IF($A2343=AC$3,AND($A2343=AC$3,$D2343<0),0)","v":0},0,0]
[{"$f":"IF(B2344=0,\"\",MONTH(B2344))","v":""},null,null,null,{"$f":"IF(D2344=\"\",\"\",IF(D2344<0,\"DEBITO\",\"CREDITO\"))","v":""},null,false,false,0,{"$f":"IF($A2344=I$3,AND($A2344=I$3,$D2344<0),0)","v":0},0,{"$f":"IF($A2344=K$3,AND($A2344=K$3,$D2344<0),0)","v":0},0,{"$f":"IF($A2344=M$3,AND($A2344=M$3,$D2344<0),0)","v":0},0,{"$f":"IF($A2344=O$3,AND($A2344=O$3,$D2344<0),0)","v":0},0,0,0,0,0,0,0,{"$f":"IF($A2344=W$3,AND($A2344=W$3,$D2344<0),0)","v":0},0,{"$f":"IF($A2344=Y$3,AND($A2344=Y$3,$D2344<0),0)","v":0},0,{"$f":"IF($A2344=AA$3,AND($A2344=AA$3,$D2344<0),0)","v":0},0,{"$f":"IF($A2344=AC$3,AND($A2344=AC$3,$D2344<0),0)","v":0},0,0]
[{"$f":"IF(B2347=0,\"\",MONTH(B2347))","v":""},null,null,null,{"$f":"IF(D2347=\"\",\"\",IF(D2347<0,\"DEBITO\",\"CREDITO\"))","v":""},null,false,false,0,{"$f":"IF($A2347=I$3,AND($A2347=I$3,$D2347<0),0)","v":0},0,{"$f":"IF($A2347=K$3,AND($A2347=K$3,$D2347<0),0)","v":0},0,{"$f":"IF($A2347=M$3,AND($A2347=M$3,$D2347<0),0)","v":0},0,{"$f":"IF($A2347=O$3,AND($A2347=O$3,$D2347<0),0)","v":0},0,0,0,0,0,0,0,{"$f":"IF($A2347=W$3,AND($A2347=W$3,$D2347<0),0)","v":0},0,{"$f":"IF($A2347=Y$3,AND($A2347=Y$3,$D2347<0),0)","v":0},0,{"$f":"IF($A2347=AA$3,AND($A2347=AA$3,$D2347<0),0)","v":0},0,{"$f":"IF($A2347=AC$3,AND($A2347=AC$3,$D2347<0),0)","v":0},0,0]
[{"$f":"IF(B2348=0,\"\",MONTH(B2348))","v":""},null,null,null,{"$f":"IF(D2348=\"\",\"\",IF(D2348<0,\"DEBITO\",\"CREDITO\"))","v":""},null,false,false,0,{"$f":"IF($A2348=I$3,AND($A2348=I$3,$D2348<0),0)","v":0},0,{"$f":"IF($A2348=K$3,AND($A2348=K$3,$D2348<0),0)","v":0},0,{"$f":"IF($A2348=M$3,AND($A2348=M$3,$D2348<0),0)","v":0},0,{"$f":"IF($A2348=O$3,AND($A2348=O$3,$D2348<0),0)","v":0},0,0,0,0,0,0,0,{"$f":"IF($A2348=W$3,AND($A2348=W$3,$D2348<0),0)","v":0},0,{"$f":"IF($A2348=Y$3,AND($A2348=Y$3,$D2348<0),0)","v":0},0,{"$f":"IF($A2348=AA$3,AND($A2348=AA$3,$D2348<0),0)","v":0},0,{"$f":"IF($A2348=AC$3,AND($A2348=AC$3,$D2348<0),0)","v":0},0,0]
[{"$f":"IF(B2351=0,\"\",MONTH(B2351))","v":""},null,null,null,{"$f":"IF(D2351=\"\",\"\",IF(D2351<0,\"DEBITO\",\"CREDITO\"))","v":""},null,false,false,0,{"$f":"IF($A2351=I$3,AND($A2351=I$3,$D2351<0),0)","v":0},0,{"$f":"IF($A2351=K$3,AND($A2351=K$3,$D2351<0),0)","v":0},0,{"$f":"IF($A2351=M$3,AND($A2351=M$3,$D2351<0),0)","v":0},0,{"$f":"IF($A2351=O$3,AND($A2351=O$3,$D2351<0),0)","v":0},0,0,0,0,0,0,0,{"$f":"IF($A2351=W$3,AND($A2351=W$3,$D2351<0),0)","v":0},0,{"$f":"IF($A2351=Y$3,AND($A2351=Y$3,$D2351<0),0)","v":0},0,{"$f":"IF($A2351=AA$3,AND($A2351=AA$3,$D2351<0),0)","v":0},0,{"$f":"IF($A2351=AC$3,AND($A2351=AC$3,$D2351<0),0)","v":0},0,0]
[{"$f":"IF(B2353=0,\"\",MONTH(B2353))","v":""},null,null,null,{"$f":"IF(D2353=\"\",\"\",IF(D2353<0,\"DEBITO\",\"CREDITO\"))","v":""},null,false,false,0,{"$f":"IF($A2353=I$3,AND($A2353=I$3,$D2353<0),0)","v":0},0,{"$f":"IF($A2353=K$3,AND($A2353=K$3,$D2353<0),0)","v":0},0,{"$f":"IF($A2353=M$3,AND($A2353=M$3,$D2353<0),0)","v":0},0,{"$f":"IF($A2353=O$3,AND($A2353=O$3,$D2353<0),0)","v":0},0,0,0,0,0,0,0,{"$f":"IF($A2353=W$3,AND($A2353=W$3,$D2353<0),0)","v":0},0,{"$f":"IF($A2353=Y$3,AND($A2353=Y$3,$D2353<0),0)","v":0},0,{"$f":"IF($A2353=AA$3,AND($A2353=AA$3,$D2353<0),0)","v":0},0,{"$f":"IF($A2353=AC$3,AND($A2353=AC$3,$D2353<0),0)","v":0},0,0]
[{"$f":"IF(B2356=0,\"\",MONTH(B2356))","v":""},null,null,null,{"$f":"IF(D2356=\"\",\"\",IF(D2356<0,\"DEBITO\",\"CREDITO\"))","v":""},null,false,false,0,{"$f":"IF($A2356=I$3,AND($A2356=I$3,$D2356<0),0)","v":0},0,{"$f":"IF($A2356=K$3,AND($A2356=K$3,$D2356<0),0)","v":0},0,{"$f":"IF($A2356=M$3,AND($A2356=M$3,$D2356<0),0)","v":0},0,{"$f":"IF($A2356=O$3,AND($A2356=O$3,$D2356<0),0)","v":0},0,0,0,0,0,0,0,{"$f":"IF($A2356=W$3,AND($A2356=W$3,$D2356<0),0)","v":0},0,{"$f":"IF($A2356=Y$3,AND($A2356=Y$3,$D2356<0),0)","v":0},0,{"$f":"IF($A2356=AA$3,AND($A2356=AA$3,$D2356<0),0)","v":0},0,{"$f":"IF($A2356=AC$3,AND($A2356=AC$3,$D2356<0),0)","v":0},0,0]
[{"$f":"IF(B2357=0,\"\",MONTH(B2357))","v":""},null,null,null,{"$f":"IF(D2357=\"\",\"\",IF(D2357<0,\"DEBITO\",\"CREDITO\"))","v":""},null,false,false,0,{"$f":"IF($A2357=I$3,AND($A2357=I$3,$D2357<0),0)","v":0},0,{"$f":"IF($A2357=K$3,AND($A2357=K$3,$D2357<0),0)","v":0},0,{"$f":"IF($A2357=M$3,AND($A2357=M$3,$D2357<0),0)","v":0},0,{"$f":"IF($A2357=O$3,AND($A2357=O$3,$D2357<0),0)","v":0},0,0,0,0,0,0,0,{"$f":"IF($A2357=W$3,AND($A2357=W$3,$D2357<0),0)","v":0},0,{"$f":"IF($A2357=Y$3,AND($A2357=Y$3,$D2357<0),0)","v":0},0,{"$f":"IF($A2357=AA$3,AND($A2357=AA$3,$D2357<0),0)","v":0},0,{"$f":"IF($A2357=AC$3,AND($A2357=AC$3,$D2357<0),0)","v":0},0,0]
[{"$f":"IF(B2360=0,\"\",MONTH(B2360))","v":""},null,null,null,{"$f":"IF(D2360=\"\",\"\",IF(D2360<0,\"DEBITO\",\"CREDITO\"))","v":""},null,false,false,0,{"$f":"IF($A2360=I$3,AND($A2360=I$3,$D2360<0),0)","v":0},0,{"$f":"IF($A2360=K$3,AND($A2360=K$3,$D2360<0),0)","v":0},0,{"$f":"IF($A2360=M$3,AND($A2360=M$3,$D2360<0),0)","v":0},0,{"$f":"IF($A2360=O$3,AND($A2360=O$3,$D2360<0),0)","v":0},0,0,0,0,0,0,0,{"$f":"IF($A2360=W$3,AND($A2360=W$3,$D2360<0),0)","v":0},0,{"$f":"IF($A2360=Y$3,AND($A2360=Y$3,$D2360<0),0)","v":0},0,{"$f":"IF($A2360=AA$3,AND($A2360=AA$3,$D2360<0),0)","v":0},0,{"$f":"IF($A2360=AC$3,AND($A2360=AC$3,$D2360<0),0)","v":0},0,0]
[{"$f":"IF(B2361=0,\"\",MONTH(B2361))","v":""},null,null,null,{"$f":"IF(D2361=\"\",\"\",IF(D2361<0,\"DEBITO\",\"CREDITO\"))","v":""},null,false,false,0,{"$f":"IF($A2361=I$3,AND($A2361=I$3,$D2361<0),0)","v":0},0,{"$f":"IF($A2361=K$3,AND($A2361=K$3,$D2361<0),0)","v":0},0,{"$f":"IF($A2361=M$3,AND($A2361=M$3,$D2361<0),0)","v":0},0,{"$f":"IF($A2361=O$3,AND($A2361=O$3,$D2361<0),0)","v":0},0,0,0,0,0,0,0,{"$f":"IF($A2361=W$3,AND($A2361=W$3,$D2361<0),0)","v":0},0,{"$f":"IF($A2361=Y$3,AND($A2361=Y$3,$D2361<0),0)","v":0},0,{"$f":"IF($A2361=AA$3,AND($A2361=AA$3,$D2361<0),0)","v":0},0,{"$f":"IF($A2361=AC$3,AND($A2361=AC$3,$D2361<0),0)","v":0},0,0]
[{"$f":"IF(B2364=0,\"\",MONTH(B2364))","v":""},null,null,null,{"$f":"IF(D2364=\"\",\"\",IF(D2364<0,\"DEBITO\",\"CREDITO\"))","v":""},null,false,false,0,{"$f":"IF($A2364=I$3,AND($A2364=I$3,$D2364<0),0)","v":0},0,{"$f":"IF($A2364=K$3,AND($A2364=K$3,$D2364<0),0)","v":0},0,{"$f":"IF($A2364=M$3,AND($A2364=M$3,$D2364<0),0)","v":0},0,{"$f":"IF($A2364=O$3,AND($A2364=O$3,$D2364<0),0)","v":0},0,0,0,0,0,0,0,{"$f":"IF($A2364=W$3,AND($A2364=W$3,$D2364<0),0)","v":0},0,{"$f":"IF($A2364=Y$3,AND($A2364=Y$3,$D2364<0),0)","v":0},0,{"$f":"IF($A2364=AA$3,AND($A2364=AA$3,$D2364<0),0)","v":0},0,{"$f":"IF($A2364=AC$3,AND($A2364=AC$3,$D2364<0),0)","v":0},0,0]
[{"$f":"IF(B2365=0,\"\",MONTH(B2365))","v":""},null,null,null,{"$f":"IF(D2365=\"\",\"\",IF(D2365<0,\"DEBITO\",\"CREDITO\"))","v":""},null,false,false,0,{"$f":"IF($A2365=I$3,AND($A2365=I$3,$D2365<0),0)","v":0},0,{"$f":"IF($A2365=K$3,AND($A2365=K$3,$D2365<0),0)","v":0},0,{"$f":"IF($A2365=M$3,AND($A2365=M$3,$D2365<0),0)","v":0},0,{"$f":"IF($A2365=O$3,AND($A2365=O$3,$D2365<0),0)","v":0},0,0,0,0,0,0,0,{"$f":"IF($A2365=W$3,AND($A2365=W$3,$D2365<0),0)","v":0},0,{"$f":"IF($A2365=Y$3,AND($A2365=Y$3,$D2365<0),0)","v":0},0,{"$f":"IF($A2365=AA$3,AND($A2365=AA$3,$D2365<0),0)","v":0},0,{"$f":"IF($A2365=AC$3,AND($A2365=AC$3,$D2365<0),0)","v":0},0,0]
[{"$f":"IF(B2368=0,\"\",MONTH(B2368))","v":""},null,null,null,{"$f":"IF(D2368=\"\",\"\",IF(D2368<0,\"DEBITO\",\"CREDITO\"))","v":""},null,false,false,0,{"$f":"IF($A2368=I$3,AND($A2368=I$3,$D2368<0),0)","v":0},0,{"$f":"IF($A2368=K$3,AND($A2368=K$3,$D2368<0),0)","v":0},0,{"$f":"IF($A2368=M$3,AND($A2368=M$3,$D2368<0),0)","v":0},0,{"$f":"IF($A2368=O$3,AND($A2368=O$3,$D2368<0),0)","v":0},0,0,0,0,0,0,0,{"$f":"IF($A2368=W$3,AND($A2368=W$3,$D2368<0),0)","v":0},0,{"$f":"IF($A2368=Y$3,AND($A2368=Y$3,$D2368<0),0)","v":0},0,{"$f":"IF($A2368=AA$3,AND($A2368=AA$3,$D2368<0),0)","v":0},0,{"$f":"IF($A2368=AC$3,AND($A2368=AC$3,$D2368<0),0)","v":0},0,0]
[{"$f":"IF(B2369=0,\"\",MONTH(B2369))","v":""},null,null,null,{"$f":"IF(D2369=\"\",\"\",IF(D2369<0,\"DEBITO\",\"CREDITO\"))","v":""},null,false,false,0,{"$f":"IF($A2369=I$3,AND($A2369=I$3,$D2369<0),0)","v":0},0,{"$f":"IF($A2369=K$3,AND($A2369=K$3,$D2369<0),0)","v":0},0,{"$f":"IF($A2369=M$3,AND($A2369=M$3,$D2369<0),0)","v":0},0,{"$f":"IF($A2369=O$3,AND($A2369=O$3,$D2369<0),0)","v":0},0,0,0,0,0,0,0,{"$f":"IF($A2369=W$3,AND($A2369=W$3,$D2369<0),0)","v":0},0,{"$f":"IF($A2369=Y$3,AND($A2369=Y$3,$D2369<0),0)","v":0},0,{"$f":"IF($A2369=AA$3,AND($A2369=AA$3,$D2369<0),0)","v":0},0,{"$f":"IF($A2369=AC$3,AND($A2369=AC$3,$D2369<0),0)","v":0},0,0]
[{"$f":"IF(B2372=0,\"\",MONTH(B2372))","v":""},null,null,null,{"$f":"IF(D2372=\"\",\"\",IF(D2372<0,\"DEBITO\",\"CREDITO\"))","v":""},null,false,false,0,{"$f":"IF($A2372=I$3,AND($A2372=I$3,$D2372<0),0)","v":0},0,{"$f":"IF($A2372=K$3,AND($A2372=K$3,$D2372<0),0)","v":0},0,{"$f":"IF($A2372=M$3,AND($A2372=M$3,$D2372<0),0)","v":0},0,{"$f":"IF($A2372=O$3,AND($A2372=O$3,$D2372<0),0)","v":0},0,0,0,0,0,0,0,{"$f":"IF($A2372=W$3,AND($A2372=W$3,$D2372<0),0)","v":0},0,{"$f":"IF($A2372=Y$3,AND($A2372=Y$3,$D2372<0),0)","v":0},0,{"$f":"IF($A2372=AA$3,AND($A2372=AA$3,$D2372<0),0)","v":0},0,{"$f":"IF($A2372=AC$3,AND($A2372=AC$3,$D2372<0),0)","v":0},0,0]
[{"$f":"IF(B2373=0,\"\",MONTH(B2373))","v":""},null,null,null,{"$f":"IF(D2373=\"\",\"\",IF(D2373<0,\"DEBITO\",\"CREDITO\"))","v":""},null,false,false,0,{"$f":"IF($A2373=I$3,AND($A2373=I$3,$D2373<0),0)","v":0},0,{"$f":"IF($A2373=K$3,AND($A2373=K$3,$D2373<0),0)","v":0},0,{"$f":"IF($A2373=M$3,AND($A2373=M$3,$D2373<0),0)","v":0},0,{"$f":"IF($A2373=O$3,AND($A2373=O$3,$D2373<0),0)","v":0},0,0,0,0,0,0,0,{"$f":"IF($A2373=W$3,AND($A2373=W$3,$D2373<0),0)","v":0},0,{"$f":"IF($A2373=Y$3,AND($A2373=Y$3,$D2373<0),0)","v":0},0,{"$f":"IF($A2373=AA$3,AND($A2373=AA$3,$D2373<0),0)","v":0},0,{"$f":"IF($A2373=AC$3,AND($A2373=AC$3,$D2373<0),0)","v":0},0,0]
[{"$f":"IF(B2377=0,\"\",MONTH(B2377))","v":""},null,null,null,{"$f":"IF(D2377=\"\",\"\",IF(D2377<0,\"DEBITO\",\"CREDITO\"))","v":""},null,{"$f":"AND(A2377=$E$3,D2377>0)","v":false},{"$f":"AND(A2377=$E$3,D2377<0)","v":false},0,{"$f":"IF($A2377=I$3,AND($A2377=I$3,$D2377<0),0)","v":0},0,{"$f":"IF($A2377=K$3,AND($A2377=K$3,$D2377<0),0)","v":0},0,{"$f":"IF($A2377=M$3,AND($A2377=M$3,$D2377<0),0)","v":0},0,{"$f":"IF($A2377=O$3,AND($A2377=O$3,$D2377<0),0)","v":0},0,{"$f":"IF($A2377=Q$3,AND($A2377=Q$3,$D2377<0),0)","v":0},0,0,0,0,0,{"$f":"IF($A2377=W$3,AND($A2377=W$3,$D2377<0),0)","v":0},0,{"$f":"IF($A2377=Y$3,AND($A2377=Y$3,$D2377<0),0)","v":0},0,{"$f":"IF($A2377=AA$3,AND($A2377=AA$3,$D2377<0),0)","v":0},0,{"$f":"IF($A2377=AC$3,AND($A2377=AC$3,$D2377<0),0)","v":0},0,{"$f":"IF($A2377=AE$3,AND($A2377=AE$3,$D2377<0),0)","v":0}]
[{"$f":"IF(B2378=0,\"\",MONTH(B2378))","v":""},null,null,null,{"$f":"IF(D2378=\"\",\"\",IF(D2378<0,\"DEBITO\",\"CREDITO\"))","v":""},null,false,false,0,{"$f":"IF($A2378=I$3,AND($A2378=I$3,$D2378<0),0)","v":0},0,{"$f":"IF($A2378=K$3,AND($A2378=K$3,$D2378<0),0)","v":0},0,{"$f":"IF($A2378=M$3,AND($A2378=M$3,$D2378<0),0)","v":0},0,{"$f":"IF($A2378=O$3,AND($A2378=O$3,$D2378<0),0)","v":0},0,0,{"$f":"IF($A2378=S$3,AND($A2378=S$3,$D2378>0),0)","v":0},{"$f":"IF($A2378=S$3,AND($A2378=S$3,$D2378<0),0)","v":0},{"$f":"IF($A2378=U$3,AND($A2378=U$3,$D2378>0),0)","v":0},{"$f":"IF($A2378=U$3,AND($A2378=U$3,$D2378<0),0)","v":0},0,{"$f":"IF($A2378=W$3,AND($A2378=W$3,$D2378<0),0)","v":0},0,{"$f":"IF($A2378=Y$3,AND($A2378=Y$3,$D2378<0),0)","v":0},0,{"$f":"IF($A2378=AA$3,AND($A2378=AA$3,$D2378<0),0)","v":0},0,{"$f":"IF($A2378=AC$3,AND($A2378=AC$3,$D2378<0),0)","v":0},0,0]
[{"$f":"IF(B2381=0,\"\",MONTH(B2381))","v":""},null,null,null,{"$f":"IF(D2381=\"\",\"\",IF(D2381<0,\"DEBITO\",\"CREDITO\"))","v":""},null,false,false,0,{"$f":"IF($A2381=I$3,AND($A2381=I$3,$D2381<0),0)","v":0},0,{"$f":"IF($A2381=K$3,AND($A2381=K$3,$D2381<0),0)","v":0},0,{"$f":"IF($A2381=M$3,AND($A2381=M$3,$D2381<0),0)","v":0},0,{"$f":"IF($A2381=O$3,AND($A2381=O$3,$D2381<0),0)","v":0},0,0,0,0,0,0,0,{"$f":"IF($A2381=W$3,AND($A2381=W$3,$D2381<0),0)","v":0},0,{"$f":"IF($A2381=Y$3,AND($A2381=Y$3,$D2381<0),0)","v":0},0,{"$f":"IF($A2381=AA$3,AND($A2381=AA$3,$D2381<0),0)","v":0},0,{"$f":"IF($A2381=AC$3,AND($A2381=AC$3,$D2381<0),0)","v":0},0,0]
[{"$f":"IF(B2382=0,\"\",MONTH(B2382))","v":""},null,null,null,{"$f":"IF(D2382=\"\",\"\",IF(D2382<0,\"DEBITO\",\"CREDITO\"))","v":""},null,false,false,0,{"$f":"IF($A2382=I$3,AND($A2382=I$3,$D2382<0),0)","v":0},0,{"$f":"IF($A2382=K$3,AND($A2382=K$3,$D2382<0),0)","v":0},0,{"$f":"IF($A2382=M$3,AND($A2382=M$3,$D2382<0),0)","v":0},0,{"$f":"IF($A2382=O$3,AND($A2382=O$3,$D2382<0),0)","v":0},0,0,0,0,0,0,0,{"$f":"IF($A2382=W$3,AND($A2382=W$3,$D2382<0),0)","v":0},0,{"$f":"IF($A2382=Y$3,AND($A2382=Y$3,$D2382<0),0)","v":0},0,{"$f":"IF($A2382=AA$3,AND($A2382=AA$3,$D2382<0),0)","v":0},0,{"$f":"IF($A2382=AC$3,AND($A2382=AC$3,$D2382<0),0)","v":0},0,0]
[{"$f":"IF(B2385=0,\"\",MONTH(B2385))","v":""},null,null,null,{"$f":"IF(D2385=\"\",\"\",IF(D2385<0,\"DEBITO\",\"CREDITO\"))","v":""},null,false,false,0,{"$f":"IF($A2385=I$3,AND($A2385=I$3,$D2385<0),0)","v":0},0,{"$f":"IF($A2385=K$3,AND($A2385=K$3,$D2385<0),0)","v":0},0,{"$f":"IF($A2385=M$3,AND($A2385=M$3,$D2385<0),0)","v":0},0,{"$f":"IF($A2385=O$3,AND($A2385=O$3,$D2385<0),0)","v":0},0,0,0,0,0,0,0,{"$f":"IF($A2385=W$3,AND($A2385=W$3,$D2385<0),0)","v":0},0,{"$f":"IF($A2385=Y$3,AND($A2385=Y$3,$D2385<0),0)","v":0},0,{"$f":"IF($A2385=AA$3,AND($A2385=AA$3,$D2385<0),0)","v":0},0,{"$f":"IF($A2385=AC$3,AND($A2385=AC$3,$D2385<0),0)","v":0},0,0]
[{"$f":"IF(B2386=0,\"\",MONTH(B2386))","v":""},null,null,null,{"$f":"IF(D2386=\"\",\"\",IF(D2386<0,\"DEBITO\",\"CREDITO\"))","v":""},null,false,false,0,{"$f":"IF($A2386=I$3,AND($A2386=I$3,$D2386<0),0)","v":0},0,{"$f":"IF($A2386=K$3,AND($A2386=K$3,$D2386<0),0)","v":0},0,{"$f":"IF($A2386=M$3,AND($A2386=M$3,$D2386<0),0)","v":0},0,{"$f":"IF($A2386=O$3,AND($A2386=O$3,$D2386<0),0)","v":0},0,0,0,0,0,0,0,{"$f":"IF($A2386=W$3,AND($A2386=W$3,$D2386<0),0)","v":0},0,{"$f":"IF($A2386=Y$3,AND($A2386=Y$3,$D2386<0),0)","v":0},0,{"$f":"IF($A2386=AA$3,AND($A2386=AA$3,$D2386<0),0)","v":0},0,{"$f":"IF($A2386=AC$3,AND($A2386=AC$3,$D2386<0),0)","v":0},0,0]
[{"$f":"IF(B2389=0,\"\",MONTH(B2389))","v":""},null,null,null,{"$f":"IF(D2389=\"\",\"\",IF(D2389<0,\"DEBITO\",\"CREDITO\"))","v":""},null,false,false,0,{"$f":"IF($A2389=I$3,AND($A2389=I$3,$D2389<0),0)","v":0},0,{"$f":"IF($A2389=K$3,AND($A2389=K$3,$D2389<0),0)","v":0},0,{"$f":"IF($A2389=M$3,AND($A2389=M$3,$D2389<0),0)","v":0},0,{"$f":"IF($A2389=O$3,AND($A2389=O$3,$D2389<0),0)","v":0},0,0,0,0,0,0,0,{"$f":"IF($A2389=W$3,AND($A2389=W$3,$D2389<0),0)","v":0},0,{"$f":"IF($A2389=Y$3,AND($A2389=Y$3,$D2389<0),0)","v":0},0,{"$f":"IF($A2389=AA$3,AND($A2389=AA$3,$D2389<0),0)","v":0},0,{"$f":"IF($A2389=AC$3,AND($A2389=AC$3,$D2389<0),0)","v":0},0,0]
[{"$f":"IF(B2390=0,\"\",MONTH(B2390))","v":""},null,null,null,{"$f":"IF(D2390=\"\",\"\",IF(D2390<0,\"DEBITO\",\"CREDITO\"))","v":""},null,false,false,0,{"$f":"IF($A2390=I$3,AND($A2390=I$3,$D2390<0),0)","v":0},0,{"$f":"IF($A2390=K$3,AND($A2390=K$3,$D2390<0),0)","v":0},0,{"$f":"IF($A2390=M$3,AND($A2390=M$3,$D2390<0),0)","v":0},0,{"$f":"IF($A2390=O$3,AND($A2390=O$3,$D2390<0),0)","v":0},0,0,0,0,0,0,0,{"$f":"IF($A2390=W$3,AND($A2390=W$3,$D2390<0),0)","v":0},0,{"$f":"IF($A2390=Y$3,AND($A2390=Y$3,$D2390<0),0)","v":0},0,{"$f":"IF($A2390=AA$3,AND($A2390=AA$3,$D2390<0),0)","v":0},0,{"$f":"IF($A2390=AC$3,AND($A2390=AC$3,$D2390<0),0)","v":0},0,0]
[{"$f":"IF(B2393=0,\"\",MONTH(B2393))","v":""},null,null,null,{"$f":"IF(D2393=\"\",\"\",IF(D2393<0,\"DEBITO\",\"CREDITO\"))","v":""},null,false,false,{"$f":"IF($A2393=I$3,AND($A2393=I$3,$D2393>0),0)","v":0},{"$f":"IF($A2393=I$3,AND($A2393=I$3,$D2393<0),0)","v":0},{"$f":"IF($A2393=K$3,AND($A2393=K$3,$D2393>0),0)","v":0},{"$f":"IF($A2393=K$3,AND($A2393=K$3,$D2393<0),0)","v":0},{"$f":"IF($A2393=M$3,AND($A2393=M$3,$D2393>0),0)","v":0},{"$f":"IF($A2393=M$3,AND($A2393=M$3,$D2393<0),0)","v":0},{"$f":"IF($A2393=O$3,AND($A2393=O$3,$D2393>0),0)","v":0},{"$f":"IF($A2393=O$3,AND($A2393=O$3,$D2393<0),0)","v":0},{"$f":"IF($A2393=Q$3,AND($A2393=Q$3,$D2393>0),0)","v":0},0,0,0,0,0,{"$f":"IF($A2393=W$3,AND($A2393=W$3,$D2393>0),0)","v":0},{"$f":"IF($A2393=W$3,AND($A2393=W$3,$D2393<0),0)","v":0},{"$f":"IF($A2393=Y$3,AND($A2393=Y$3,$D2393>0),0)","v":0},{"$f":"IF($A2393=Y$3,AND($A2393=Y$3,$D2393<0),0)","v":0},{"$f":"IF($A2393=AA$3,AND($A2393=AA$3,$D2393>0),0)","v":0},{"$f":"IF($A2393=AA$3,AND($A2393=AA$3,$D2393<0),0)","v":0},{"$f":"IF($A2393=AC$3,AND($A2393=AC$3,$D2393>0),0)","v":0},{"$f":"IF($A2393=AC$3,AND($A2393=AC$3,$D2393<0),0)","v":0},{"$f":"IF($A2393=AE$3,AND($A2393=AE$3,$D2393>0),0)","v":0},0]
[{"$f":"IF(B2394=0,\"\",MONTH(B2394))","v":""},null,null,null,{"$f":"IF(D2394=\"\",\"\",IF(D2394<0,\"DEBITO\",\"CREDITO\"))","v":""},null,false,false,0,{"$f":"IF($A2394=I$3,AND($A2394=I$3,$D2394<0),0)","v":0},0,{"$f":"IF($A2394=K$3,AND($A2394=K$3,$D2394<0),0)","v":0},0,{"$f":"IF($A2394=M$3,AND($A2394=M$3,$D2394<0),0)","v":0},0,{"$f":"IF($A2394=O$3,AND($A2394=O$3,$D2394<0),0)","v":0},0,0,0,0,0,0,0,{"$f":"IF($A2394=W$3,AND($A2394=W$3,$D2394<0),0)","v":0},0,{"$f":"IF($A2394=Y$3,AND($A2394=Y$3,$D2394<0),0)","v":0},0,{"$f":"IF($A2394=AA$3,AND($A2394=AA$3,$D2394<0),0)","v":0},0,{"$f":"IF($A2394=AC$3,AND($A2394=AC$3,$D2394<0),0)","v":0},0,0]
[{"$f":"IF(B2396=0,\"\",MONTH(B2396))","v":""},null,null,null,{"$f":"IF(D2396=\"\",\"\",IF(D2396<0,\"DEBITO\",\"CREDITO\"))","v":""},null,false,false,0,{"$f":"IF($A2396=I$3,AND($A2396=I$3,$D2396<0),0)","v":0},0,{"$f":"IF($A2396=K$3,AND($A2396=K$3,$D2396<0),0)","v":0},0,{"$f":"IF($A2396=M$3,AND($A2396=M$3,$D2396<0),0)","v":0},0,{"$f":"IF($A2396=O$3,AND($A2396=O$3,$D2396<0),0)","v":0},0,0,0,0,0,0,0,{"$f":"IF($A2396=W$3,AND($A2396=W$3,$D2396<0),0)","v":0},0,{"$f":"IF($A2396=Y$3,AND($A2396=Y$3,$D2396<0),0)","v":0},0,{"$f":"IF($A2396=AA$3,AND($A2396=AA$3,$D2396<0),0)","v":0},0,{"$f":"IF($A2396=AC$3,AND($A2396=AC$3,$D2396<0),0)","v":0},0,0]
[{"$f":"IF(B2399=0,\"\",MONTH(B2399))","v":""},null,null,null,{"$f":"IF(D2399=\"\",\"\",IF(D2399<0,\"DEBITO\",\"CREDITO\"))","v":""},null,false,false,0,{"$f":"IF($A2399=I$3,AND($A2399=I$3,$D2399<0),0)","v":0},0,{"$f":"IF($A2399=K$3,AND($A2399=K$3,$D2399<0),0)","v":0},0,{"$f":"IF($A2399=M$3,AND($A2399=M$3,$D2399<0),0)","v":0},0,{"$f":"IF($A2399=O$3,AND($A2399=O$3,$D2399<0),0)","v":0},0,0,0,0,0,0,0,{"$f":"IF($A2399=W$3,AND($A2399=W$3,$D2399<0),0)","v":0},0,{"$f":"IF($A2399=Y$3,AND($A2399=Y$3,$D2399<0),0)","v":0},0,{"$f":"IF($A2399=AA$3,AND($A2399=AA$3,$D2399<0),0)","v":0},0,{"$f":"IF($A2399=AC$3,AND($A2399=AC$3,$D2399<0),0)","v":0},0,0]
[{"$f":"IF(B2402=0,\"\",MONTH(B2402))","v":""},null,null,null,{"$f":"IF(D2402=\"\",\"\",IF(D2402<0,\"DEBITO\",\"CREDITO\"))","v":""},null,false,false,0,{"$f":"IF($A2402=I$3,AND($A2402=I$3,$D2402<0),0)","v":0},0,{"$f":"IF($A2402=K$3,AND($A2402=K$3,$D2402<0),0)","v":0},0,{"$f":"IF($A2402=M$3,AND($A2402=M$3,$D2402<0),0)","v":0},0,{"$f":"IF($A2402=O$3,AND($A2402=O$3,$D2402<0),0)","v":0},0,0,0,0,0,0,0,{"$f":"IF($A2402=W$3,AND($A2402=W$3,$D2402<0),0)","v":0},0,{"$f":"IF($A2402=Y$3,AND($A2402=Y$3,$D2402<0),0)","v":0},0,{"$f":"IF($A2402=AA$3,AND($A2402=AA$3,$D2402<0),0)","v":0},0,{"$f":"IF($A2402=AC$3,AND($A2402=AC$3,$D2402<0),0)","v":0},0,0]
[{"$f":"IF(B2403=0,\"\",MONTH(B2403))","v":""},null,null,null,{"$f":"IF(D2403=\"\",\"\",IF(D2403<0,\"DEBITO\",\"CREDITO\"))","v":""},null,false,false,0,{"$f":"IF($A2403=I$3,AND($A2403=I$3,$D2403<0),0)","v":0},0,{"$f":"IF($A2403=K$3,AND($A2403=K$3,$D2403<0),0)","v":0},0,{"$f":"IF($A2403=M$3,AND($A2403=M$3,$D2403<0),0)","v":0},0,{"$f":"IF($A2403=O$3,AND($A2403=O$3,$D2403<0),0)","v":0},0,0,0,0,0,0,0,{"$f":"IF($A2403=W$3,AND($A2403=W$3,$D2403<0),0)","v":0},0,{"$f":"IF($A2403=Y$3,AND($A2403=Y$3,$D2403<0),0)","v":0},0,{"$f":"IF($A2403=AA$3,AND($A2403=AA$3,$D2403<0),0)","v":0},0,{"$f":"IF($A2403=AC$3,AND($A2403=AC$3,$D2403<0),0)","v":0},0,0]
[{"$f":"IF(B2406=0,\"\",MONTH(B2406))","v":""},null,null,null,{"$f":"IF(D2406=\"\",\"\",IF(D2406<0,\"DEBITO\",\"CREDITO\"))","v":""},null,false,false,0,{"$f":"IF($A2406=I$3,AND($A2406=I$3,$D2406<0),0)","v":0},0,{"$f":"IF($A2406=K$3,AND($A2406=K$3,$D2406<0),0)","v":0},0,{"$f":"IF($A2406=M$3,AND($A2406=M$3,$D2406<0),0)","v":0},0,{"$f":"IF($A2406=O$3,AND($A2406=O$3,$D2406<0),0)","v":0},0,0,0,0,0,0,0,{"$f":"IF($A2406=W$3,AND($A2406=W$3,$D2406<0),0)","v":0},0,{"$f":"IF($A2406=Y$3,AND($A2406=Y$3,$D2406<0),0)","v":0},0,{"$f":"IF($A2406=AA$3,AND($A2406=AA$3,$D2406<0),0)","v":0},0,{"$f":"IF($A2406=AC$3,AND($A2406=AC$3,$D2406<0),0)","v":0},0,0]
[{"$f":"IF(B2407=0,\"\",MONTH(B2407))","v":""},null,null,null,{"$f":"IF(D2407=\"\",\"\",IF(D2407<0,\"DEBITO\",\"CREDITO\"))","v":""},null,false,false,0,{"$f":"IF($A2407=I$3,AND($A2407=I$3,$D2407<0),0)","v":0},0,{"$f":"IF($A2407=K$3,AND($A2407=K$3,$D2407<0),0)","v":0},0,{"$f":"IF($A2407=M$3,AND($A2407=M$3,$D2407<0),0)","v":0},0,{"$f":"IF($A2407=O$3,AND($A2407=O$3,$D2407<0),0)","v":0},0,0,0,0,0,0,0,{"$f":"IF($A2407=W$3,AND($A2407=W$3,$D2407<0),0)","v":0},0,{"$f":"IF($A2407=Y$3,AND($A2407=Y$3,$D2407<0),0)","v":0},0,{"$f":"IF($A2407=AA$3,AND($A2407=AA$3,$D2407<0),0)","v":0},0,{"$f":"IF($A2407=AC$3,AND($A2407=AC$3,$D2407<0),0)","v":0},0,0]
[{"$f":"IF(B2410=0,\"\",MONTH(B2410))","v":""},null,null,null,{"$f":"IF(D2410=\"\",\"\",IF(D2410<0,\"DEBITO\",\"CREDITO\"))","v":""},null,false,false,0,{"$f":"IF($A2410=I$3,AND($A2410=I$3,$D2410<0),0)","v":0},0,{"$f":"IF($A2410=K$3,AND($A2410=K$3,$D2410<0),0)","v":0},0,{"$f":"IF($A2410=M$3,AND($A2410=M$3,$D2410<0),0)","v":0},0,{"$f":"IF($A2410=O$3,AND($A2410=O$3,$D2410<0),0)","v":0},0,0,0,0,0,0,0,{"$f":"IF($A2410=W$3,AND($A2410=W$3,$D2410<0),0)","v":0},0,{"$f":"IF($A2410=Y$3,AND($A2410=Y$3,$D2410<0),0)","v":0},0,{"$f":"IF($A2410=AA$3,AND($A2410=AA$3,$D2410<0),0)","v":0},0,{"$f":"IF($A2410=AC$3,AND($A2410=AC$3,$D2410<0),0)","v":0},0,0]
[{"$f":"IF(B2411=0,\"\",MONTH(B2411))","v":""},null,null,null,{"$f":"IF(D2411=\"\",\"\",IF(D2411<0,\"DEBITO\",\"CREDITO\"))","v":""},null,false,false,0,{"$f":"IF($A2411=I$3,AND($A2411=I$3,$D2411<0),0)","v":0},0,{"$f":"IF($A2411=K$3,AND($A2411=K$3,$D2411<0),0)","v":0},0,{"$f":"IF($A2411=M$3,AND($A2411=M$3,$D2411<0),0)","v":0},0,{"$f":"IF($A2411=O$3,AND($A2411=O$3,$D2411<0),0)","v":0},0,0,0,0,0,0,0,{"$f":"IF($A2411=W$3,AND($A2411=W$3,$D2411<0),0)","v":0},0,{"$f":"IF($A2411=Y$3,AND($A2411=Y$3,$D2411<0),0)","v":0},0,{"$f":"IF($A2411=AA$3,AND($A2411=AA$3,$D2411<0),0)","v":0},0,{"$f":"IF($A2411=AC$3,AND($A2411=AC$3,$D2411<0),0)","v":0},0,0]
[{"$f":"IF(B2414=0,\"\",MONTH(B2414))","v":""},null,null,null,{"$f":"IF(D2414=\"\",\"\",IF(D2414<0,\"DEBITO\",\"CREDITO\"))","v":""},null,false,false,0,{"$f":"IF($A2414=I$3,AND($A2414=I$3,$D2414<0),0)","v":0},0,{"$f":"IF($A2414=K$3,AND($A2414=K$3,$D2414<0),0)","v":0},0,{"$f":"IF($A2414=M$3,AND($A2414=M$3,$D2414<0),0)","v":0},0,{"$f":"IF($A2414=O$3,AND($A2414=O$3,$D2414<0),0)","v":0},0,0,0,0,0,0,0,{"$f":"IF($A2414=W$3,AND($A2414=W$3,$D2414<0),0)","v":0},0,{"$f":"IF($A2414=Y$3,AND($A2414=Y$3,$D2414<0),0)","v":0},0,{"$f":"IF($A2414=AA$3,AND($A2414=AA$3,$D2414<0),0)","v":0},0,{"$f":"IF($A2414=AC$3,AND($A2414=AC$3,$D2414<0),0)","v":0},0,0]
[{"$f":"IF(B2415=0,\"\",MONTH(B2415))","v":""},null,null,null,{"$f":"IF(D2415=\"\",\"\",IF(D2415<0,\"DEBITO\",\"CREDITO\"))","v":""},null,false,false,0,{"$f":"IF($A2415=I$3,AND($A2415=I$3,$D2415<0),0)","v":0},0,{"$f":"IF($A2415=K$3,AND($A2415=K$3,$D2415<0),0)","v":0},0,{"$f":"IF($A2415=M$3,AND($A2415=M$3,$D2415<0),0)","v":0},0,{"$f":"IF($A2415=O$3,AND($A2415=O$3,$D2415<0),0)","v":0},0,0,0,0,0,0,0,{"$f":"IF($A2415=W$3,AND($A2415=W$3,$D2415<0),0)","v":0},0,{"$f":"IF($A2415=Y$3,AND($A2415=Y$3,$D2415<0),0)","v":0},0,{"$f":"IF($A2415=AA$3,AND($A2415=AA$3,$D2415<0),0)","v":0},0,{"$f":"IF($A2415=AC$3,AND($A2415=AC$3,$D2415<0),0)","v":0},0,0]
[{"$f":"IF(B2418=0,\"\",MONTH(B2418))","v":""},null,null,null,{"$f":"IF(D2418=\"\",\"\",IF(D2418<0,\"DEBITO\",\"CREDITO\"))","v":""},null,false,false,0,{"$f":"IF($A2418=I$3,AND($A2418=I$3,$D2418<0),0)","v":0},0,{"$f":"IF($A2418=K$3,AND($A2418=K$3,$D2418<0),0)","v":0},0,{"$f":"IF($A2418=M$3,AND($A2418=M$3,$D2418<0),0)","v":0},0,{"$f":"IF($A2418=O$3,AND($A2418=O$3,$D2418<0),0)","v":0},0,0,0,0,0,0,0,{"$f":"IF($A2418=W$3,AND($A2418=W$3,$D2418<0),0)","v":0},0,{"$f":"IF($A2418=Y$3,AND($A2418=Y$3,$D2418<0),0)","v":0},0,{"$f":"IF($A2418=AA$3,AND($A2418=AA$3,$D2418<0),0)","v":0},0,{"$f":"IF($A2418=AC$3,AND($A2418=AC$3,$D2418<0),0)","v":0},0,0]
[{"$f":"IF(B2420=0,\"\",MONTH(B2420))","v":""},null,null,null,{"$f":"IF(D2420=\"\",\"\",IF(D2420<0,\"DEBITO\",\"CREDITO\"))","v":""},null,false,false,0,{"$f":"IF($A2420=I$3,AND($A2420=I$3,$D2420<0),0)","v":0},0,{"$f":"IF($A2420=K$3,AND($A2420=K$3,$D2420<0),0)","v":0},0,{"$f":"IF($A2420=M$3,AND($A2420=M$3,$D2420<0),0)","v":0},0,{"$f":"IF($A2420=O$3,AND($A2420=O$3,$D2420<0),0)","v":0},0,0,0,0,0,0,0,{"$f":"IF($A2420=W$3,AND($A2420=W$3,$D2420<0),0)","v":0},0,{"$f":"IF($A2420=Y$3,AND($A2420=Y$3,$D2420<0),0)","v":0},0,{"$f":"IF($A2420=AA$3,AND($A2420=AA$3,$D2420<0),0)","v":0},0,{"$f":"IF($A2420=AC$3,AND($A2420=AC$3,$D2420<0),0)","v":0},0,0]
[{"$f":"IF(B2423=0,\"\",MONTH(B2423))","v":""},null,null,null,{"$f":"IF(D2423=\"\",\"\",IF(D2423<0,\"DEBITO\",\"CREDITO\"))","v":""},null,false,false,0,{"$f":"IF($A2423=I$3,AND($A2423=I$3,$D2423<0),0)","v":0},0,{"$f":"IF($A2423=K$3,AND($A2423=K$3,$D2423<0),0)","v":0},0,{"$f":"IF($A2423=M$3,AND($A2423=M$3,$D2423<0),0)","v":0},0,{"$f":"IF($A2423=O$3,AND($A2423=O$3,$D2423<0),0)","v":0},0,0,0,0,0,0,0,{"$f":"IF($A2423=W$3,AND($A2423=W$3,$D2423<0),0)","v":0},0,{"$f":"IF($A2423=Y$3,AND($A2423=Y$3,$D2423<0),0)","v":0},0,{"$f":"IF($A2423=AA$3,AND($A2423=AA$3,$D2423<0),0)","v":0},0,{"$f":"IF($A2423=AC$3,AND($A2423=AC$3,$D2423<0),0)","v":0},0,0]
[{"$f":"IF(B2424=0,\"\",MONTH(B2424))","v":""},null,null,null,{"$f":"IF(D2424=\"\",\"\",IF(D2424<0,\"DEBITO\",\"CREDITO\"))","v":""},null,false,false,0,{"$f":"IF($A2424=I$3,AND($A2424=I$3,$D2424<0),0)","v":0},0,{"$f":"IF($A2424=K$3,AND($A2424=K$3,$D2424<0),0)","v":0},0,{"$f":"IF($A2424=M$3,AND($A2424=M$3,$D2424<0),0)","v":0},0,{"$f":"IF($A2424=O$3,AND($A2424=O$3,$D2424<0),0)","v":0},0,0,0,0,0,0,0,{"$f":"IF($A2424=W$3,AND($A2424=W$3,$D2424<0),0)","v":0},0,{"$f":"IF($A2424=Y$3,AND($A2424=Y$3,$D2424<0),0)","v":0},0,{"$f":"IF($A2424=AA$3,AND($A2424=AA$3,$D2424<0),0)","v":0},0,{"$f":"IF($A2424=AC$3,AND($A2424=AC$3,$D2424<0),0)","v":0},0,0]
[{"$f":"IF(B2427=0,\"\",MONTH(B2427))","v":""},null,null,null,{"$f":"IF(D2427=\"\",\"\",IF(D2427<0,\"DEBITO\",\"CREDITO\"))","v":""},null,false,false,0,{"$f":"IF($A2427=I$3,AND($A2427=I$3,$D2427<0),0)","v":0},0,{"$f":"IF($A2427=K$3,AND($A2427=K$3,$D2427<0),0)","v":0},0,{"$f":"IF($A2427=M$3,AND($A2427=M$3,$D2427<0),0)","v":0},0,{"$f":"IF($A2427=O$3,AND($A2427=O$3,$D2427<0),0)","v":0},0,0,0,0,0,0,0,{"$f":"IF($A2427=W$3,AND($A2427=W$3,$D2427<0),0)","v":0},0,{"$f":"IF($A2427=Y$3,AND($A2427=Y$3,$D2427<0),0)","v":0},0,{"$f":"IF($A2427=AA$3,AND($A2427=AA$3,$D2427<0),0)","v":0},0,{"$f":"IF($A2427=AC$3,AND($A2427=AC$3,$D2427<0),0)","v":0},0,0]
[{"$f":"IF(B2428=0,\"\",MONTH(B2428))","v":""},null,null,null,{"$f":"IF(D2428=\"\",\"\",IF(D2428<0,\"DEBITO\",\"CREDITO\"))","v":""},null,false,false,0,{"$f":"IF($A2428=I$3,AND($A2428=I$3,$D2428<0),0)","v":0},0,{"$f":"IF($A2428=K$3,AND($A2428=K$3,$D2428<0),0)","v":0},0,{"$f":"IF($A2428=M$3,AND($A2428=M$3,$D2428<0),0)","v":0},0,{"$f":"IF($A2428=O$3,AND($A2428=O$3,$D2428<0),0)","v":0},0,0,0,0,0,0,0,{"$f":"IF($A2428=W$3,AND($A2428=W$3,$D2428<0),0)","v":0},0,{"$f":"IF($A2428=Y$3,AND($A2428=Y$3,$D2428<0),0)","v":0},0,{"$f":"IF($A2428=AA$3,AND($A2428=AA$3,$D2428<0),0)","v":0},0,{"$f":"IF($A2428=AC$3,AND($A2428=AC$3,$D2428<0),0)","v":0},0,0]
[{"$f":"IF(B2431=0,\"\",MONTH(B2431))","v":""},null,null,null,{"$f":"IF(D2431=\"\",\"\",IF(D2431<0,\"DEBITO\",\"CREDITO\"))","v":""},null,false,false,0,{"$f":"IF($A2431=I$3,AND($A2431=I$3,$D2431<0),0)","v":0},0,{"$f":"IF($A2431=K$3,AND($A2431=K$3,$D2431<0),0)","v":0},0,{"$f":"IF($A2431=M$3,AND($A2431=M$3,$D2431<0),0)","v":0},0,{"$f":"IF($A2431=O$3,AND($A2431=O$3,$D2431<0),0)","v":0},0,0,0,0,0,0,0,{"$f":"IF($A2431=W$3,AND($A2431=W$3,$D2431<0),0)","v":0},0,{"$f":"IF($A2431=Y$3,AND($A2431=Y$3,$D2431<0),0)","v":0},0,{"$f":"IF($A2431=AA$3,AND($A2431=AA$3,$D2431<0),0)","v":0},0,{"$f":"IF($A2431=AC$3,AND($A2431=AC$3,$D2431<0),0)","v":0},0,0]
[{"$f":"IF(B2432=0,\"\",MONTH(B2432))","v":""},null,null,null,{"$f":"IF(D2432=\"\",\"\",IF(D2432<0,\"DEBITO\",\"CREDITO\"))","v":""},null,false,false,0,{"$f":"IF($A2432=I$3,AND($A2432=I$3,$D2432<0),0)","v":0},0,{"$f":"IF($A2432=K$3,AND($A2432=K$3,$D2432<0),0)","v":0},0,{"$f":"IF($A2432=M$3,AND($A2432=M$3,$D2432<0),0)","v":0},0,{"$f":"IF($A2432=O$3,AND($A2432=O$3,$D2432<0),0)","v":0},0,0,0,0,0,0,0,{"$f":"IF($A2432=W$3,AND($A2432=W$3,$D2432<0),0)","v":0},0,{"$f":"IF($A2432=Y$3,AND($A2432=Y$3,$D2432<0),0)","v":0},0,{"$f":"IF($A2432=AA$3,AND($A2432=AA$3,$D2432<0),0)","v":0},0,{"$f":"IF($A2432=AC$3,AND($A2432=AC$3,$D2432<0),0)","v":0},0,0]
[{"$f":"IF(B2435=0,\"\",MONTH(B2435))","v":""},null,null,null,{"$f":"IF(D2435=\"\",\"\",IF(D2435<0,\"DEBITO\",\"CREDITO\"))","v":""},null,false,false,0,{"$f":"IF($A2435=I$3,AND($A2435=I$3,$D2435<0),0)","v":0},0,{"$f":"IF($A2435=K$3,AND($A2435=K$3,$D2435<0),0)","v":0},0,{"$f":"IF($A2435=M$3,AND($A2435=M$3,$D2435<0),0)","v":0},0,{"$f":"IF($A2435=O$3,AND($A2435=O$3,$D2435<0),0)","v":0},0,0,0,0,0,0,0,{"$f":"IF($A2435=W$3,AND($A2435=W$3,$D2435<0),0)","v":0},0,{"$f":"IF($A2435=Y$3,AND($A2435=Y$3,$D2435<0),0)","v":0},0,{"$f":"IF($A2435=AA$3,AND($A2435=AA$3,$D2435<0),0)","v":0},0,{"$f":"IF($A2435=AC$3,AND($A2435=AC$3,$D2435<0),0)","v":0},0,0]
[{"$f":"IF(B2436=0,\"\",MONTH(B2436))","v":""},null,null,null,{"$f":"IF(D2436=\"\",\"\",IF(D2436<0,\"DEBITO\",\"CREDITO\"))","v":""},null,false,false,0,{"$f":"IF($A2436=I$3,AND($A2436=I$3,$D2436<0),0)","v":0},0,{"$f":"IF($A2436=K$3,AND($A2436=K$3,$D2436<0),0)","v":0},0,{"$f":"IF($A2436=M$3,AND($A2436=M$3,$D2436<0),0)","v":0},0,{"$f":"IF($A2436=O$3,AND($A2436=O$3,$D2436<0),0)","v":0},0,0,0,0,0,0,0,{"$f":"IF($A2436=W$3,AND($A2436=W$3,$D2436<0),0)","v":0},0,{"$f":"IF($A2436=Y$3,AND($A2436=Y$3,$D2436<0),0)","v":0},0,{"$f":"IF($A2436=AA$3,AND($A2436=AA$3,$D2436<0),0)","v":0},0,{"$f":"IF($A2436=AC$3,AND($A2436=AC$3,$D2436<0),0)","v":0},0,0]
[{"$f":"IF(B2439=0,\"\",MONTH(B2439))","v":""},null,null,null,{"$f":"IF(D2439=\"\",\"\",IF(D2439<0,\"DEBITO\",\"CREDITO\"))","v":""},null,false,false,0,{"$f":"IF($A2439=I$3,AND($A2439=I$3,$D2439<0),0)","v":0},0,{"$f":"IF($A2439=K$3,AND($A2439=K$3,$D2439<0),0)","v":0},0,{"$f":"IF($A2439=M$3,AND($A2439=M$3,$D2439<0),0)","v":0},0,{"$f":"IF($A2439=O$3,AND($A2439=O$3,$D2439<0),0)","v":0},0,0,0,0,0,0,0,{"$f":"IF($A2439=W$3,AND($A2439=W$3,$D2439<0),0)","v":0},0,{"$f":"IF($A2439=Y$3,AND($A2439=Y$3,$D2439<0),0)","v":0},0,{"$f":"IF($A2439=AA$3,AND($A2439=AA$3,$D2439<0),0)","v":0},0,{"$f":"IF($A2439=AC$3,AND($A2439=AC$3,$D2439<0),0)","v":0},0,0]
[{"$f":"IF(B2442=0,\"\",MONTH(B2442))","v":""},null,null,null,{"$f":"IF(D2442=\"\",\"\",IF(D2442<0,\"DEBITO\",\"CREDITO\"))","v":""},null,false,false,0,{"$f":"IF($A2442=I$3,AND($A2442=I$3,$D2442<0),0)","v":0},0,{"$f":"IF($A2442=K$3,AND($A2442=K$3,$D2442<0),0)","v":0},0,{"$f":"IF($A2442=M$3,AND($A2442=M$3,$D2442<0),0)","v":0},0,{"$f":"IF($A2442=O$3,AND($A2442=O$3,$D2442<0),0)","v":0},0,0,{"$f":"IF($A2442=S$3,AND($A2442=S$3,$D2442>0),0)","v":0},{"$f":"IF($A2442=S$3,AND($A2442=S$3,$D2442<0),0)","v":0},{"$f":"IF($A2442=U$3,AND($A2442=U$3,$D2442>0),0)","v":0},{"$f":"IF($A2442=U$3,AND($A2442=U$3,$D2442<0),0)","v":0},0,{"$f":"IF($A2442=W$3,AND($A2442=W$3,$D2442<0),0)","v":0},0,{"$f":"IF($A2442=Y$3,AND($A2442=Y$3,$D2442<0),0)","v":0},0,{"$f":"IF($A2442=AA$3,AND($A2442=AA$3,$D2442<0),0)","v":0},0,{"$f":"IF($A2442=AC$3,AND($A2442=AC$3,$D2442<0),0)","v":0},0,0]
[{"$f":"IF(B2444=0,\"\",MONTH(B2444))","v":""},null,null,null,{"$f":"IF(D2444=\"\",\"\",IF(D2444<0,\"DEBITO\",\"CREDITO\"))","v":""},null,false,false,0,{"$f":"IF($A2444=I$3,AND($A2444=I$3,$D2444<0),0)","v":0},0,{"$f":"IF($A2444=K$3,AND($A2444=K$3,$D2444<0),0)","v":0},0,{"$f":"IF($A2444=M$3,AND($A2444=M$3,$D2444<0),0)","v":0},0,{"$f":"IF($A2444=O$3,AND($A2444=O$3,$D2444<0),0)","v":0},0,0,0,0,0,0,0,{"$f":"IF($A2444=W$3,AND($A2444=W$3,$D2444<0),0)","v":0},0,{"$f":"IF($A2444=Y$3,AND($A2444=Y$3,$D2444<0),0)","v":0},0,{"$f":"IF($A2444=AA$3,AND($A2444=AA$3,$D2444<0),0)","v":0},0,{"$f":"IF($A2444=AC$3,AND($A2444=AC$3,$D2444<0),0)","v":0},0,0]
[{"$f":"IF(B2445=0,\"\",MONTH(B2445))","v":""},null,null,null,{"$f":"IF(D2445=\"\",\"\",IF(D2445<0,\"DEBITO\",\"CREDITO\"))","v":""},null,false,false,0,{"$f":"IF($A2445=I$3,AND($A2445=I$3,$D2445<0),0)","v":0},0,{"$f":"IF($A2445=K$3,AND($A2445=K$3,$D2445<0),0)","v":0},0,{"$f":"IF($A2445=M$3,AND($A2445=M$3,$D2445<0),0)","v":0},0,{"$f":"IF($A2445=O$3,AND($A2445=O$3,$D2445<0),0)","v":0},0,0,0,0,0,0,0,{"$f":"IF($A2445=W$3,AND($A2445=W$3,$D2445<0),0)","v":0},0,{"$f":"IF($A2445=Y$3,AND($A2445=Y$3,$D2445<0),0)","v":0},0,{"$f":"IF($A2445=AA$3,AND($A2445=AA$3,$D2445<0),0)","v":0},0,{"$f":"IF($A2445=AC$3,AND($A2445=AC$3,$D2445<0),0)","v":0},0,0]
[{"$f":"IF(B2448=0,\"\",MONTH(B2448))","v":""},null,null,null,{"$f":"IF(D2448=\"\",\"\",IF(D2448<0,\"DEBITO\",\"CREDITO\"))","v":""},null,false,false,0,{"$f":"IF($A2448=I$3,AND($A2448=I$3,$D2448<0),0)","v":0},0,{"$f":"IF($A2448=K$3,AND($A2448=K$3,$D2448<0),0)","v":0},0,{"$f":"IF($A2448=M$3,AND($A2448=M$3,$D2448<0),0)","v":0},0,{"$f":"IF($A2448=O$3,AND($A2448=O$3,$D2448<0),0)","v":0},0,0,0,0,0,0,0,{"$f":"IF($A2448=W$3,AND($A2448=W$3,$D2448<0),0)","v":0},0,{"$f":"IF($A2448=Y$3,AND($A2448=Y$3,$D2448<0),0)","v":0},0,{"$f":"IF($A2448=AA$3,AND($A2448=AA$3,$D2448<0),0)","v":0},0,{"$f":"IF($A2448=AC$3,AND($A2448=AC$3,$D2448<0),0)","v":0},0,0]
[{"$f":"IF(B2449=0,\"\",MONTH(B2449))","v":""},null,null,null,{"$f":"IF(D2449=\"\",\"\",IF(D2449<0,\"DEBITO\",\"CREDITO\"))","v":""},null,false,false,0,{"$f":"IF($A2449=I$3,AND($A2449=I$3,$D2449<0),0)","v":0},0,{"$f":"IF($A2449=K$3,AND($A2449=K$3,$D2449<0),0)","v":0},0,{"$f":"IF($A2449=M$3,AND($A2449=M$3,$D2449<0),0)","v":0},0,{"$f":"IF($A2449=O$3,AND($A2449=O$3,$D2449<0),0)","v":0},0,0,0,0,0,0,0,{"$f":"IF($A2449=W$3,AND($A2449=W$3,$D2449<0),0)","v":0},0,{"$f":"IF($A2449=Y$3,AND($A2449=Y$3,$D2449<0),0)","v":0},0,{"$f":"IF($A2449=AA$3,AND($A2449=AA$3,$D2449<0),0)","v":0},0,{"$f":"IF($A2449=AC$3,AND($A2449=AC$3,$D2449<0),0)","v":0},0,0]
[{"$f":"IF(B2452=0,\"\",MONTH(B2452))","v":""},null,null,null,{"$f":"IF(D2452=\"\",\"\",IF(D2452<0,\"DEBITO\",\"CREDITO\"))","v":""},null,false,false,0,{"$f":"IF($A2452=I$3,AND($A2452=I$3,$D2452<0),0)","v":0},0,{"$f":"IF($A2452=K$3,AND($A2452=K$3,$D2452<0),0)","v":0},0,{"$f":"IF($A2452=M$3,AND($A2452=M$3,$D2452<0),0)","v":0},0,{"$f":"IF($A2452=O$3,AND($A2452=O$3,$D2452<0),0)","v":0},0,0,0,0,0,0,0,{"$f":"IF($A2452=W$3,AND($A2452=W$3,$D2452<0),0)","v":0},0,{"$f":"IF($A2452=Y$3,AND($A2452=Y$3,$D2452<0),0)","v":0},0,{"$f":"IF($A2452=AA$3,AND($A2452=AA$3,$D2452<0),0)","v":0},0,{"$f":"IF($A2452=AC$3,AND($A2452=AC$3,$D2452<0),0)","v":0},0,0]
[{"$f":"IF(B2453=0,\"\",MONTH(B2453))","v":""},null,null,null,{"$f":"IF(D2453=\"\",\"\",IF(D2453<0,\"DEBITO\",\"CREDITO\"))","v":""},null,false,false,0,{"$f":"IF($A2453=I$3,AND($A2453=I$3,$D2453<0),0)","v":0},0,{"$f":"IF($A2453=K$3,AND($A2453=K$3,$D2453<0),0)","v":0},0,{"$f":"IF($A2453=M$3,AND($A2453=M$3,$D2453<0),0)","v":0},0,{"$f":"IF($A2453=O$3,AND($A2453=O$3,$D2453<0),0)","v":0},0,0,0,0,0,0,0,{"$f":"IF($A2453=W$3,AND($A2453=W$3,$D2453<0),0)","v":0},0,{"$f":"IF($A2453=Y$3,AND($A2453=Y$3,$D2453<0),0)","v":0},0,{"$f":"IF($A2453=AA$3,AND($A2453=AA$3,$D2453<0),0)","v":0},0,{"$f":"IF($A2453=AC$3,AND($A2453=AC$3,$D2453<0),0)","v":0},0,0]
[{"$f":"IF(B2456=0,\"\",MONTH(B2456))","v":""},null,null,null,{"$f":"IF(D2456=\"\",\"\",IF(D2456<0,\"DEBITO\",\"CREDITO\"))","v":""},null,false,false,0,{"$f":"IF($A2456=I$3,AND($A2456=I$3,$D2456<0),0)","v":0},0,{"$f":"IF($A2456=K$3,AND($A2456=K$3,$D2456<0),0)","v":0},0,{"$f":"IF($A2456=M$3,AND($A2456=M$3,$D2456<0),0)","v":0},0,{"$f":"IF($A2456=O$3,AND($A2456=O$3,$D2456<0),0)","v":0},0,0,0,0,0,0,0,{"$f":"IF($A2456=W$3,AND($A2456=W$3,$D2456<0),0)","v":0},0,{"$f":"IF($A2456=Y$3,AND($A2456=Y$3,$D2456<0),0)","v":0},0,{"$f":"IF($A2456=AA$3,AND($A2456=AA$3,$D2456<0),0)","v":0},0,{"$f":"IF($A2456=AC$3,AND($A2456=AC$3,$D2456<0),0)","v":0},0,0]
[{"$f":"IF(B2457=0,\"\",MONTH(B2457))","v":""},null,null,null,{"$f":"IF(D2457=\"\",\"\",IF(D2457<0,\"DEBITO\",\"CREDITO\"))","v":""},null,false,false,{"$f":"IF($A2457=I$3,AND($A2457=I$3,$D2457>0),0)","v":0},{"$f":"IF($A2457=I$3,AND($A2457=I$3,$D2457<0),0)","v":0},{"$f":"IF($A2457=K$3,AND($A2457=K$3,$D2457>0),0)","v":0},{"$f":"IF($A2457=K$3,AND($A2457=K$3,$D2457<0),0)","v":0},{"$f":"IF($A2457=M$3,AND($A2457=M$3,$D2457>0),0)","v":0},{"$f":"IF($A2457=M$3,AND($A2457=M$3,$D2457<0),0)","v":0},{"$f":"IF($A2457=O$3,AND($A2457=O$3,$D2457>0),0)","v":0},{"$f":"IF($A2457=O$3,AND($A2457=O$3,$D2457<0),0)","v":0},{"$f":"IF($A2457=Q$3,AND($A2457=Q$3,$D2457>0),0)","v":0},0,0,0,0,0,{"$f":"IF($A2457=W$3,AND($A2457=W$3,$D2457>0),0)","v":0},{"$f":"IF($A2457=W$3,AND($A2457=W$3,$D2457<0),0)","v":0},{"$f":"IF($A2457=Y$3,AND($A2457=Y$3,$D2457>0),0)","v":0},{"$f":"IF($A2457=Y$3,AND($A2457=Y$3,$D2457<0),0)","v":0},{"$f":"IF($A2457=AA$3,AND($A2457=AA$3,$D2457>0),0)","v":0},{"$f":"IF($A2457=AA$3,AND($A2457=AA$3,$D2457<0),0)","v":0},{"$f":"IF($A2457=AC$3,AND($A2457=AC$3,$D2457>0),0)","v":0},{"$f":"IF($A2457=AC$3,AND($A2457=AC$3,$D2457<0),0)","v":0},{"$f":"IF($A2457=AE$3,AND($A2457=AE$3,$D2457>0),0)","v":0},0]
[{"$f":"IF(B2460=0,\"\",MONTH(B2460))","v":""},null,null,null,{"$f":"IF(D2460=\"\",\"\",IF(D2460<0,\"DEBITO\",\"CREDITO\"))","v":""},null,false,false,0,{"$f":"IF($A2460=I$3,AND($A2460=I$3,$D2460<0),0)","v":0},0,{"$f":"IF($A2460=K$3,AND($A2460=K$3,$D2460<0),0)","v":0},0,{"$f":"IF($A2460=M$3,AND($A2460=M$3,$D2460<0),0)","v":0},0,{"$f":"IF($A2460=O$3,AND($A2460=O$3,$D2460<0),0)","v":0},0,0,0,0,0,0,0,{"$f":"IF($A2460=W$3,AND($A2460=W$3,$D2460<0),0)","v":0},0,{"$f":"IF($A2460=Y$3,AND($A2460=Y$3,$D2460<0),0)","v":0},0,{"$f":"IF($A2460=AA$3,AND($A2460=AA$3,$D2460<0),0)","v":0},0,{"$f":"IF($A2460=AC$3,AND($A2460=AC$3,$D2460<0),0)","v":0},0,0]
[{"$f":"IF(B2461=0,\"\",MONTH(B2461))","v":""},null,null,null,{"$f":"IF(D2461=\"\",\"\",IF(D2461<0,\"DEBITO\",\"CREDITO\"))","v":""},null,false,false,0,{"$f":"IF($A2461=I$3,AND($A2461=I$3,$D2461<0),0)","v":0},0,{"$f":"IF($A2461=K$3,AND($A2461=K$3,$D2461<0),0)","v":0},0,{"$f":"IF($A2461=M$3,AND($A2461=M$3,$D2461<0),0)","v":0},0,{"$f":"IF($A2461=O$3,AND($A2461=O$3,$D2461<0),0)","v":0},0,0,0,0,0,0,0,{"$f":"IF($A2461=W$3,AND($A2461=W$3,$D2461<0),0)","v":0},0,{"$f":"IF($A2461=Y$3,AND($A2461=Y$3,$D2461<0),0)","v":0},0,{"$f":"IF($A2461=AA$3,AND($A2461=AA$3,$D2461<0),0)","v":0},0,{"$f":"IF($A2461=AC$3,AND($A2461=AC$3,$D2461<0),0)","v":0},0,0]
[{"$f":"IF(B2465=0,\"\",MONTH(B2465))","v":""},null,null,null,{"$f":"IF(D2465=\"\",\"\",IF(D2465<0,\"DEBITO\",\"CREDITO\"))","v":""},null,false,false,0,{"$f":"IF($A2465=I$3,AND($A2465=I$3,$D2465<0),0)","v":0},0,{"$f":"IF($A2465=K$3,AND($A2465=K$3,$D2465<0),0)","v":0},0,{"$f":"IF($A2465=M$3,AND($A2465=M$3,$D2465<0),0)","v":0},0,{"$f":"IF($A2465=O$3,AND($A2465=O$3,$D2465<0),0)","v":0},0,0,0,0,0,0,0,{"$f":"IF($A2465=W$3,AND($A2465=W$3,$D2465<0),0)","v":0},0,{"$f":"IF($A2465=Y$3,AND($A2465=Y$3,$D2465<0),0)","v":0},0,{"$f":"IF($A2465=AA$3,AND($A2465=AA$3,$D2465<0),0)","v":0},0,{"$f":"IF($A2465=AC$3,AND($A2465=AC$3,$D2465<0),0)","v":0},0,0]
[{"$f":"IF(B2466=0,\"\",MONTH(B2466))","v":""},null,null,null,{"$f":"IF(D2466=\"\",\"\",IF(D2466<0,\"DEBITO\",\"CREDITO\"))","v":""},null,false,false,0,{"$f":"IF($A2466=I$3,AND($A2466=I$3,$D2466<0),0)","v":0},0,{"$f":"IF($A2466=K$3,AND($A2466=K$3,$D2466<0),0)","v":0},0,{"$f":"IF($A2466=M$3,AND($A2466=M$3,$D2466<0),0)","v":0},0,{"$f":"IF($A2466=O$3,AND($A2466=O$3,$D2466<0),0)","v":0},0,0,0,0,0,0,0,{"$f":"IF($A2466=W$3,AND($A2466=W$3,$D2466<0),0)","v":0},0,{"$f":"IF($A2466=Y$3,AND($A2466=Y$3,$D2466<0),0)","v":0},0,{"$f":"IF($A2466=AA$3,AND($A2466=AA$3,$D2466<0),0)","v":0},0,{"$f":"IF($A2466=AC$3,AND($A2466=AC$3,$D2466<0),0)","v":0},0,0]
[{"$f":"IF(B2469=0,\"\",MONTH(B2469))","v":""},null,null,null,{"$f":"IF(D2469=\"\",\"\",IF(D2469<0,\"DEBITO\",\"CREDITO\"))","v":""},null,false,false,0,{"$f":"IF($A2469=I$3,AND($A2469=I$3,$D2469<0),0)","v":0},0,{"$f":"IF($A2469=K$3,AND($A2469=K$3,$D2469<0),0)","v":0},0,{"$f":"IF($A2469=M$3,AND($A2469=M$3,$D2469<0),0)","v":0},0,{"$f":"IF($A2469=O$3,AND($A2469=O$3,$D2469<0),0)","v":0},0,0,0,0,0,0,0,{"$f":"IF($A2469=W$3,AND($A2469=W$3,$D2469<0),0)","v":0},0,{"$f":"IF($A2469=Y$3,AND($A2469=Y$3,$D2469<0),0)","v":0},0,{"$f":"IF($A2469=AA$3,AND($A2469=AA$3,$D2469<0),0)","v":0},0,{"$f":"IF($A2469=AC$3,AND($A2469=AC$3,$D2469<0),0)","v":0},0,0]
[{"$f":"IF(B2470=0,\"\",MONTH(B2470))","v":""},null,null,null,{"$f":"IF(D2470=\"\",\"\",IF(D2470<0,\"DEBITO\",\"CREDITO\"))","v":""},null,false,false,0,{"$f":"IF($A2470=I$3,AND($A2470=I$3,$D2470<0),0)","v":0},0,{"$f":"IF($A2470=K$3,AND($A2470=K$3,$D2470<0),0)","v":0},0,{"$f":"IF($A2470=M$3,AND($A2470=M$3,$D2470<0),0)","v":0},0,{"$f":"IF($A2470=O$3,AND($A2470=O$3,$D2470<0),0)","v":0},0,0,0,0,0,0,0,{"$f":"IF($A2470=W$3,AND($A2470=W$3,$D2470<0),0)","v":0},0,{"$f":"IF($A2470=Y$3,AND($A2470=Y$3,$D2470<0),0)","v":0},0,{"$f":"IF($A2470=AA$3,AND($A2470=AA$3,$D2470<0),0)","v":0},0,{"$f":"IF($A2470=AC$3,AND($A2470=AC$3,$D2470<0),0)","v":0},0,0]
[{"$f":"IF(B2473=0,\"\",MONTH(B2473))","v":""},null,null,null,{"$f":"IF(D2473=\"\",\"\",IF(D2473<0,\"DEBITO\",\"CREDITO\"))","v":""},null,false,false,0,{"$f":"IF($A2473=I$3,AND($A2473=I$3,$D2473<0),0)","v":0},0,{"$f":"IF($A2473=K$3,AND($A2473=K$3,$D2473<0),0)","v":0},0,{"$f":"IF($A2473=M$3,AND($A2473=M$3,$D2473<0),0)","v":0},0,{"$f":"IF($A2473=O$3,AND($A2473=O$3,$D2473<0),0)","v":0},0,0,0,0,0,0,0,{"$f":"IF($A2473=W$3,AND($A2473=W$3,$D2473<0),0)","v":0},0,{"$f":"IF($A2473=Y$3,AND($A2473=Y$3,$D2473<0),0)","v":0},0,{"$f":"IF($A2473=AA$3,AND($A2473=AA$3,$D2473<0),0)","v":0},0,{"$f":"IF($A2473=AC$3,AND($A2473=AC$3,$D2473<0),0)","v":0},0,0]
[{"$f":"IF(B2474=0,\"\",MONTH(B2474))","v":""},null,null,null,{"$f":"IF(D2474=\"\",\"\",IF(D2474<0,\"DEBITO\",\"CREDITO\"))","v":""},null,false,false,0,{"$f":"IF($A2474=I$3,AND($A2474=I$3,$D2474<0),0)","v":0},0,{"$f":"IF($A2474=K$3,AND($A2474=K$3,$D2474<0),0)","v":0},0,{"$f":"IF($A2474=M$3,AND($A2474=M$3,$D2474<0),0)","v":0},0,{"$f":"IF($A2474=O$3,AND($A2474=O$3,$D2474<0),0)","v":0},0,0,0,0,0,0,0,{"$f":"IF($A2474=W$3,AND($A2474=W$3,$D2474<0),0)","v":0},0,{"$f":"IF($A2474=Y$3,AND($A2474=Y$3,$D2474<0),0)","v":0},0,{"$f":"IF($A2474=AA$3,AND($A2474=AA$3,$D2474<0),0)","v":0},0,{"$f":"IF($A2474=AC$3,AND($A2474=AC$3,$D2474<0),0)","v":0},0,0]
[{"$f":"IF(B2477=0,\"\",MONTH(B2477))","v":""},null,null,null,{"$f":"IF(D2477=\"\",\"\",IF(D2477<0,\"DEBITO\",\"CREDITO\"))","v":""},null,false,false,0,{"$f":"IF($A2477=I$3,AND($A2477=I$3,$D2477<0),0)","v":0},0,{"$f":"IF($A2477=K$3,AND($A2477=K$3,$D2477<0),0)","v":0},0,{"$f":"IF($A2477=M$3,AND($A2477=M$3,$D2477<0),0)","v":0},0,{"$f":"IF($A2477=O$3,AND($A2477=O$3,$D2477<0),0)","v":0},0,0,0,0,0,0,0,{"$f":"IF($A2477=W$3,AND($A2477=W$3,$D2477<0),0)","v":0},0,{"$f":"IF($A2477=Y$3,AND($A2477=Y$3,$D2477<0),0)","v":0},0,{"$f":"IF($A2477=AA$3,AND($A2477=AA$3,$D2477<0),0)","v":0},0,{"$f":"IF($A2477=AC$3,AND($A2477=AC$3,$D2477<0),0)","v":0},0,0]
[{"$f":"IF(B2478=0,\"\",MONTH(B2478))","v":""},null,null,null,{"$f":"IF(D2478=\"\",\"\",IF(D2478<0,\"DEBITO\",\"CREDITO\"))","v":""},null,false,false,0,{"$f":"IF($A2478=I$3,AND($A2478=I$3,$D2478<0),0)","v":0},0,{"$f":"IF($A2478=K$3,AND($A2478=K$3,$D2478<0),0)","v":0},0,{"$f":"IF($A2478=M$3,AND($A2478=M$3,$D2478<0),0)","v":0},0,{"$f":"IF($A2478=O$3,AND($A2478=O$3,$D2478<0),0)","v":0},0,0,0,0,0,0,0,{"$f":"IF($A2478=W$3,AND($A2478=W$3,$D2478<0),0)","v":0},0,{"$f":"IF($A2478=Y$3,AND($A2478=Y$3,$D2478<0),0)","v":0},0,{"$f":"IF($A2478=AA$3,AND($A2478=AA$3,$D2478<0),0)","v":0},0,{"$f":"IF($A2478=AC$3,AND($A2478=AC$3,$D2478<0),0)","v":0},0,0]
[{"$f":"IF(B2481=0,\"\",MONTH(B2481))","v":""},null,null,null,{"$f":"IF(D2481=\"\",\"\",IF(D2481<0,\"DEBITO\",\"CREDITO\"))","v":""},null,false,false,0,{"$f":"IF($A2481=I$3,AND($A2481=I$3,$D2481<0),0)","v":0},0,{"$f":"IF($A2481=K$3,AND($A2481=K$3,$D2481<0),0)","v":0},0,{"$f":"IF($A2481=M$3,AND($A2481=M$3,$D2481<0),0)","v":0},0,{"$f":"IF($A2481=O$3,AND($A2481=O$3,$D2481<0),0)","v":0},0,0,0,0,0,0,0,{"$f":"IF($A2481=W$3,AND($A2481=W$3,$D2481<0),0)","v":0},0,{"$f":"IF($A2481=Y$3,AND($A2481=Y$3,$D2481<0),0)","v":0},0,{"$f":"IF($A2481=AA$3,AND($A2481=AA$3,$D2481<0),0)","v":0},0,{"$f":"IF($A2481=AC$3,AND($A2481=AC$3,$D2481<0),0)","v":0},0,0]
[{"$f":"IF(B2482=0,\"\",MONTH(B2482))","v":""},null,null,null,{"$f":"IF(D2482=\"\",\"\",IF(D2482<0,\"DEBITO\",\"CREDITO\"))","v":""},null,false,false,0,{"$f":"IF($A2482=I$3,AND($A2482=I$3,$D2482<0),0)","v":0},0,{"$f":"IF($A2482=K$3,AND($A2482=K$3,$D2482<0),0)","v":0},0,{"$f":"IF($A2482=M$3,AND($A2482=M$3,$D2482<0),0)","v":0},0,{"$f":"IF($A2482=O$3,AND($A2482=O$3,$D2482<0),0)","v":0},0,0,0,0,0,0,0,{"$f":"IF($A2482=W$3,AND($A2482=W$3,$D2482<0),0)","v":0},0,{"$f":"IF($A2482=Y$3,AND($A2482=Y$3,$D2482<0),0)","v":0},0,{"$f":"IF($A2482=AA$3,AND($A2482=AA$3,$D2482<0),0)","v":0},0,{"$f":"IF($A2482=AC$3,AND($A2482=AC$3,$D2482<0),0)","v":0},0,0]
[{"$f":"IF(B2485=0,\"\",MONTH(B2485))","v":""},null,null,null,{"$f":"IF(D2485=\"\",\"\",IF(D2485<0,\"DEBITO\",\"CREDITO\"))","v":""},null,false,false,0,{"$f":"IF($A2485=I$3,AND($A2485=I$3,$D2485<0),0)","v":0},0,{"$f":"IF($A2485=K$3,AND($A2485=K$3,$D2485<0),0)","v":0},0,{"$f":"IF($A2485=M$3,AND($A2485=M$3,$D2485<0),0)","v":0},0,{"$f":"IF($A2485=O$3,AND($A2485=O$3,$D2485<0),0)","v":0},0,0,0,0,0,0,0,{"$f":"IF($A2485=W$3,AND($A2485=W$3,$D2485<0),0)","v":0},0,{"$f":"IF($A2485=Y$3,AND($A2485=Y$3,$D2485<0),0)","v":0},0,{"$f":"IF($A2485=AA$3,AND($A2485=AA$3,$D2485<0),0)","v":0},0,{"$f":"IF($A2485=AC$3,AND($A2485=AC$3,$D2485<0),0)","v":0},0,0]
[{"$f":"IF(B2487=0,\"\",MONTH(B2487))","v":""},null,null,null,{"$f":"IF(D2487=\"\",\"\",IF(D2487<0,\"DEBITO\",\"CREDITO\"))","v":""},null,false,false,0,{"$f":"IF($A2487=I$3,AND($A2487=I$3,$D2487<0),0)","v":0},0,{"$f":"IF($A2487=K$3,AND($A2487=K$3,$D2487<0),0)","v":0},0,{"$f":"IF($A2487=M$3,AND($A2487=M$3,$D2487<0),0)","v":0},0,{"$f":"IF($A2487=O$3,AND($A2487=O$3,$D2487<0),0)","v":0},0,0,0,0,0,0,0,{"$f":"IF($A2487=W$3,AND($A2487=W$3,$D2487<0),0)","v":0},0,{"$f":"IF($A2487=Y$3,AND($A2487=Y$3,$D2487<0),0)","v":0},0,{"$f":"IF($A2487=AA$3,AND($A2487=AA$3,$D2487<0),0)","v":0},0,{"$f":"IF($A2487=AC$3,AND($A2487=AC$3,$D2487<0),0)","v":0},0,0]
[{"$f":"IF(B2490=0,\"\",MONTH(B2490))","v":""},null,null,null,{"$f":"IF(D2490=\"\",\"\",IF(D2490<0,\"DEBITO\",\"CREDITO\"))","v":""},null,false,false,0,{"$f":"IF($A2490=I$3,AND($A2490=I$3,$D2490<0),0)","v":0},0,{"$f":"IF($A2490=K$3,AND($A2490=K$3,$D2490<0),0)","v":0},0,{"$f":"IF($A2490=M$3,AND($A2490=M$3,$D2490<0),0)","v":0},0,{"$f":"IF($A2490=O$3,AND($A2490=O$3,$D2490<0),0)","v":0},0,0,0,0,0,0,0,{"$f":"IF($A2490=W$3,AND($A2490=W$3,$D2490<0),0)","v":0},0,{"$f":"IF($A2490=Y$3,AND($A2490=Y$3,$D2490<0),0)","v":0},0,{"$f":"IF($A2490=AA$3,AND($A2490=AA$3,$D2490<0),0)","v":0},0,{"$f":"IF($A2490=AC$3,AND($A2490=AC$3,$D2490<0),0)","v":0},0,0]
[{"$f":"IF(B2491=0,\"\",MONTH(B2491))","v":""},null,null,null,{"$f":"IF(D2491=\"\",\"\",IF(D2491<0,\"DEBITO\",\"CREDITO\"))","v":""},null,false,false,0,{"$f":"IF($A2491=I$3,AND($A2491=I$3,$D2491<0),0)","v":0},0,{"$f":"IF($A2491=K$3,AND($A2491=K$3,$D2491<0),0)","v":0},0,{"$f":"IF($A2491=M$3,AND($A2491=M$3,$D2491<0),0)","v":0},0,{"$f":"IF($A2491=O$3,AND($A2491=O$3,$D2491<0),0)","v":0},0,0,0,0,0,0,0,{"$f":"IF($A2491=W$3,AND($A2491=W$3,$D2491<0),0)","v":0},0,{"$f":"IF($A2491=Y$3,AND($A2491=Y$3,$D2491<0),0)","v":0},0,{"$f":"IF($A2491=AA$3,AND($A2491=AA$3,$D2491<0),0)","v":0},0,{"$f":"IF($A2491=AC$3,AND($A2491=AC$3,$D2491<0),0)","v":0},0,0]
[{"$f":"IF(B2494=0,\"\",MONTH(B2494))","v":""},null,null,null,{"$f":"IF(D2494=\"\",\"\",IF(D2494<0,\"DEBITO\",\"CREDITO\"))","v":""},null,false,false,0,{"$f":"IF($A2494=I$3,AND($A2494=I$3,$D2494<0),0)","v":0},0,{"$f":"IF($A2494=K$3,AND($A2494=K$3,$D2494<0),0)","v":0},0,{"$f":"IF($A2494=M$3,AND($A2494=M$3,$D2494<0),0)","v":0},0,{"$f":"IF($A2494=O$3,AND($A2494=O$3,$D2494<0),0)","v":0},0,0,0,0,0,0,0,{"$f":"IF($A2494=W$3,AND($A2494=W$3,$D2494<0),0)","v":0},0,{"$f":"IF($A2494=Y$3,AND($A2494=Y$3,$D2494<0),0)","v":0},0,{"$f":"IF($A2494=AA$3,AND($A2494=AA$3,$D2494<0),0)","v":0},0,{"$f":"IF($A2494=AC$3,AND($A2494=AC$3,$D2494<0),0)","v":0},0,0]
[{"$f":"IF(B2495=0,\"\",MONTH(B2495))","v":""},null,null,null,{"$f":"IF(D2495=\"\",\"\",IF(D2495<0,\"DEBITO\",\"CREDITO\"))","v":""},null,false,false,0,{"$f":"IF($A2495=I$3,AND($A2495=I$3,$D2495<0),0)","v":0},0,{"$f":"IF($A2495=K$3,AND($A2495=K$3,$D2495<0),0)","v":0},0,{"$f":"IF($A2495=M$3,AND($A2495=M$3,$D2495<0),0)","v":0},0,{"$f":"IF($A2495=O$3,AND($A2495=O$3,$D2495<0),0)","v":0},0,0,0,0,0,0,0,{"$f":"IF($A2495=W$3,AND($A2495=W$3,$D2495<0),0)","v":0},0,{"$f":"IF($A2495=Y$3,AND($A2495=Y$3,$D2495<0),0)","v":0},0,{"$f":"IF($A2495=AA$3,AND($A2495=AA$3,$D2495<0),0)","v":0},0,{"$f":"IF($A2495=AC$3,AND($A2495=AC$3,$D2495<0),0)","v":0},0,0]
[{"$f":"IF(B2498=0,\"\",MONTH(B2498))","v":""},null,null,null,{"$f":"IF(D2498=\"\",\"\",IF(D2498<0,\"DEBITO\",\"CREDITO\"))","v":""},null,false,false,0,{"$f":"IF($A2498=I$3,AND($A2498=I$3,$D2498<0),0)","v":0},0,{"$f":"IF($A2498=K$3,AND($A2498=K$3,$D2498<0),0)","v":0},0,{"$f":"IF($A2498=M$3,AND($A2498=M$3,$D2498<0),0)","v":0},0,{"$f":"IF($A2498=O$3,AND($A2498=O$3,$D2498<0),0)","v":0},0,0,0,0,0,0,0,{"$f":"IF($A2498=W$3,AND($A2498=W$3,$D2498<0),0)","v":0},0,{"$f":"IF($A2498=Y$3,AND($A2498=Y$3,$D2498<0),0)","v":0},0,{"$f":"IF($A2498=AA$3,AND($A2498=AA$3,$D2498<0),0)","v":0},0,{"$f":"IF($A2498=AC$3,AND($A2498=AC$3,$D2498<0),0)","v":0},0,0]
[{"$f":"IF(B2499=0,\"\",MONTH(B2499))","v":""},null,null,null,{"$f":"IF(D2499=\"\",\"\",IF(D2499<0,\"DEBITO\",\"CREDITO\"))","v":""},null,false,false,0,{"$f":"IF($A2499=I$3,AND($A2499=I$3,$D2499<0),0)","v":0},0,{"$f":"IF($A2499=K$3,AND($A2499=K$3,$D2499<0),0)","v":0},0,{"$f":"IF($A2499=M$3,AND($A2499=M$3,$D2499<0),0)","v":0},0,{"$f":"IF($A2499=O$3,AND($A2499=O$3,$D2499<0),0)","v":0},0,0,0,0,0,0,0,{"$f":"IF($A2499=W$3,AND($A2499=W$3,$D2499<0),0)","v":0},0,{"$f":"IF($A2499=Y$3,AND($A2499=Y$3,$D2499<0),0)","v":0},0,{"$f":"IF($A2499=AA$3,AND($A2499=AA$3,$D2499<0),0)","v":0},0,{"$f":"IF($A2499=AC$3,AND($A2499=AC$3,$D2499<0),0)","v":0},0,0]
[{"$f":"IF(B2502=0,\"\",MONTH(B2502))","v":""},null,null,null,{"$f":"IF(D2502=\"\",\"\",IF(D2502<0,\"DEBITO\",\"CREDITO\"))","v":""},null,false,false,0,{"$f":"IF($A2502=I$3,AND($A2502=I$3,$D2502<0),0)","v":0},0,{"$f":"IF($A2502=K$3,AND($A2502=K$3,$D2502<0),0)","v":0},0,{"$f":"IF($A2502=M$3,AND($A2502=M$3,$D2502<0),0)","v":0},0,{"$f":"IF($A2502=O$3,AND($A2502=O$3,$D2502<0),0)","v":0},0,0,0,0,0,0,0,{"$f":"IF($A2502=W$3,AND($A2502=W$3,$D2502<0),0)","v":0},0,{"$f":"IF($A2502=Y$3,AND($A2502=Y$3,$D2502<0),0)","v":0},0,{"$f":"IF($A2502=AA$3,AND($A2502=AA$3,$D2502<0),0)","v":0},0,{"$f":"IF($A2502=AC$3,AND($A2502=AC$3,$D2502<0),0)","v":0},0,0]
[{"$f":"IF(B2503=0,\"\",MONTH(B2503))","v":""},null,null,null,{"$f":"IF(D2503=\"\",\"\",IF(D2503<0,\"DEBITO\",\"CREDITO\"))","v":""},null,false,false,0,{"$f":"IF($A2503=I$3,AND($A2503=I$3,$D2503<0),0)","v":0},0,{"$f":"IF($A2503=K$3,AND($A2503=K$3,$D2503<0),0)","v":0},0,{"$f":"IF($A2503=M$3,AND($A2503=M$3,$D2503<0),0)","v":0},0,{"$f":"IF($A2503=O$3,AND($A2503=O$3,$D2503<0),0)","v":0},0,0,0,0,0,0,0,{"$f":"IF($A2503=W$3,AND($A2503=W$3,$D2503<0),0)","v":0},0,{"$f":"IF($A2503=Y$3,AND($A2503=Y$3,$D2503<0),0)","v":0},0,{"$f":"IF($A2503=AA$3,AND($A2503=AA$3,$D2503<0),0)","v":0},0,{"$f":"IF($A2503=AC$3,AND($A2503=AC$3,$D2503<0),0)","v":0},0,0]
[{"$f":"IF(B2507=0,\"\",MONTH(B2507))","v":""},null,null,null,{"$f":"IF(D2507=\"\",\"\",IF(D2507<0,\"DEBITO\",\"CREDITO\"))","v":""},null,false,false,0,{"$f":"IF($A2507=I$3,AND($A2507=I$3,$D2507<0),0)","v":0},0,{"$f":"IF($A2507=K$3,AND($A2507=K$3,$D2507<0),0)","v":0},0,{"$f":"IF($A2507=M$3,AND($A2507=M$3,$D2507<0),0)","v":0},0,{"$f":"IF($A2507=O$3,AND($A2507=O$3,$D2507<0),0)","v":0},0,0,0,0,0,0,0,{"$f":"IF($A2507=W$3,AND($A2507=W$3,$D2507<0),0)","v":0},0,{"$f":"IF($A2507=Y$3,AND($A2507=Y$3,$D2507<0),0)","v":0},0,{"$f":"IF($A2507=AA$3,AND($A2507=AA$3,$D2507<0),0)","v":0},0,{"$f":"IF($A2507=AC$3,AND($A2507=AC$3,$D2507<0),0)","v":0},0,0]
[{"$f":"IF(B2508=0,\"\",MONTH(B2508))","v":""},null,null,null,{"$f":"IF(D2508=\"\",\"\",IF(D2508<0,\"DEBITO\",\"CREDITO\"))","v":""},null,false,false,0,{"$f":"IF($A2508=I$3,AND($A2508=I$3,$D2508<0),0)","v":0},0,{"$f":"IF($A2508=K$3,AND($A2508=K$3,$D2508<0),0)","v":0},0,{"$f":"IF($A2508=M$3,AND($A2508=M$3,$D2508<0),0)","v":0},0,{"$f":"IF($A2508=O$3,AND($A2508=O$3,$D2508<0),0)","v":0},0,0,0,0,0,0,0,{"$f":"IF($A2508=W$3,AND($A2508=W$3,$D2508<0),0)","v":0},0,{"$f":"IF($A2508=Y$3,AND($A2508=Y$3,$D2508<0),0)","v":0},0,{"$f":"IF($A2508=AA$3,AND($A2508=AA$3,$D2508<0),0)","v":0},0,{"$f":"IF($A2508=AC$3,AND($A2508=AC$3,$D2508<0),0)","v":0},0,0]
[{"$f":"IF(B2511=0,\"\",MONTH(B2511))","v":""},null,null,null,{"$f":"IF(D2511=\"\",\"\",IF(D2511<0,\"DEBITO\",\"CREDITO\"))","v":""},null,false,false,0,{"$f":"IF($A2511=I$3,AND($A2511=I$3,$D2511<0),0)","v":0},0,{"$f":"IF($A2511=K$3,AND($A2511=K$3,$D2511<0),0)","v":0},0,{"$f":"IF($A2511=M$3,AND($A2511=M$3,$D2511<0),0)","v":0},0,{"$f":"IF($A2511=O$3,AND($A2511=O$3,$D2511<0),0)","v":0},0,0,0,0,0,0,0,{"$f":"IF($A2511=W$3,AND($A2511=W$3,$D2511<0),0)","v":0},0,{"$f":"IF($A2511=Y$3,AND($A2511=Y$3,$D2511<0),0)","v":0},0,{"$f":"IF($A2511=AA$3,AND($A2511=AA$3,$D2511<0),0)","v":0},0,{"$f":"IF($A2511=AC$3,AND($A2511=AC$3,$D2511<0),0)","v":0},0,0]
[{"$f":"IF(B2512=0,\"\",MONTH(B2512))","v":""},null,null,null,{"$f":"IF(D2512=\"\",\"\",IF(D2512<0,\"DEBITO\",\"CREDITO\"))","v":""},null,false,false,0,{"$f":"IF($A2512=I$3,AND($A2512=I$3,$D2512<0),0)","v":0},0,{"$f":"IF($A2512=K$3,AND($A2512=K$3,$D2512<0),0)","v":0},0,{"$f":"IF($A2512=M$3,AND($A2512=M$3,$D2512<0),0)","v":0},0,{"$f":"IF($A2512=O$3,AND($A2512=O$3,$D2512<0),0)","v":0},0,0,0,0,0,0,0,{"$f":"IF($A2512=W$3,AND($A2512=W$3,$D2512<0),0)","v":0},0,{"$f":"IF($A2512=Y$3,AND($A2512=Y$3,$D2512<0),0)","v":0},0,{"$f":"IF($A2512=AA$3,AND($A2512=AA$3,$D2512<0),0)","v":0},0,{"$f":"IF($A2512=AC$3,AND($A2512=AC$3,$D2512<0),0)","v":0},0,0]
[{"$f":"IF(B2515=0,\"\",MONTH(B2515))","v":""},null,null,null,{"$f":"IF(D2515=\"\",\"\",IF(D2515<0,\"DEBITO\",\"CREDITO\"))","v":""},null,false,false,0,{"$f":"IF($A2515=I$3,AND($A2515=I$3,$D2515<0),0)","v":0},0,{"$f":"IF($A2515=K$3,AND($A2515=K$3,$D2515<0),0)","v":0},0,{"$f":"IF($A2515=M$3,AND($A2515=M$3,$D2515<0),0)","v":0},0,{"$f":"IF($A2515=O$3,AND($A2515=O$3,$D2515<0),0)","v":0},0,0,0,0,0,0,0,{"$f":"IF($A2515=W$3,AND($A2515=W$3,$D2515<0),0)","v":0},0,{"$f":"IF($A2515=Y$3,AND($A2515=Y$3,$D2515<0),0)","v":0},0,{"$f":"IF($A2515=AA$3,AND($A2515=AA$3,$D2515<0),0)","v":0},0,{"$f":"IF($A2515=AC$3,AND($A2515=AC$3,$D2515<0),0)","v":0},0,0]
[{"$f":"IF(B2516=0,\"\",MONTH(B2516))","v":""},null,null,null,{"$f":"IF(D2516=\"\",\"\",IF(D2516<0,\"DEBITO\",\"CREDITO\"))","v":""},null,false,false,0,{"$f":"IF($A2516=I$3,AND($A2516=I$3,$D2516<0),0)","v":0},0,{"$f":"IF($A2516=K$3,AND($A2516=K$3,$D2516<0),0)","v":0},0,{"$f":"IF($A2516=M$3,AND($A2516=M$3,$D2516<0),0)","v":0},0,{"$f":"IF($A2516=O$3,AND($A2516=O$3,$D2516<0),0)","v":0},0,0,0,0,0,0,0,{"$f":"IF($A2516=W$3,AND($A2516=W$3,$D2516<0),0)","v":0},0,{"$f":"IF($A2516=Y$3,AND($A2516=Y$3,$D2516<0),0)","v":0},0,{"$f":"IF($A2516=AA$3,AND($A2516=AA$3,$D2516<0),0)","v":0},0,{"$f":"IF($A2516=AC$3,AND($A2516=AC$3,$D2516<0),0)","v":0},0,0]
[{"$f":"IF(B2519=0,\"\",MONTH(B2519))","v":""},null,null,null,{"$f":"IF(D2519=\"\",\"\",IF(D2519<0,\"DEBITO\",\"CREDITO\"))","v":""},null,false,false,0,{"$f":"IF($A2519=I$3,AND($A2519=I$3,$D2519<0),0)","v":0},0,{"$f":"IF($A2519=K$3,AND($A2519=K$3,$D2519<0),0)","v":0},0,{"$f":"IF($A2519=M$3,AND($A2519=M$3,$D2519<0),0)","v":0},0,{"$f":"IF($A2519=O$3,AND($A2519=O$3,$D2519<0),0)","v":0},0,0,0,0,0,0,0,{"$f":"IF($A2519=W$3,AND($A2519=W$3,$D2519<0),0)","v":0},0,{"$f":"IF($A2519=Y$3,AND($A2519=Y$3,$D2519<0),0)","v":0},0,{"$f":"IF($A2519=AA$3,AND($A2519=AA$3,$D2519<0),0)","v":0},0,{"$f":"IF($A2519=AC$3,AND($A2519=AC$3,$D2519<0),0)","v":0},0,0]
[{"$f":"IF(B2520=0,\"\",MONTH(B2520))","v":""},null,null,null,{"$f":"IF(D2520=\"\",\"\",IF(D2520<0,\"DEBITO\",\"CREDITO\"))","v":""},null,false,false,0,{"$f":"IF($A2520=I$3,AND($A2520=I$3,$D2520<0),0)","v":0},0,{"$f":"IF($A2520=K$3,AND($A2520=K$3,$D2520<0),0)","v":0},0,{"$f":"IF($A2520=M$3,AND($A2520=M$3,$D2520<0),0)","v":0},0,{"$f":"IF($A2520=O$3,AND($A2520=O$3,$D2520<0),0)","v":0},0,0,0,0,0,0,0,{"$f":"IF($A2520=W$3,AND($A2520=W$3,$D2520<0),0)","v":0},0,{"$f":"IF($A2520=Y$3,AND($A2520=Y$3,$D2520<0),0)","v":0},0,{"$f":"IF($A2520=AA$3,AND($A2520=AA$3,$D2520<0),0)","v":0},0,{"$f":"IF($A2520=AC$3,AND($A2520=AC$3,$D2520<0),0)","v":0},0,0]
[{"$f":"IF(B2523=0,\"\",MONTH(B2523))","v":""},null,null,null,{"$f":"IF(D2523=\"\",\"\",IF(D2523<0,\"DEBITO\",\"CREDITO\"))","v":""},null,false,false,0,{"$f":"IF($A2523=I$3,AND($A2523=I$3,$D2523<0),0)","v":0},0,{"$f":"IF($A2523=K$3,AND($A2523=K$3,$D2523<0),0)","v":0},0,{"$f":"IF($A2523=M$3,AND($A2523=M$3,$D2523<0),0)","v":0},0,{"$f":"IF($A2523=O$3,AND($A2523=O$3,$D2523<0),0)","v":0},0,0,0,0,0,0,0,{"$f":"IF($A2523=W$3,AND($A2523=W$3,$D2523<0),0)","v":0},0,{"$f":"IF($A2523=Y$3,AND($A2523=Y$3,$D2523<0),0)","v":0},0,{"$f":"IF($A2523=AA$3,AND($A2523=AA$3,$D2523<0),0)","v":0},0,{"$f":"IF($A2523=AC$3,AND($A2523=AC$3,$D2523<0),0)","v":0},0,0]
[{"$f":"IF(B2524=0,\"\",MONTH(B2524))","v":""},null,null,null,{"$f":"IF(D2524=\"\",\"\",IF(D2524<0,\"DEBITO\",\"CREDITO\"))","v":""},null,false,false,0,{"$f":"IF($A2524=I$3,AND($A2524=I$3,$D2524<0),0)","v":0},0,{"$f":"IF($A2524=K$3,AND($A2524=K$3,$D2524<0),0)","v":0},0,{"$f":"IF($A2524=M$3,AND($A2524=M$3,$D2524<0),0)","v":0},0,{"$f":"IF($A2524=O$3,AND($A2524=O$3,$D2524<0),0)","v":0},0,0,0,0,0,0,0,{"$f":"IF($A2524=W$3,AND($A2524=W$3,$D2524<0),0)","v":0},0,{"$f":"IF($A2524=Y$3,AND($A2524=Y$3,$D2524<0),0)","v":0},0,{"$f":"IF($A2524=AA$3,AND($A2524=AA$3,$D2524<0),0)","v":0},0,{"$f":"IF($A2524=AC$3,AND($A2524=AC$3,$D2524<0),0)","v":0},0,0]
[{"$f":"IF(B2527=0,\"\",MONTH(B2527))","v":""},null,null,null,{"$f":"IF(D2527=\"\",\"\",IF(D2527<0,\"DEBITO\",\"CREDITO\"))","v":""},null,false,false,0,{"$f":"IF($A2527=I$3,AND($A2527=I$3,$D2527<0),0)","v":0},0,{"$f":"IF($A2527=K$3,AND($A2527=K$3,$D2527<0),0)","v":0},0,{"$f":"IF($A2527=M$3,AND($A2527=M$3,$D2527<0),0)","v":0},0,{"$f":"IF($A2527=O$3,AND($A2527=O$3,$D2527<0),0)","v":0},0,0,0,0,0,0,0,{"$f":"IF($A2527=W$3,AND($A2527=W$3,$D2527<0),0)","v":0},0,{"$f":"IF($A2527=Y$3,AND($A2527=Y$3,$D2527<0),0)","v":0},0,{"$f":"IF($A2527=AA$3,AND($A2527=AA$3,$D2527<0),0)","v":0},0,{"$f":"IF($A2527=AC$3,AND($A2527=AC$3,$D2527<0),0)","v":0},0,0]
[{"$f":"IF(B2528=0,\"\",MONTH(B2528))","v":""},null,null,null,{"$f":"IF(D2528=\"\",\"\",IF(D2528<0,\"DEBITO\",\"CREDITO\"))","v":""},null,false,false,0,{"$f":"IF($A2528=I$3,AND($A2528=I$3,$D2528<0),0)","v":0},0,{"$f":"IF($A2528=K$3,AND($A2528=K$3,$D2528<0),0)","v":0},0,{"$f":"IF($A2528=M$3,AND($A2528=M$3,$D2528<0),0)","v":0},0,{"$f":"IF($A2528=O$3,AND($A2528=O$3,$D2528<0),0)","v":0},0,0,0,0,0,0,0,{"$f":"IF($A2528=W$3,AND($A2528=W$3,$D2528<0),0)","v":0},0,{"$f":"IF($A2528=Y$3,AND($A2528=Y$3,$D2528<0),0)","v":0},0,{"$f":"IF($A2528=AA$3,AND($A2528=AA$3,$D2528<0),0)","v":0},0,{"$f":"IF($A2528=AC$3,AND($A2528=AC$3,$D2528<0),0)","v":0},0,0]
[{"$f":"IF(B2532=0,\"\",MONTH(B2532))","v":""},null,null,null,{"$f":"IF(D2532=\"\",\"\",IF(D2532<0,\"DEBITO\",\"CREDITO\"))","v":""},null,false,false,0,{"$f":"IF($A2532=I$3,AND($A2532=I$3,$D2532<0),0)","v":0},0,{"$f":"IF($A2532=K$3,AND($A2532=K$3,$D2532<0),0)","v":0},0,{"$f":"IF($A2532=M$3,AND($A2532=M$3,$D2532<0),0)","v":0},0,{"$f":"IF($A2532=O$3,AND($A2532=O$3,$D2532<0),0)","v":0},0,0,0,0,0,0,0,{"$f":"IF($A2532=W$3,AND($A2532=W$3,$D2532<0),0)","v":0},0,{"$f":"IF($A2532=Y$3,AND($A2532=Y$3,$D2532<0),0)","v":0},0,{"$f":"IF($A2532=AA$3,AND($A2532=AA$3,$D2532<0),0)","v":0},0,{"$f":"IF($A2532=AC$3,AND($A2532=AC$3,$D2532<0),0)","v":0},0,0]
[{"$f":"IF(B2533=0,\"\",MONTH(B2533))","v":""},null,null,null,{"$f":"IF(D2533=\"\",\"\",IF(D2533<0,\"DEBITO\",\"CREDITO\"))","v":""},null,false,false,0,{"$f":"IF($A2533=I$3,AND($A2533=I$3,$D2533<0),0)","v":0},0,{"$f":"IF($A2533=K$3,AND($A2533=K$3,$D2533<0),0)","v":0},0,{"$f":"IF($A2533=M$3,AND($A2533=M$3,$D2533<0),0)","v":0},0,{"$f":"IF($A2533=O$3,AND($A2533=O$3,$D2533<0),0)","v":0},0,0,0,0,0,0,0,{"$f":"IF($A2533=W$3,AND($A2533=W$3,$D2533<0),0)","v":0},0,{"$f":"IF($A2533=Y$3,AND($A2533=Y$3,$D2533<0),0)","v":0},0,{"$f":"IF($A2533=AA$3,AND($A2533=AA$3,$D2533<0),0)","v":0},0,{"$f":"IF($A2533=AC$3,AND($A2533=AC$3,$D2533<0),0)","v":0},0,0]
[{"$f":"IF(B2536=0,\"\",MONTH(B2536))","v":""},null,null,null,{"$f":"IF(D2536=\"\",\"\",IF(D2536<0,\"DEBITO\",\"CREDITO\"))","v":""},null,false,false,0,{"$f":"IF($A2536=I$3,AND($A2536=I$3,$D2536<0),0)","v":0},0,{"$f":"IF($A2536=K$3,AND($A2536=K$3,$D2536<0),0)","v":0},0,{"$f":"IF($A2536=M$3,AND($A2536=M$3,$D2536<0),0)","v":0},0,{"$f":"IF($A2536=O$3,AND($A2536=O$3,$D2536<0),0)","v":0},0,0,0,0,0,0,0,{"$f":"IF($A2536=W$3,AND($A2536=W$3,$D2536<0),0)","v":0},0,{"$f":"IF($A2536=Y$3,AND($A2536=Y$3,$D2536<0),0)","v":0},0,{"$f":"IF($A2536=AA$3,AND($A2536=AA$3,$D2536<0),0)","v":0},0,{"$f":"IF($A2536=AC$3,AND($A2536=AC$3,$D2536<0),0)","v":0},0,0]
[{"$f":"IF(B2537=0,\"\",MONTH(B2537))","v":""},null,null,null,{"$f":"IF(D2537=\"\",\"\",IF(D2537<0,\"DEBITO\",\"CREDITO\"))","v":""},null,false,false,0,{"$f":"IF($A2537=I$3,AND($A2537=I$3,$D2537<0),0)","v":0},0,{"$f":"IF($A2537=K$3,AND($A2537=K$3,$D2537<0),0)","v":0},0,{"$f":"IF($A2537=M$3,AND($A2537=M$3,$D2537<0),0)","v":0},0,{"$f":"IF($A2537=O$3,AND($A2537=O$3,$D2537<0),0)","v":0},0,0,0,0,0,0,0,{"$f":"IF($A2537=W$3,AND($A2537=W$3,$D2537<0),0)","v":0},0,{"$f":"IF($A2537=Y$3,AND($A2537=Y$3,$D2537<0),0)","v":0},0,{"$f":"IF($A2537=AA$3,AND($A2537=AA$3,$D2537<0),0)","v":0},0,{"$f":"IF($A2537=AC$3,AND($A2537=AC$3,$D2537<0),0)","v":0},0,0]
[{"$f":"IF(B2540=0,\"\",MONTH(B2540))","v":""},null,null,null,{"$f":"IF(D2540=\"\",\"\",IF(D2540<0,\"DEBITO\",\"CREDITO\"))","v":""},null,false,false,0,{"$f":"IF($A2540=I$3,AND($A2540=I$3,$D2540<0),0)","v":0},0,{"$f":"IF($A2540=K$3,AND($A2540=K$3,$D2540<0),0)","v":0},0,{"$f":"IF($A2540=M$3,AND($A2540=M$3,$D2540<0),0)","v":0},0,{"$f":"IF($A2540=O$3,AND($A2540=O$3,$D2540<0),0)","v":0},0,0,0,0,0,0,0,{"$f":"IF($A2540=W$3,AND($A2540=W$3,$D2540<0),0)","v":0},0,{"$f":"IF($A2540=Y$3,AND($A2540=Y$3,$D2540<0),0)","v":0},0,{"$f":"IF($A2540=AA$3,AND($A2540=AA$3,$D2540<0),0)","v":0},0,{"$f":"IF($A2540=AC$3,AND($A2540=AC$3,$D2540<0),0)","v":0},0,0]
[{"$f":"IF(B2541=0,\"\",MONTH(B2541))","v":""},null,null,null,{"$f":"IF(D2541=\"\",\"\",IF(D2541<0,\"DEBITO\",\"CREDITO\"))","v":""},null,false,false,0,{"$f":"IF($A2541=I$3,AND($A2541=I$3,$D2541<0),0)","v":0},0,{"$f":"IF($A2541=K$3,AND($A2541=K$3,$D2541<0),0)","v":0},0,{"$f":"IF($A2541=M$3,AND($A2541=M$3,$D2541<0),0)","v":0},0,{"$f":"IF($A2541=O$3,AND($A2541=O$3,$D2541<0),0)","v":0},0,0,0,0,0,0,0,{"$f":"IF($A2541=W$3,AND($A2541=W$3,$D2541<0),0)","v":0},0,{"$f":"IF($A2541=Y$3,AND($A2541=Y$3,$D2541<0),0)","v":0},0,{"$f":"IF($A2541=AA$3,AND($A2541=AA$3,$D2541<0),0)","v":0},0,{"$f":"IF($A2541=AC$3,AND($A2541=AC$3,$D2541<0),0)","v":0},0,0]
[{"$f":"IF(B2544=0,\"\",MONTH(B2544))","v":""},null,null,null,{"$f":"IF(D2544=\"\",\"\",IF(D2544<0,\"DEBITO\",\"CREDITO\"))","v":""},null,false,false,0,{"$f":"IF($A2544=I$3,AND($A2544=I$3,$D2544<0),0)","v":0},0,{"$f":"IF($A2544=K$3,AND($A2544=K$3,$D2544<0),0)","v":0},0,{"$f":"IF($A2544=M$3,AND($A2544=M$3,$D2544<0),0)","v":0},0,{"$f":"IF($A2544=O$3,AND($A2544=O$3,$D2544<0),0)","v":0},0,0,0,0,0,0,0,{"$f":"IF($A2544=W$3,AND($A2544=W$3,$D2544<0),0)","v":0},0,{"$f":"IF($A2544=Y$3,AND($A2544=Y$3,$D2544<0),0)","v":0},0,{"$f":"IF($A2544=AA$3,AND($A2544=AA$3,$D2544<0),0)","v":0},0,{"$f":"IF($A2544=AC$3,AND($A2544=AC$3,$D2544<0),0)","v":0},0,0]
[{"$f":"IF(B2545=0,\"\",MONTH(B2545))","v":""},null,null,null,{"$f":"IF(D2545=\"\",\"\",IF(D2545<0,\"DEBITO\",\"CREDITO\"))","v":""},null,false,false,0,{"$f":"IF($A2545=I$3,AND($A2545=I$3,$D2545<0),0)","v":0},0,{"$f":"IF($A2545=K$3,AND($A2545=K$3,$D2545<0),0)","v":0},0,{"$f":"IF($A2545=M$3,AND($A2545=M$3,$D2545<0),0)","v":0},0,{"$f":"IF($A2545=O$3,AND($A2545=O$3,$D2545<0),0)","v":0},0,0,0,0,0,0,0,{"$f":"IF($A2545=W$3,AND($A2545=W$3,$D2545<0),0)","v":0},0,{"$f":"IF($A2545=Y$3,AND($A2545=Y$3,$D2545<0),0)","v":0},0,{"$f":"IF($A2545=AA$3,AND($A2545=AA$3,$D2545<0),0)","v":0},0,{"$f":"IF($A2545=AC$3,AND($A2545=AC$3,$D2545<0),0)","v":0},0,0]
[{"$f":"IF(B2548=0,\"\",MONTH(B2548))","v":""},null,null,null,{"$f":"IF(D2548=\"\",\"\",IF(D2548<0,\"DEBITO\",\"CREDITO\"))","v":""},null,false,false,0,{"$f":"IF($A2548=I$3,AND($A2548=I$3,$D2548<0),0)","v":0},0,{"$f":"IF($A2548=K$3,AND($A2548=K$3,$D2548<0),0)","v":0},0,{"$f":"IF($A2548=M$3,AND($A2548=M$3,$D2548<0),0)","v":0},0,{"$f":"IF($A2548=O$3,AND($A2548=O$3,$D2548<0),0)","v":0},0,0,0,0,0,0,0,{"$f":"IF($A2548=W$3,AND($A2548=W$3,$D2548<0),0)","v":0},0,{"$f":"IF($A2548=Y$3,AND($A2548=Y$3,$D2548<0),0)","v":0},0,{"$f":"IF($A2548=AA$3,AND($A2548=AA$3,$D2548<0),0)","v":0},0,{"$f":"IF($A2548=AC$3,AND($A2548=AC$3,$D2548<0),0)","v":0},0,0]
[{"$f":"IF(B2550=0,\"\",MONTH(B2550))","v":""},null,null,null,{"$f":"IF(D2550=\"\",\"\",IF(D2550<0,\"DEBITO\",\"CREDITO\"))","v":""},null,false,false,0,{"$f":"IF($A2550=I$3,AND($A2550=I$3,$D2550<0),0)","v":0},0,{"$f":"IF($A2550=K$3,AND($A2550=K$3,$D2550<0),0)","v":0},0,{"$f":"IF($A2550=M$3,AND($A2550=M$3,$D2550<0),0)","v":0},0,{"$f":"IF($A2550=O$3,AND($A2550=O$3,$D2550<0),0)","v":0},0,0,0,0,0,0,0,{"$f":"IF($A2550=W$3,AND($A2550=W$3,$D2550<0),0)","v":0},0,{"$f":"IF($A2550=Y$3,AND($A2550=Y$3,$D2550<0),0)","v":0},0,{"$f":"IF($A2550=AA$3,AND($A2550=AA$3,$D2550<0),0)","v":0},0,{"$f":"IF($A2550=AC$3,AND($A2550=AC$3,$D2550<0),0)","v":0},0,0]
[{"$f":"IF(B2553=0,\"\",MONTH(B2553))","v":""},null,null,null,{"$f":"IF(D2553=\"\",\"\",IF(D2553<0,\"DEBITO\",\"CREDITO\"))","v":""},null,false,false,0,{"$f":"IF($A2553=I$3,AND($A2553=I$3,$D2553<0),0)","v":0},0,{"$f":"IF($A2553=K$3,AND($A2553=K$3,$D2553<0),0)","v":0},0,{"$f":"IF($A2553=M$3,AND($A2553=M$3,$D2553<0),0)","v":0},0,{"$f":"IF($A2553=O$3,AND($A2553=O$3,$D2553<0),0)","v":0},0,0,0,0,0,0,0,{"$f":"IF($A2553=W$3,AND($A2553=W$3,$D2553<0),0)","v":0},0,{"$f":"IF($A2553=Y$3,AND($A2553=Y$3,$D2553<0),0)","v":0},0,{"$f":"IF($A2553=AA$3,AND($A2553=AA$3,$D2553<0),0)","v":0},0,{"$f":"IF($A2553=AC$3,AND($A2553=AC$3,$D2553<0),0)","v":0},0,0]
[{"$f":"IF(B2554=0,\"\",MONTH(B2554))","v":""},null,null,null,{"$f":"IF(D2554=\"\",\"\",IF(D2554<0,\"DEBITO\",\"CREDITO\"))","v":""},null,false,false,0,{"$f":"IF($A2554=I$3,AND($A2554=I$3,$D2554<0),0)","v":0},0,{"$f":"IF($A2554=K$3,AND($A2554=K$3,$D2554<0),0)","v":0},0,{"$f":"IF($A2554=M$3,AND($A2554=M$3,$D2554<0),0)","v":0},0,{"$f":"IF($A2554=O$3,AND($A2554=O$3,$D2554<0),0)","v":0},0,0,0,0,0,0,0,{"$f":"IF($A2554=W$3,AND($A2554=W$3,$D2554<0),0)","v":0},0,{"$f":"IF($A2554=Y$3,AND($A2554=Y$3,$D2554<0),0)","v":0},0,{"$f":"IF($A2554=AA$3,AND($A2554=AA$3,$D2554<0),0)","v":0},0,{"$f":"IF($A2554=AC$3,AND($A2554=AC$3,$D2554<0),0)","v":0},0,0]
[{"$f":"IF(B2557=0,\"\",MONTH(B2557))","v":""},null,null,null,{"$f":"IF(D2557=\"\",\"\",IF(D2557<0,\"DEBITO\",\"CREDITO\"))","v":""},null,false,false,0,{"$f":"IF($A2557=I$3,AND($A2557=I$3,$D2557<0),0)","v":0},0,{"$f":"IF($A2557=K$3,AND($A2557=K$3,$D2557<0),0)","v":0},0,{"$f":"IF($A2557=M$3,AND($A2557=M$3,$D2557<0),0)","v":0},0,{"$f":"IF($A2557=O$3,AND($A2557=O$3,$D2557<0),0)","v":0},0,0,0,0,0,0,0,{"$f":"IF($A2557=W$3,AND($A2557=W$3,$D2557<0),0)","v":0},0,{"$f":"IF($A2557=Y$3,AND($A2557=Y$3,$D2557<0),0)","v":0},0,{"$f":"IF($A2557=AA$3,AND($A2557=AA$3,$D2557<0),0)","v":0},0,{"$f":"IF($A2557=AC$3,AND($A2557=AC$3,$D2557<0),0)","v":0},0,0]
[{"$f":"IF(B2558=0,\"\",MONTH(B2558))","v":""},null,null,null,{"$f":"IF(D2558=\"\",\"\",IF(D2558<0,\"DEBITO\",\"CREDITO\"))","v":""},null,false,false,0,{"$f":"IF($A2558=I$3,AND($A2558=I$3,$D2558<0),0)","v":0},0,{"$f":"IF($A2558=K$3,AND($A2558=K$3,$D2558<0),0)","v":0},0,{"$f":"IF($A2558=M$3,AND($A2558=M$3,$D2558<0),0)","v":0},0,{"$f":"IF($A2558=O$3,AND($A2558=O$3,$D2558<0),0)","v":0},0,0,0,0,0,0,0,{"$f":"IF($A2558=W$3,AND($A2558=W$3,$D2558<0),0)","v":0},0,{"$f":"IF($A2558=Y$3,AND($A2558=Y$3,$D2558<0),0)","v":0},0,{"$f":"IF($A2558=AA$3,AND($A2558=AA$3,$D2558<0),0)","v":0},0,{"$f":"IF($A2558=AC$3,AND($A2558=AC$3,$D2558<0),0)","v":0},0,0]
[{"$f":"IF(B2561=0,\"\",MONTH(B2561))","v":""},null,null,null,{"$f":"IF(D2561=\"\",\"\",IF(D2561<0,\"DEBITO\",\"CREDITO\"))","v":""},null,false,false,0,{"$f":"IF($A2561=I$3,AND($A2561=I$3,$D2561<0),0)","v":0},0,{"$f":"IF($A2561=K$3,AND($A2561=K$3,$D2561<0),0)","v":0},0,{"$f":"IF($A2561=M$3,AND($A2561=M$3,$D2561<0),0)","v":0},0,{"$f":"IF($A2561=O$3,AND($A2561=O$3,$D2561<0),0)","v":0},0,0,0,0,0,0,0,{"$f":"IF($A2561=W$3,AND($A2561=W$3,$D2561<0),0)","v":0},0,{"$f":"IF($A2561=Y$3,AND($A2561=Y$3,$D2561<0),0)","v":0},0,{"$f":"IF($A2561=AA$3,AND($A2561=AA$3,$D2561<0),0)","v":0},0,{"$f":"IF($A2561=AC$3,AND($A2561=AC$3,$D2561<0),0)","v":0},0,0]
[{"$f":"IF(B2562=0,\"\",MONTH(B2562))","v":""},null,null,null,{"$f":"IF(D2562=\"\",\"\",IF(D2562<0,\"DEBITO\",\"CREDITO\"))","v":""},null,false,false,0,{"$f":"IF($A2562=I$3,AND($A2562=I$3,$D2562<0),0)","v":0},0,{"$f":"IF($A2562=K$3,AND($A2562=K$3,$D2562<0),0)","v":0},0,{"$f":"IF($A2562=M$3,AND($A2562=M$3,$D2562<0),0)","v":0},0,{"$f":"IF($A2562=O$3,AND($A2562=O$3,$D2562<0),0)","v":0},0,0,0,0,0,0,0,{"$f":"IF($A2562=W$3,AND($A2562=W$3,$D2562<0),0)","v":0},0,{"$f":"IF($A2562=Y$3,AND($A2562=Y$3,$D2562<0),0)","v":0},0,{"$f":"IF($A2562=AA$3,AND($A2562=AA$3,$D2562<0),0)","v":0},0,{"$f":"IF($A2562=AC$3,AND($A2562=AC$3,$D2562<0),0)","v":0},0,0]
[{"$f":"IF(B2565=0,\"\",MONTH(B2565))","v":""},null,null,null,{"$f":"IF(D2565=\"\",\"\",IF(D2565<0,\"DEBITO\",\"CREDITO\"))","v":""},null,false,false,0,{"$f":"IF($A2565=I$3,AND($A2565=I$3,$D2565<0),0)","v":0},0,{"$f":"IF($A2565=K$3,AND($A2565=K$3,$D2565<0),0)","v":0},0,{"$f":"IF($A2565=M$3,AND($A2565=M$3,$D2565<0),0)","v":0},0,{"$f":"IF($A2565=O$3,AND($A2565=O$3,$D2565<0),0)","v":0},0,0,0,0,0,0,0,{"$f":"IF($A2565=W$3,AND($A2565=W$3,$D2565<0),0)","v":0},0,{"$f":"IF($A2565=Y$3,AND($A2565=Y$3,$D2565<0),0)","v":0},0,{"$f":"IF($A2565=AA$3,AND($A2565=AA$3,$D2565<0),0)","v":0},0,{"$f":"IF($A2565=AC$3,AND($A2565=AC$3,$D2565<0),0)","v":0},0,0]
[{"$f":"IF(B2566=0,\"\",MONTH(B2566))","v":""},null,null,null,{"$f":"IF(D2566=\"\",\"\",IF(D2566<0,\"DEBITO\",\"CREDITO\"))","v":""},null,false,false,0,{"$f":"IF($A2566=I$3,AND($A2566=I$3,$D2566<0),0)","v":0},0,{"$f":"IF($A2566=K$3,AND($A2566=K$3,$D2566<0),0)","v":0},0,{"$f":"IF($A2566=M$3,AND($A2566=M$3,$D2566<0),0)","v":0},0,{"$f":"IF($A2566=O$3,AND($A2566=O$3,$D2566<0),0)","v":0},0,0,0,0,0,0,0,{"$f":"IF($A2566=W$3,AND($A2566=W$3,$D2566<0),0)","v":0},0,{"$f":"IF($A2566=Y$3,AND($A2566=Y$3,$D2566<0),0)","v":0},0,{"$f":"IF($A2566=AA$3,AND($A2566=AA$3,$D2566<0),0)","v":0},0,{"$f":"IF($A2566=AC$3,AND($A2566=AC$3,$D2566<0),0)","v":0},0,0]
[{"$f":"IF(B2569=0,\"\",MONTH(B2569))","v":""},null,null,null,{"$f":"IF(D2569=\"\",\"\",IF(D2569<0,\"DEBITO\",\"CREDITO\"))","v":""},null,{"$f":"AND(A2569=$E$3,D2569>0)","v":false},{"$f":"AND(A2569=$E$3,D2569<0)","v":false},0,{"$f":"IF($A2569=I$3,AND($A2569=I$3,$D2569<0),0)","v":0},0,{"$f":"IF($A2569=K$3,AND($A2569=K$3,$D2569<0),0)","v":0},0,{"$f":"IF($A2569=M$3,AND($A2569=M$3,$D2569<0),0)","v":0},0,{"$f":"IF($A2569=O$3,AND($A2569=O$3,$D2569<0),0)","v":0},0,{"$f":"IF($A2569=Q$3,AND($A2569=Q$3,$D2569<0),0)","v":0},0,0,0,0,0,{"$f":"IF($A2569=W$3,AND($A2569=W$3,$D2569<0),0)","v":0},0,{"$f":"IF($A2569=Y$3,AND($A2569=Y$3,$D2569<0),0)","v":0},0,{"$f":"IF($A2569=AA$3,AND($A2569=AA$3,$D2569<0),0)","v":0},0,{"$f":"IF($A2569=AC$3,AND($A2569=AC$3,$D2569<0),0)","v":0},0,{"$f":"IF($A2569=AE$3,AND($A2569=AE$3,$D2569<0),0)","v":0}]
[{"$f":"IF(B2572=0,\"\",MONTH(B2572))","v":""},null,null,null,{"$f":"IF(D2572=\"\",\"\",IF(D2572<0,\"DEBITO\",\"CREDITO\"))","v":""},null,false,false,0,{"$f":"IF($A2572=I$3,AND($A2572=I$3,$D2572<0),0)","v":0},0,{"$f":"IF($A2572=K$3,AND($A2572=K$3,$D2572<0),0)","v":0},0,{"$f":"IF($A2572=M$3,AND($A2572=M$3,$D2572<0),0)","v":0},0,{"$f":"IF($A2572=O$3,AND($A2572=O$3,$D2572<0),0)","v":0},0,0,0,0,0,0,0,{"$f":"IF($A2572=W$3,AND($A2572=W$3,$D2572<0),0)","v":0},0,{"$f":"IF($A2572=Y$3,AND($A2572=Y$3,$D2572<0),0)","v":0},0,{"$f":"IF($A2572=AA$3,AND($A2572=AA$3,$D2572<0),0)","v":0},0,{"$f":"IF($A2572=AC$3,AND($A2572=AC$3,$D2572<0),0)","v":0},0,0]
[{"$f":"IF(B2574=0,\"\",MONTH(B2574))","v":""},null,null,null,{"$f":"IF(D2574=\"\",\"\",IF(D2574<0,\"DEBITO\",\"CREDITO\"))","v":""},null,false,false,0,{"$f":"IF($A2574=I$3,AND($A2574=I$3,$D2574<0),0)","v":0},0,{"$f":"IF($A2574=K$3,AND($A2574=K$3,$D2574<0),0)","v":0},0,{"$f":"IF($A2574=M$3,AND($A2574=M$3,$D2574<0),0)","v":0},0,{"$f":"IF($A2574=O$3,AND($A2574=O$3,$D2574<0),0)","v":0},0,0,0,0,0,0,0,{"$f":"IF($A2574=W$3,AND($A2574=W$3,$D2574<0),0)","v":0},0,{"$f":"IF($A2574=Y$3,AND($A2574=Y$3,$D2574<0),0)","v":0},0,{"$f":"IF($A2574=AA$3,AND($A2574=AA$3,$D2574<0),0)","v":0},0,{"$f":"IF($A2574=AC$3,AND($A2574=AC$3,$D2574<0),0)","v":0},0,0]
[{"$f":"IF(B2575=0,\"\",MONTH(B2575))","v":""},null,null,null,{"$f":"IF(D2575=\"\",\"\",IF(D2575<0,\"DEBITO\",\"CREDITO\"))","v":""},null,false,false,0,{"$f":"IF($A2575=I$3,AND($A2575=I$3,$D2575<0),0)","v":0},0,{"$f":"IF($A2575=K$3,AND($A2575=K$3,$D2575<0),0)","v":0},0,{"$f":"IF($A2575=M$3,AND($A2575=M$3,$D2575<0),0)","v":0},0,{"$f":"IF($A2575=O$3,AND($A2575=O$3,$D2575<0),0)","v":0},0,0,0,0,0,0,0,{"$f":"IF($A2575=W$3,AND($A2575=W$3,$D2575<0),0)","v":0},0,{"$f":"IF($A2575=Y$3,AND($A2575=Y$3,$D2575<0),0)","v":0},0,{"$f":"IF($A2575=AA$3,AND($A2575=AA$3,$D2575<0),0)","v":0},0,{"$f":"IF($A2575=AC$3,AND($A2575=AC$3,$D2575<0),0)","v":0},0,0]
[{"$f":"IF(B2578=0,\"\",MONTH(B2578))","v":""},null,null,null,{"$f":"IF(D2578=\"\",\"\",IF(D2578<0,\"DEBITO\",\"CREDITO\"))","v":""},null,false,false,0,{"$f":"IF($A2578=I$3,AND($A2578=I$3,$D2578<0),0)","v":0},0,{"$f":"IF($A2578=K$3,AND($A2578=K$3,$D2578<0),0)","v":0},0,{"$f":"IF($A2578=M$3,AND($A2578=M$3,$D2578<0),0)","v":0},0,{"$f":"IF($A2578=O$3,AND($A2578=O$3,$D2578<0),0)","v":0},0,0,0,0,0,0,0,{"$f":"IF($A2578=W$3,AND($A2578=W$3,$D2578<0),0)","v":0},0,{"$f":"IF($A2578=Y$3,AND($A2578=Y$3,$D2578<0),0)","v":0},0,{"$f":"IF($A2578=AA$3,AND($A2578=AA$3,$D2578<0),0)","v":0},0,{"$f":"IF($A2578=AC$3,AND($A2578=AC$3,$D2578<0),0)","v":0},0,0]
[{"$f":"IF(B2579=0,\"\",MONTH(B2579))","v":""},null,null,null,{"$f":"IF(D2579=\"\",\"\",IF(D2579<0,\"DEBITO\",\"CREDITO\"))","v":""},null,false,false,0,{"$f":"IF($A2579=I$3,AND($A2579=I$3,$D2579<0),0)","v":0},0,{"$f":"IF($A2579=K$3,AND($A2579=K$3,$D2579<0),0)","v":0},0,{"$f":"IF($A2579=M$3,AND($A2579=M$3,$D2579<0),0)","v":0},0,{"$f":"IF($A2579=O$3,AND($A2579=O$3,$D2579<0),0)","v":0},0,0,0,0,0,0,0,{"$f":"IF($A2579=W$3,AND($A2579=W$3,$D2579<0),0)","v":0},0,{"$f":"IF($A2579=Y$3,AND($A2579=Y$3,$D2579<0),0)","v":0},0,{"$f":"IF($A2579=AA$3,AND($A2579=AA$3,$D2579<0),0)","v":0},0,{"$f":"IF($A2579=AC$3,AND($A2579=AC$3,$D2579<0),0)","v":0},0,0]
[{"$f":"IF(B2582=0,\"\",MONTH(B2582))","v":""},null,null,null,{"$f":"IF(D2582=\"\",\"\",IF(D2582<0,\"DEBITO\",\"CREDITO\"))","v":""},null,false,false,0,{"$f":"IF($A2582=I$3,AND($A2582=I$3,$D2582<0),0)","v":0},0,{"$f":"IF($A2582=K$3,AND($A2582=K$3,$D2582<0),0)","v":0},0,{"$f":"IF($A2582=M$3,AND($A2582=M$3,$D2582<0),0)","v":0},0,{"$f":"IF($A2582=O$3,AND($A2582=O$3,$D2582<0),0)","v":0},0,0,0,0,0,0,0,{"$f":"IF($A2582=W$3,AND($A2582=W$3,$D2582<0),0)","v":0},0,{"$f":"IF($A2582=Y$3,AND($A2582=Y$3,$D2582<0),0)","v":0},0,{"$f":"IF($A2582=AA$3,AND($A2582=AA$3,$D2582<0),0)","v":0},0,{"$f":"IF($A2582=AC$3,AND($A2582=AC$3,$D2582<0),0)","v":0},0,0]
[{"$f":"IF(B2583=0,\"\",MONTH(B2583))","v":""},null,null,null,{"$f":"IF(D2583=\"\",\"\",IF(D2583<0,\"DEBITO\",\"CREDITO\"))","v":""},null,false,false,0,{"$f":"IF($A2583=I$3,AND($A2583=I$3,$D2583<0),0)","v":0},0,{"$f":"IF($A2583=K$3,AND($A2583=K$3,$D2583<0),0)","v":0},0,{"$f":"IF($A2583=M$3,AND($A2583=M$3,$D2583<0),0)","v":0},0,{"$f":"IF($A2583=O$3,AND($A2583=O$3,$D2583<0),0)","v":0},0,0,0,0,0,0,0,{"$f":"IF($A2583=W$3,AND($A2583=W$3,$D2583<0),0)","v":0},0,{"$f":"IF($A2583=Y$3,AND($A2583=Y$3,$D2583<0),0)","v":0},0,{"$f":"IF($A2583=AA$3,AND($A2583=AA$3,$D2583<0),0)","v":0},0,{"$f":"IF($A2583=AC$3,AND($A2583=AC$3,$D2583<0),0)","v":0},0,0]
[{"$f":"IF(B2586=0,\"\",MONTH(B2586))","v":""},null,null,null,{"$f":"IF(D2586=\"\",\"\",IF(D2586<0,\"DEBITO\",\"CREDITO\"))","v":""},null,false,false,0,{"$f":"IF($A2586=I$3,AND($A2586=I$3,$D2586<0),0)","v":0},0,{"$f":"IF($A2586=K$3,AND($A2586=K$3,$D2586<0),0)","v":0},0,{"$f":"IF($A2586=M$3,AND($A2586=M$3,$D2586<0),0)","v":0},0,{"$f":"IF($A2586=O$3,AND($A2586=O$3,$D2586<0),0)","v":0},0,0,0,0,0,0,0,{"$f":"IF($A2586=W$3,AND($A2586=W$3,$D2586<0),0)","v":0},0,{"$f":"IF($A2586=Y$3,AND($A2586=Y$3,$D2586<0),0)","v":0},0,{"$f":"IF($A2586=AA$3,AND($A2586=AA$3,$D2586<0),0)","v":0},0,{"$f":"IF($A2586=AC$3,AND($A2586=AC$3,$D2586<0),0)","v":0},0,0]
[{"$f":"IF(B2587=0,\"\",MONTH(B2587))","v":""},null,null,null,{"$f":"IF(D2587=\"\",\"\",IF(D2587<0,\"DEBITO\",\"CREDITO\"))","v":""},null,false,false,0,{"$f":"IF($A2587=I$3,AND($A2587=I$3,$D2587<0),0)","v":0},0,{"$f":"IF($A2587=K$3,AND($A2587=K$3,$D2587<0),0)","v":0},0,{"$f":"IF($A2587=M$3,AND($A2587=M$3,$D2587<0),0)","v":0},0,{"$f":"IF($A2587=O$3,AND($A2587=O$3,$D2587<0),0)","v":0},0,0,0,0,0,0,0,{"$f":"IF($A2587=W$3,AND($A2587=W$3,$D2587<0),0)","v":0},0,{"$f":"IF($A2587=Y$3,AND($A2587=Y$3,$D2587<0),0)","v":0},0,{"$f":"IF($A2587=AA$3,AND($A2587=AA$3,$D2587<0),0)","v":0},0,{"$f":"IF($A2587=AC$3,AND($A2587=AC$3,$D2587<0),0)","v":0},0,0]
[{"$f":"IF(B2590=0,\"\",MONTH(B2590))","v":""},null,null,null,{"$f":"IF(D2590=\"\",\"\",IF(D2590<0,\"DEBITO\",\"CREDITO\"))","v":""},null,false,false,0,{"$f":"IF($A2590=I$3,AND($A2590=I$3,$D2590<0),0)","v":0},0,{"$f":"IF($A2590=K$3,AND($A2590=K$3,$D2590<0),0)","v":0},0,{"$f":"IF($A2590=M$3,AND($A2590=M$3,$D2590<0),0)","v":0},0,{"$f":"IF($A2590=O$3,AND($A2590=O$3,$D2590<0),0)","v":0},0,0,0,0,0,0,0,{"$f":"IF($A2590=W$3,AND($A2590=W$3,$D2590<0),0)","v":0},0,{"$f":"IF($A2590=Y$3,AND($A2590=Y$3,$D2590<0),0)","v":0},0,{"$f":"IF($A2590=AA$3,AND($A2590=AA$3,$D2590<0),0)","v":0},0,{"$f":"IF($A2590=AC$3,AND($A2590=AC$3,$D2590<0),0)","v":0},0,0]
[{"$f":"IF(B2591=0,\"\",MONTH(B2591))","v":""},null,null,null,{"$f":"IF(D2591=\"\",\"\",IF(D2591<0,\"DEBITO\",\"CREDITO\"))","v":""},null,false,false,0,{"$f":"IF($A2591=I$3,AND($A2591=I$3,$D2591<0),0)","v":0},0,{"$f":"IF($A2591=K$3,AND($A2591=K$3,$D2591<0),0)","v":0},0,{"$f":"IF($A2591=M$3,AND($A2591=M$3,$D2591<0),0)","v":0},0,{"$f":"IF($A2591=O$3,AND($A2591=O$3,$D2591<0),0)","v":0},0,0,0,0,0,0,0,{"$f":"IF($A2591=W$3,AND($A2591=W$3,$D2591<0),0)","v":0},0,{"$f":"IF($A2591=Y$3,AND($A2591=Y$3,$D2591<0),0)","v":0},0,{"$f":"IF($A2591=AA$3,AND($A2591=AA$3,$D2591<0),0)","v":0},0,{"$f":"IF($A2591=AC$3,AND($A2591=AC$3,$D2591<0),0)","v":0},0,0]
[{"$f":"IF(B2593=0,\"\",MONTH(B2593))","v":""},null,null,null,{"$f":"IF(D2593=\"\",\"\",IF(D2593<0,\"DEBITO\",\"CREDITO\"))","v":""},null,false,false,0,{"$f":"IF($A2593=I$3,AND($A2593=I$3,$D2593<0),0)","v":0},0,{"$f":"IF($A2593=K$3,AND($A2593=K$3,$D2593<0),0)","v":0},0,{"$f":"IF($A2593=M$3,AND($A2593=M$3,$D2593<0),0)","v":0},0,{"$f":"IF($A2593=O$3,AND($A2593=O$3,$D2593<0),0)","v":0},0,0,0,0,0,0,0,{"$f":"IF($A2593=W$3,AND($A2593=W$3,$D2593<0),0)","v":0},0,{"$f":"IF($A2593=Y$3,AND($A2593=Y$3,$D2593<0),0)","v":0},0,{"$f":"IF($A2593=AA$3,AND($A2593=AA$3,$D2593<0),0)","v":0},0,{"$f":"IF($A2593=AC$3,AND($A2593=AC$3,$D2593<0),0)","v":0},0,0]
[{"$f":"IF(B2596=0,\"\",MONTH(B2596))","v":""},null,null,null,{"$f":"IF(D2596=\"\",\"\",IF(D2596<0,\"DEBITO\",\"CREDITO\"))","v":""},null,false,false,0,{"$f":"IF($A2596=I$3,AND($A2596=I$3,$D2596<0),0)","v":0},0,{"$f":"IF($A2596=K$3,AND($A2596=K$3,$D2596<0),0)","v":0},0,{"$f":"IF($A2596=M$3,AND($A2596=M$3,$D2596<0),0)","v":0},0,{"$f":"IF($A2596=O$3,AND($A2596=O$3,$D2596<0),0)","v":0},0,0,0,0,0,0,0,{"$f":"IF($A2596=W$3,AND($A2596=W$3,$D2596<0),0)","v":0},0,{"$f":"IF($A2596=Y$3,AND($A2596=Y$3,$D2596<0),0)","v":0},0,{"$f":"IF($A2596=AA$3,AND($A2596=AA$3,$D2596<0),0)","v":0},0,{"$f":"IF($A2596=AC$3,AND($A2596=AC$3,$D2596<0),0)","v":0},0,0]
[{"$f":"IF(B2599=0,\"\",MONTH(B2599))","v":""},null,null,null,{"$f":"IF(D2599=\"\",\"\",IF(D2599<0,\"DEBITO\",\"CREDITO\"))","v":""},null,false,false,0,{"$f":"IF($A2599=I$3,AND($A2599=I$3,$D2599<0),0)","v":0},0,{"$f":"IF($A2599=K$3,AND($A2599=K$3,$D2599<0),0)","v":0},0,{"$f":"IF($A2599=M$3,AND($A2599=M$3,$D2599<0),0)","v":0},0,{"$f":"IF($A2599=O$3,AND($A2599=O$3,$D2599<0),0)","v":0},0,0,0,0,0,0,0,{"$f":"IF($A2599=W$3,AND($A2599=W$3,$D2599<0),0)","v":0},0,{"$f":"IF($A2599=Y$3,AND($A2599=Y$3,$D2599<0),0)","v":0},0,{"$f":"IF($A2599=AA$3,AND($A2599=AA$3,$D2599<0),0)","v":0},0,{"$f":"IF($A2599=AC$3,AND($A2599=AC$3,$D2599<0),0)","v":0},0,0]
[{"$f":"IF(B2600=0,\"\",MONTH(B2600))","v":""},null,null,null,{"$f":"IF(D2600=\"\",\"\",IF(D2600<0,\"DEBITO\",\"CREDITO\"))","v":""},null,false,false,0,{"$f":"IF($A2600=I$3,AND($A2600=I$3,$D2600<0),0)","v":0},0,{"$f":"IF($A2600=K$3,AND($A2600=K$3,$D2600<0),0)","v":0},0,{"$f":"IF($A2600=M$3,AND($A2600=M$3,$D2600<0),0)","v":0},0,{"$f":"IF($A2600=O$3,AND($A2600=O$3,$D2600<0),0)","v":0},0,0,0,0,0,0,0,{"$f":"IF($A2600=W$3,AND($A2600=W$3,$D2600<0),0)","v":0},0,{"$f":"IF($A2600=Y$3,AND($A2600=Y$3,$D2600<0),0)","v":0},0,{"$f":"IF($A2600=AA$3,AND($A2600=AA$3,$D2600<0),0)","v":0},0,{"$f":"IF($A2600=AC$3,AND($A2600=AC$3,$D2600<0),0)","v":0},0,0]
[{"$f":"IF(B2603=0,\"\",MONTH(B2603))","v":""},null,null,null,{"$f":"IF(D2603=\"\",\"\",IF(D2603<0,\"DEBITO\",\"CREDITO\"))","v":""},null,false,false,0,{"$f":"IF($A2603=I$3,AND($A2603=I$3,$D2603<0),0)","v":0},0,{"$f":"IF($A2603=K$3,AND($A2603=K$3,$D2603<0),0)","v":0},0,{"$f":"IF($A2603=M$3,AND($A2603=M$3,$D2603<0),0)","v":0},0,{"$f":"IF($A2603=O$3,AND($A2603=O$3,$D2603<0),0)","v":0},0,0,0,0,0,0,0,{"$f":"IF($A2603=W$3,AND($A2603=W$3,$D2603<0),0)","v":0},0,{"$f":"IF($A2603=Y$3,AND($A2603=Y$3,$D2603<0),0)","v":0},0,{"$f":"IF($A2603=AA$3,AND($A2603=AA$3,$D2603<0),0)","v":0},0,{"$f":"IF($A2603=AC$3,AND($A2603=AC$3,$D2603<0),0)","v":0},0,0]
[{"$f":"IF(B2604=0,\"\",MONTH(B2604))","v":""},null,null,null,{"$f":"IF(D2604=\"\",\"\",IF(D2604<0,\"DEBITO\",\"CREDITO\"))","v":""},null,false,false,0,{"$f":"IF($A2604=I$3,AND($A2604=I$3,$D2604<0),0)","v":0},0,{"$f":"IF($A2604=K$3,AND($A2604=K$3,$D2604<0),0)","v":0},0,{"$f":"IF($A2604=M$3,AND($A2604=M$3,$D2604<0),0)","v":0},0,{"$f":"IF($A2604=O$3,AND($A2604=O$3,$D2604<0),0)","v":0},0,0,0,0,0,0,0,{"$f":"IF($A2604=W$3,AND($A2604=W$3,$D2604<0),0)","v":0},0,{"$f":"IF($A2604=Y$3,AND($A2604=Y$3,$D2604<0),0)","v":0},0,{"$f":"IF($A2604=AA$3,AND($A2604=AA$3,$D2604<0),0)","v":0},0,{"$f":"IF($A2604=AC$3,AND($A2604=AC$3,$D2604<0),0)","v":0},0,0]
[{"$f":"IF(B2607=0,\"\",MONTH(B2607))","v":""},null,null,null,{"$f":"IF(D2607=\"\",\"\",IF(D2607<0,\"DEBITO\",\"CREDITO\"))","v":""},null,false,false,0,{"$f":"IF($A2607=I$3,AND($A2607=I$3,$D2607<0),0)","v":0},0,{"$f":"IF($A2607=K$3,AND($A2607=K$3,$D2607<0),0)","v":0},0,{"$f":"IF($A2607=M$3,AND($A2607=M$3,$D2607<0),0)","v":0},0,{"$f":"IF($A2607=O$3,AND($A2607=O$3,$D2607<0),0)","v":0},0,0,0,0,0,0,0,{"$f":"IF($A2607=W$3,AND($A2607=W$3,$D2607<0),0)","v":0},0,{"$f":"IF($A2607=Y$3,AND($A2607=Y$3,$D2607<0),0)","v":0},0,{"$f":"IF($A2607=AA$3,AND($A2607=AA$3,$D2607<0),0)","v":0},0,{"$f":"IF($A2607=AC$3,AND($A2607=AC$3,$D2607<0),0)","v":0},0,0]
[{"$f":"IF(B2608=0,\"\",MONTH(B2608))","v":""},null,null,null,{"$f":"IF(D2608=\"\",\"\",IF(D2608<0,\"DEBITO\",\"CREDITO\"))","v":""},null,false,false,0,{"$f":"IF($A2608=I$3,AND($A2608=I$3,$D2608<0),0)","v":0},0,{"$f":"IF($A2608=K$3,AND($A2608=K$3,$D2608<0),0)","v":0},0,{"$f":"IF($A2608=M$3,AND($A2608=M$3,$D2608<0),0)","v":0},0,{"$f":"IF($A2608=O$3,AND($A2608=O$3,$D2608<0),0)","v":0},0,0,0,0,0,0,0,{"$f":"IF($A2608=W$3,AND($A2608=W$3,$D2608<0),0)","v":0},0,{"$f":"IF($A2608=Y$3,AND($A2608=Y$3,$D2608<0),0)","v":0},0,{"$f":"IF($A2608=AA$3,AND($A2608=AA$3,$D2608<0),0)","v":0},0,{"$f":"IF($A2608=AC$3,AND($A2608=AC$3,$D2608<0),0)","v":0},0,0]
[{"$f":"IF(B2611=0,\"\",MONTH(B2611))","v":""},null,null,null,{"$f":"IF(D2611=\"\",\"\",IF(D2611<0,\"DEBITO\",\"CREDITO\"))","v":""},null,false,false,0,{"$f":"IF($A2611=I$3,AND($A2611=I$3,$D2611<0),0)","v":0},0,{"$f":"IF($A2611=K$3,AND($A2611=K$3,$D2611<0),0)","v":0},0,{"$f":"IF($A2611=M$3,AND($A2611=M$3,$D2611<0),0)","v":0},0,{"$f":"IF($A2611=O$3,AND($A2611=O$3,$D2611<0),0)","v":0},0,0,0,0,0,0,0,{"$f":"IF($A2611=W$3,AND($A2611=W$3,$D2611<0),0)","v":0},0,{"$f":"IF($A2611=Y$3,AND($A2611=Y$3,$D2611<0),0)","v":0},0,{"$f":"IF($A2611=AA$3,AND($A2611=AA$3,$D2611<0),0)","v":0},0,{"$f":"IF($A2611=AC$3,AND($A2611=AC$3,$D2611<0),0)","v":0},0,0]
[{"$f":"IF(B2612=0,\"\",MONTH(B2612))","v":""},null,null,null,{"$f":"IF(D2612=\"\",\"\",IF(D2612<0,\"DEBITO\",\"CREDITO\"))","v":""},null,false,false,0,{"$f":"IF($A2612=I$3,AND($A2612=I$3,$D2612<0),0)","v":0},0,{"$f":"IF($A2612=K$3,AND($A2612=K$3,$D2612<0),0)","v":0},0,{"$f":"IF($A2612=M$3,AND($A2612=M$3,$D2612<0),0)","v":0},0,{"$f":"IF($A2612=O$3,AND($A2612=O$3,$D2612<0),0)","v":0},0,0,0,0,0,0,0,{"$f":"IF($A2612=W$3,AND($A2612=W$3,$D2612<0),0)","v":0},0,{"$f":"IF($A2612=Y$3,AND($A2612=Y$3,$D2612<0),0)","v":0},0,{"$f":"IF($A2612=AA$3,AND($A2612=AA$3,$D2612<0),0)","v":0},0,{"$f":"IF($A2612=AC$3,AND($A2612=AC$3,$D2612<0),0)","v":0},0,0]
[{"$f":"IF(B2615=0,\"\",MONTH(B2615))","v":""},null,null,null,{"$f":"IF(D2615=\"\",\"\",IF(D2615<0,\"DEBITO\",\"CREDITO\"))","v":""},null,false,false,0,{"$f":"IF($A2615=I$3,AND($A2615=I$3,$D2615<0),0)","v":0},0,{"$f":"IF($A2615=K$3,AND($A2615=K$3,$D2615<0),0)","v":0},0,{"$f":"IF($A2615=M$3,AND($A2615=M$3,$D2615<0),0)","v":0},0,{"$f":"IF($A2615=O$3,AND($A2615=O$3,$D2615<0),0)","v":0},0,0,0,0,0,0,0,{"$f":"IF($A2615=W$3,AND($A2615=W$3,$D2615<0),0)","v":0},0,{"$f":"IF($A2615=Y$3,AND($A2615=Y$3,$D2615<0),0)","v":0},0,{"$f":"IF($A2615=AA$3,AND($A2615=AA$3,$D2615<0),0)","v":0},0,{"$f":"IF($A2615=AC$3,AND($A2615=AC$3,$D2615<0),0)","v":0},0,0]
[{"$f":"IF(B2617=0,\"\",MONTH(B2617))","v":""},null,null,null,{"$f":"IF(D2617=\"\",\"\",IF(D2617<0,\"DEBITO\",\"CREDITO\"))","v":""},null,false,false,0,{"$f":"IF($A2617=I$3,AND($A2617=I$3,$D2617<0),0)","v":0},0,{"$f":"IF($A2617=K$3,AND($A2617=K$3,$D2617<0),0)","v":0},0,{"$f":"IF($A2617=M$3,AND($A2617=M$3,$D2617<0),0)","v":0},0,{"$f":"IF($A2617=O$3,AND($A2617=O$3,$D2617<0),0)","v":0},0,0,0,0,0,0,0,{"$f":"IF($A2617=W$3,AND($A2617=W$3,$D2617<0),0)","v":0},0,{"$f":"IF($A2617=Y$3,AND($A2617=Y$3,$D2617<0),0)","v":0},0,{"$f":"IF($A2617=AA$3,AND($A2617=AA$3,$D2617<0),0)","v":0},0,{"$f":"IF($A2617=AC$3,AND($A2617=AC$3,$D2617<0),0)","v":0},0,0]
[{"$f":"IF(B2620=0,\"\",MONTH(B2620))","v":""},null,null,null,{"$f":"IF(D2620=\"\",\"\",IF(D2620<0,\"DEBITO\",\"CREDITO\"))","v":""},null,false,false,0,{"$f":"IF($A2620=I$3,AND($A2620=I$3,$D2620<0),0)","v":0},0,{"$f":"IF($A2620=K$3,AND($A2620=K$3,$D2620<0),0)","v":0},0,{"$f":"IF($A2620=M$3,AND($A2620=M$3,$D2620<0),0)","v":0},0,{"$f":"IF($A2620=O$3,AND($A2620=O$3,$D2620<0),0)","v":0},0,0,0,0,0,0,0,{"$f":"IF($A2620=W$3,AND($A2620=W$3,$D2620<0),0)","v":0},0,{"$f":"IF($A2620=Y$3,AND($A2620=Y$3,$D2620<0),0)","v":0},0,{"$f":"IF($A2620=AA$3,AND($A2620=AA$3,$D2620<0),0)","v":0},0,{"$f":"IF($A2620=AC$3,AND($A2620=AC$3,$D2620<0),0)","v":0},0,0]
[{"$f":"IF(B2621=0,\"\",MONTH(B2621))","v":""},null,null,null,{"$f":"IF(D2621=\"\",\"\",IF(D2621<0,\"DEBITO\",\"CREDITO\"))","v":""},null,false,false,0,{"$f":"IF($A2621=I$3,AND($A2621=I$3,$D2621<0),0)","v":0},0,{"$f":"IF($A2621=K$3,AND($A2621=K$3,$D2621<0),0)","v":0},0,{"$f":"IF($A2621=M$3,AND($A2621=M$3,$D2621<0),0)","v":0},0,{"$f":"IF($A2621=O$3,AND($A2621=O$3,$D2621<0),0)","v":0},0,0,0,0,0,0,0,{"$f":"IF($A2621=W$3,AND($A2621=W$3,$D2621<0),0)","v":0},0,{"$f":"IF($A2621=Y$3,AND($A2621=Y$3,$D2621<0),0)","v":0},0,{"$f":"IF($A2621=AA$3,AND($A2621=AA$3,$D2621<0),0)","v":0},0,{"$f":"IF($A2621=AC$3,AND($A2621=AC$3,$D2621<0),0)","v":0},0,0]
[{"$f":"IF(B2624=0,\"\",MONTH(B2624))","v":""},null,null,null,{"$f":"IF(D2624=\"\",\"\",IF(D2624<0,\"DEBITO\",\"CREDITO\"))","v":""},null,false,false,0,{"$f":"IF($A2624=I$3,AND($A2624=I$3,$D2624<0),0)","v":0},0,{"$f":"IF($A2624=K$3,AND($A2624=K$3,$D2624<0),0)","v":0},0,{"$f":"IF($A2624=M$3,AND($A2624=M$3,$D2624<0),0)","v":0},0,{"$f":"IF($A2624=O$3,AND($A2624=O$3,$D2624<0),0)","v":0},0,0,0,0,0,0,0,{"$f":"IF($A2624=W$3,AND($A2624=W$3,$D2624<0),0)","v":0},0,{"$f":"IF($A2624=Y$3,AND($A2624=Y$3,$D2624<0),0)","v":0},0,{"$f":"IF($A2624=AA$3,AND($A2624=AA$3,$D2624<0),0)","v":0},0,{"$f":"IF($A2624=AC$3,AND($A2624=AC$3,$D2624<0),0)","v":0},0,0]
[{"$f":"IF(B2625=0,\"\",MONTH(B2625))","v":""},null,null,null,{"$f":"IF(D2625=\"\",\"\",IF(D2625<0,\"DEBITO\",\"CREDITO\"))","v":""},null,false,false,0,{"$f":"IF($A2625=I$3,AND($A2625=I$3,$D2625<0),0)","v":0},0,{"$f":"IF($A2625=K$3,AND($A2625=K$3,$D2625<0),0)","v":0},0,{"$f":"IF($A2625=M$3,AND($A2625=M$3,$D2625<0),0)","v":0},0,{"$f":"IF($A2625=O$3,AND($A2625=O$3,$D2625<0),0)","v":0},0,0,0,0,0,0,0,{"$f":"IF($A2625=W$3,AND($A2625=W$3,$D2625<0),0)","v":0},0,{"$f":"IF($A2625=Y$3,AND($A2625=Y$3,$D2625<0),0)","v":0},0,{"$f":"IF($A2625=AA$3,AND($A2625=AA$3,$D2625<0),0)","v":0},0,{"$f":"IF($A2625=AC$3,AND($A2625=AC$3,$D2625<0),0)","v":0},0,0]
[{"$f":"IF(B2628=0,\"\",MONTH(B2628))","v":""},null,null,null,{"$f":"IF(D2628=\"\",\"\",IF(D2628<0,\"DEBITO\",\"CREDITO\"))","v":""},null,false,false,0,{"$f":"IF($A2628=I$3,AND($A2628=I$3,$D2628<0),0)","v":0},0,{"$f":"IF($A2628=K$3,AND($A2628=K$3,$D2628<0),0)","v":0},0,{"$f":"IF($A2628=M$3,AND($A2628=M$3,$D2628<0),0)","v":0},0,{"$f":"IF($A2628=O$3,AND($A2628=O$3,$D2628<0),0)","v":0},0,0,0,0,0,0,0,{"$f":"IF($A2628=W$3,AND($A2628=W$3,$D2628<0),0)","v":0},0,{"$f":"IF($A2628=Y$3,AND($A2628=Y$3,$D2628<0),0)","v":0},0,{"$f":"IF($A2628=AA$3,AND($A2628=AA$3,$D2628<0),0)","v":0},0,{"$f":"IF($A2628=AC$3,AND($A2628=AC$3,$D2628<0),0)","v":0},0,0]
[{"$f":"IF(B2629=0,\"\",MONTH(B2629))","v":""},null,null,null,{"$f":"IF(D2629=\"\",\"\",IF(D2629<0,\"DEBITO\",\"CREDITO\"))","v":""},null,false,false,0,{"$f":"IF($A2629=I$3,AND($A2629=I$3,$D2629<0),0)","v":0},0,{"$f":"IF($A2629=K$3,AND($A2629=K$3,$D2629<0),0)","v":0},0,{"$f":"IF($A2629=M$3,AND($A2629=M$3,$D2629<0),0)","v":0},0,{"$f":"IF($A2629=O$3,AND($A2629=O$3,$D2629<0),0)","v":0},0,0,0,0,0,0,0,{"$f":"IF($A2629=W$3,AND($A2629=W$3,$D2629<0),0)","v":0},0,{"$f":"IF($A2629=Y$3,AND($A2629=Y$3,$D2629<0),0)","v":0},0,{"$f":"IF($A2629=AA$3,AND($A2629=AA$3,$D2629<0),0)","v":0},0,{"$f":"IF($A2629=AC$3,AND($A2629=AC$3,$D2629<0),0)","v":0},0,0]
[{"$f":"IF(B2632=0,\"\",MONTH(B2632))","v":""},null,null,null,{"$f":"IF(D2632=\"\",\"\",IF(D2632<0,\"DEBITO\",\"CREDITO\"))","v":""},null,false,false,0,{"$f":"IF($A2632=I$3,AND($A2632=I$3,$D2632<0),0)","v":0},0,{"$f":"IF($A2632=K$3,AND($A2632=K$3,$D2632<0),0)","v":0},0,{"$f":"IF($A2632=M$3,AND($A2632=M$3,$D2632<0),0)","v":0},0,{"$f":"IF($A2632=O$3,AND($A2632=O$3,$D2632<0),0)","v":0},0,0,0,0,0,0,0,{"$f":"IF($A2632=W$3,AND($A2632=W$3,$D2632<0),0)","v":0},0,{"$f":"IF($A2632=Y$3,AND($A2632=Y$3,$D2632<0),0)","v":0},0,{"$f":"IF($A2632=AA$3,AND($A2632=AA$3,$D2632<0),0)","v":0},0,{"$f":"IF($A2632=AC$3,AND($A2632=AC$3,$D2632<0),0)","v":0},0,0]
[{"$f":"IF(B2633=0,\"\",MONTH(B2633))","v":""},null,null,null,{"$f":"IF(D2633=\"\",\"\",IF(D2633<0,\"DEBITO\",\"CREDITO\"))","v":""},null,{"$f":"AND(A2633=$E$3,D2633>0)","v":false},{"$f":"AND(A2633=$E$3,D2633<0)","v":false},0,{"$f":"IF($A2633=I$3,AND($A2633=I$3,$D2633<0),0)","v":0},0,{"$f":"IF($A2633=K$3,AND($A2633=K$3,$D2633<0),0)","v":0},0,{"$f":"IF($A2633=M$3,AND($A2633=M$3,$D2633<0),0)","v":0},0,{"$f":"IF($A2633=O$3,AND($A2633=O$3,$D2633<0),0)","v":0},0,{"$f":"IF($A2633=Q$3,AND($A2633=Q$3,$D2633<0),0)","v":0},0,0,0,0,0,{"$f":"IF($A2633=W$3,AND($A2633=W$3,$D2633<0),0)","v":0},0,{"$f":"IF($A2633=Y$3,AND($A2633=Y$3,$D2633<0),0)","v":0},0,{"$f":"IF($A2633=AA$3,AND($A2633=AA$3,$D2633<0),0)","v":0},0,{"$f":"IF($A2633=AC$3,AND($A2633=AC$3,$D2633<0),0)","v":0},0,{"$f":"IF($A2633=AE$3,AND($A2633=AE$3,$D2633<0),0)","v":0}]
[{"$f":"IF(B2636=0,\"\",MONTH(B2636))","v":""},null,null,null,{"$f":"IF(D2636=\"\",\"\",IF(D2636<0,\"DEBITO\",\"CREDITO\"))","v":""},null,false,false,0,{"$f":"IF($A2636=I$3,AND($A2636=I$3,$D2636<0),0)","v":0},0,{"$f":"IF($A2636=K$3,AND($A2636=K$3,$D2636<0),0)","v":0},0,{"$f":"IF($A2636=M$3,AND($A2636=M$3,$D2636<0),0)","v":0},0,{"$f":"IF($A2636=O$3,AND($A2636=O$3,$D2636<0),0)","v":0},0,0,0,0,0,0,0,{"$f":"IF($A2636=W$3,AND($A2636=W$3,$D2636<0),0)","v":0},0,{"$f":"IF($A2636=Y$3,AND($A2636=Y$3,$D2636<0),0)","v":0},0,{"$f":"IF($A2636=AA$3,AND($A2636=AA$3,$D2636<0),0)","v":0},0,{"$f":"IF($A2636=AC$3,AND($A2636=AC$3,$D2636<0),0)","v":0},0,0]
[{"$f":"IF(B2639=0,\"\",MONTH(B2639))","v":""},null,null,null,{"$f":"IF(D2639=\"\",\"\",IF(D2639<0,\"DEBITO\",\"CREDITO\"))","v":""},null,false,false,0,{"$f":"IF($A2639=I$3,AND($A2639=I$3,$D2639<0),0)","v":0},0,{"$f":"IF($A2639=K$3,AND($A2639=K$3,$D2639<0),0)","v":0},0,{"$f":"IF($A2639=M$3,AND($A2639=M$3,$D2639<0),0)","v":0},0,{"$f":"IF($A2639=O$3,AND($A2639=O$3,$D2639<0),0)","v":0},0,0,0,0,0,0,0,{"$f":"IF($A2639=W$3,AND($A2639=W$3,$D2639<0),0)","v":0},0,{"$f":"IF($A2639=Y$3,AND($A2639=Y$3,$D2639<0),0)","v":0},0,{"$f":"IF($A2639=AA$3,AND($A2639=AA$3,$D2639<0),0)","v":0},0,{"$f":"IF($A2639=AC$3,AND($A2639=AC$3,$D2639<0),0)","v":0},0,0]
[{"$f":"IF(B2641=0,\"\",MONTH(B2641))","v":""},null,null,null,{"$f":"IF(D2641=\"\",\"\",IF(D2641<0,\"DEBITO\",\"CREDITO\"))","v":""},null,false,false,0,{"$f":"IF($A2641=I$3,AND($A2641=I$3,$D2641<0),0)","v":0},0,{"$f":"IF($A2641=K$3,AND($A2641=K$3,$D2641<0),0)","v":0},0,{"$f":"IF($A2641=M$3,AND($A2641=M$3,$D2641<0),0)","v":0},0,{"$f":"IF($A2641=O$3,AND($A2641=O$3,$D2641<0),0)","v":0},0,0,0,0,0,0,0,{"$f":"IF($A2641=W$3,AND($A2641=W$3,$D2641<0),0)","v":0},0,{"$f":"IF($A2641=Y$3,AND($A2641=Y$3,$D2641<0),0)","v":0},0,{"$f":"IF($A2641=AA$3,AND($A2641=AA$3,$D2641<0),0)","v":0},0,{"$f":"IF($A2641=AC$3,AND($A2641=AC$3,$D2641<0),0)","v":0},0,0]
[{"$f":"IF(B2642=0,\"\",MONTH(B2642))","v":""},null,null,null,{"$f":"IF(D2642=\"\",\"\",IF(D2642<0,\"DEBITO\",\"CREDITO\"))","v":""},null,false,false,0,{"$f":"IF($A2642=I$3,AND($A2642=I$3,$D2642<0),0)","v":0},0,{"$f":"IF($A2642=K$3,AND($A2642=K$3,$D2642<0),0)","v":0},0,{"$f":"IF($A2642=M$3,AND($A2642=M$3,$D2642<0),0)","v":0},0,{"$f":"IF($A2642=O$3,AND($A2642=O$3,$D2642<0),0)","v":0},0,0,0,0,0,0,0,{"$f":"IF($A2642=W$3,AND($A2642=W$3,$D2642<0),0)","v":0},0,{"$f":"IF($A2642=Y$3,AND($A2642=Y$3,$D2642<0),0)","v":0},0,{"$f":"IF($A2642=AA$3,AND($A2642=AA$3,$D2642<0),0)","v":0},0,{"$f":"IF($A2642=AC$3,AND($A2642=AC$3,$D2642<0),0)","v":0},0,0]
[{"$f":"IF(B2645=0,\"\",MONTH(B2645))","v":""},null,null,null,{"$f":"IF(D2645=\"\",\"\",IF(D2645<0,\"DEBITO\",\"CREDITO\"))","v":""},null,false,false,0,{"$f":"IF($A2645=I$3,AND($A2645=I$3,$D2645<0),0)","v":0},0,{"$f":"IF($A2645=K$3,AND($A2645=K$3,$D2645<0),0)","v":0},0,{"$f":"IF($A2645=M$3,AND($A2645=M$3,$D2645<0),0)","v":0},0,{"$f":"IF($A2645=O$3,AND($A2645=O$3,$D2645<0),0)","v":0},0,0,0,0,0,0,0,{"$f":"IF($A2645=W$3,AND($A2645=W$3,$D2645<0),0)","v":0},0,{"$f":"IF($A2645=Y$3,AND($A2645=Y$3,$D2645<0),0)","v":0},0,{"$f":"IF($A2645=AA$3,AND($A2645=AA$3,$D2645<0),0)","v":0},0,{"$f":"IF($A2645=AC$3,AND($A2645=AC$3,$D2645<0),0)","v":0},0,0]
[{"$f":"IF(B2646=0,\"\",MONTH(B2646))","v":""},null,null,null,{"$f":"IF(D2646=\"\",\"\",IF(D2646<0,\"DEBITO\",\"CREDITO\"))","v":""},null,false,false,0,{"$f":"IF($A2646=I$3,AND($A2646=I$3,$D2646<0),0)","v":0},0,{"$f":"IF($A2646=K$3,AND($A2646=K$3,$D2646<0),0)","v":0},0,{"$f":"IF($A2646=M$3,AND($A2646=M$3,$D2646<0),0)","v":0},0,{"$f":"IF($A2646=O$3,AND($A2646=O$3,$D2646<0),0)","v":0},0,0,0,0,0,0,0,{"$f":"IF($A2646=W$3,AND($A2646=W$3,$D2646<0),0)","v":0},0,{"$f":"IF($A2646=Y$3,AND($A2646=Y$3,$D2646<0),0)","v":0},0,{"$f":"IF($A2646=AA$3,AND($A2646=AA$3,$D2646<0),0)","v":0},0,{"$f":"IF($A2646=AC$3,AND($A2646=AC$3,$D2646<0),0)","v":0},0,0]
[{"$f":"IF(B2649=0,\"\",MONTH(B2649))","v":""},null,null,null,{"$f":"IF(D2649=\"\",\"\",IF(D2649<0,\"DEBITO\",\"CREDITO\"))","v":""},null,false,false,{"$f":"IF($A2649=I$3,AND($A2649=I$3,$D2649>0),0)","v":0},{"$f":"IF($A2649=I$3,AND($A2649=I$3,$D2649<0),0)","v":0},{"$f":"IF($A2649=K$3,AND($A2649=K$3,$D2649>0),0)","v":0},{"$f":"IF($A2649=K$3,AND($A2649=K$3,$D2649<0),0)","v":0},{"$f":"IF($A2649=M$3,AND($A2649=M$3,$D2649>0),0)","v":0},{"$f":"IF($A2649=M$3,AND($A2649=M$3,$D2649<0),0)","v":0},{"$f":"IF($A2649=O$3,AND($A2649=O$3,$D2649>0),0)","v":0},{"$f":"IF($A2649=O$3,AND($A2649=O$3,$D2649<0),0)","v":0},{"$f":"IF($A2649=Q$3,AND($A2649=Q$3,$D2649>0),0)","v":0},0,0,0,0,0,{"$f":"IF($A2649=W$3,AND($A2649=W$3,$D2649>0),0)","v":0},{"$f":"IF($A2649=W$3,AND($A2649=W$3,$D2649<0),0)","v":0},{"$f":"IF($A2649=Y$3,AND($A2649=Y$3,$D2649>0),0)","v":0},{"$f":"IF($A2649=Y$3,AND($A2649=Y$3,$D2649<0),0)","v":0},{"$f":"IF($A2649=AA$3,AND($A2649=AA$3,$D2649>0),0)","v":0},{"$f":"IF($A2649=AA$3,AND($A2649=AA$3,$D2649<0),0)","v":0},{"$f":"IF($A2649=AC$3,AND($A2649=AC$3,$D2649>0),0)","v":0},{"$f":"IF($A2649=AC$3,AND($A2649=AC$3,$D2649<0),0)","v":0},{"$f":"IF($A2649=AE$3,AND($A2649=AE$3,$D2649>0),0)","v":0},0]
[{"$f":"IF(B2650=0,\"\",MONTH(B2650))","v":""},null,null,null,{"$f":"IF(D2650=\"\",\"\",IF(D2650<0,\"DEBITO\",\"CREDITO\"))","v":""},null,false,false,0,{"$f":"IF($A2650=I$3,AND($A2650=I$3,$D2650<0),0)","v":0},0,{"$f":"IF($A2650=K$3,AND($A2650=K$3,$D2650<0),0)","v":0},0,{"$f":"IF($A2650=M$3,AND($A2650=M$3,$D2650<0),0)","v":0},0,{"$f":"IF($A2650=O$3,AND($A2650=O$3,$D2650<0),0)","v":0},0,0,0,0,0,0,0,{"$f":"IF($A2650=W$3,AND($A2650=W$3,$D2650<0),0)","v":0},0,{"$f":"IF($A2650=Y$3,AND($A2650=Y$3,$D2650<0),0)","v":0},0,{"$f":"IF($A2650=AA$3,AND($A2650=AA$3,$D2650<0),0)","v":0},0,{"$f":"IF($A2650=AC$3,AND($A2650=AC$3,$D2650<0),0)","v":0},0,0]
[{"$f":"IF(B2653=0,\"\",MONTH(B2653))","v":""},null,null,null,{"$f":"IF(D2653=\"\",\"\",IF(D2653<0,\"DEBITO\",\"CREDITO\"))","v":""},null,false,false,0,{"$f":"IF($A2653=I$3,AND($A2653=I$3,$D2653<0),0)","v":0},0,{"$f":"IF($A2653=K$3,AND($A2653=K$3,$D2653<0),0)","v":0},0,{"$f":"IF($A2653=M$3,AND($A2653=M$3,$D2653<0),0)","v":0},0,{"$f":"IF($A2653=O$3,AND($A2653=O$3,$D2653<0),0)","v":0},0,0,0,0,0,0,0,{"$f":"IF($A2653=W$3,AND($A2653=W$3,$D2653<0),0)","v":0},0,{"$f":"IF($A2653=Y$3,AND($A2653=Y$3,$D2653<0),0)","v":0},0,{"$f":"IF($A2653=AA$3,AND($A2653=AA$3,$D2653<0),0)","v":0},0,{"$f":"IF($A2653=AC$3,AND($A2653=AC$3,$D2653<0),0)","v":0},0,0]
[{"$f":"IF(B2654=0,\"\",MONTH(B2654))","v":""},null,null,null,{"$f":"IF(D2654=\"\",\"\",IF(D2654<0,\"DEBITO\",\"CREDITO\"))","v":""},null,false,false,0,{"$f":"IF($A2654=I$3,AND($A2654=I$3,$D2654<0),0)","v":0},0,{"$f":"IF($A2654=K$3,AND($A2654=K$3,$D2654<0),0)","v":0},0,{"$f":"IF($A2654=M$3,AND($A2654=M$3,$D2654<0),0)","v":0},0,{"$f":"IF($A2654=O$3,AND($A2654=O$3,$D2654<0),0)","v":0},0,0,0,0,0,0,0,{"$f":"IF($A2654=W$3,AND($A2654=W$3,$D2654<0),0)","v":0},0,{"$f":"IF($A2654=Y$3,AND($A2654=Y$3,$D2654<0),0)","v":0},0,{"$f":"IF($A2654=AA$3,AND($A2654=AA$3,$D2654<0),0)","v":0},0,{"$f":"IF($A2654=AC$3,AND($A2654=AC$3,$D2654<0),0)","v":0},0,0]
[{"$f":"IF(B2657=0,\"\",MONTH(B2657))","v":""},null,null,null,{"$f":"IF(D2657=\"\",\"\",IF(D2657<0,\"DEBITO\",\"CREDITO\"))","v":""},null,false,false,0,{"$f":"IF($A2657=I$3,AND($A2657=I$3,$D2657<0),0)","v":0},0,{"$f":"IF($A2657=K$3,AND($A2657=K$3,$D2657<0),0)","v":0},0,{"$f":"IF($A2657=M$3,AND($A2657=M$3,$D2657<0),0)","v":0},0,{"$f":"IF($A2657=O$3,AND($A2657=O$3,$D2657<0),0)","v":0},0,0,0,0,0,0,0,{"$f":"IF($A2657=W$3,AND($A2657=W$3,$D2657<0),0)","v":0},0,{"$f":"IF($A2657=Y$3,AND($A2657=Y$3,$D2657<0),0)","v":0},0,{"$f":"IF($A2657=AA$3,AND($A2657=AA$3,$D2657<0),0)","v":0},0,{"$f":"IF($A2657=AC$3,AND($A2657=AC$3,$D2657<0),0)","v":0},0,0]
[{"$f":"IF(B2658=0,\"\",MONTH(B2658))","v":""},null,null,null,{"$f":"IF(D2658=\"\",\"\",IF(D2658<0,\"DEBITO\",\"CREDITO\"))","v":""},null,false,false,0,{"$f":"IF($A2658=I$3,AND($A2658=I$3,$D2658<0),0)","v":0},0,{"$f":"IF($A2658=K$3,AND($A2658=K$3,$D2658<0),0)","v":0},0,{"$f":"IF($A2658=M$3,AND($A2658=M$3,$D2658<0),0)","v":0},0,{"$f":"IF($A2658=O$3,AND($A2658=O$3,$D2658<0),0)","v":0},0,0,0,0,0,0,0,{"$f":"IF($A2658=W$3,AND($A2658=W$3,$D2658<0),0)","v":0},0,{"$f":"IF($A2658=Y$3,AND($A2658=Y$3,$D2658<0),0)","v":0},0,{"$f":"IF($A2658=AA$3,AND($A2658=AA$3,$D2658<0),0)","v":0},0,{"$f":"IF($A2658=AC$3,AND($A2658=AC$3,$D2658<0),0)","v":0},0,0]
[{"$f":"IF(B2662=0,\"\",MONTH(B2662))","v":""},null,null,null,{"$f":"IF(D2662=\"\",\"\",IF(D2662<0,\"DEBITO\",\"CREDITO\"))","v":""},null,false,false,0,{"$f":"IF($A2662=I$3,AND($A2662=I$3,$D2662<0),0)","v":0},0,{"$f":"IF($A2662=K$3,AND($A2662=K$3,$D2662<0),0)","v":0},0,{"$f":"IF($A2662=M$3,AND($A2662=M$3,$D2662<0),0)","v":0},0,{"$f":"IF($A2662=O$3,AND($A2662=O$3,$D2662<0),0)","v":0},0,0,0,0,0,0,0,{"$f":"IF($A2662=W$3,AND($A2662=W$3,$D2662<0),0)","v":0},0,{"$f":"IF($A2662=Y$3,AND($A2662=Y$3,$D2662<0),0)","v":0},0,{"$f":"IF($A2662=AA$3,AND($A2662=AA$3,$D2662<0),0)","v":0},0,{"$f":"IF($A2662=AC$3,AND($A2662=AC$3,$D2662<0),0)","v":0},0,0]
[{"$f":"IF(B2663=0,\"\",MONTH(B2663))","v":""},null,null,null,{"$f":"IF(D2663=\"\",\"\",IF(D2663<0,\"DEBITO\",\"CREDITO\"))","v":""},null,false,false,0,{"$f":"IF($A2663=I$3,AND($A2663=I$3,$D2663<0),0)","v":0},0,{"$f":"IF($A2663=K$3,AND($A2663=K$3,$D2663<0),0)","v":0},0,{"$f":"IF($A2663=M$3,AND($A2663=M$3,$D2663<0),0)","v":0},0,{"$f":"IF($A2663=O$3,AND($A2663=O$3,$D2663<0),0)","v":0},0,0,0,0,0,0,0,{"$f":"IF($A2663=W$3,AND($A2663=W$3,$D2663<0),0)","v":0},0,{"$f":"IF($A2663=Y$3,AND($A2663=Y$3,$D2663<0),0)","v":0},0,{"$f":"IF($A2663=AA$3,AND($A2663=AA$3,$D2663<0),0)","v":0},0,{"$f":"IF($A2663=AC$3,AND($A2663=AC$3,$D2663<0),0)","v":0},0,0]
[{"$f":"IF(B2666=0,\"\",MONTH(B2666))","v":""},null,null,null,{"$f":"IF(D2666=\"\",\"\",IF(D2666<0,\"DEBITO\",\"CREDITO\"))","v":""},null,false,false,0,{"$f":"IF($A2666=I$3,AND($A2666=I$3,$D2666<0),0)","v":0},0,{"$f":"IF($A2666=K$3,AND($A2666=K$3,$D2666<0),0)","v":0},0,{"$f":"IF($A2666=M$3,AND($A2666=M$3,$D2666<0),0)","v":0},0,{"$f":"IF($A2666=O$3,AND($A2666=O$3,$D2666<0),0)","v":0},0,0,0,0,0,0,0,{"$f":"IF($A2666=W$3,AND($A2666=W$3,$D2666<0),0)","v":0},0,{"$f":"IF($A2666=Y$3,AND($A2666=Y$3,$D2666<0),0)","v":0},0,{"$f":"IF($A2666=AA$3,AND($A2666=AA$3,$D2666<0),0)","v":0},0,{"$f":"IF($A2666=AC$3,AND($A2666=AC$3,$D2666<0),0)","v":0},0,0]
[{"$f":"IF(B2667=0,\"\",MONTH(B2667))","v":""},null,null,null,{"$f":"IF(D2667=\"\",\"\",IF(D2667<0,\"DEBITO\",\"CREDITO\"))","v":""},null,false,false,0,{"$f":"IF($A2667=I$3,AND($A2667=I$3,$D2667<0),0)","v":0},0,{"$f":"IF($A2667=K$3,AND($A2667=K$3,$D2667<0),0)","v":0},0,{"$f":"IF($A2667=M$3,AND($A2667=M$3,$D2667<0),0)","v":0},0,{"$f":"IF($A2667=O$3,AND($A2667=O$3,$D2667<0),0)","v":0},0,0,0,0,0,0,0,{"$f":"IF($A2667=W$3,AND($A2667=W$3,$D2667<0),0)","v":0},0,{"$f":"IF($A2667=Y$3,AND($A2667=Y$3,$D2667<0),0)","v":0},0,{"$f":"IF($A2667=AA$3,AND($A2667=AA$3,$D2667<0),0)","v":0},0,{"$f":"IF($A2667=AC$3,AND($A2667=AC$3,$D2667<0),0)","v":0},0,0]
[{"$f":"IF(B2670=0,\"\",MONTH(B2670))","v":""},null,null,null,{"$f":"IF(D2670=\"\",\"\",IF(D2670<0,\"DEBITO\",\"CREDITO\"))","v":""},null,false,false,0,{"$f":"IF($A2670=I$3,AND($A2670=I$3,$D2670<0),0)","v":0},0,{"$f":"IF($A2670=K$3,AND($A2670=K$3,$D2670<0),0)","v":0},0,{"$f":"IF($A2670=M$3,AND($A2670=M$3,$D2670<0),0)","v":0},0,{"$f":"IF($A2670=O$3,AND($A2670=O$3,$D2670<0),0)","v":0},0,0,0,0,0,0,0,{"$f":"IF($A2670=W$3,AND($A2670=W$3,$D2670<0),0)","v":0},0,{"$f":"IF($A2670=Y$3,AND($A2670=Y$3,$D2670<0),0)","v":0},0,{"$f":"IF($A2670=AA$3,AND($A2670=AA$3,$D2670<0),0)","v":0},0,{"$f":"IF($A2670=AC$3,AND($A2670=AC$3,$D2670<0),0)","v":0},0,0]
[{"$f":"IF(B2671=0,\"\",MONTH(B2671))","v":""},null,null,null,{"$f":"IF(D2671=\"\",\"\",IF(D2671<0,\"DEBITO\",\"CREDITO\"))","v":""},null,false,false,0,{"$f":"IF($A2671=I$3,AND($A2671=I$3,$D2671<0),0)","v":0},0,{"$f":"IF($A2671=K$3,AND($A2671=K$3,$D2671<0),0)","v":0},0,{"$f":"IF($A2671=M$3,AND($A2671=M$3,$D2671<0),0)","v":0},0,{"$f":"IF($A2671=O$3,AND($A2671=O$3,$D2671<0),0)","v":0},0,0,0,0,0,0,0,{"$f":"IF($A2671=W$3,AND($A2671=W$3,$D2671<0),0)","v":0},0,{"$f":"IF($A2671=Y$3,AND($A2671=Y$3,$D2671<0),0)","v":0},0,{"$f":"IF($A2671=AA$3,AND($A2671=AA$3,$D2671<0),0)","v":0},0,{"$f":"IF($A2671=AC$3,AND($A2671=AC$3,$D2671<0),0)","v":0},0,0]
[{"$f":"IF(B2674=0,\"\",MONTH(B2674))","v":""},null,null,null,{"$f":"IF(D2674=\"\",\"\",IF(D2674<0,\"DEBITO\",\"CREDITO\"))","v":""},null,false,false,0,{"$f":"IF($A2674=I$3,AND($A2674=I$3,$D2674<0),0)","v":0},0,{"$f":"IF($A2674=K$3,AND($A2674=K$3,$D2674<0),0)","v":0},0,{"$f":"IF($A2674=M$3,AND($A2674=M$3,$D2674<0),0)","v":0},0,{"$f":"IF($A2674=O$3,AND($A2674=O$3,$D2674<0),0)","v":0},0,0,0,0,0,0,0,{"$f":"IF($A2674=W$3,AND($A2674=W$3,$D2674<0),0)","v":0},0,{"$f":"IF($A2674=Y$3,AND($A2674=Y$3,$D2674<0),0)","v":0},0,{"$f":"IF($A2674=AA$3,AND($A2674=AA$3,$D2674<0),0)","v":0},0,{"$f":"IF($A2674=AC$3,AND($A2674=AC$3,$D2674<0),0)","v":0},0,0]
[{"$f":"IF(B2675=0,\"\",MONTH(B2675))","v":""},null,null,null,{"$f":"IF(D2675=\"\",\"\",IF(D2675<0,\"DEBITO\",\"CREDITO\"))","v":""},null,false,false,0,{"$f":"IF($A2675=I$3,AND($A2675=I$3,$D2675<0),0)","v":0},0,{"$f":"IF($A2675=K$3,AND($A2675=K$3,$D2675<0),0)","v":0},0,{"$f":"IF($A2675=M$3,AND($A2675=M$3,$D2675<0),0)","v":0},0,{"$f":"IF($A2675=O$3,AND($A2675=O$3,$D2675<0),0)","v":0},0,0,0,0,0,0,0,{"$f":"IF($A2675=W$3,AND($A2675=W$3,$D2675<0),0)","v":0},0,{"$f":"IF($A2675=Y$3,AND($A2675=Y$3,$D2675<0),0)","v":0},0,{"$f":"IF($A2675=AA$3,AND($A2675=AA$3,$D2675<0),0)","v":0},0,{"$f":"IF($A2675=AC$3,AND($A2675=AC$3,$D2675<0),0)","v":0},0,0]
[{"$f":"IF(B2678=0,\"\",MONTH(B2678))","v":""},null,null,null,{"$f":"IF(D2678=\"\",\"\",IF(D2678<0,\"DEBITO\",\"CREDITO\"))","v":""},null,false,false,0,{"$f":"IF($A2678=I$3,AND($A2678=I$3,$D2678<0),0)","v":0},0,{"$f":"IF($A2678=K$3,AND($A2678=K$3,$D2678<0),0)","v":0},0,{"$f":"IF($A2678=M$3,AND($A2678=M$3,$D2678<0),0)","v":0},0,{"$f":"IF($A2678=O$3,AND($A2678=O$3,$D2678<0),0)","v":0},0,0,0,0,0,0,0,{"$f":"IF($A2678=W$3,AND($A2678=W$3,$D2678<0),0)","v":0},0,{"$f":"IF($A2678=Y$3,AND($A2678=Y$3,$D2678<0),0)","v":0},0,{"$f":"IF($A2678=AA$3,AND($A2678=AA$3,$D2678<0),0)","v":0},0,{"$f":"IF($A2678=AC$3,AND($A2678=AC$3,$D2678<0),0)","v":0},0,0]
[{"$f":"IF(B2679=0,\"\",MONTH(B2679))","v":""},null,null,null,{"$f":"IF(D2679=\"\",\"\",IF(D2679<0,\"DEBITO\",\"CREDITO\"))","v":""},null,false,false,0,{"$f":"IF($A2679=I$3,AND($A2679=I$3,$D2679<0),0)","v":0},0,{"$f":"IF($A2679=K$3,AND($A2679=K$3,$D2679<0),0)","v":0},0,{"$f":"IF($A2679=M$3,AND($A2679=M$3,$D2679<0),0)","v":0},0,{"$f":"IF($A2679=O$3,AND($A2679=O$3,$D2679<0),0)","v":0},0,0,0,0,0,0,0,{"$f":"IF($A2679=W$3,AND($A2679=W$3,$D2679<0),0)","v":0},0,{"$f":"IF($A2679=Y$3,AND($A2679=Y$3,$D2679<0),0)","v":0},0,{"$f":"IF($A2679=AA$3,AND($A2679=AA$3,$D2679<0),0)","v":0},0,{"$f":"IF($A2679=AC$3,AND($A2679=AC$3,$D2679<0),0)","v":0},0,0]
[{"$f":"IF(B2682=0,\"\",MONTH(B2682))","v":""},null,null,null,{"$f":"IF(D2682=\"\",\"\",IF(D2682<0,\"DEBITO\",\"CREDITO\"))","v":""},null,false,false,0,{"$f":"IF($A2682=I$3,AND($A2682=I$3,$D2682<0),0)","v":0},0,{"$f":"IF($A2682=K$3,AND($A2682=K$3,$D2682<0),0)","v":0},0,{"$f":"IF($A2682=M$3,AND($A2682=M$3,$D2682<0),0)","v":0},0,{"$f":"IF($A2682=O$3,AND($A2682=O$3,$D2682<0),0)","v":0},0,0,0,0,0,0,0,{"$f":"IF($A2682=W$3,AND($A2682=W$3,$D2682<0),0)","v":0},0,{"$f":"IF($A2682=Y$3,AND($A2682=Y$3,$D2682<0),0)","v":0},0,{"$f":"IF($A2682=AA$3,AND($A2682=AA$3,$D2682<0),0)","v":0},0,{"$f":"IF($A2682=AC$3,AND($A2682=AC$3,$D2682<0),0)","v":0},0,0]
[{"$f":"IF(B2684=0,\"\",MONTH(B2684))","v":""},null,null,null,{"$f":"IF(D2684=\"\",\"\",IF(D2684<0,\"DEBITO\",\"CREDITO\"))","v":""},null,false,false,0,{"$f":"IF($A2684=I$3,AND($A2684=I$3,$D2684<0),0)","v":0},0,{"$f":"IF($A2684=K$3,AND($A2684=K$3,$D2684<0),0)","v":0},0,{"$f":"IF($A2684=M$3,AND($A2684=M$3,$D2684<0),0)","v":0},0,{"$f":"IF($A2684=O$3,AND($A2684=O$3,$D2684<0),0)","v":0},0,0,0,0,0,0,0,{"$f":"IF($A2684=W$3,AND($A2684=W$3,$D2684<0),0)","v":0},0,{"$f":"IF($A2684=Y$3,AND($A2684=Y$3,$D2684<0),0)","v":0},0,{"$f":"IF($A2684=AA$3,AND($A2684=AA$3,$D2684<0),0)","v":0},0,{"$f":"IF($A2684=AC$3,AND($A2684=AC$3,$D2684<0),0)","v":0},0,0]
[{"$f":"IF(B2687=0,\"\",MONTH(B2687))","v":""},null,null,null,{"$f":"IF(D2687=\"\",\"\",IF(D2687<0,\"DEBITO\",\"CREDITO\"))","v":""},null,false,false,0,{"$f":"IF($A2687=I$3,AND($A2687=I$3,$D2687<0),0)","v":0},0,{"$f":"IF($A2687=K$3,AND($A2687=K$3,$D2687<0),0)","v":0},0,{"$f":"IF($A2687=M$3,AND($A2687=M$3,$D2687<0),0)","v":0},0,{"$f":"IF($A2687=O$3,AND($A2687=O$3,$D2687<0),0)","v":0},0,0,0,0,0,0,0,{"$f":"IF($A2687=W$3,AND($A2687=W$3,$D2687<0),0)","v":0},0,{"$f":"IF($A2687=Y$3,AND($A2687=Y$3,$D2687<0),0)","v":0},0,{"$f":"IF($A2687=AA$3,AND($A2687=AA$3,$D2687<0),0)","v":0},0,{"$f":"IF($A2687=AC$3,AND($A2687=AC$3,$D2687<0),0)","v":0},0,0]
[{"$f":"IF(B2688=0,\"\",MONTH(B2688))","v":""},null,null,null,{"$f":"IF(D2688=\"\",\"\",IF(D2688<0,\"DEBITO\",\"CREDITO\"))","v":""},null,false,false,0,{"$f":"IF($A2688=I$3,AND($A2688=I$3,$D2688<0),0)","v":0},0,{"$f":"IF($A2688=K$3,AND($A2688=K$3,$D2688<0),0)","v":0},0,{"$f":"IF($A2688=M$3,AND($A2688=M$3,$D2688<0),0)","v":0},0,{"$f":"IF($A2688=O$3,AND($A2688=O$3,$D2688<0),0)","v":0},0,0,0,0,0,0,0,{"$f":"IF($A2688=W$3,AND($A2688=W$3,$D2688<0),0)","v":0},0,{"$f":"IF($A2688=Y$3,AND($A2688=Y$3,$D2688<0),0)","v":0},0,{"$f":"IF($A2688=AA$3,AND($A2688=AA$3,$D2688<0),0)","v":0},0,{"$f":"IF($A2688=AC$3,AND($A2688=AC$3,$D2688<0),0)","v":0},0,0]
[{"$f":"IF(B2691=0,\"\",MONTH(B2691))","v":""},null,null,null,{"$f":"IF(D2691=\"\",\"\",IF(D2691<0,\"DEBITO\",\"CREDITO\"))","v":""},null,false,false,0,{"$f":"IF($A2691=I$3,AND($A2691=I$3,$D2691<0),0)","v":0},0,{"$f":"IF($A2691=K$3,AND($A2691=K$3,$D2691<0),0)","v":0},0,{"$f":"IF($A2691=M$3,AND($A2691=M$3,$D2691<0),0)","v":0},0,{"$f":"IF($A2691=O$3,AND($A2691=O$3,$D2691<0),0)","v":0},0,0,0,0,0,0,0,{"$f":"IF($A2691=W$3,AND($A2691=W$3,$D2691<0),0)","v":0},0,{"$f":"IF($A2691=Y$3,AND($A2691=Y$3,$D2691<0),0)","v":0},0,{"$f":"IF($A2691=AA$3,AND($A2691=AA$3,$D2691<0),0)","v":0},0,{"$f":"IF($A2691=AC$3,AND($A2691=AC$3,$D2691<0),0)","v":0},0,0]
[{"$f":"IF(B2692=0,\"\",MONTH(B2692))","v":""},null,null,null,{"$f":"IF(D2692=\"\",\"\",IF(D2692<0,\"DEBITO\",\"CREDITO\"))","v":""},null,false,false,0,{"$f":"IF($A2692=I$3,AND($A2692=I$3,$D2692<0),0)","v":0},0,{"$f":"IF($A2692=K$3,AND($A2692=K$3,$D2692<0),0)","v":0},0,{"$f":"IF($A2692=M$3,AND($A2692=M$3,$D2692<0),0)","v":0},0,{"$f":"IF($A2692=O$3,AND($A2692=O$3,$D2692<0),0)","v":0},0,0,0,0,0,0,0,{"$f":"IF($A2692=W$3,AND($A2692=W$3,$D2692<0),0)","v":0},0,{"$f":"IF($A2692=Y$3,AND($A2692=Y$3,$D2692<0),0)","v":0},0,{"$f":"IF($A2692=AA$3,AND($A2692=AA$3,$D2692<0),0)","v":0},0,{"$f":"IF($A2692=AC$3,AND($A2692=AC$3,$D2692<0),0)","v":0},0,0]
[{"$f":"IF(B2695=0,\"\",MONTH(B2695))","v":""},null,null,null,{"$f":"IF(D2695=\"\",\"\",IF(D2695<0,\"DEBITO\",\"CREDITO\"))","v":""},null,false,false,0,{"$f":"IF($A2695=I$3,AND($A2695=I$3,$D2695<0),0)","v":0},0,{"$f":"IF($A2695=K$3,AND($A2695=K$3,$D2695<0),0)","v":0},0,{"$f":"IF($A2695=M$3,AND($A2695=M$3,$D2695<0),0)","v":0},0,{"$f":"IF($A2695=O$3,AND($A2695=O$3,$D2695<0),0)","v":0},0,0,0,0,0,0,0,{"$f":"IF($A2695=W$3,AND($A2695=W$3,$D2695<0),0)","v":0},0,{"$f":"IF($A2695=Y$3,AND($A2695=Y$3,$D2695<0),0)","v":0},0,{"$f":"IF($A2695=AA$3,AND($A2695=AA$3,$D2695<0),0)","v":0},0,{"$f":"IF($A2695=AC$3,AND($A2695=AC$3,$D2695<0),0)","v":0},0,0]
[{"$f":"IF(B2696=0,\"\",MONTH(B2696))","v":""},null,null,null,{"$f":"IF(D2696=\"\",\"\",IF(D2696<0,\"DEBITO\",\"CREDITO\"))","v":""},null,false,false,0,{"$f":"IF($A2696=I$3,AND($A2696=I$3,$D2696<0),0)","v":0},0,{"$f":"IF($A2696=K$3,AND($A2696=K$3,$D2696<0),0)","v":0},0,{"$f":"IF($A2696=M$3,AND($A2696=M$3,$D2696<0),0)","v":0},0,{"$f":"IF($A2696=O$3,AND($A2696=O$3,$D2696<0),0)","v":0},0,0,0,0,0,0,0,{"$f":"IF($A2696=W$3,AND($A2696=W$3,$D2696<0),0)","v":0},0,{"$f":"IF($A2696=Y$3,AND($A2696=Y$3,$D2696<0),0)","v":0},0,{"$f":"IF($A2696=AA$3,AND($A2696=AA$3,$D2696<0),0)","v":0},0,{"$f":"IF($A2696=AC$3,AND($A2696=AC$3,$D2696<0),0)","v":0},0,0]
[{"$f":"IF(B2699=0,\"\",MONTH(B2699))","v":""},null,null,null,{"$f":"IF(D2699=\"\",\"\",IF(D2699<0,\"DEBITO\",\"CREDITO\"))","v":""},null,false,false,0,{"$f":"IF($A2699=I$3,AND($A2699=I$3,$D2699<0),0)","v":0},0,{"$f":"IF($A2699=K$3,AND($A2699=K$3,$D2699<0),0)","v":0},0,{"$f":"IF($A2699=M$3,AND($A2699=M$3,$D2699<0),0)","v":0},0,{"$f":"IF($A2699=O$3,AND($A2699=O$3,$D2699<0),0)","v":0},0,0,0,0,0,0,0,{"$f":"IF($A2699=W$3,AND($A2699=W$3,$D2699<0),0)","v":0},0,{"$f":"IF($A2699=Y$3,AND($A2699=Y$3,$D2699<0),0)","v":0},0,{"$f":"IF($A2699=AA$3,AND($A2699=AA$3,$D2699<0),0)","v":0},0,{"$f":"IF($A2699=AC$3,AND($A2699=AC$3,$D2699<0),0)","v":0},0,0]
[{"$f":"IF(B2700=0,\"\",MONTH(B2700))","v":""},null,null,null,{"$f":"IF(D2700=\"\",\"\",IF(D2700<0,\"DEBITO\",\"CREDITO\"))","v":""},null,false,false,0,{"$f":"IF($A2700=I$3,AND($A2700=I$3,$D2700<0),0)","v":0},0,{"$f":"IF($A2700=K$3,AND($A2700=K$3,$D2700<0),0)","v":0},0,{"$f":"IF($A2700=M$3,AND($A2700=M$3,$D2700<0),0)","v":0},0,{"$f":"IF($A2700=O$3,AND($A2700=O$3,$D2700<0),0)","v":0},0,0,0,0,0,0,0,{"$f":"IF($A2700=W$3,AND($A2700=W$3,$D2700<0),0)","v":0},0,{"$f":"IF($A2700=Y$3,AND($A2700=Y$3,$D2700<0),0)","v":0},0,{"$f":"IF($A2700=AA$3,AND($A2700=AA$3,$D2700<0),0)","v":0},0,{"$f":"IF($A2700=AC$3,AND($A2700=AC$3,$D2700<0),0)","v":0},0,0]
[{"$f":"IF(B2704=0,\"\",MONTH(B2704))","v":""},null,null,null,{"$f":"IF(D2704=\"\",\"\",IF(D2704<0,\"DEBITO\",\"CREDITO\"))","v":""},null,false,false,0,{"$f":"IF($A2704=I$3,AND($A2704=I$3,$D2704<0),0)","v":0},0,{"$f":"IF($A2704=K$3,AND($A2704=K$3,$D2704<0),0)","v":0},0,{"$f":"IF($A2704=M$3,AND($A2704=M$3,$D2704<0),0)","v":0},0,{"$f":"IF($A2704=O$3,AND($A2704=O$3,$D2704<0),0)","v":0},0,0,0,0,0,0,0,{"$f":"IF($A2704=W$3,AND($A2704=W$3,$D2704<0),0)","v":0},0,{"$f":"IF($A2704=Y$3,AND($A2704=Y$3,$D2704<0),0)","v":0},0,{"$f":"IF($A2704=AA$3,AND($A2704=AA$3,$D2704<0),0)","v":0},0,{"$f":"IF($A2704=AC$3,AND($A2704=AC$3,$D2704<0),0)","v":0},0,0]
[{"$f":"IF(B2705=0,\"\",MONTH(B2705))","v":""},null,null,null,{"$f":"IF(D2705=\"\",\"\",IF(D2705<0,\"DEBITO\",\"CREDITO\"))","v":""},null,false,false,0,{"$f":"IF($A2705=I$3,AND($A2705=I$3,$D2705<0),0)","v":0},0,{"$f":"IF($A2705=K$3,AND($A2705=K$3,$D2705<0),0)","v":0},0,{"$f":"IF($A2705=M$3,AND($A2705=M$3,$D2705<0),0)","v":0},0,{"$f":"IF($A2705=O$3,AND($A2705=O$3,$D2705<0),0)","v":0},0,0,0,0,0,0,0,{"$f":"IF($A2705=W$3,AND($A2705=W$3,$D2705<0),0)","v":0},0,{"$f":"IF($A2705=Y$3,AND($A2705=Y$3,$D2705<0),0)","v":0},0,{"$f":"IF($A2705=AA$3,AND($A2705=AA$3,$D2705<0),0)","v":0},0,{"$f":"IF($A2705=AC$3,AND($A2705=AC$3,$D2705<0),0)","v":0},0,0]
[{"$f":"IF(B2708=0,\"\",MONTH(B2708))","v":""},null,null,null,{"$f":"IF(D2708=\"\",\"\",IF(D2708<0,\"DEBITO\",\"CREDITO\"))","v":""},null,false,false,0,{"$f":"IF($A2708=I$3,AND($A2708=I$3,$D2708<0),0)","v":0},0,{"$f":"IF($A2708=K$3,AND($A2708=K$3,$D2708<0),0)","v":0},0,{"$f":"IF($A2708=M$3,AND($A2708=M$3,$D2708<0),0)","v":0},0,{"$f":"IF($A2708=O$3,AND($A2708=O$3,$D2708<0),0)","v":0},0,0,0,0,0,0,0,{"$f":"IF($A2708=W$3,AND($A2708=W$3,$D2708<0),0)","v":0},0,{"$f":"IF($A2708=Y$3,AND($A2708=Y$3,$D2708<0),0)","v":0},0,{"$f":"IF($A2708=AA$3,AND($A2708=AA$3,$D2708<0),0)","v":0},0,{"$f":"IF($A2708=AC$3,AND($A2708=AC$3,$D2708<0),0)","v":0},0,0]
[{"$f":"IF(B2709=0,\"\",MONTH(B2709))","v":""},null,null,null,{"$f":"IF(D2709=\"\",\"\",IF(D2709<0,\"DEBITO\",\"CREDITO\"))","v":""},null,false,false,0,{"$f":"IF($A2709=I$3,AND($A2709=I$3,$D2709<0),0)","v":0},0,{"$f":"IF($A2709=K$3,AND($A2709=K$3,$D2709<0),0)","v":0},0,{"$f":"IF($A2709=M$3,AND($A2709=M$3,$D2709<0),0)","v":0},0,{"$f":"IF($A2709=O$3,AND($A2709=O$3,$D2709<0),0)","v":0},0,0,0,0,0,0,0,{"$f":"IF($A2709=W$3,AND($A2709=W$3,$D2709<0),0)","v":0},0,{"$f":"IF($A2709=Y$3,AND($A2709=Y$3,$D2709<0),0)","v":0},0,{"$f":"IF($A2709=AA$3,AND($A2709=AA$3,$D2709<0),0)","v":0},0,{"$f":"IF($A2709=AC$3,AND($A2709=AC$3,$D2709<0),0)","v":0},0,0]
[{"$f":"IF(B2712=0,\"\",MONTH(B2712))","v":""},null,null,null,{"$f":"IF(D2712=\"\",\"\",IF(D2712<0,\"DEBITO\",\"CREDITO\"))","v":""},null,false,false,0,{"$f":"IF($A2712=I$3,AND($A2712=I$3,$D2712<0),0)","v":0},0,{"$f":"IF($A2712=K$3,AND($A2712=K$3,$D2712<0),0)","v":0},0,{"$f":"IF($A2712=M$3,AND($A2712=M$3,$D2712<0),0)","v":0},0,{"$f":"IF($A2712=O$3,AND($A2712=O$3,$D2712<0),0)","v":0},0,0,0,0,0,0,0,{"$f":"IF($A2712=W$3,AND($A2712=W$3,$D2712<0),0)","v":0},0,{"$f":"IF($A2712=Y$3,AND($A2712=Y$3,$D2712<0),0)","v":0},0,{"$f":"IF($A2712=AA$3,AND($A2712=AA$3,$D2712<0),0)","v":0},0,{"$f":"IF($A2712=AC$3,AND($A2712=AC$3,$D2712<0),0)","v":0},0,0]
[{"$f":"IF(B2713=0,\"\",MONTH(B2713))","v":""},null,null,null,{"$f":"IF(D2713=\"\",\"\",IF(D2713<0,\"DEBITO\",\"CREDITO\"))","v":""},null,false,false,{"$f":"IF($A2713=I$3,AND($A2713=I$3,$D2713>0),0)","v":0},{"$f":"IF($A2713=I$3,AND($A2713=I$3,$D2713<0),0)","v":0},{"$f":"IF($A2713=K$3,AND($A2713=K$3,$D2713>0),0)","v":0},{"$f":"IF($A2713=K$3,AND($A2713=K$3,$D2713<0),0)","v":0},{"$f":"IF($A2713=M$3,AND($A2713=M$3,$D2713>0),0)","v":0},{"$f":"IF($A2713=M$3,AND($A2713=M$3,$D2713<0),0)","v":0},{"$f":"IF($A2713=O$3,AND($A2713=O$3,$D2713>0),0)","v":0},{"$f":"IF($A2713=O$3,AND($A2713=O$3,$D2713<0),0)","v":0},{"$f":"IF($A2713=Q$3,AND($A2713=Q$3,$D2713>0),0)","v":0},0,0,0,0,0,{"$f":"IF($A2713=W$3,AND($A2713=W$3,$D2713>0),0)","v":0},{"$f":"IF($A2713=W$3,AND($A2713=W$3,$D2713<0),0)","v":0},{"$f":"IF($A2713=Y$3,AND($A2713=Y$3,$D2713>0),0)","v":0},{"$f":"IF($A2713=Y$3,AND($A2713=Y$3,$D2713<0),0)","v":0},{"$f":"IF($A2713=AA$3,AND($A2713=AA$3,$D2713>0),0)","v":0},{"$f":"IF($A2713=AA$3,AND($A2713=AA$3,$D2713<0),0)","v":0},{"$f":"IF($A2713=AC$3,AND($A2713=AC$3,$D2713>0),0)","v":0},{"$f":"IF($A2713=AC$3,AND($A2713=AC$3,$D2713<0),0)","v":0},{"$f":"IF($A2713=AE$3,AND($A2713=AE$3,$D2713>0),0)","v":0},0]
[{"$f":"IF(B2716=0,\"\",MONTH(B2716))","v":""},null,null,null,{"$f":"IF(D2716=\"\",\"\",IF(D2716<0,\"DEBITO\",\"CREDITO\"))","v":""},null,false,false,0,{"$f":"IF($A2716=I$3,AND($A2716=I$3,$D2716<0),0)","v":0},0,{"$f":"IF($A2716=K$3,AND($A2716=K$3,$D2716<0),0)","v":0},0,{"$f":"IF($A2716=M$3,AND($A2716=M$3,$D2716<0),0)","v":0},0,{"$f":"IF($A2716=O$3,AND($A2716=O$3,$D2716<0),0)","v":0},0,0,0,0,0,0,0,{"$f":"IF($A2716=W$3,AND($A2716=W$3,$D2716<0),0)","v":0},0,{"$f":"IF($A2716=Y$3,AND($A2716=Y$3,$D2716<0),0)","v":0},0,{"$f":"IF($A2716=AA$3,AND($A2716=AA$3,$D2716<0),0)","v":0},0,{"$f":"IF($A2716=AC$3,AND($A2716=AC$3,$D2716<0),0)","v":0},0,0]
[{"$f":"IF(B2717=0,\"\",MONTH(B2717))","v":""},null,null,null,{"$f":"IF(D2717=\"\",\"\",IF(D2717<0,\"DEBITO\",\"CREDITO\"))","v":""},null,false,false,0,{"$f":"IF($A2717=I$3,AND($A2717=I$3,$D2717<0),0)","v":0},0,{"$f":"IF($A2717=K$3,AND($A2717=K$3,$D2717<0),0)","v":0},0,{"$f":"IF($A2717=M$3,AND($A2717=M$3,$D2717<0),0)","v":0},0,{"$f":"IF($A2717=O$3,AND($A2717=O$3,$D2717<0),0)","v":0},0,0,0,0,0,0,0,{"$f":"IF($A2717=W$3,AND($A2717=W$3,$D2717<0),0)","v":0},0,{"$f":"IF($A2717=Y$3,AND($A2717=Y$3,$D2717<0),0)","v":0},0,{"$f":"IF($A2717=AA$3,AND($A2717=AA$3,$D2717<0),0)","v":0},0,{"$f":"IF($A2717=AC$3,AND($A2717=AC$3,$D2717<0),0)","v":0},0,0]
[{"$f":"IF(B2720=0,\"\",MONTH(B2720))","v":""},null,null,null,{"$f":"IF(D2720=\"\",\"\",IF(D2720<0,\"DEBITO\",\"CREDITO\"))","v":""},null,false,false,0,{"$f":"IF($A2720=I$3,AND($A2720=I$3,$D2720<0),0)","v":0},0,{"$f":"IF($A2720=K$3,AND($A2720=K$3,$D2720<0),0)","v":0},0,{"$f":"IF($A2720=M$3,AND($A2720=M$3,$D2720<0),0)","v":0},0,{"$f":"IF($A2720=O$3,AND($A2720=O$3,$D2720<0),0)","v":0},0,0,0,0,0,0,0,{"$f":"IF($A2720=W$3,AND($A2720=W$3,$D2720<0),0)","v":0},0,{"$f":"IF($A2720=Y$3,AND($A2720=Y$3,$D2720<0),0)","v":0},0,{"$f":"IF($A2720=AA$3,AND($A2720=AA$3,$D2720<0),0)","v":0},0,{"$f":"IF($A2720=AC$3,AND($A2720=AC$3,$D2720<0),0)","v":0},0,0]
[{"$f":"IF(B2721=0,\"\",MONTH(B2721))","v":""},null,null,null,{"$f":"IF(D2721=\"\",\"\",IF(D2721<0,\"DEBITO\",\"CREDITO\"))","v":""},null,false,false,0,{"$f":"IF($A2721=I$3,AND($A2721=I$3,$D2721<0),0)","v":0},0,{"$f":"IF($A2721=K$3,AND($A2721=K$3,$D2721<0),0)","v":0},0,{"$f":"IF($A2721=M$3,AND($A2721=M$3,$D2721<0),0)","v":0},0,{"$f":"IF($A2721=O$3,AND($A2721=O$3,$D2721<0),0)","v":0},0,0,0,0,0,0,0,{"$f":"IF($A2721=W$3,AND($A2721=W$3,$D2721<0),0)","v":0},0,{"$f":"IF($A2721=Y$3,AND($A2721=Y$3,$D2721<0),0)","v":0},0,{"$f":"IF($A2721=AA$3,AND($A2721=AA$3,$D2721<0),0)","v":0},0,{"$f":"IF($A2721=AC$3,AND($A2721=AC$3,$D2721<0),0)","v":0},0,0]
[{"$f":"IF(B2725=0,\"\",MONTH(B2725))","v":""},null,null,null,{"$f":"IF(D2725=\"\",\"\",IF(D2725<0,\"DEBITO\",\"CREDITO\"))","v":""},null,false,false,0,{"$f":"IF($A2725=I$3,AND($A2725=I$3,$D2725<0),0)","v":0},0,{"$f":"IF($A2725=K$3,AND($A2725=K$3,$D2725<0),0)","v":0},0,{"$f":"IF($A2725=M$3,AND($A2725=M$3,$D2725<0),0)","v":0},0,{"$f":"IF($A2725=O$3,AND($A2725=O$3,$D2725<0),0)","v":0},0,0,0,0,0,0,0,{"$f":"IF($A2725=W$3,AND($A2725=W$3,$D2725<0),0)","v":0},0,{"$f":"IF($A2725=Y$3,AND($A2725=Y$3,$D2725<0),0)","v":0},0,{"$f":"IF($A2725=AA$3,AND($A2725=AA$3,$D2725<0),0)","v":0},0,{"$f":"IF($A2725=AC$3,AND($A2725=AC$3,$D2725<0),0)","v":0},0,0]
[{"$f":"IF(B2726=0,\"\",MONTH(B2726))","v":""},null,null,null,{"$f":"IF(D2726=\"\",\"\",IF(D2726<0,\"DEBITO\",\"CREDITO\"))","v":""},null,false,false,0,{"$f":"IF($A2726=I$3,AND($A2726=I$3,$D2726<0),0)","v":0},0,{"$f":"IF($A2726=K$3,AND($A2726=K$3,$D2726<0),0)","v":0},0,{"$f":"IF($A2726=M$3,AND($A2726=M$3,$D2726<0),0)","v":0},0,{"$f":"IF($A2726=O$3,AND($A2726=O$3,$D2726<0),0)","v":0},0,0,0,0,0,0,0,{"$f":"IF($A2726=W$3,AND($A2726=W$3,$D2726<0),0)","v":0},0,{"$f":"IF($A2726=Y$3,AND($A2726=Y$3,$D2726<0),0)","v":0},0,{"$f":"IF($A2726=AA$3,AND($A2726=AA$3,$D2726<0),0)","v":0},0,{"$f":"IF($A2726=AC$3,AND($A2726=AC$3,$D2726<0),0)","v":0},0,0]
[{"$f":"IF(B2729=0,\"\",MONTH(B2729))","v":""},null,null,null,{"$f":"IF(D2729=\"\",\"\",IF(D2729<0,\"DEBITO\",\"CREDITO\"))","v":""},null,false,false,0,{"$f":"IF($A2729=I$3,AND($A2729=I$3,$D2729<0),0)","v":0},0,{"$f":"IF($A2729=K$3,AND($A2729=K$3,$D2729<0),0)","v":0},0,{"$f":"IF($A2729=M$3,AND($A2729=M$3,$D2729<0),0)","v":0},0,{"$f":"IF($A2729=O$3,AND($A2729=O$3,$D2729<0),0)","v":0},0,0,0,0,0,0,0,{"$f":"IF($A2729=W$3,AND($A2729=W$3,$D2729<0),0)","v":0},0,{"$f":"IF($A2729=Y$3,AND($A2729=Y$3,$D2729<0),0)","v":0},0,{"$f":"IF($A2729=AA$3,AND($A2729=AA$3,$D2729<0),0)","v":0},0,{"$f":"IF($A2729=AC$3,AND($A2729=AC$3,$D2729<0),0)","v":0},0,0]
[{"$f":"IF(B2730=0,\"\",MONTH(B2730))","v":""},null,null,null,{"$f":"IF(D2730=\"\",\"\",IF(D2730<0,\"DEBITO\",\"CREDITO\"))","v":""},null,false,false,0,{"$f":"IF($A2730=I$3,AND($A2730=I$3,$D2730<0),0)","v":0},0,{"$f":"IF($A2730=K$3,AND($A2730=K$3,$D2730<0),0)","v":0},0,{"$f":"IF($A2730=M$3,AND($A2730=M$3,$D2730<0),0)","v":0},0,{"$f":"IF($A2730=O$3,AND($A2730=O$3,$D2730<0),0)","v":0},0,0,0,0,0,0,0,{"$f":"IF($A2730=W$3,AND($A2730=W$3,$D2730<0),0)","v":0},0,{"$f":"IF($A2730=Y$3,AND($A2730=Y$3,$D2730<0),0)","v":0},0,{"$f":"IF($A2730=AA$3,AND($A2730=AA$3,$D2730<0),0)","v":0},0,{"$f":"IF($A2730=AC$3,AND($A2730=AC$3,$D2730<0),0)","v":0},0,0]
[{"$f":"IF(B2733=0,\"\",MONTH(B2733))","v":""},null,null,null,{"$f":"IF(D2733=\"\",\"\",IF(D2733<0,\"DEBITO\",\"CREDITO\"))","v":""},null,false,false,0,{"$f":"IF($A2733=I$3,AND($A2733=I$3,$D2733<0),0)","v":0},0,{"$f":"IF($A2733=K$3,AND($A2733=K$3,$D2733<0),0)","v":0},0,{"$f":"IF($A2733=M$3,AND($A2733=M$3,$D2733<0),0)","v":0},0,{"$f":"IF($A2733=O$3,AND($A2733=O$3,$D2733<0),0)","v":0},0,0,0,0,0,0,0,{"$f":"IF($A2733=W$3,AND($A2733=W$3,$D2733<0),0)","v":0},0,{"$f":"IF($A2733=Y$3,AND($A2733=Y$3,$D2733<0),0)","v":0},0,{"$f":"IF($A2733=AA$3,AND($A2733=AA$3,$D2733<0),0)","v":0},0,{"$f":"IF($A2733=AC$3,AND($A2733=AC$3,$D2733<0),0)","v":0},0,0]
[{"$f":"IF(B2734=0,\"\",MONTH(B2734))","v":""},null,null,null,{"$f":"IF(D2734=\"\",\"\",IF(D2734<0,\"DEBITO\",\"CREDITO\"))","v":""},null,false,false,0,{"$f":"IF($A2734=I$3,AND($A2734=I$3,$D2734<0),0)","v":0},0,{"$f":"IF($A2734=K$3,AND($A2734=K$3,$D2734<0),0)","v":0},0,{"$f":"IF($A2734=M$3,AND($A2734=M$3,$D2734<0),0)","v":0},0,{"$f":"IF($A2734=O$3,AND($A2734=O$3,$D2734<0),0)","v":0},0,0,0,0,0,0,0,{"$f":"IF($A2734=W$3,AND($A2734=W$3,$D2734<0),0)","v":0},0,{"$f":"IF($A2734=Y$3,AND($A2734=Y$3,$D2734<0),0)","v":0},0,{"$f":"IF($A2734=AA$3,AND($A2734=AA$3,$D2734<0),0)","v":0},0,{"$f":"IF($A2734=AC$3,AND($A2734=AC$3,$D2734<0),0)","v":0},0,0]
[{"$f":"IF(B2737=0,\"\",MONTH(B2737))","v":""},null,null,null,{"$f":"IF(D2737=\"\",\"\",IF(D2737<0,\"DEBITO\",\"CREDITO\"))","v":""},null,false,false,0,{"$f":"IF($A2737=I$3,AND($A2737=I$3,$D2737<0),0)","v":0},0,{"$f":"IF($A2737=K$3,AND($A2737=K$3,$D2737<0),0)","v":0},0,{"$f":"IF($A2737=M$3,AND($A2737=M$3,$D2737<0),0)","v":0},0,{"$f":"IF($A2737=O$3,AND($A2737=O$3,$D2737<0),0)","v":0},0,0,0,0,0,0,0,{"$f":"IF($A2737=W$3,AND($A2737=W$3,$D2737<0),0)","v":0},0,{"$f":"IF($A2737=Y$3,AND($A2737=Y$3,$D2737<0),0)","v":0},0,{"$f":"IF($A2737=AA$3,AND($A2737=AA$3,$D2737<0),0)","v":0},0,{"$f":"IF($A2737=AC$3,AND($A2737=AC$3,$D2737<0),0)","v":0},0,0]
[{"$f":"IF(B2738=0,\"\",MONTH(B2738))","v":""},null,null,null,{"$f":"IF(D2738=\"\",\"\",IF(D2738<0,\"DEBITO\",\"CREDITO\"))","v":""},null,false,false,0,{"$f":"IF($A2738=I$3,AND($A2738=I$3,$D2738<0),0)","v":0},0,{"$f":"IF($A2738=K$3,AND($A2738=K$3,$D2738<0),0)","v":0},0,{"$f":"IF($A2738=M$3,AND($A2738=M$3,$D2738<0),0)","v":0},0,{"$f":"IF($A2738=O$3,AND($A2738=O$3,$D2738<0),0)","v":0},0,0,0,0,0,0,0,{"$f":"IF($A2738=W$3,AND($A2738=W$3,$D2738<0),0)","v":0},0,{"$f":"IF($A2738=Y$3,AND($A2738=Y$3,$D2738<0),0)","v":0},0,{"$f":"IF($A2738=AA$3,AND($A2738=AA$3,$D2738<0),0)","v":0},0,{"$f":"IF($A2738=AC$3,AND($A2738=AC$3,$D2738<0),0)","v":0},0,0]
[{"$f":"IF(B2741=0,\"\",MONTH(B2741))","v":""},null,null,null,{"$f":"IF(D2741=\"\",\"\",IF(D2741<0,\"DEBITO\",\"CREDITO\"))","v":""},null,false,false,0,{"$f":"IF($A2741=I$3,AND($A2741=I$3,$D2741<0),0)","v":0},0,{"$f":"IF($A2741=K$3,AND($A2741=K$3,$D2741<0),0)","v":0},0,{"$f":"IF($A2741=M$3,AND($A2741=M$3,$D2741<0),0)","v":0},0,{"$f":"IF($A2741=O$3,AND($A2741=O$3,$D2741<0),0)","v":0},0,0,0,0,0,0,0,{"$f":"IF($A2741=W$3,AND($A2741=W$3,$D2741<0),0)","v":0},0,{"$f":"IF($A2741=Y$3,AND($A2741=Y$3,$D2741<0),0)","v":0},0,{"$f":"IF($A2741=AA$3,AND($A2741=AA$3,$D2741<0),0)","v":0},0,{"$f":"IF($A2741=AC$3,AND($A2741=AC$3,$D2741<0),0)","v":0},0,0]
[{"$f":"IF(B2742=0,\"\",MONTH(B2742))","v":""},null,null,null,{"$f":"IF(D2742=\"\",\"\",IF(D2742<0,\"DEBITO\",\"CREDITO\"))","v":""},null,false,false,0,{"$f":"IF($A2742=I$3,AND($A2742=I$3,$D2742<0),0)","v":0},0,{"$f":"IF($A2742=K$3,AND($A2742=K$3,$D2742<0),0)","v":0},0,{"$f":"IF($A2742=M$3,AND($A2742=M$3,$D2742<0),0)","v":0},0,{"$f":"IF($A2742=O$3,AND($A2742=O$3,$D2742<0),0)","v":0},0,0,0,0,0,0,0,{"$f":"IF($A2742=W$3,AND($A2742=W$3,$D2742<0),0)","v":0},0,{"$f":"IF($A2742=Y$3,AND($A2742=Y$3,$D2742<0),0)","v":0},0,{"$f":"IF($A2742=AA$3,AND($A2742=AA$3,$D2742<0),0)","v":0},0,{"$f":"IF($A2742=AC$3,AND($A2742=AC$3,$D2742<0),0)","v":0},0,0]
[{"$f":"IF(B2745=0,\"\",MONTH(B2745))","v":""},null,null,null,{"$f":"IF(D2745=\"\",\"\",IF(D2745<0,\"DEBITO\",\"CREDITO\"))","v":""},null,false,false,0,{"$f":"IF($A2745=I$3,AND($A2745=I$3,$D2745<0),0)","v":0},0,{"$f":"IF($A2745=K$3,AND($A2745=K$3,$D2745<0),0)","v":0},0,{"$f":"IF($A2745=M$3,AND($A2745=M$3,$D2745<0),0)","v":0},0,{"$f":"IF($A2745=O$3,AND($A2745=O$3,$D2745<0),0)","v":0},0,0,0,0,0,0,0,{"$f":"IF($A2745=W$3,AND($A2745=W$3,$D2745<0),0)","v":0},0,{"$f":"IF($A2745=Y$3,AND($A2745=Y$3,$D2745<0),0)","v":0},0,{"$f":"IF($A2745=AA$3,AND($A2745=AA$3,$D2745<0),0)","v":0},0,{"$f":"IF($A2745=AC$3,AND($A2745=AC$3,$D2745<0),0)","v":0},0,0]
[{"$f":"IF(B2747=0,\"\",MONTH(B2747))","v":""},null,null,null,{"$f":"IF(D2747=\"\",\"\",IF(D2747<0,\"DEBITO\",\"CREDITO\"))","v":""},null,false,false,0,{"$f":"IF($A2747=I$3,AND($A2747=I$3,$D2747<0),0)","v":0},0,{"$f":"IF($A2747=K$3,AND($A2747=K$3,$D2747<0),0)","v":0},0,{"$f":"IF($A2747=M$3,AND($A2747=M$3,$D2747<0),0)","v":0},0,{"$f":"IF($A2747=O$3,AND($A2747=O$3,$D2747<0),0)","v":0},0,0,0,0,0,0,0,{"$f":"IF($A2747=W$3,AND($A2747=W$3,$D2747<0),0)","v":0},0,{"$f":"IF($A2747=Y$3,AND($A2747=Y$3,$D2747<0),0)","v":0},0,{"$f":"IF($A2747=AA$3,AND($A2747=AA$3,$D2747<0),0)","v":0},0,{"$f":"IF($A2747=AC$3,AND($A2747=AC$3,$D2747<0),0)","v":0},0,0]
[{"$f":"IF(B2750=0,\"\",MONTH(B2750))","v":""},null,null,null,{"$f":"IF(D2750=\"\",\"\",IF(D2750<0,\"DEBITO\",\"CREDITO\"))","v":""},null,false,false,0,{"$f":"IF($A2750=I$3,AND($A2750=I$3,$D2750<0),0)","v":0},0,{"$f":"IF($A2750=K$3,AND($A2750=K$3,$D2750<0),0)","v":0},0,{"$f":"IF($A2750=M$3,AND($A2750=M$3,$D2750<0),0)","v":0},0,{"$f":"IF($A2750=O$3,AND($A2750=O$3,$D2750<0),0)","v":0},0,0,0,0,0,0,0,{"$f":"IF($A2750=W$3,AND($A2750=W$3,$D2750<0),0)","v":0},0,{"$f":"IF($A2750=Y$3,AND($A2750=Y$3,$D2750<0),0)","v":0},0,{"$f":"IF($A2750=AA$3,AND($A2750=AA$3,$D2750<0),0)","v":0},0,{"$f":"IF($A2750=AC$3,AND($A2750=AC$3,$D2750<0),0)","v":0},0,0]
[{"$f":"IF(B2751=0,\"\",MONTH(B2751))","v":""},null,null,null,{"$f":"IF(D2751=\"\",\"\",IF(D2751<0,\"DEBITO\",\"CREDITO\"))","v":""},null,false,false,0,{"$f":"IF($A2751=I$3,AND($A2751=I$3,$D2751<0),0)","v":0},0,{"$f":"IF($A2751=K$3,AND($A2751=K$3,$D2751<0),0)","v":0},0,{"$f":"IF($A2751=M$3,AND($A2751=M$3,$D2751<0),0)","v":0},0,{"$f":"IF($A2751=O$3,AND($A2751=O$3,$D2751<0),0)","v":0},0,0,0,0,0,0,0,{"$f":"IF($A2751=W$3,AND($A2751=W$3,$D2751<0),0)","v":0},0,{"$f":"IF($A2751=Y$3,AND($A2751=Y$3,$D2751<0),0)","v":0},0,{"$f":"IF($A2751=AA$3,AND($A2751=AA$3,$D2751<0),0)","v":0},0,{"$f":"IF($A2751=AC$3,AND($A2751=AC$3,$D2751<0),0)","v":0},0,0]
[{"$f":"IF(B2754=0,\"\",MONTH(B2754))","v":""},null,null,null,{"$f":"IF(D2754=\"\",\"\",IF(D2754<0,\"DEBITO\",\"CREDITO\"))","v":""},null,false,false,0,{"$f":"IF($A2754=I$3,AND($A2754=I$3,$D2754<0),0)","v":0},0,{"$f":"IF($A2754=K$3,AND($A2754=K$3,$D2754<0),0)","v":0},0,{"$f":"IF($A2754=M$3,AND($A2754=M$3,$D2754<0),0)","v":0},0,{"$f":"IF($A2754=O$3,AND($A2754=O$3,$D2754<0),0)","v":0},0,0,0,0,0,0,0,{"$f":"IF($A2754=W$3,AND($A2754=W$3,$D2754<0),0)","v":0},0,{"$f":"IF($A2754=Y$3,AND($A2754=Y$3,$D2754<0),0)","v":0},0,{"$f":"IF($A2754=AA$3,AND($A2754=AA$3,$D2754<0),0)","v":0},0,{"$f":"IF($A2754=AC$3,AND($A2754=AC$3,$D2754<0),0)","v":0},0,0]
[{"$f":"IF(B2755=0,\"\",MONTH(B2755))","v":""},null,null,null,{"$f":"IF(D2755=\"\",\"\",IF(D2755<0,\"DEBITO\",\"CREDITO\"))","v":""},null,false,false,0,{"$f":"IF($A2755=I$3,AND($A2755=I$3,$D2755<0),0)","v":0},0,{"$f":"IF($A2755=K$3,AND($A2755=K$3,$D2755<0),0)","v":0},0,{"$f":"IF($A2755=M$3,AND($A2755=M$3,$D2755<0),0)","v":0},0,{"$f":"IF($A2755=O$3,AND($A2755=O$3,$D2755<0),0)","v":0},0,0,0,0,0,0,0,{"$f":"IF($A2755=W$3,AND($A2755=W$3,$D2755<0),0)","v":0},0,{"$f":"IF($A2755=Y$3,AND($A2755=Y$3,$D2755<0),0)","v":0},0,{"$f":"IF($A2755=AA$3,AND($A2755=AA$3,$D2755<0),0)","v":0},0,{"$f":"IF($A2755=AC$3,AND($A2755=AC$3,$D2755<0),0)","v":0},0,0]
[{"$f":"IF(B2758=0,\"\",MONTH(B2758))","v":""},null,null,null,{"$f":"IF(D2758=\"\",\"\",IF(D2758<0,\"DEBITO\",\"CREDITO\"))","v":""},null,false,false,0,{"$f":"IF($A2758=I$3,AND($A2758=I$3,$D2758<0),0)","v":0},0,{"$f":"IF($A2758=K$3,AND($A2758=K$3,$D2758<0),0)","v":0},0,{"$f":"IF($A2758=M$3,AND($A2758=M$3,$D2758<0),0)","v":0},0,{"$f":"IF($A2758=O$3,AND($A2758=O$3,$D2758<0),0)","v":0},0,0,0,0,0,0,0,{"$f":"IF($A2758=W$3,AND($A2758=W$3,$D2758<0),0)","v":0},0,{"$f":"IF($A2758=Y$3,AND($A2758=Y$3,$D2758<0),0)","v":0},0,{"$f":"IF($A2758=AA$3,AND($A2758=AA$3,$D2758<0),0)","v":0},0,{"$f":"IF($A2758=AC$3,AND($A2758=AC$3,$D2758<0),0)","v":0},0,0]
[{"$f":"IF(B2759=0,\"\",MONTH(B2759))","v":""},null,null,null,{"$f":"IF(D2759=\"\",\"\",IF(D2759<0,\"DEBITO\",\"CREDITO\"))","v":""},null,false,false,0,{"$f":"IF($A2759=I$3,AND($A2759=I$3,$D2759<0),0)","v":0},0,{"$f":"IF($A2759=K$3,AND($A2759=K$3,$D2759<0),0)","v":0},0,{"$f":"IF($A2759=M$3,AND($A2759=M$3,$D2759<0),0)","v":0},0,{"$f":"IF($A2759=O$3,AND($A2759=O$3,$D2759<0),0)","v":0},0,0,0,0,0,0,0,{"$f":"IF($A2759=W$3,AND($A2759=W$3,$D2759<0),0)","v":0},0,{"$f":"IF($A2759=Y$3,AND($A2759=Y$3,$D2759<0),0)","v":0},0,{"$f":"IF($A2759=AA$3,AND($A2759=AA$3,$D2759<0),0)","v":0},0,{"$f":"IF($A2759=AC$3,AND($A2759=AC$3,$D2759<0),0)","v":0},0,0]
[{"$f":"IF(B2762=0,\"\",MONTH(B2762))","v":""},null,null,null,{"$f":"IF(D2762=\"\",\"\",IF(D2762<0,\"DEBITO\",\"CREDITO\"))","v":""},null,false,false,0,{"$f":"IF($A2762=I$3,AND($A2762=I$3,$D2762<0),0)","v":0},0,{"$f":"IF($A2762=K$3,AND($A2762=K$3,$D2762<0),0)","v":0},0,{"$f":"IF($A2762=M$3,AND($A2762=M$3,$D2762<0),0)","v":0},0,{"$f":"IF($A2762=O$3,AND($A2762=O$3,$D2762<0),0)","v":0},0,0,{"$f":"IF($A2762=S$3,AND($A2762=S$3,$D2762>0),0)","v":0},{"$f":"IF($A2762=S$3,AND($A2762=S$3,$D2762<0),0)","v":0},{"$f":"IF($A2762=U$3,AND($A2762=U$3,$D2762>0),0)","v":0},{"$f":"IF($A2762=U$3,AND($A2762=U$3,$D2762<0),0)","v":0},0,{"$f":"IF($A2762=W$3,AND($A2762=W$3,$D2762<0),0)","v":0},0,{"$f":"IF($A2762=Y$3,AND($A2762=Y$3,$D2762<0),0)","v":0},0,{"$f":"IF($A2762=AA$3,AND($A2762=AA$3,$D2762<0),0)","v":0},0,{"$f":"IF($A2762=AC$3,AND($A2762=AC$3,$D2762<0),0)","v":0},0,0]
[{"$f":"IF(B2763=0,\"\",MONTH(B2763))","v":""},null,null,null,{"$f":"IF(D2763=\"\",\"\",IF(D2763<0,\"DEBITO\",\"CREDITO\"))","v":""},null,false,false,0,{"$f":"IF($A2763=I$3,AND($A2763=I$3,$D2763<0),0)","v":0},0,{"$f":"IF($A2763=K$3,AND($A2763=K$3,$D2763<0),0)","v":0},0,{"$f":"IF($A2763=M$3,AND($A2763=M$3,$D2763<0),0)","v":0},0,{"$f":"IF($A2763=O$3,AND($A2763=O$3,$D2763<0),0)","v":0},0,0,0,0,0,0,0,{"$f":"IF($A2763=W$3,AND($A2763=W$3,$D2763<0),0)","v":0},0,{"$f":"IF($A2763=Y$3,AND($A2763=Y$3,$D2763<0),0)","v":0},0,{"$f":"IF($A2763=AA$3,AND($A2763=AA$3,$D2763<0),0)","v":0},0,{"$f":"IF($A2763=AC$3,AND($A2763=AC$3,$D2763<0),0)","v":0},0,0]
[{"$f":"IF(B2766=0,\"\",MONTH(B2766))","v":""},null,null,null,{"$f":"IF(D2766=\"\",\"\",IF(D2766<0,\"DEBITO\",\"CREDITO\"))","v":""},null,false,false,0,{"$f":"IF($A2766=I$3,AND($A2766=I$3,$D2766<0),0)","v":0},0,{"$f":"IF($A2766=K$3,AND($A2766=K$3,$D2766<0),0)","v":0},0,{"$f":"IF($A2766=M$3,AND($A2766=M$3,$D2766<0),0)","v":0},0,{"$f":"IF($A2766=O$3,AND($A2766=O$3,$D2766<0),0)","v":0},0,0,0,0,0,0,0,{"$f":"IF($A2766=W$3,AND($A2766=W$3,$D2766<0),0)","v":0},0,{"$f":"IF($A2766=Y$3,AND($A2766=Y$3,$D2766<0),0)","v":0},0,{"$f":"IF($A2766=AA$3,AND($A2766=AA$3,$D2766<0),0)","v":0},0,{"$f":"IF($A2766=AC$3,AND($A2766=AC$3,$D2766<0),0)","v":0},0,0]
[{"$f":"IF(B2768=0,\"\",MONTH(B2768))","v":""},null,null,null,{"$f":"IF(D2768=\"\",\"\",IF(D2768<0,\"DEBITO\",\"CREDITO\"))","v":""},null,false,false,0,{"$f":"IF($A2768=I$3,AND($A2768=I$3,$D2768<0),0)","v":0},0,{"$f":"IF($A2768=K$3,AND($A2768=K$3,$D2768<0),0)","v":0},0,{"$f":"IF($A2768=M$3,AND($A2768=M$3,$D2768<0),0)","v":0},0,{"$f":"IF($A2768=O$3,AND($A2768=O$3,$D2768<0),0)","v":0},0,0,0,0,0,0,0,{"$f":"IF($A2768=W$3,AND($A2768=W$3,$D2768<0),0)","v":0},0,{"$f":"IF($A2768=Y$3,AND($A2768=Y$3,$D2768<0),0)","v":0},0,{"$f":"IF($A2768=AA$3,AND($A2768=AA$3,$D2768<0),0)","v":0},0,{"$f":"IF($A2768=AC$3,AND($A2768=AC$3,$D2768<0),0)","v":0},0,0]
[{"$f":"IF(B2771=0,\"\",MONTH(B2771))","v":""},null,null,null,{"$f":"IF(D2771=\"\",\"\",IF(D2771<0,\"DEBITO\",\"CREDITO\"))","v":""},null,false,false,0,{"$f":"IF($A2771=I$3,AND($A2771=I$3,$D2771<0),0)","v":0},0,{"$f":"IF($A2771=K$3,AND($A2771=K$3,$D2771<0),0)","v":0},0,{"$f":"IF($A2771=M$3,AND($A2771=M$3,$D2771<0),0)","v":0},0,{"$f":"IF($A2771=O$3,AND($A2771=O$3,$D2771<0),0)","v":0},0,0,0,0,0,0,0,{"$f":"IF($A2771=W$3,AND($A2771=W$3,$D2771<0),0)","v":0},0,{"$f":"IF($A2771=Y$3,AND($A2771=Y$3,$D2771<0),0)","v":0},0,{"$f":"IF($A2771=AA$3,AND($A2771=AA$3,$D2771<0),0)","v":0},0,{"$f":"IF($A2771=AC$3,AND($A2771=AC$3,$D2771<0),0)","v":0},0,0]
[{"$f":"IF(B2772=0,\"\",MONTH(B2772))","v":""},null,null,null,{"$f":"IF(D2772=\"\",\"\",IF(D2772<0,\"DEBITO\",\"CREDITO\"))","v":""},null,false,false,0,{"$f":"IF($A2772=I$3,AND($A2772=I$3,$D2772<0),0)","v":0},0,{"$f":"IF($A2772=K$3,AND($A2772=K$3,$D2772<0),0)","v":0},0,{"$f":"IF($A2772=M$3,AND($A2772=M$3,$D2772<0),0)","v":0},0,{"$f":"IF($A2772=O$3,AND($A2772=O$3,$D2772<0),0)","v":0},0,0,0,0,0,0,0,{"$f":"IF($A2772=W$3,AND($A2772=W$3,$D2772<0),0)","v":0},0,{"$f":"IF($A2772=Y$3,AND($A2772=Y$3,$D2772<0),0)","v":0},0,{"$f":"IF($A2772=AA$3,AND($A2772=AA$3,$D2772<0),0)","v":0},0,{"$f":"IF($A2772=AC$3,AND($A2772=AC$3,$D2772<0),0)","v":0},0,0]
[{"$f":"IF(B2775=0,\"\",MONTH(B2775))","v":""},null,null,null,{"$f":"IF(D2775=\"\",\"\",IF(D2775<0,\"DEBITO\",\"CREDITO\"))","v":""},null,false,false,0,{"$f":"IF($A2775=I$3,AND($A2775=I$3,$D2775<0),0)","v":0},0,{"$f":"IF($A2775=K$3,AND($A2775=K$3,$D2775<0),0)","v":0},0,{"$f":"IF($A2775=M$3,AND($A2775=M$3,$D2775<0),0)","v":0},0,{"$f":"IF($A2775=O$3,AND($A2775=O$3,$D2775<0),0)","v":0},0,0,0,0,0,0,0,{"$f":"IF($A2775=W$3,AND($A2775=W$3,$D2775<0),0)","v":0},0,{"$f":"IF($A2775=Y$3,AND($A2775=Y$3,$D2775<0),0)","v":0},0,{"$f":"IF($A2775=AA$3,AND($A2775=AA$3,$D2775<0),0)","v":0},0,{"$f":"IF($A2775=AC$3,AND($A2775=AC$3,$D2775<0),0)","v":0},0,0]
[{"$f":"IF(B2776=0,\"\",MONTH(B2776))","v":""},null,null,null,{"$f":"IF(D2776=\"\",\"\",IF(D2776<0,\"DEBITO\",\"CREDITO\"))","v":""},null,false,false,0,{"$f":"IF($A2776=I$3,AND($A2776=I$3,$D2776<0),0)","v":0},0,{"$f":"IF($A2776=K$3,AND($A2776=K$3,$D2776<0),0)","v":0},0,{"$f":"IF($A2776=M$3,AND($A2776=M$3,$D2776<0),0)","v":0},0,{"$f":"IF($A2776=O$3,AND($A2776=O$3,$D2776<0),0)","v":0},0,0,0,0,0,0,0,{"$f":"IF($A2776=W$3,AND($A2776=W$3,$D2776<0),0)","v":0},0,{"$f":"IF($A2776=Y$3,AND($A2776=Y$3,$D2776<0),0)","v":0},0,{"$f":"IF($A2776=AA$3,AND($A2776=AA$3,$D2776<0),0)","v":0},0,{"$f":"IF($A2776=AC$3,AND($A2776=AC$3,$D2776<0),0)","v":0},0,0]
[{"$f":"IF(B2779=0,\"\",MONTH(B2779))","v":""},null,null,null,{"$f":"IF(D2779=\"\",\"\",IF(D2779<0,\"DEBITO\",\"CREDITO\"))","v":""},null,false,false,0,{"$f":"IF($A2779=I$3,AND($A2779=I$3,$D2779<0),0)","v":0},0,{"$f":"IF($A2779=K$3,AND($A2779=K$3,$D2779<0),0)","v":0},0,{"$f":"IF($A2779=M$3,AND($A2779=M$3,$D2779<0),0)","v":0},0,{"$f":"IF($A2779=O$3,AND($A2779=O$3,$D2779<0),0)","v":0},0,0,0,0,0,0,0,{"$f":"IF($A2779=W$3,AND($A2779=W$3,$D2779<0),0)","v":0},0,{"$f":"IF($A2779=Y$3,AND($A2779=Y$3,$D2779<0),0)","v":0},0,{"$f":"IF($A2779=AA$3,AND($A2779=AA$3,$D2779<0),0)","v":0},0,{"$f":"IF($A2779=AC$3,AND($A2779=AC$3,$D2779<0),0)","v":0},0,0]
[{"$f":"IF(B2780=0,\"\",MONTH(B2780))","v":""},null,null,null,{"$f":"IF(D2780=\"\",\"\",IF(D2780<0,\"DEBITO\",\"CREDITO\"))","v":""},null,false,false,0,{"$f":"IF($A2780=I$3,AND($A2780=I$3,$D2780<0),0)","v":0},0,{"$f":"IF($A2780=K$3,AND($A2780=K$3,$D2780<0),0)","v":0},0,{"$f":"IF($A2780=M$3,AND($A2780=M$3,$D2780<0),0)","v":0},0,{"$f":"IF($A2780=O$3,AND($A2780=O$3,$D2780<0),0)","v":0},0,0,0,0,0,0,0,{"$f":"IF($A2780=W$3,AND($A2780=W$3,$D2780<0),0)","v":0},0,{"$f":"IF($A2780=Y$3,AND($A2780=Y$3,$D2780<0),0)","v":0},0,{"$f":"IF($A2780=AA$3,AND($A2780=AA$3,$D2780<0),0)","v":0},0,{"$f":"IF($A2780=AC$3,AND($A2780=AC$3,$D2780<0),0)","v":0},0,0]
[{"$f":"IF(B2783=0,\"\",MONTH(B2783))","v":""},null,null,null,{"$f":"IF(D2783=\"\",\"\",IF(D2783<0,\"DEBITO\",\"CREDITO\"))","v":""},null,false,false,0,{"$f":"IF($A2783=I$3,AND($A2783=I$3,$D2783<0),0)","v":0},0,{"$f":"IF($A2783=K$3,AND($A2783=K$3,$D2783<0),0)","v":0},0,{"$f":"IF($A2783=M$3,AND($A2783=M$3,$D2783<0),0)","v":0},0,{"$f":"IF($A2783=O$3,AND($A2783=O$3,$D2783<0),0)","v":0},0,0,0,0,0,0,0,{"$f":"IF($A2783=W$3,AND($A2783=W$3,$D2783<0),0)","v":0},0,{"$f":"IF($A2783=Y$3,AND($A2783=Y$3,$D2783<0),0)","v":0},0,{"$f":"IF($A2783=AA$3,AND($A2783=AA$3,$D2783<0),0)","v":0},0,{"$f":"IF($A2783=AC$3,AND($A2783=AC$3,$D2783<0),0)","v":0},0,0]
[{"$f":"IF(B2784=0,\"\",MONTH(B2784))","v":""},null,null,null,{"$f":"IF(D2784=\"\",\"\",IF(D2784<0,\"DEBITO\",\"CREDITO\"))","v":""},null,false,false,0,{"$f":"IF($A2784=I$3,AND($A2784=I$3,$D2784<0),0)","v":0},0,{"$f":"IF($A2784=K$3,AND($A2784=K$3,$D2784<0),0)","v":0},0,{"$f":"IF($A2784=M$3,AND($A2784=M$3,$D2784<0),0)","v":0},0,{"$f":"IF($A2784=O$3,AND($A2784=O$3,$D2784<0),0)","v":0},0,0,0,0,0,0,0,{"$f":"IF($A2784=W$3,AND($A2784=W$3,$D2784<0),0)","v":0},0,{"$f":"IF($A2784=Y$3,AND($A2784=Y$3,$D2784<0),0)","v":0},0,{"$f":"IF($A2784=AA$3,AND($A2784=AA$3,$D2784<0),0)","v":0},0,{"$f":"IF($A2784=AC$3,AND($A2784=AC$3,$D2784<0),0)","v":0},0,0]
[{"$f":"IF(B2787=0,\"\",MONTH(B2787))","v":""},null,null,null,{"$f":"IF(D2787=\"\",\"\",IF(D2787<0,\"DEBITO\",\"CREDITO\"))","v":""},null,false,false,0,{"$f":"IF($A2787=I$3,AND($A2787=I$3,$D2787<0),0)","v":0},0,{"$f":"IF($A2787=K$3,AND($A2787=K$3,$D2787<0),0)","v":0},0,{"$f":"IF($A2787=M$3,AND($A2787=M$3,$D2787<0),0)","v":0},0,{"$f":"IF($A2787=O$3,AND($A2787=O$3,$D2787<0),0)","v":0},0,0,0,0,0,0,0,{"$f":"IF($A2787=W$3,AND($A2787=W$3,$D2787<0),0)","v":0},0,{"$f":"IF($A2787=Y$3,AND($A2787=Y$3,$D2787<0),0)","v":0},0,{"$f":"IF($A2787=AA$3,AND($A2787=AA$3,$D2787<0),0)","v":0},0,{"$f":"IF($A2787=AC$3,AND($A2787=AC$3,$D2787<0),0)","v":0},0,0]
[{"$f":"IF(B2788=0,\"\",MONTH(B2788))","v":""},null,null,null,{"$f":"IF(D2788=\"\",\"\",IF(D2788<0,\"DEBITO\",\"CREDITO\"))","v":""},null,false,false,0,{"$f":"IF($A2788=I$3,AND($A2788=I$3,$D2788<0),0)","v":0},0,{"$f":"IF($A2788=K$3,AND($A2788=K$3,$D2788<0),0)","v":0},0,{"$f":"IF($A2788=M$3,AND($A2788=M$3,$D2788<0),0)","v":0},0,{"$f":"IF($A2788=O$3,AND($A2788=O$3,$D2788<0),0)","v":0},0,0,0,0,0,0,0,{"$f":"IF($A2788=W$3,AND($A2788=W$3,$D2788<0),0)","v":0},0,{"$f":"IF($A2788=Y$3,AND($A2788=Y$3,$D2788<0),0)","v":0},0,{"$f":"IF($A2788=AA$3,AND($A2788=AA$3,$D2788<0),0)","v":0},0,{"$f":"IF($A2788=AC$3,AND($A2788=AC$3,$D2788<0),0)","v":0},0,0]
[{"$f":"IF(B2790=0,\"\",MONTH(B2790))","v":""},null,null,null,{"$f":"IF(D2790=\"\",\"\",IF(D2790<0,\"DEBITO\",\"CREDITO\"))","v":""},null,false,false,0,{"$f":"IF($A2790=I$3,AND($A2790=I$3,$D2790<0),0)","v":0},0,{"$f":"IF($A2790=K$3,AND($A2790=K$3,$D2790<0),0)","v":0},0,{"$f":"IF($A2790=M$3,AND($A2790=M$3,$D2790<0),0)","v":0},0,{"$f":"IF($A2790=O$3,AND($A2790=O$3,$D2790<0),0)","v":0},0,0,0,0,0,0,0,{"$f":"IF($A2790=W$3,AND($A2790=W$3,$D2790<0),0)","v":0},0,{"$f":"IF($A2790=Y$3,AND($A2790=Y$3,$D2790<0),0)","v":0},0,{"$f":"IF($A2790=AA$3,AND($A2790=AA$3,$D2790<0),0)","v":0},0,{"$f":"IF($A2790=AC$3,AND($A2790=AC$3,$D2790<0),0)","v":0},0,0]
[{"$f":"IF(B2793=0,\"\",MONTH(B2793))","v":""},null,null,null,{"$f":"IF(D2793=\"\",\"\",IF(D2793<0,\"DEBITO\",\"CREDITO\"))","v":""},null,false,false,0,{"$f":"IF($A2793=I$3,AND($A2793=I$3,$D2793<0),0)","v":0},0,{"$f":"IF($A2793=K$3,AND($A2793=K$3,$D2793<0),0)","v":0},0,{"$f":"IF($A2793=M$3,AND($A2793=M$3,$D2793<0),0)","v":0},0,{"$f":"IF($A2793=O$3,AND($A2793=O$3,$D2793<0),0)","v":0},0,0,0,0,0,0,0,{"$f":"IF($A2793=W$3,AND($A2793=W$3,$D2793<0),0)","v":0},0,{"$f":"IF($A2793=Y$3,AND($A2793=Y$3,$D2793<0),0)","v":0},0,{"$f":"IF($A2793=AA$3,AND($A2793=AA$3,$D2793<0),0)","v":0},0,{"$f":"IF($A2793=AC$3,AND($A2793=AC$3,$D2793<0),0)","v":0},0,0]
[{"$f":"IF(B2796=0,\"\",MONTH(B2796))","v":""},null,null,null,{"$f":"IF(D2796=\"\",\"\",IF(D2796<0,\"DEBITO\",\"CREDITO\"))","v":""},null,false,false,0,{"$f":"IF($A2796=I$3,AND($A2796=I$3,$D2796<0),0)","v":0},0,{"$f":"IF($A2796=K$3,AND($A2796=K$3,$D2796<0),0)","v":0},0,{"$f":"IF($A2796=M$3,AND($A2796=M$3,$D2796<0),0)","v":0},0,{"$f":"IF($A2796=O$3,AND($A2796=O$3,$D2796<0),0)","v":0},0,0,0,0,0,0,0,{"$f":"IF($A2796=W$3,AND($A2796=W$3,$D2796<0),0)","v":0},0,{"$f":"IF($A2796=Y$3,AND($A2796=Y$3,$D2796<0),0)","v":0},0,{"$f":"IF($A2796=AA$3,AND($A2796=AA$3,$D2796<0),0)","v":0},0,{"$f":"IF($A2796=AC$3,AND($A2796=AC$3,$D2796<0),0)","v":0},0,0]
[{"$f":"IF(B2797=0,\"\",MONTH(B2797))","v":""},null,null,null,{"$f":"IF(D2797=\"\",\"\",IF(D2797<0,\"DEBITO\",\"CREDITO\"))","v":""},null,false,false,0,{"$f":"IF($A2797=I$3,AND($A2797=I$3,$D2797<0),0)","v":0},0,{"$f":"IF($A2797=K$3,AND($A2797=K$3,$D2797<0),0)","v":0},0,{"$f":"IF($A2797=M$3,AND($A2797=M$3,$D2797<0),0)","v":0},0,{"$f":"IF($A2797=O$3,AND($A2797=O$3,$D2797<0),0)","v":0},0,0,0,0,0,0,0,{"$f":"IF($A2797=W$3,AND($A2797=W$3,$D2797<0),0)","v":0},0,{"$f":"IF($A2797=Y$3,AND($A2797=Y$3,$D2797<0),0)","v":0},0,{"$f":"IF($A2797=AA$3,AND($A2797=AA$3,$D2797<0),0)","v":0},0,{"$f":"IF($A2797=AC$3,AND($A2797=AC$3,$D2797<0),0)","v":0},0,0]
[{"$f":"IF(B2800=0,\"\",MONTH(B2800))","v":""},null,null,null,{"$f":"IF(D2800=\"\",\"\",IF(D2800<0,\"DEBITO\",\"CREDITO\"))","v":""},null,false,false,0,{"$f":"IF($A2800=I$3,AND($A2800=I$3,$D2800<0),0)","v":0},0,{"$f":"IF($A2800=K$3,AND($A2800=K$3,$D2800<0),0)","v":0},0,{"$f":"IF($A2800=M$3,AND($A2800=M$3,$D2800<0),0)","v":0},0,{"$f":"IF($A2800=O$3,AND($A2800=O$3,$D2800<0),0)","v":0},0,0,0,0,0,0,0,{"$f":"IF($A2800=W$3,AND($A2800=W$3,$D2800<0),0)","v":0},0,{"$f":"IF($A2800=Y$3,AND($A2800=Y$3,$D2800<0),0)","v":0},0,{"$f":"IF($A2800=AA$3,AND($A2800=AA$3,$D2800<0),0)","v":0},0,{"$f":"IF($A2800=AC$3,AND($A2800=AC$3,$D2800<0),0)","v":0},0,0]
[{"$f":"IF(B2801=0,\"\",MONTH(B2801))","v":""},null,null,null,{"$f":"IF(D2801=\"\",\"\",IF(D2801<0,\"DEBITO\",\"CREDITO\"))","v":""},null,false,false,0,{"$f":"IF($A2801=I$3,AND($A2801=I$3,$D2801<0),0)","v":0},0,{"$f":"IF($A2801=K$3,AND($A2801=K$3,$D2801<0),0)","v":0},0,{"$f":"IF($A2801=M$3,AND($A2801=M$3,$D2801<0),0)","v":0},0,{"$f":"IF($A2801=O$3,AND($A2801=O$3,$D2801<0),0)","v":0},0,0,0,0,0,0,0,{"$f":"IF($A2801=W$3,AND($A2801=W$3,$D2801<0),0)","v":0},0,{"$f":"IF($A2801=Y$3,AND($A2801=Y$3,$D2801<0),0)","v":0},0,{"$f":"IF($A2801=AA$3,AND($A2801=AA$3,$D2801<0),0)","v":0},0,{"$f":"IF($A2801=AC$3,AND($A2801=AC$3,$D2801<0),0)","v":0},0,0]
[{"$f":"IF(B2804=0,\"\",MONTH(B2804))","v":""},null,null,null,{"$f":"IF(D2804=\"\",\"\",IF(D2804<0,\"DEBITO\",\"CREDITO\"))","v":""},null,false,false,0,{"$f":"IF($A2804=I$3,AND($A2804=I$3,$D2804<0),0)","v":0},0,{"$f":"IF($A2804=K$3,AND($A2804=K$3,$D2804<0),0)","v":0},0,{"$f":"IF($A2804=M$3,AND($A2804=M$3,$D2804<0),0)","v":0},0,{"$f":"IF($A2804=O$3,AND($A2804=O$3,$D2804<0),0)","v":0},0,0,0,0,0,0,0,{"$f":"IF($A2804=W$3,AND($A2804=W$3,$D2804<0),0)","v":0},0,{"$f":"IF($A2804=Y$3,AND($A2804=Y$3,$D2804<0),0)","v":0},0,{"$f":"IF($A2804=AA$3,AND($A2804=AA$3,$D2804<0),0)","v":0},0,{"$f":"IF($A2804=AC$3,AND($A2804=AC$3,$D2804<0),0)","v":0},0,0]
[{"$f":"IF(B2805=0,\"\",MONTH(B2805))","v":""},null,null,null,{"$f":"IF(D2805=\"\",\"\",IF(D2805<0,\"DEBITO\",\"CREDITO\"))","v":""},null,false,false,0,{"$f":"IF($A2805=I$3,AND($A2805=I$3,$D2805<0),0)","v":0},0,{"$f":"IF($A2805=K$3,AND($A2805=K$3,$D2805<0),0)","v":0},0,{"$f":"IF($A2805=M$3,AND($A2805=M$3,$D2805<0),0)","v":0},0,{"$f":"IF($A2805=O$3,AND($A2805=O$3,$D2805<0),0)","v":0},0,0,0,0,0,0,0,{"$f":"IF($A2805=W$3,AND($A2805=W$3,$D2805<0),0)","v":0},0,{"$f":"IF($A2805=Y$3,AND($A2805=Y$3,$D2805<0),0)","v":0},0,{"$f":"IF($A2805=AA$3,AND($A2805=AA$3,$D2805<0),0)","v":0},0,{"$f":"IF($A2805=AC$3,AND($A2805=AC$3,$D2805<0),0)","v":0},0,0]
[{"$f":"IF(B2808=0,\"\",MONTH(B2808))","v":""},null,null,null,{"$f":"IF(D2808=\"\",\"\",IF(D2808<0,\"DEBITO\",\"CREDITO\"))","v":""},null,false,false,0,{"$f":"IF($A2808=I$3,AND($A2808=I$3,$D2808<0),0)","v":0},0,{"$f":"IF($A2808=K$3,AND($A2808=K$3,$D2808<0),0)","v":0},0,{"$f":"IF($A2808=M$3,AND($A2808=M$3,$D2808<0),0)","v":0},0,{"$f":"IF($A2808=O$3,AND($A2808=O$3,$D2808<0),0)","v":0},0,0,0,0,0,0,0,{"$f":"IF($A2808=W$3,AND($A2808=W$3,$D2808<0),0)","v":0},0,{"$f":"IF($A2808=Y$3,AND($A2808=Y$3,$D2808<0),0)","v":0},0,{"$f":"IF($A2808=AA$3,AND($A2808=AA$3,$D2808<0),0)","v":0},0,{"$f":"IF($A2808=AC$3,AND($A2808=AC$3,$D2808<0),0)","v":0},0,0]
[{"$f":"IF(B2809=0,\"\",MONTH(B2809))","v":""},null,null,null,{"$f":"IF(D2809=\"\",\"\",IF(D2809<0,\"DEBITO\",\"CREDITO\"))","v":""},null,false,false,0,{"$f":"IF($A2809=I$3,AND($A2809=I$3,$D2809<0),0)","v":0},0,{"$f":"IF($A2809=K$3,AND($A2809=K$3,$D2809<0),0)","v":0},0,{"$f":"IF($A2809=M$3,AND($A2809=M$3,$D2809<0),0)","v":0},0,{"$f":"IF($A2809=O$3,AND($A2809=O$3,$D2809<0),0)","v":0},0,0,0,0,0,0,0,{"$f":"IF($A2809=W$3,AND($A2809=W$3,$D2809<0),0)","v":0},0,{"$f":"IF($A2809=Y$3,AND($A2809=Y$3,$D2809<0),0)","v":0},0,{"$f":"IF($A2809=AA$3,AND($A2809=AA$3,$D2809<0),0)","v":0},0,{"$f":"IF($A2809=AC$3,AND($A2809=AC$3,$D2809<0),0)","v":0},0,0]
[{"$f":"IF(B2812=0,\"\",MONTH(B2812))","v":""},null,null,null,{"$f":"IF(D2812=\"\",\"\",IF(D2812<0,\"DEBITO\",\"CREDITO\"))","v":""},null,false,false,0,{"$f":"IF($A2812=I$3,AND($A2812=I$3,$D2812<0),0)","v":0},0,{"$f":"IF($A2812=K$3,AND($A2812=K$3,$D2812<0),0)","v":0},0,{"$f":"IF($A2812=M$3,AND($A2812=M$3,$D2812<0),0)","v":0},0,{"$f":"IF($A2812=O$3,AND($A2812=O$3,$D2812<0),0)","v":0},0,0,0,0,0,0,0,{"$f":"IF($A2812=W$3,AND($A2812=W$3,$D2812<0),0)","v":0},0,{"$f":"IF($A2812=Y$3,AND($A2812=Y$3,$D2812<0),0)","v":0},0,{"$f":"IF($A2812=AA$3,AND($A2812=AA$3,$D2812<0),0)","v":0},0,{"$f":"IF($A2812=AC$3,AND($A2812=AC$3,$D2812<0),0)","v":0},0,0]
[{"$f":"IF(B2814=0,\"\",MONTH(B2814))","v":""},null,null,null,{"$f":"IF(D2814=\"\",\"\",IF(D2814<0,\"DEBITO\",\"CREDITO\"))","v":""},null,false,false,0,{"$f":"IF($A2814=I$3,AND($A2814=I$3,$D2814<0),0)","v":0},0,{"$f":"IF($A2814=K$3,AND($A2814=K$3,$D2814<0),0)","v":0},0,{"$f":"IF($A2814=M$3,AND($A2814=M$3,$D2814<0),0)","v":0},0,{"$f":"IF($A2814=O$3,AND($A2814=O$3,$D2814<0),0)","v":0},0,0,0,0,0,0,0,{"$f":"IF($A2814=W$3,AND($A2814=W$3,$D2814<0),0)","v":0},0,{"$f":"IF($A2814=Y$3,AND($A2814=Y$3,$D2814<0),0)","v":0},0,{"$f":"IF($A2814=AA$3,AND($A2814=AA$3,$D2814<0),0)","v":0},0,{"$f":"IF($A2814=AC$3,AND($A2814=AC$3,$D2814<0),0)","v":0},0,0]
[{"$f":"IF(B2817=0,\"\",MONTH(B2817))","v":""},null,null,null,{"$f":"IF(D2817=\"\",\"\",IF(D2817<0,\"DEBITO\",\"CREDITO\"))","v":""},null,false,false,0,{"$f":"IF($A2817=I$3,AND($A2817=I$3,$D2817<0),0)","v":0},0,{"$f":"IF($A2817=K$3,AND($A2817=K$3,$D2817<0),0)","v":0},0,{"$f":"IF($A2817=M$3,AND($A2817=M$3,$D2817<0),0)","v":0},0,{"$f":"IF($A2817=O$3,AND($A2817=O$3,$D2817<0),0)","v":0},0,0,0,0,0,0,0,{"$f":"IF($A2817=W$3,AND($A2817=W$3,$D2817<0),0)","v":0},0,{"$f":"IF($A2817=Y$3,AND($A2817=Y$3,$D2817<0),0)","v":0},0,{"$f":"IF($A2817=AA$3,AND($A2817=AA$3,$D2817<0),0)","v":0},0,{"$f":"IF($A2817=AC$3,AND($A2817=AC$3,$D2817<0),0)","v":0},0,0]
[{"$f":"IF(B2818=0,\"\",MONTH(B2818))","v":""},null,null,null,{"$f":"IF(D2818=\"\",\"\",IF(D2818<0,\"DEBITO\",\"CREDITO\"))","v":""},null,false,false,0,{"$f":"IF($A2818=I$3,AND($A2818=I$3,$D2818<0),0)","v":0},0,{"$f":"IF($A2818=K$3,AND($A2818=K$3,$D2818<0),0)","v":0},0,{"$f":"IF($A2818=M$3,AND($A2818=M$3,$D2818<0),0)","v":0},0,{"$f":"IF($A2818=O$3,AND($A2818=O$3,$D2818<0),0)","v":0},0,0,0,0,0,0,0,{"$f":"IF($A2818=W$3,AND($A2818=W$3,$D2818<0),0)","v":0},0,{"$f":"IF($A2818=Y$3,AND($A2818=Y$3,$D2818<0),0)","v":0},0,{"$f":"IF($A2818=AA$3,AND($A2818=AA$3,$D2818<0),0)","v":0},0,{"$f":"IF($A2818=AC$3,AND($A2818=AC$3,$D2818<0),0)","v":0},0,0]
[{"$f":"IF(B2821=0,\"\",MONTH(B2821))","v":""},null,null,null,{"$f":"IF(D2821=\"\",\"\",IF(D2821<0,\"DEBITO\",\"CREDITO\"))","v":""},null,false,false,0,{"$f":"IF($A2821=I$3,AND($A2821=I$3,$D2821<0),0)","v":0},0,{"$f":"IF($A2821=K$3,AND($A2821=K$3,$D2821<0),0)","v":0},0,{"$f":"IF($A2821=M$3,AND($A2821=M$3,$D2821<0),0)","v":0},0,{"$f":"IF($A2821=O$3,AND($A2821=O$3,$D2821<0),0)","v":0},0,0,0,0,0,0,0,{"$f":"IF($A2821=W$3,AND($A2821=W$3,$D2821<0),0)","v":0},0,{"$f":"IF($A2821=Y$3,AND($A2821=Y$3,$D2821<0),0)","v":0},0,{"$f":"IF($A2821=AA$3,AND($A2821=AA$3,$D2821<0),0)","v":0},0,{"$f":"IF($A2821=AC$3,AND($A2821=AC$3,$D2821<0),0)","v":0},0,0]
[{"$f":"IF(B2822=0,\"\",MONTH(B2822))","v":""},null,null,null,{"$f":"IF(D2822=\"\",\"\",IF(D2822<0,\"DEBITO\",\"CREDITO\"))","v":""},null,false,false,0,{"$f":"IF($A2822=I$3,AND($A2822=I$3,$D2822<0),0)","v":0},0,{"$f":"IF($A2822=K$3,AND($A2822=K$3,$D2822<0),0)","v":0},0,{"$f":"IF($A2822=M$3,AND($A2822=M$3,$D2822<0),0)","v":0},0,{"$f":"IF($A2822=O$3,AND($A2822=O$3,$D2822<0),0)","v":0},0,0,0,0,0,0,0,{"$f":"IF($A2822=W$3,AND($A2822=W$3,$D2822<0),0)","v":0},0,{"$f":"IF($A2822=Y$3,AND($A2822=Y$3,$D2822<0),0)","v":0},0,{"$f":"IF($A2822=AA$3,AND($A2822=AA$3,$D2822<0),0)","v":0},0,{"$f":"IF($A2822=AC$3,AND($A2822=AC$3,$D2822<0),0)","v":0},0,0]
[{"$f":"IF(B2825=0,\"\",MONTH(B2825))","v":""},null,null,null,{"$f":"IF(D2825=\"\",\"\",IF(D2825<0,\"DEBITO\",\"CREDITO\"))","v":""},null,{"$f":"AND(A2825=$E$3,D2825>0)","v":false},{"$f":"AND(A2825=$E$3,D2825<0)","v":false},0,{"$f":"IF($A2825=I$3,AND($A2825=I$3,$D2825<0),0)","v":0},0,{"$f":"IF($A2825=K$3,AND($A2825=K$3,$D2825<0),0)","v":0},0,{"$f":"IF($A2825=M$3,AND($A2825=M$3,$D2825<0),0)","v":0},0,{"$f":"IF($A2825=O$3,AND($A2825=O$3,$D2825<0),0)","v":0},0,{"$f":"IF($A2825=Q$3,AND($A2825=Q$3,$D2825<0),0)","v":0},0,0,0,0,0,{"$f":"IF($A2825=W$3,AND($A2825=W$3,$D2825<0),0)","v":0},0,{"$f":"IF($A2825=Y$3,AND($A2825=Y$3,$D2825<0),0)","v":0},0,{"$f":"IF($A2825=AA$3,AND($A2825=AA$3,$D2825<0),0)","v":0},0,{"$f":"IF($A2825=AC$3,AND($A2825=AC$3,$D2825<0),0)","v":0},0,{"$f":"IF($A2825=AE$3,AND($A2825=AE$3,$D2825<0),0)","v":0}]
[{"$f":"IF(B2826=0,\"\",MONTH(B2826))","v":""},null,null,null,{"$f":"IF(D2826=\"\",\"\",IF(D2826<0,\"DEBITO\",\"CREDITO\"))","v":""},null,false,false,0,{"$f":"IF($A2826=I$3,AND($A2826=I$3,$D2826<0),0)","v":0},0,{"$f":"IF($A2826=K$3,AND($A2826=K$3,$D2826<0),0)","v":0},0,{"$f":"IF($A2826=M$3,AND($A2826=M$3,$D2826<0),0)","v":0},0,{"$f":"IF($A2826=O$3,AND($A2826=O$3,$D2826<0),0)","v":0},0,0,{"$f":"IF($A2826=S$3,AND($A2826=S$3,$D2826>0),0)","v":0},{"$f":"IF($A2826=S$3,AND($A2826=S$3,$D2826<0),0)","v":0},{"$f":"IF($A2826=U$3,AND($A2826=U$3,$D2826>0),0)","v":0},{"$f":"IF($A2826=U$3,AND($A2826=U$3,$D2826<0),0)","v":0},0,{"$f":"IF($A2826=W$3,AND($A2826=W$3,$D2826<0),0)","v":0},0,{"$f":"IF($A2826=Y$3,AND($A2826=Y$3,$D2826<0),0)","v":0},0,{"$f":"IF($A2826=AA$3,AND($A2826=AA$3,$D2826<0),0)","v":0},0,{"$f":"IF($A2826=AC$3,AND($A2826=AC$3,$D2826<0),0)","v":0},0,0]
[{"$f":"IF(B2829=0,\"\",MONTH(B2829))","v":""},null,null,null,{"$f":"IF(D2829=\"\",\"\",IF(D2829<0,\"DEBITO\",\"CREDITO\"))","v":""},null,false,false,0,{"$f":"IF($A2829=I$3,AND($A2829=I$3,$D2829<0),0)","v":0},0,{"$f":"IF($A2829=K$3,AND($A2829=K$3,$D2829<0),0)","v":0},0,{"$f":"IF($A2829=M$3,AND($A2829=M$3,$D2829<0),0)","v":0},0,{"$f":"IF($A2829=O$3,AND($A2829=O$3,$D2829<0),0)","v":0},0,0,0,0,0,0,0,{"$f":"IF($A2829=W$3,AND($A2829=W$3,$D2829<0),0)","v":0},0,{"$f":"IF($A2829=Y$3,AND($A2829=Y$3,$D2829<0),0)","v":0},0,{"$f":"IF($A2829=AA$3,AND($A2829=AA$3,$D2829<0),0)","v":0},0,{"$f":"IF($A2829=AC$3,AND($A2829=AC$3,$D2829<0),0)","v":0},0,0]
[{"$f":"IF(B2830=0,\"\",MONTH(B2830))","v":""},null,null,null,{"$f":"IF(D2830=\"\",\"\",IF(D2830<0,\"DEBITO\",\"CREDITO\"))","v":""},null,false,false,0,{"$f":"IF($A2830=I$3,AND($A2830=I$3,$D2830<0),0)","v":0},0,{"$f":"IF($A2830=K$3,AND($A2830=K$3,$D2830<0),0)","v":0},0,{"$f":"IF($A2830=M$3,AND($A2830=M$3,$D2830<0),0)","v":0},0,{"$f":"IF($A2830=O$3,AND($A2830=O$3,$D2830<0),0)","v":0},0,0,0,0,0,0,0,{"$f":"IF($A2830=W$3,AND($A2830=W$3,$D2830<0),0)","v":0},0,{"$f":"IF($A2830=Y$3,AND($A2830=Y$3,$D2830<0),0)","v":0},0,{"$f":"IF($A2830=AA$3,AND($A2830=AA$3,$D2830<0),0)","v":0},0,{"$f":"IF($A2830=AC$3,AND($A2830=AC$3,$D2830<0),0)","v":0},0,0]
[{"$f":"IF(B2833=0,\"\",MONTH(B2833))","v":""},null,null,null,{"$f":"IF(D2833=\"\",\"\",IF(D2833<0,\"DEBITO\",\"CREDITO\"))","v":""},null,false,false,0,{"$f":"IF($A2833=I$3,AND($A2833=I$3,$D2833<0),0)","v":0},0,{"$f":"IF($A2833=K$3,AND($A2833=K$3,$D2833<0),0)","v":0},0,{"$f":"IF($A2833=M$3,AND($A2833=M$3,$D2833<0),0)","v":0},0,{"$f":"IF($A2833=O$3,AND($A2833=O$3,$D2833<0),0)","v":0},0,0,0,0,0,0,0,{"$f":"IF($A2833=W$3,AND($A2833=W$3,$D2833<0),0)","v":0},0,{"$f":"IF($A2833=Y$3,AND($A2833=Y$3,$D2833<0),0)","v":0},0,{"$f":"IF($A2833=AA$3,AND($A2833=AA$3,$D2833<0),0)","v":0},0,{"$f":"IF($A2833=AC$3,AND($A2833=AC$3,$D2833<0),0)","v":0},0,0]
[{"$f":"IF(B2835=0,\"\",MONTH(B2835))","v":""},null,null,null,{"$f":"IF(D2835=\"\",\"\",IF(D2835<0,\"DEBITO\",\"CREDITO\"))","v":""},null,false,false,0,{"$f":"IF($A2835=I$3,AND($A2835=I$3,$D2835<0),0)","v":0},0,{"$f":"IF($A2835=K$3,AND($A2835=K$3,$D2835<0),0)","v":0},0,{"$f":"IF($A2835=M$3,AND($A2835=M$3,$D2835<0),0)","v":0},0,{"$f":"IF($A2835=O$3,AND($A2835=O$3,$D2835<0),0)","v":0},0,0,0,0,0,0,0,{"$f":"IF($A2835=W$3,AND($A2835=W$3,$D2835<0),0)","v":0},0,{"$f":"IF($A2835=Y$3,AND($A2835=Y$3,$D2835<0),0)","v":0},0,{"$f":"IF($A2835=AA$3,AND($A2835=AA$3,$D2835<0),0)","v":0},0,{"$f":"IF($A2835=AC$3,AND($A2835=AC$3,$D2835<0),0)","v":0},0,0]
[{"$f":"IF(B2838=0,\"\",MONTH(B2838))","v":""},null,null,null,{"$f":"IF(D2838=\"\",\"\",IF(D2838<0,\"DEBITO\",\"CREDITO\"))","v":""},null,false,false,0,{"$f":"IF($A2838=I$3,AND($A2838=I$3,$D2838<0),0)","v":0},0,{"$f":"IF($A2838=K$3,AND($A2838=K$3,$D2838<0),0)","v":0},0,{"$f":"IF($A2838=M$3,AND($A2838=M$3,$D2838<0),0)","v":0},0,{"$f":"IF($A2838=O$3,AND($A2838=O$3,$D2838<0),0)","v":0},0,0,0,0,0,0,0,{"$f":"IF($A2838=W$3,AND($A2838=W$3,$D2838<0),0)","v":0},0,{"$f":"IF($A2838=Y$3,AND($A2838=Y$3,$D2838<0),0)","v":0},0,{"$f":"IF($A2838=AA$3,AND($A2838=AA$3,$D2838<0),0)","v":0},0,{"$f":"IF($A2838=AC$3,AND($A2838=AC$3,$D2838<0),0)","v":0},0,0]
[{"$f":"IF(B2839=0,\"\",MONTH(B2839))","v":""},null,null,null,{"$f":"IF(D2839=\"\",\"\",IF(D2839<0,\"DEBITO\",\"CREDITO\"))","v":""},null,false,false,0,{"$f":"IF($A2839=I$3,AND($A2839=I$3,$D2839<0),0)","v":0},0,{"$f":"IF($A2839=K$3,AND($A2839=K$3,$D2839<0),0)","v":0},0,{"$f":"IF($A2839=M$3,AND($A2839=M$3,$D2839<0),0)","v":0},0,{"$f":"IF($A2839=O$3,AND($A2839=O$3,$D2839<0),0)","v":0},0,0,0,0,0,0,0,{"$f":"IF($A2839=W$3,AND($A2839=W$3,$D2839<0),0)","v":0},0,{"$f":"IF($A2839=Y$3,AND($A2839=Y$3,$D2839<0),0)","v":0},0,{"$f":"IF($A2839=AA$3,AND($A2839=AA$3,$D2839<0),0)","v":0},0,{"$f":"IF($A2839=AC$3,AND($A2839=AC$3,$D2839<0),0)","v":0},0,0]
[{"$f":"IF(B2842=0,\"\",MONTH(B2842))","v":""},null,null,null,{"$f":"IF(D2842=\"\",\"\",IF(D2842<0,\"DEBITO\",\"CREDITO\"))","v":""},null,false,false,0,{"$f":"IF($A2842=I$3,AND($A2842=I$3,$D2842<0),0)","v":0},0,{"$f":"IF($A2842=K$3,AND($A2842=K$3,$D2842<0),0)","v":0},0,{"$f":"IF($A2842=M$3,AND($A2842=M$3,$D2842<0),0)","v":0},0,{"$f":"IF($A2842=O$3,AND($A2842=O$3,$D2842<0),0)","v":0},0,0,0,0,0,0,0,{"$f":"IF($A2842=W$3,AND($A2842=W$3,$D2842<0),0)","v":0},0,{"$f":"IF($A2842=Y$3,AND($A2842=Y$3,$D2842<0),0)","v":0},0,{"$f":"IF($A2842=AA$3,AND($A2842=AA$3,$D2842<0),0)","v":0},0,{"$f":"IF($A2842=AC$3,AND($A2842=AC$3,$D2842<0),0)","v":0},0,0]
[{"$f":"IF(B2843=0,\"\",MONTH(B2843))","v":""},null,null,null,{"$f":"IF(D2843=\"\",\"\",IF(D2843<0,\"DEBITO\",\"CREDITO\"))","v":""},null,false,false,0,{"$f":"IF($A2843=I$3,AND($A2843=I$3,$D2843<0),0)","v":0},0,{"$f":"IF($A2843=K$3,AND($A2843=K$3,$D2843<0),0)","v":0},0,{"$f":"IF($A2843=M$3,AND($A2843=M$3,$D2843<0),0)","v":0},0,{"$f":"IF($A2843=O$3,AND($A2843=O$3,$D2843<0),0)","v":0},0,0,0,0,0,0,0,{"$f":"IF($A2843=W$3,AND($A2843=W$3,$D2843<0),0)","v":0},0,{"$f":"IF($A2843=Y$3,AND($A2843=Y$3,$D2843<0),0)","v":0},0,{"$f":"IF($A2843=AA$3,AND($A2843=AA$3,$D2843<0),0)","v":0},0,{"$f":"IF($A2843=AC$3,AND($A2843=AC$3,$D2843<0),0)","v":0},0,0]
[{"$f":"IF(B2846=0,\"\",MONTH(B2846))","v":""},null,null,null,{"$f":"IF(D2846=\"\",\"\",IF(D2846<0,\"DEBITO\",\"CREDITO\"))","v":""},null,false,false,0,{"$f":"IF($A2846=I$3,AND($A2846=I$3,$D2846<0),0)","v":0},0,{"$f":"IF($A2846=K$3,AND($A2846=K$3,$D2846<0),0)","v":0},0,{"$f":"IF($A2846=M$3,AND($A2846=M$3,$D2846<0),0)","v":0},0,{"$f":"IF($A2846=O$3,AND($A2846=O$3,$D2846<0),0)","v":0},0,0,0,0,0,0,0,{"$f":"IF($A2846=W$3,AND($A2846=W$3,$D2846<0),0)","v":0},0,{"$f":"IF($A2846=Y$3,AND($A2846=Y$3,$D2846<0),0)","v":0},0,{"$f":"IF($A2846=AA$3,AND($A2846=AA$3,$D2846<0),0)","v":0},0,{"$f":"IF($A2846=AC$3,AND($A2846=AC$3,$D2846<0),0)","v":0},0,0]
[{"$f":"IF(B2847=0,\"\",MONTH(B2847))","v":""},null,null,null,{"$f":"IF(D2847=\"\",\"\",IF(D2847<0,\"DEBITO\",\"CREDITO\"))","v":""},null,false,false,0,{"$f":"IF($A2847=I$3,AND($A2847=I$3,$D2847<0),0)","v":0},0,{"$f":"IF($A2847=K$3,AND($A2847=K$3,$D2847<0),0)","v":0},0,{"$f":"IF($A2847=M$3,AND($A2847=M$3,$D2847<0),0)","v":0},0,{"$f":"IF($A2847=O$3,AND($A2847=O$3,$D2847<0),0)","v":0},0,0,0,0,0,0,0,{"$f":"IF($A2847=W$3,AND($A2847=W$3,$D2847<0),0)","v":0},0,{"$f":"IF($A2847=Y$3,AND($A2847=Y$3,$D2847<0),0)","v":0},0,{"$f":"IF($A2847=AA$3,AND($A2847=AA$3,$D2847<0),0)","v":0},0,{"$f":"IF($A2847=AC$3,AND($A2847=AC$3,$D2847<0),0)","v":0},0,0]
[{"$f":"IF(B2850=0,\"\",MONTH(B2850))","v":""},null,null,null,{"$f":"IF(D2850=\"\",\"\",IF(D2850<0,\"DEBITO\",\"CREDITO\"))","v":""},null,false,false,0,{"$f":"IF($A2850=I$3,AND($A2850=I$3,$D2850<0),0)","v":0},0,{"$f":"IF($A2850=K$3,AND($A2850=K$3,$D2850<0),0)","v":0},0,{"$f":"IF($A2850=M$3,AND($A2850=M$3,$D2850<0),0)","v":0},0,{"$f":"IF($A2850=O$3,AND($A2850=O$3,$D2850<0),0)","v":0},0,0,0,0,0,0,0,{"$f":"IF($A2850=W$3,AND($A2850=W$3,$D2850<0),0)","v":0},0,{"$f":"IF($A2850=Y$3,AND($A2850=Y$3,$D2850<0),0)","v":0},0,{"$f":"IF($A2850=AA$3,AND($A2850=AA$3,$D2850<0),0)","v":0},0,{"$f":"IF($A2850=AC$3,AND($A2850=AC$3,$D2850<0),0)","v":0},0,0]
[{"$f":"IF(B2851=0,\"\",MONTH(B2851))","v":""},null,null,null,{"$f":"IF(D2851=\"\",\"\",IF(D2851<0,\"DEBITO\",\"CREDITO\"))","v":""},null,false,false,0,{"$f":"IF($A2851=I$3,AND($A2851=I$3,$D2851<0),0)","v":0},0,{"$f":"IF($A2851=K$3,AND($A2851=K$3,$D2851<0),0)","v":0},0,{"$f":"IF($A2851=M$3,AND($A2851=M$3,$D2851<0),0)","v":0},0,{"$f":"IF($A2851=O$3,AND($A2851=O$3,$D2851<0),0)","v":0},0,0,0,0,0,0,0,{"$f":"IF($A2851=W$3,AND($A2851=W$3,$D2851<0),0)","v":0},0,{"$f":"IF($A2851=Y$3,AND($A2851=Y$3,$D2851<0),0)","v":0},0,{"$f":"IF($A2851=AA$3,AND($A2851=AA$3,$D2851<0),0)","v":0},0,{"$f":"IF($A2851=AC$3,AND($A2851=AC$3,$D2851<0),0)","v":0},0,0]
[{"$f":"IF(B2854=0,\"\",MONTH(B2854))","v":""},null,null,null,{"$f":"IF(D2854=\"\",\"\",IF(D2854<0,\"DEBITO\",\"CREDITO\"))","v":""},null,false,false,0,{"$f":"IF($A2854=I$3,AND($A2854=I$3,$D2854<0),0)","v":0},0,{"$f":"IF($A2854=K$3,AND($A2854=K$3,$D2854<0),0)","v":0},0,{"$f":"IF($A2854=M$3,AND($A2854=M$3,$D2854<0),0)","v":0},0,{"$f":"IF($A2854=O$3,AND($A2854=O$3,$D2854<0),0)","v":0},0,0,0,0,0,0,0,{"$f":"IF($A2854=W$3,AND($A2854=W$3,$D2854<0),0)","v":0},0,{"$f":"IF($A2854=Y$3,AND($A2854=Y$3,$D2854<0),0)","v":0},0,{"$f":"IF($A2854=AA$3,AND($A2854=AA$3,$D2854<0),0)","v":0},0,{"$f":"IF($A2854=AC$3,AND($A2854=AC$3,$D2854<0),0)","v":0},0,0]
[{"$f":"IF(B2855=0,\"\",MONTH(B2855))","v":""},null,null,null,{"$f":"IF(D2855=\"\",\"\",IF(D2855<0,\"DEBITO\",\"CREDITO\"))","v":""},null,false,false,0,{"$f":"IF($A2855=I$3,AND($A2855=I$3,$D2855<0),0)","v":0},0,{"$f":"IF($A2855=K$3,AND($A2855=K$3,$D2855<0),0)","v":0},0,{"$f":"IF($A2855=M$3,AND($A2855=M$3,$D2855<0),0)","v":0},0,{"$f":"IF($A2855=O$3,AND($A2855=O$3,$D2855<0),0)","v":0},0,0,0,0,0,0,0,{"$f":"IF($A2855=W$3,AND($A2855=W$3,$D2855<0),0)","v":0},0,{"$f":"IF($A2855=Y$3,AND($A2855=Y$3,$D2855<0),0)","v":0},0,{"$f":"IF($A2855=AA$3,AND($A2855=AA$3,$D2855<0),0)","v":0},0,{"$f":"IF($A2855=AC$3,AND($A2855=AC$3,$D2855<0),0)","v":0},0,0]
[{"$f":"IF(B2859=0,\"\",MONTH(B2859))","v":""},null,null,null,{"$f":"IF(D2859=\"\",\"\",IF(D2859<0,\"DEBITO\",\"CREDITO\"))","v":""},null,false,false,0,{"$f":"IF($A2859=I$3,AND($A2859=I$3,$D2859<0),0)","v":0},0,{"$f":"IF($A2859=K$3,AND($A2859=K$3,$D2859<0),0)","v":0},0,{"$f":"IF($A2859=M$3,AND($A2859=M$3,$D2859<0),0)","v":0},0,{"$f":"IF($A2859=O$3,AND($A2859=O$3,$D2859<0),0)","v":0},0,0,0,0,0,0,0,{"$f":"IF($A2859=W$3,AND($A2859=W$3,$D2859<0),0)","v":0},0,{"$f":"IF($A2859=Y$3,AND($A2859=Y$3,$D2859<0),0)","v":0},0,{"$f":"IF($A2859=AA$3,AND($A2859=AA$3,$D2859<0),0)","v":0},0,{"$f":"IF($A2859=AC$3,AND($A2859=AC$3,$D2859<0),0)","v":0},0,0]
[{"$f":"IF(B2860=0,\"\",MONTH(B2860))","v":""},null,null,null,{"$f":"IF(D2860=\"\",\"\",IF(D2860<0,\"DEBITO\",\"CREDITO\"))","v":""},null,false,false,0,{"$f":"IF($A2860=I$3,AND($A2860=I$3,$D2860<0),0)","v":0},0,{"$f":"IF($A2860=K$3,AND($A2860=K$3,$D2860<0),0)","v":0},0,{"$f":"IF($A2860=M$3,AND($A2860=M$3,$D2860<0),0)","v":0},0,{"$f":"IF($A2860=O$3,AND($A2860=O$3,$D2860<0),0)","v":0},0,0,0,0,0,0,0,{"$f":"IF($A2860=W$3,AND($A2860=W$3,$D2860<0),0)","v":0},0,{"$f":"IF($A2860=Y$3,AND($A2860=Y$3,$D2860<0),0)","v":0},0,{"$f":"IF($A2860=AA$3,AND($A2860=AA$3,$D2860<0),0)","v":0},0,{"$f":"IF($A2860=AC$3,AND($A2860=AC$3,$D2860<0),0)","v":0},0,0]
[{"$f":"IF(B2863=0,\"\",MONTH(B2863))","v":""},null,null,null,{"$f":"IF(D2863=\"\",\"\",IF(D2863<0,\"DEBITO\",\"CREDITO\"))","v":""},null,false,false,0,{"$f":"IF($A2863=I$3,AND($A2863=I$3,$D2863<0),0)","v":0},0,{"$f":"IF($A2863=K$3,AND($A2863=K$3,$D2863<0),0)","v":0},0,{"$f":"IF($A2863=M$3,AND($A2863=M$3,$D2863<0),0)","v":0},0,{"$f":"IF($A2863=O$3,AND($A2863=O$3,$D2863<0),0)","v":0},0,0,0,0,0,0,0,{"$f":"IF($A2863=W$3,AND($A2863=W$3,$D2863<0),0)","v":0},0,{"$f":"IF($A2863=Y$3,AND($A2863=Y$3,$D2863<0),0)","v":0},0,{"$f":"IF($A2863=AA$3,AND($A2863=AA$3,$D2863<0),0)","v":0},0,{"$f":"IF($A2863=AC$3,AND($A2863=AC$3,$D2863<0),0)","v":0},0,0]
[{"$f":"IF(B2864=0,\"\",MONTH(B2864))","v":""},null,null,null,{"$f":"IF(D2864=\"\",\"\",IF(D2864<0,\"DEBITO\",\"CREDITO\"))","v":""},null,false,false,0,{"$f":"IF($A2864=I$3,AND($A2864=I$3,$D2864<0),0)","v":0},0,{"$f":"IF($A2864=K$3,AND($A2864=K$3,$D2864<0),0)","v":0},0,{"$f":"IF($A2864=M$3,AND($A2864=M$3,$D2864<0),0)","v":0},0,{"$f":"IF($A2864=O$3,AND($A2864=O$3,$D2864<0),0)","v":0},0,0,0,0,0,0,0,{"$f":"IF($A2864=W$3,AND($A2864=W$3,$D2864<0),0)","v":0},0,{"$f":"IF($A2864=Y$3,AND($A2864=Y$3,$D2864<0),0)","v":0},0,{"$f":"IF($A2864=AA$3,AND($A2864=AA$3,$D2864<0),0)","v":0},0,{"$f":"IF($A2864=AC$3,AND($A2864=AC$3,$D2864<0),0)","v":0},0,0]
[{"$f":"IF(B2867=0,\"\",MONTH(B2867))","v":""},null,null,null,{"$f":"IF(D2867=\"\",\"\",IF(D2867<0,\"DEBITO\",\"CREDITO\"))","v":""},null,false,false,0,{"$f":"IF($A2867=I$3,AND($A2867=I$3,$D2867<0),0)","v":0},0,{"$f":"IF($A2867=K$3,AND($A2867=K$3,$D2867<0),0)","v":0},0,{"$f":"IF($A2867=M$3,AND($A2867=M$3,$D2867<0),0)","v":0},0,{"$f":"IF($A2867=O$3,AND($A2867=O$3,$D2867<0),0)","v":0},0,0,0,0,0,0,0,{"$f":"IF($A2867=W$3,AND($A2867=W$3,$D2867<0),0)","v":0},0,{"$f":"IF($A2867=Y$3,AND($A2867=Y$3,$D2867<0),0)","v":0},0,{"$f":"IF($A2867=AA$3,AND($A2867=AA$3,$D2867<0),0)","v":0},0,{"$f":"IF($A2867=AC$3,AND($A2867=AC$3,$D2867<0),0)","v":0},0,0]
[{"$f":"IF(B2868=0,\"\",MONTH(B2868))","v":""},null,null,null,{"$f":"IF(D2868=\"\",\"\",IF(D2868<0,\"DEBITO\",\"CREDITO\"))","v":""},null,false,false,0,{"$f":"IF($A2868=I$3,AND($A2868=I$3,$D2868<0),0)","v":0},0,{"$f":"IF($A2868=K$3,AND($A2868=K$3,$D2868<0),0)","v":0},0,{"$f":"IF($A2868=M$3,AND($A2868=M$3,$D2868<0),0)","v":0},0,{"$f":"IF($A2868=O$3,AND($A2868=O$3,$D2868<0),0)","v":0},0,0,0,0,0,0,0,{"$f":"IF($A2868=W$3,AND($A2868=W$3,$D2868<0),0)","v":0},0,{"$f":"IF($A2868=Y$3,AND($A2868=Y$3,$D2868<0),0)","v":0},0,{"$f":"IF($A2868=AA$3,AND($A2868=AA$3,$D2868<0),0)","v":0},0,{"$f":"IF($A2868=AC$3,AND($A2868=AC$3,$D2868<0),0)","v":0},0,0]
[{"$f":"IF(B2871=0,\"\",MONTH(B2871))","v":""},null,null,null,{"$f":"IF(D2871=\"\",\"\",IF(D2871<0,\"DEBITO\",\"CREDITO\"))","v":""},null,false,false,0,{"$f":"IF($A2871=I$3,AND($A2871=I$3,$D2871<0),0)","v":0},0,{"$f":"IF($A2871=K$3,AND($A2871=K$3,$D2871<0),0)","v":0},0,{"$f":"IF($A2871=M$3,AND($A2871=M$3,$D2871<0),0)","v":0},0,{"$f":"IF($A2871=O$3,AND($A2871=O$3,$D2871<0),0)","v":0},0,0,0,0,0,0,0,{"$f":"IF($A2871=W$3,AND($A2871=W$3,$D2871<0),0)","v":0},0,{"$f":"IF($A2871=Y$3,AND($A2871=Y$3,$D2871<0),0)","v":0},0,{"$f":"IF($A2871=AA$3,AND($A2871=AA$3,$D2871<0),0)","v":0},0,{"$f":"IF($A2871=AC$3,AND($A2871=AC$3,$D2871<0),0)","v":0},0,0]
[{"$f":"IF(B2872=0,\"\",MONTH(B2872))","v":""},null,null,null,{"$f":"IF(D2872=\"\",\"\",IF(D2872<0,\"DEBITO\",\"CREDITO\"))","v":""},null,false,false,0,{"$f":"IF($A2872=I$3,AND($A2872=I$3,$D2872<0),0)","v":0},0,{"$f":"IF($A2872=K$3,AND($A2872=K$3,$D2872<0),0)","v":0},0,{"$f":"IF($A2872=M$3,AND($A2872=M$3,$D2872<0),0)","v":0},0,{"$f":"IF($A2872=O$3,AND($A2872=O$3,$D2872<0),0)","v":0},0,0,0,0,0,0,0,{"$f":"IF($A2872=W$3,AND($A2872=W$3,$D2872<0),0)","v":0},0,{"$f":"IF($A2872=Y$3,AND($A2872=Y$3,$D2872<0),0)","v":0},0,{"$f":"IF($A2872=AA$3,AND($A2872=AA$3,$D2872<0),0)","v":0},0,{"$f":"IF($A2872=AC$3,AND($A2872=AC$3,$D2872<0),0)","v":0},0,0]
[{"$f":"IF(B2875=0,\"\",MONTH(B2875))","v":""},null,null,null,{"$f":"IF(D2875=\"\",\"\",IF(D2875<0,\"DEBITO\",\"CREDITO\"))","v":""},null,false,false,0,{"$f":"IF($A2875=I$3,AND($A2875=I$3,$D2875<0),0)","v":0},0,{"$f":"IF($A2875=K$3,AND($A2875=K$3,$D2875<0),0)","v":0},0,{"$f":"IF($A2875=M$3,AND($A2875=M$3,$D2875<0),0)","v":0},0,{"$f":"IF($A2875=O$3,AND($A2875=O$3,$D2875<0),0)","v":0},0,0,0,0,0,0,0,{"$f":"IF($A2875=W$3,AND($A2875=W$3,$D2875<0),0)","v":0},0,{"$f":"IF($A2875=Y$3,AND($A2875=Y$3,$D2875<0),0)","v":0},0,{"$f":"IF($A2875=AA$3,AND($A2875=AA$3,$D2875<0),0)","v":0},0,{"$f":"IF($A2875=AC$3,AND($A2875=AC$3,$D2875<0),0)","v":0},0,0]
[{"$f":"IF(B2876=0,\"\",MONTH(B2876))","v":""},null,null,null,{"$f":"IF(D2876=\"\",\"\",IF(D2876<0,\"DEBITO\",\"CREDITO\"))","v":""},null,false,false,0,{"$f":"IF($A2876=I$3,AND($A2876=I$3,$D2876<0),0)","v":0},0,{"$f":"IF($A2876=K$3,AND($A2876=K$3,$D2876<0),0)","v":0},0,{"$f":"IF($A2876=M$3,AND($A2876=M$3,$D2876<0),0)","v":0},0,{"$f":"IF($A2876=O$3,AND($A2876=O$3,$D2876<0),0)","v":0},0,0,0,0,0,0,0,{"$f":"IF($A2876=W$3,AND($A2876=W$3,$D2876<0),0)","v":0},0,{"$f":"IF($A2876=Y$3,AND($A2876=Y$3,$D2876<0),0)","v":0},0,{"$f":"IF($A2876=AA$3,AND($A2876=AA$3,$D2876<0),0)","v":0},0,{"$f":"IF($A2876=AC$3,AND($A2876=AC$3,$D2876<0),0)","v":0},0,0]
[{"$f":"IF(B2880=0,\"\",MONTH(B2880))","v":""},null,null,null,{"$f":"IF(D2880=\"\",\"\",IF(D2880<0,\"DEBITO\",\"CREDITO\"))","v":""},null,false,false,0,{"$f":"IF($A2880=I$3,AND($A2880=I$3,$D2880<0),0)","v":0},0,{"$f":"IF($A2880=K$3,AND($A2880=K$3,$D2880<0),0)","v":0},0,{"$f":"IF($A2880=M$3,AND($A2880=M$3,$D2880<0),0)","v":0},0,{"$f":"IF($A2880=O$3,AND($A2880=O$3,$D2880<0),0)","v":0},0,0,0,0,0,0,0,{"$f":"IF($A2880=W$3,AND($A2880=W$3,$D2880<0),0)","v":0},0,{"$f":"IF($A2880=Y$3,AND($A2880=Y$3,$D2880<0),0)","v":0},0,{"$f":"IF($A2880=AA$3,AND($A2880=AA$3,$D2880<0),0)","v":0},0,{"$f":"IF($A2880=AC$3,AND($A2880=AC$3,$D2880<0),0)","v":0},0,0]
[{"$f":"IF(B2881=0,\"\",MONTH(B2881))","v":""},null,null,null,{"$f":"IF(D2881=\"\",\"\",IF(D2881<0,\"DEBITO\",\"CREDITO\"))","v":""},null,false,false,0,{"$f":"IF($A2881=I$3,AND($A2881=I$3,$D2881<0),0)","v":0},0,{"$f":"IF($A2881=K$3,AND($A2881=K$3,$D2881<0),0)","v":0},0,{"$f":"IF($A2881=M$3,AND($A2881=M$3,$D2881<0),0)","v":0},0,{"$f":"IF($A2881=O$3,AND($A2881=O$3,$D2881<0),0)","v":0},0,0,0,0,0,0,0,{"$f":"IF($A2881=W$3,AND($A2881=W$3,$D2881<0),0)","v":0},0,{"$f":"IF($A2881=Y$3,AND($A2881=Y$3,$D2881<0),0)","v":0},0,{"$f":"IF($A2881=AA$3,AND($A2881=AA$3,$D2881<0),0)","v":0},0,{"$f":"IF($A2881=AC$3,AND($A2881=AC$3,$D2881<0),0)","v":0},0,0]
[{"$f":"IF(B2884=0,\"\",MONTH(B2884))","v":""},null,null,null,{"$f":"IF(D2884=\"\",\"\",IF(D2884<0,\"DEBITO\",\"CREDITO\"))","v":""},null,false,false,0,{"$f":"IF($A2884=I$3,AND($A2884=I$3,$D2884<0),0)","v":0},0,{"$f":"IF($A2884=K$3,AND($A2884=K$3,$D2884<0),0)","v":0},0,{"$f":"IF($A2884=M$3,AND($A2884=M$3,$D2884<0),0)","v":0},0,{"$f":"IF($A2884=O$3,AND($A2884=O$3,$D2884<0),0)","v":0},0,0,0,0,0,0,0,{"$f":"IF($A2884=W$3,AND($A2884=W$3,$D2884<0),0)","v":0},0,{"$f":"IF($A2884=Y$3,AND($A2884=Y$3,$D2884<0),0)","v":0},0,{"$f":"IF($A2884=AA$3,AND($A2884=AA$3,$D2884<0),0)","v":0},0,{"$f":"IF($A2884=AC$3,AND($A2884=AC$3,$D2884<0),0)","v":0},0,0]
[{"$f":"IF(B2885=0,\"\",MONTH(B2885))","v":""},null,null,null,{"$f":"IF(D2885=\"\",\"\",IF(D2885<0,\"DEBITO\",\"CREDITO\"))","v":""},null,false,false,0,{"$f":"IF($A2885=I$3,AND($A2885=I$3,$D2885<0),0)","v":0},0,{"$f":"IF($A2885=K$3,AND($A2885=K$3,$D2885<0),0)","v":0},0,{"$f":"IF($A2885=M$3,AND($A2885=M$3,$D2885<0),0)","v":0},0,{"$f":"IF($A2885=O$3,AND($A2885=O$3,$D2885<0),0)","v":0},0,0,0,0,0,0,0,{"$f":"IF($A2885=W$3,AND($A2885=W$3,$D2885<0),0)","v":0},0,{"$f":"IF($A2885=Y$3,AND($A2885=Y$3,$D2885<0),0)","v":0},0,{"$f":"IF($A2885=AA$3,AND($A2885=AA$3,$D2885<0),0)","v":0},0,{"$f":"IF($A2885=AC$3,AND($A2885=AC$3,$D2885<0),0)","v":0},0,0]
[{"$f":"IF(B2888=0,\"\",MONTH(B2888))","v":""},null,null,null,{"$f":"IF(D2888=\"\",\"\",IF(D2888<0,\"DEBITO\",\"CREDITO\"))","v":""},null,false,false,0,{"$f":"IF($A2888=I$3,AND($A2888=I$3,$D2888<0),0)","v":0},0,{"$f":"IF($A2888=K$3,AND($A2888=K$3,$D2888<0),0)","v":0},0,{"$f":"IF($A2888=M$3,AND($A2888=M$3,$D2888<0),0)","v":0},0,{"$f":"IF($A2888=O$3,AND($A2888=O$3,$D2888<0),0)","v":0},0,0,0,0,0,0,0,{"$f":"IF($A2888=W$3,AND($A2888=W$3,$D2888<0),0)","v":0},0,{"$f":"IF($A2888=Y$3,AND($A2888=Y$3,$D2888<0),0)","v":0},0,{"$f":"IF($A2888=AA$3,AND($A2888=AA$3,$D2888<0),0)","v":0},0,{"$f":"IF($A2888=AC$3,AND($A2888=AC$3,$D2888<0),0)","v":0},0,0]
[{"$f":"IF(B2889=0,\"\",MONTH(B2889))","v":""},null,null,null,{"$f":"IF(D2889=\"\",\"\",IF(D2889<0,\"DEBITO\",\"CREDITO\"))","v":""},null,{"$f":"AND(A2889=$E$3,D2889>0)","v":false},{"$f":"AND(A2889=$E$3,D2889<0)","v":false},0,{"$f":"IF($A2889=I$3,AND($A2889=I$3,$D2889<0),0)","v":0},0,{"$f":"IF($A2889=K$3,AND($A2889=K$3,$D2889<0),0)","v":0},0,{"$f":"IF($A2889=M$3,AND($A2889=M$3,$D2889<0),0)","v":0},0,{"$f":"IF($A2889=O$3,AND($A2889=O$3,$D2889<0),0)","v":0},0,{"$f":"IF($A2889=Q$3,AND($A2889=Q$3,$D2889<0),0)","v":0},0,0,0,0,0,{"$f":"IF($A2889=W$3,AND($A2889=W$3,$D2889<0),0)","v":0},0,{"$f":"IF($A2889=Y$3,AND($A2889=Y$3,$D2889<0),0)","v":0},0,{"$f":"IF($A2889=AA$3,AND($A2889=AA$3,$D2889<0),0)","v":0},0,{"$f":"IF($A2889=AC$3,AND($A2889=AC$3,$D2889<0),0)","v":0},0,{"$f":"IF($A2889=AE$3,AND($A2889=AE$3,$D2889<0),0)","v":0}]
[{"$f":"IF(B2892=0,\"\",MONTH(B2892))","v":""},null,null,null,{"$f":"IF(D2892=\"\",\"\",IF(D2892<0,\"DEBITO\",\"CREDITO\"))","v":""},null,false,false,0,{"$f":"IF($A2892=I$3,AND($A2892=I$3,$D2892<0),0)","v":0},0,{"$f":"IF($A2892=K$3,AND($A2892=K$3,$D2892<0),0)","v":0},0,{"$f":"IF($A2892=M$3,AND($A2892=M$3,$D2892<0),0)","v":0},0,{"$f":"IF($A2892=O$3,AND($A2892=O$3,$D2892<0),0)","v":0},0,0,0,0,0,0,0,{"$f":"IF($A2892=W$3,AND($A2892=W$3,$D2892<0),0)","v":0},0,{"$f":"IF($A2892=Y$3,AND($A2892=Y$3,$D2892<0),0)","v":0},0,{"$f":"IF($A2892=AA$3,AND($A2892=AA$3,$D2892<0),0)","v":0},0,{"$f":"IF($A2892=AC$3,AND($A2892=AC$3,$D2892<0),0)","v":0},0,0]
[{"$f":"IF(B2893=0,\"\",MONTH(B2893))","v":""},null,null,null,{"$f":"IF(D2893=\"\",\"\",IF(D2893<0,\"DEBITO\",\"CREDITO\"))","v":""},null,false,false,0,{"$f":"IF($A2893=I$3,AND($A2893=I$3,$D2893<0),0)","v":0},0,{"$f":"IF($A2893=K$3,AND($A2893=K$3,$D2893<0),0)","v":0},0,{"$f":"IF($A2893=M$3,AND($A2893=M$3,$D2893<0),0)","v":0},0,{"$f":"IF($A2893=O$3,AND($A2893=O$3,$D2893<0),0)","v":0},0,0,0,0,0,0,0,{"$f":"IF($A2893=W$3,AND($A2893=W$3,$D2893<0),0)","v":0},0,{"$f":"IF($A2893=Y$3,AND($A2893=Y$3,$D2893<0),0)","v":0},0,{"$f":"IF($A2893=AA$3,AND($A2893=AA$3,$D2893<0),0)","v":0},0,{"$f":"IF($A2893=AC$3,AND($A2893=AC$3,$D2893<0),0)","v":0},0,0]
[{"$f":"IF(B2896=0,\"\",MONTH(B2896))","v":""},null,null,null,{"$f":"IF(D2896=\"\",\"\",IF(D2896<0,\"DEBITO\",\"CREDITO\"))","v":""},null,false,false,0,{"$f":"IF($A2896=I$3,AND($A2896=I$3,$D2896<0),0)","v":0},0,{"$f":"IF($A2896=K$3,AND($A2896=K$3,$D2896<0),0)","v":0},0,{"$f":"IF($A2896=M$3,AND($A2896=M$3,$D2896<0),0)","v":0},0,{"$f":"IF($A2896=O$3,AND($A2896=O$3,$D2896<0),0)","v":0},0,0,0,0,0,0,0,{"$f":"IF($A2896=W$3,AND($A2896=W$3,$D2896<0),0)","v":0},0,{"$f":"IF($A2896=Y$3,AND($A2896=Y$3,$D2896<0),0)","v":0},0,{"$f":"IF($A2896=AA$3,AND($A2896=AA$3,$D2896<0),0)","v":0},0,{"$f":"IF($A2896=AC$3,AND($A2896=AC$3,$D2896<0),0)","v":0},0,0]
[{"$f":"IF(B2897=0,\"\",MONTH(B2897))","v":""},null,null,null,{"$f":"IF(D2897=\"\",\"\",IF(D2897<0,\"DEBITO\",\"CREDITO\"))","v":""},null,false,false,0,{"$f":"IF($A2897=I$3,AND($A2897=I$3,$D2897<0),0)","v":0},0,{"$f":"IF($A2897=K$3,AND($A2897=K$3,$D2897<0),0)","v":0},0,{"$f":"IF($A2897=M$3,AND($A2897=M$3,$D2897<0),0)","v":0},0,{"$f":"IF($A2897=O$3,AND($A2897=O$3,$D2897<0),0)","v":0},0,0,0,0,0,0,0,{"$f":"IF($A2897=W$3,AND($A2897=W$3,$D2897<0),0)","v":0},0,{"$f":"IF($A2897=Y$3,AND($A2897=Y$3,$D2897<0),0)","v":0},0,{"$f":"IF($A2897=AA$3,AND($A2897=AA$3,$D2897<0),0)","v":0},0,{"$f":"IF($A2897=AC$3,AND($A2897=AC$3,$D2897<0),0)","v":0},0,0]
[{"$f":"IF(B2901=0,\"\",MONTH(B2901))","v":""},null,null,null,{"$f":"IF(D2901=\"\",\"\",IF(D2901<0,\"DEBITO\",\"CREDITO\"))","v":""},null,false,false,0,{"$f":"IF($A2901=I$3,AND($A2901=I$3,$D2901<0),0)","v":0},0,{"$f":"IF($A2901=K$3,AND($A2901=K$3,$D2901<0),0)","v":0},0,{"$f":"IF($A2901=M$3,AND($A2901=M$3,$D2901<0),0)","v":0},0,{"$f":"IF($A2901=O$3,AND($A2901=O$3,$D2901<0),0)","v":0},0,0,0,0,0,0,0,{"$f":"IF($A2901=W$3,AND($A2901=W$3,$D2901<0),0)","v":0},0,{"$f":"IF($A2901=Y$3,AND($A2901=Y$3,$D2901<0),0)","v":0},0,{"$f":"IF($A2901=AA$3,AND($A2901=AA$3,$D2901<0),0)","v":0},0,{"$f":"IF($A2901=AC$3,AND($A2901=AC$3,$D2901<0),0)","v":0},0,0]
[{"$f":"IF(B2902=0,\"\",MONTH(B2902))","v":""},null,null,null,{"$f":"IF(D2902=\"\",\"\",IF(D2902<0,\"DEBITO\",\"CREDITO\"))","v":""},null,false,false,0,{"$f":"IF($A2902=I$3,AND($A2902=I$3,$D2902<0),0)","v":0},0,{"$f":"IF($A2902=K$3,AND($A2902=K$3,$D2902<0),0)","v":0},0,{"$f":"IF($A2902=M$3,AND($A2902=M$3,$D2902<0),0)","v":0},0,{"$f":"IF($A2902=O$3,AND($A2902=O$3,$D2902<0),0)","v":0},0,0,0,0,0,0,0,{"$f":"IF($A2902=W$3,AND($A2902=W$3,$D2902<0),0)","v":0},0,{"$f":"IF($A2902=Y$3,AND($A2902=Y$3,$D2902<0),0)","v":0},0,{"$f":"IF($A2902=AA$3,AND($A2902=AA$3,$D2902<0),0)","v":0},0,{"$f":"IF($A2902=AC$3,AND($A2902=AC$3,$D2902<0),0)","v":0},0,0]
[{"$f":"IF(B2905=0,\"\",MONTH(B2905))","v":""},null,null,null,{"$f":"IF(D2905=\"\",\"\",IF(D2905<0,\"DEBITO\",\"CREDITO\"))","v":""},null,false,false,{"$f":"IF($A2905=I$3,AND($A2905=I$3,$D2905>0),0)","v":0},{"$f":"IF($A2905=I$3,AND($A2905=I$3,$D2905<0),0)","v":0},{"$f":"IF($A2905=K$3,AND($A2905=K$3,$D2905>0),0)","v":0},{"$f":"IF($A2905=K$3,AND($A2905=K$3,$D2905<0),0)","v":0},{"$f":"IF($A2905=M$3,AND($A2905=M$3,$D2905>0),0)","v":0},{"$f":"IF($A2905=M$3,AND($A2905=M$3,$D2905<0),0)","v":0},{"$f":"IF($A2905=O$3,AND($A2905=O$3,$D2905>0),0)","v":0},{"$f":"IF($A2905=O$3,AND($A2905=O$3,$D2905<0),0)","v":0},{"$f":"IF($A2905=Q$3,AND($A2905=Q$3,$D2905>0),0)","v":0},0,0,0,0,0,{"$f":"IF($A2905=W$3,AND($A2905=W$3,$D2905>0),0)","v":0},{"$f":"IF($A2905=W$3,AND($A2905=W$3,$D2905<0),0)","v":0},{"$f":"IF($A2905=Y$3,AND($A2905=Y$3,$D2905>0),0)","v":0},{"$f":"IF($A2905=Y$3,AND($A2905=Y$3,$D2905<0),0)","v":0},{"$f":"IF($A2905=AA$3,AND($A2905=AA$3,$D2905>0),0)","v":0},{"$f":"IF($A2905=AA$3,AND($A2905=AA$3,$D2905<0),0)","v":0},{"$f":"IF($A2905=AC$3,AND($A2905=AC$3,$D2905>0),0)","v":0},{"$f":"IF($A2905=AC$3,AND($A2905=AC$3,$D2905<0),0)","v":0},{"$f":"IF($A2905=AE$3,AND($A2905=AE$3,$D2905>0),0)","v":0},0]
[{"$f":"IF(B2906=0,\"\",MONTH(B2906))","v":""},null,null,null,{"$f":"IF(D2906=\"\",\"\",IF(D2906<0,\"DEBITO\",\"CREDITO\"))","v":""},null,false,false,0,{"$f":"IF($A2906=I$3,AND($A2906=I$3,$D2906<0),0)","v":0},0,{"$f":"IF($A2906=K$3,AND($A2906=K$3,$D2906<0),0)","v":0},0,{"$f":"IF($A2906=M$3,AND($A2906=M$3,$D2906<0),0)","v":0},0,{"$f":"IF($A2906=O$3,AND($A2906=O$3,$D2906<0),0)","v":0},0,0,0,0,0,0,0,{"$f":"IF($A2906=W$3,AND($A2906=W$3,$D2906<0),0)","v":0},0,{"$f":"IF($A2906=Y$3,AND($A2906=Y$3,$D2906<0),0)","v":0},0,{"$f":"IF($A2906=AA$3,AND($A2906=AA$3,$D2906<0),0)","v":0},0,{"$f":"IF($A2906=AC$3,AND($A2906=AC$3,$D2906<0),0)","v":0},0,0]
[{"$f":"IF(B2909=0,\"\",MONTH(B2909))","v":""},null,null,null,{"$f":"IF(D2909=\"\",\"\",IF(D2909<0,\"DEBITO\",\"CREDITO\"))","v":""},null,false,false,0,{"$f":"IF($A2909=I$3,AND($A2909=I$3,$D2909<0),0)","v":0},0,{"$f":"IF($A2909=K$3,AND($A2909=K$3,$D2909<0),0)","v":0},0,{"$f":"IF($A2909=M$3,AND($A2909=M$3,$D2909<0),0)","v":0},0,{"$f":"IF($A2909=O$3,AND($A2909=O$3,$D2909<0),0)","v":0},0,0,0,0,0,0,0,{"$f":"IF($A2909=W$3,AND($A2909=W$3,$D2909<0),0)","v":0},0,{"$f":"IF($A2909=Y$3,AND($A2909=Y$3,$D2909<0),0)","v":0},0,{"$f":"IF($A2909=AA$3,AND($A2909=AA$3,$D2909<0),0)","v":0},0,{"$f":"IF($A2909=AC$3,AND($A2909=AC$3,$D2909<0),0)","v":0},0,0]
[{"$f":"IF(B2910=0,\"\",MONTH(B2910))","v":""},null,null,null,{"$f":"IF(D2910=\"\",\"\",IF(D2910<0,\"DEBITO\",\"CREDITO\"))","v":""},null,false,false,0,{"$f":"IF($A2910=I$3,AND($A2910=I$3,$D2910<0),0)","v":0},0,{"$f":"IF($A2910=K$3,AND($A2910=K$3,$D2910<0),0)","v":0},0,{"$f":"IF($A2910=M$3,AND($A2910=M$3,$D2910<0),0)","v":0},0,{"$f":"IF($A2910=O$3,AND($A2910=O$3,$D2910<0),0)","v":0},0,0,0,0,0,0,0,{"$f":"IF($A2910=W$3,AND($A2910=W$3,$D2910<0),0)","v":0},0,{"$f":"IF($A2910=Y$3,AND($A2910=Y$3,$D2910<0),0)","v":0},0,{"$f":"IF($A2910=AA$3,AND($A2910=AA$3,$D2910<0),0)","v":0},0,{"$f":"IF($A2910=AC$3,AND($A2910=AC$3,$D2910<0),0)","v":0},0,0]
[{"$f":"IF(B2913=0,\"\",MONTH(B2913))","v":""},null,null,null,{"$f":"IF(D2913=\"\",\"\",IF(D2913<0,\"DEBITO\",\"CREDITO\"))","v":""},null,false,false,0,{"$f":"IF($A2913=I$3,AND($A2913=I$3,$D2913<0),0)","v":0},0,{"$f":"IF($A2913=K$3,AND($A2913=K$3,$D2913<0),0)","v":0},0,{"$f":"IF($A2913=M$3,AND($A2913=M$3,$D2913<0),0)","v":0},0,{"$f":"IF($A2913=O$3,AND($A2913=O$3,$D2913<0),0)","v":0},0,0,0,0,0,0,0,{"$f":"IF($A2913=W$3,AND($A2913=W$3,$D2913<0),0)","v":0},0,{"$f":"IF($A2913=Y$3,AND($A2913=Y$3,$D2913<0),0)","v":0},0,{"$f":"IF($A2913=AA$3,AND($A2913=AA$3,$D2913<0),0)","v":0},0,{"$f":"IF($A2913=AC$3,AND($A2913=AC$3,$D2913<0),0)","v":0},0,0]
[{"$f":"IF(B2914=0,\"\",MONTH(B2914))","v":""},null,null,null,{"$f":"IF(D2914=\"\",\"\",IF(D2914<0,\"DEBITO\",\"CREDITO\"))","v":""},null,false,false,0,{"$f":"IF($A2914=I$3,AND($A2914=I$3,$D2914<0),0)","v":0},0,{"$f":"IF($A2914=K$3,AND($A2914=K$3,$D2914<0),0)","v":0},0,{"$f":"IF($A2914=M$3,AND($A2914=M$3,$D2914<0),0)","v":0},0,{"$f":"IF($A2914=O$3,AND($A2914=O$3,$D2914<0),0)","v":0},0,0,0,0,0,0,0,{"$f":"IF($A2914=W$3,AND($A2914=W$3,$D2914<0),0)","v":0},0,{"$f":"IF($A2914=Y$3,AND($A2914=Y$3,$D2914<0),0)","v":0},0,{"$f":"IF($A2914=AA$3,AND($A2914=AA$3,$D2914<0),0)","v":0},0,{"$f":"IF($A2914=AC$3,AND($A2914=AC$3,$D2914<0),0)","v":0},0,0]
[{"$f":"IF(B2917=0,\"\",MONTH(B2917))","v":""},null,null,null,{"$f":"IF(D2917=\"\",\"\",IF(D2917<0,\"DEBITO\",\"CREDITO\"))","v":""},null,false,false,0,{"$f":"IF($A2917=I$3,AND($A2917=I$3,$D2917<0),0)","v":0},0,{"$f":"IF($A2917=K$3,AND($A2917=K$3,$D2917<0),0)","v":0},0,{"$f":"IF($A2917=M$3,AND($A2917=M$3,$D2917<0),0)","v":0},0,{"$f":"IF($A2917=O$3,AND($A2917=O$3,$D2917<0),0)","v":0},0,0,0,0,0,0,0,{"$f":"IF($A2917=W$3,AND($A2917=W$3,$D2917<0),0)","v":0},0,{"$f":"IF($A2917=Y$3,AND($A2917=Y$3,$D2917<0),0)","v":0},0,{"$f":"IF($A2917=AA$3,AND($A2917=AA$3,$D2917<0),0)","v":0},0,{"$f":"IF($A2917=AC$3,AND($A2917=AC$3,$D2917<0),0)","v":0},0,0]
[{"$f":"IF(B2918=0,\"\",MONTH(B2918))","v":""},null,null,null,{"$f":"IF(D2918=\"\",\"\",IF(D2918<0,\"DEBITO\",\"CREDITO\"))","v":""},null,false,false,0,{"$f":"IF($A2918=I$3,AND($A2918=I$3,$D2918<0),0)","v":0},0,{"$f":"IF($A2918=K$3,AND($A2918=K$3,$D2918<0),0)","v":0},0,{"$f":"IF($A2918=M$3,AND($A2918=M$3,$D2918<0),0)","v":0},0,{"$f":"IF($A2918=O$3,AND($A2918=O$3,$D2918<0),0)","v":0},0,0,0,0,0,0,0,{"$f":"IF($A2918=W$3,AND($A2918=W$3,$D2918<0),0)","v":0},0,{"$f":"IF($A2918=Y$3,AND($A2918=Y$3,$D2918<0),0)","v":0},0,{"$f":"IF($A2918=AA$3,AND($A2918=AA$3,$D2918<0),0)","v":0},0,{"$f":"IF($A2918=AC$3,AND($A2918=AC$3,$D2918<0),0)","v":0},0,0]
[{"$f":"IF(B2922=0,\"\",MONTH(B2922))","v":""},null,null,null,{"$f":"IF(D2922=\"\",\"\",IF(D2922<0,\"DEBITO\",\"CREDITO\"))","v":""},null,false,false,0,{"$f":"IF($A2922=I$3,AND($A2922=I$3,$D2922<0),0)","v":0},0,{"$f":"IF($A2922=K$3,AND($A2922=K$3,$D2922<0),0)","v":0},0,{"$f":"IF($A2922=M$3,AND($A2922=M$3,$D2922<0),0)","v":0},0,{"$f":"IF($A2922=O$3,AND($A2922=O$3,$D2922<0),0)","v":0},0,0,0,0,0,0,0,{"$f":"IF($A2922=W$3,AND($A2922=W$3,$D2922<0),0)","v":0},0,{"$f":"IF($A2922=Y$3,AND($A2922=Y$3,$D2922<0),0)","v":0},0,{"$f":"IF($A2922=AA$3,AND($A2922=AA$3,$D2922<0),0)","v":0},0,{"$f":"IF($A2922=AC$3,AND($A2922=AC$3,$D2922<0),0)","v":0},0,0]
[{"$f":"IF(B2923=0,\"\",MONTH(B2923))","v":""},null,null,null,{"$f":"IF(D2923=\"\",\"\",IF(D2923<0,\"DEBITO\",\"CREDITO\"))","v":""},null,false,false,0,{"$f":"IF($A2923=I$3,AND($A2923=I$3,$D2923<0),0)","v":0},0,{"$f":"IF($A2923=K$3,AND($A2923=K$3,$D2923<0),0)","v":0},0,{"$f":"IF($A2923=M$3,AND($A2923=M$3,$D2923<0),0)","v":0},0,{"$f":"IF($A2923=O$3,AND($A2923=O$3,$D2923<0),0)","v":0},0,0,0,0,0,0,0,{"$f":"IF($A2923=W$3,AND($A2923=W$3,$D2923<0),0)","v":0},0,{"$f":"IF($A2923=Y$3,AND($A2923=Y$3,$D2923<0),0)","v":0},0,{"$f":"IF($A2923=AA$3,AND($A2923=AA$3,$D2923<0),0)","v":0},0,{"$f":"IF($A2923=AC$3,AND($A2923=AC$3,$D2923<0),0)","v":0},0,0]
[{"$f":"IF(B2926=0,\"\",MONTH(B2926))","v":""},null,null,null,{"$f":"IF(D2926=\"\",\"\",IF(D2926<0,\"DEBITO\",\"CREDITO\"))","v":""},null,false,false,0,{"$f":"IF($A2926=I$3,AND($A2926=I$3,$D2926<0),0)","v":0},0,{"$f":"IF($A2926=K$3,AND($A2926=K$3,$D2926<0),0)","v":0},0,{"$f":"IF($A2926=M$3,AND($A2926=M$3,$D2926<0),0)","v":0},0,{"$f":"IF($A2926=O$3,AND($A2926=O$3,$D2926<0),0)","v":0},0,0,0,0,0,0,0,{"$f":"IF($A2926=W$3,AND($A2926=W$3,$D2926<0),0)","v":0},0,{"$f":"IF($A2926=Y$3,AND($A2926=Y$3,$D2926<0),0)","v":0},0,{"$f":"IF($A2926=AA$3,AND($A2926=AA$3,$D2926<0),0)","v":0},0,{"$f":"IF($A2926=AC$3,AND($A2926=AC$3,$D2926<0),0)","v":0},0,0]
[{"$f":"IF(B2927=0,\"\",MONTH(B2927))","v":""},null,null,null,{"$f":"IF(D2927=\"\",\"\",IF(D2927<0,\"DEBITO\",\"CREDITO\"))","v":""},null,false,false,0,{"$f":"IF($A2927=I$3,AND($A2927=I$3,$D2927<0),0)","v":0},0,{"$f":"IF($A2927=K$3,AND($A2927=K$3,$D2927<0),0)","v":0},0,{"$f":"IF($A2927=M$3,AND($A2927=M$3,$D2927<0),0)","v":0},0,{"$f":"IF($A2927=O$3,AND($A2927=O$3,$D2927<0),0)","v":0},0,0,0,0,0,0,0,{"$f":"IF($A2927=W$3,AND($A2927=W$3,$D2927<0),0)","v":0},0,{"$f":"IF($A2927=Y$3,AND($A2927=Y$3,$D2927<0),0)","v":0},0,{"$f":"IF($A2927=AA$3,AND($A2927=AA$3,$D2927<0),0)","v":0},0,{"$f":"IF($A2927=AC$3,AND($A2927=AC$3,$D2927<0),0)","v":0},0,0]
[{"$f":"IF(B2930=0,\"\",MONTH(B2930))","v":""},null,null,null,{"$f":"IF(D2930=\"\",\"\",IF(D2930<0,\"DEBITO\",\"CREDITO\"))","v":""},null,false,false,0,{"$f":"IF($A2930=I$3,AND($A2930=I$3,$D2930<0),0)","v":0},0,{"$f":"IF($A2930=K$3,AND($A2930=K$3,$D2930<0),0)","v":0},0,{"$f":"IF($A2930=M$3,AND($A2930=M$3,$D2930<0),0)","v":0},0,{"$f":"IF($A2930=O$3,AND($A2930=O$3,$D2930<0),0)","v":0},0,0,0,0,0,0,0,{"$f":"IF($A2930=W$3,AND($A2930=W$3,$D2930<0),0)","v":0},0,{"$f":"IF($A2930=Y$3,AND($A2930=Y$3,$D2930<0),0)","v":0},0,{"$f":"IF($A2930=AA$3,AND($A2930=AA$3,$D2930<0),0)","v":0},0,{"$f":"IF($A2930=AC$3,AND($A2930=AC$3,$D2930<0),0)","v":0},0,0]
[{"$f":"IF(B2931=0,\"\",MONTH(B2931))","v":""},null,null,null,{"$f":"IF(D2931=\"\",\"\",IF(D2931<0,\"DEBITO\",\"CREDITO\"))","v":""},null,false,false,0,{"$f":"IF($A2931=I$3,AND($A2931=I$3,$D2931<0),0)","v":0},0,{"$f":"IF($A2931=K$3,AND($A2931=K$3,$D2931<0),0)","v":0},0,{"$f":"IF($A2931=M$3,AND($A2931=M$3,$D2931<0),0)","v":0},0,{"$f":"IF($A2931=O$3,AND($A2931=O$3,$D2931<0),0)","v":0},0,0,0,0,0,0,0,{"$f":"IF($A2931=W$3,AND($A2931=W$3,$D2931<0),0)","v":0},0,{"$f":"IF($A2931=Y$3,AND($A2931=Y$3,$D2931<0),0)","v":0},0,{"$f":"IF($A2931=AA$3,AND($A2931=AA$3,$D2931<0),0)","v":0},0,{"$f":"IF($A2931=AC$3,AND($A2931=AC$3,$D2931<0),0)","v":0},0,0]
[{"$f":"IF(B2934=0,\"\",MONTH(B2934))","v":""},null,null,null,{"$f":"IF(D2934=\"\",\"\",IF(D2934<0,\"DEBITO\",\"CREDITO\"))","v":""},null,false,false,0,{"$f":"IF($A2934=I$3,AND($A2934=I$3,$D2934<0),0)","v":0},0,{"$f":"IF($A2934=K$3,AND($A2934=K$3,$D2934<0),0)","v":0},0,{"$f":"IF($A2934=M$3,AND($A2934=M$3,$D2934<0),0)","v":0},0,{"$f":"IF($A2934=O$3,AND($A2934=O$3,$D2934<0),0)","v":0},0,0,0,0,0,0,0,{"$f":"IF($A2934=W$3,AND($A2934=W$3,$D2934<0),0)","v":0},0,{"$f":"IF($A2934=Y$3,AND($A2934=Y$3,$D2934<0),0)","v":0},0,{"$f":"IF($A2934=AA$3,AND($A2934=AA$3,$D2934<0),0)","v":0},0,{"$f":"IF($A2934=AC$3,AND($A2934=AC$3,$D2934<0),0)","v":0},0,0]
[{"$f":"IF(B2935=0,\"\",MONTH(B2935))","v":""},null,null,null,{"$f":"IF(D2935=\"\",\"\",IF(D2935<0,\"DEBITO\",\"CREDITO\"))","v":""},null,false,false,0,{"$f":"IF($A2935=I$3,AND($A2935=I$3,$D2935<0),0)","v":0},0,{"$f":"IF($A2935=K$3,AND($A2935=K$3,$D2935<0),0)","v":0},0,{"$f":"IF($A2935=M$3,AND($A2935=M$3,$D2935<0),0)","v":0},0,{"$f":"IF($A2935=O$3,AND($A2935=O$3,$D2935<0),0)","v":0},0,0,0,0,0,0,0,{"$f":"IF($A2935=W$3,AND($A2935=W$3,$D2935<0),0)","v":0},0,{"$f":"IF($A2935=Y$3,AND($A2935=Y$3,$D2935<0),0)","v":0},0,{"$f":"IF($A2935=AA$3,AND($A2935=AA$3,$D2935<0),0)","v":0},0,{"$f":"IF($A2935=AC$3,AND($A2935=AC$3,$D2935<0),0)","v":0},0,0]
[{"$f":"IF(B2938=0,\"\",MONTH(B2938))","v":""},null,null,null,{"$f":"IF(D2938=\"\",\"\",IF(D2938<0,\"DEBITO\",\"CREDITO\"))","v":""},null,false,false,0,{"$f":"IF($A2938=I$3,AND($A2938=I$3,$D2938<0),0)","v":0},0,{"$f":"IF($A2938=K$3,AND($A2938=K$3,$D2938<0),0)","v":0},0,{"$f":"IF($A2938=M$3,AND($A2938=M$3,$D2938<0),0)","v":0},0,{"$f":"IF($A2938=O$3,AND($A2938=O$3,$D2938<0),0)","v":0},0,0,0,0,0,0,0,{"$f":"IF($A2938=W$3,AND($A2938=W$3,$D2938<0),0)","v":0},0,{"$f":"IF($A2938=Y$3,AND($A2938=Y$3,$D2938<0),0)","v":0},0,{"$f":"IF($A2938=AA$3,AND($A2938=AA$3,$D2938<0),0)","v":0},0,{"$f":"IF($A2938=AC$3,AND($A2938=AC$3,$D2938<0),0)","v":0},0,0]
[{"$f":"IF(B2939=0,\"\",MONTH(B2939))","v":""},null,null,null,{"$f":"IF(D2939=\"\",\"\",IF(D2939<0,\"DEBITO\",\"CREDITO\"))","v":""},null,false,false,0,{"$f":"IF($A2939=I$3,AND($A2939=I$3,$D2939<0),0)","v":0},0,{"$f":"IF($A2939=K$3,AND($A2939=K$3,$D2939<0),0)","v":0},0,{"$f":"IF($A2939=M$3,AND($A2939=M$3,$D2939<0),0)","v":0},0,{"$f":"IF($A2939=O$3,AND($A2939=O$3,$D2939<0),0)","v":0},0,0,0,0,0,0,0,{"$f":"IF($A2939=W$3,AND($A2939=W$3,$D2939<0),0)","v":0},0,{"$f":"IF($A2939=Y$3,AND($A2939=Y$3,$D2939<0),0)","v":0},0,{"$f":"IF($A2939=AA$3,AND($A2939=AA$3,$D2939<0),0)","v":0},0,{"$f":"IF($A2939=AC$3,AND($A2939=AC$3,$D2939<0),0)","v":0},0,0]
[{"$f":"IF(B2942=0,\"\",MONTH(B2942))","v":""},null,null,null,{"$f":"IF(D2942=\"\",\"\",IF(D2942<0,\"DEBITO\",\"CREDITO\"))","v":""},null,false,false,0,{"$f":"IF($A2942=I$3,AND($A2942=I$3,$D2942<0),0)","v":0},0,{"$f":"IF($A2942=K$3,AND($A2942=K$3,$D2942<0),0)","v":0},0,{"$f":"IF($A2942=M$3,AND($A2942=M$3,$D2942<0),0)","v":0},0,{"$f":"IF($A2942=O$3,AND($A2942=O$3,$D2942<0),0)","v":0},0,0,0,0,0,0,0,{"$f":"IF($A2942=W$3,AND($A2942=W$3,$D2942<0),0)","v":0},0,{"$f":"IF($A2942=Y$3,AND($A2942=Y$3,$D2942<0),0)","v":0},0,{"$f":"IF($A2942=AA$3,AND($A2942=AA$3,$D2942<0),0)","v":0},0,{"$f":"IF($A2942=AC$3,AND($A2942=AC$3,$D2942<0),0)","v":0},0,0]
[{"$f":"IF(B2944=0,\"\",MONTH(B2944))","v":""},null,null,null,{"$f":"IF(D2944=\"\",\"\",IF(D2944<0,\"DEBITO\",\"CREDITO\"))","v":""},null,false,false,0,{"$f":"IF($A2944=I$3,AND($A2944=I$3,$D2944<0),0)","v":0},0,{"$f":"IF($A2944=K$3,AND($A2944=K$3,$D2944<0),0)","v":0},0,{"$f":"IF($A2944=M$3,AND($A2944=M$3,$D2944<0),0)","v":0},0,{"$f":"IF($A2944=O$3,AND($A2944=O$3,$D2944<0),0)","v":0},0,0,0,0,0,0,0,{"$f":"IF($A2944=W$3,AND($A2944=W$3,$D2944<0),0)","v":0},0,{"$f":"IF($A2944=Y$3,AND($A2944=Y$3,$D2944<0),0)","v":0},0,{"$f":"IF($A2944=AA$3,AND($A2944=AA$3,$D2944<0),0)","v":0},0,{"$f":"IF($A2944=AC$3,AND($A2944=AC$3,$D2944<0),0)","v":0},0,0]
[{"$f":"IF(B2947=0,\"\",MONTH(B2947))","v":""},null,null,null,{"$f":"IF(D2947=\"\",\"\",IF(D2947<0,\"DEBITO\",\"CREDITO\"))","v":""},null,false,false,0,{"$f":"IF($A2947=I$3,AND($A2947=I$3,$D2947<0),0)","v":0},0,{"$f":"IF($A2947=K$3,AND($A2947=K$3,$D2947<0),0)","v":0},0,{"$f":"IF($A2947=M$3,AND($A2947=M$3,$D2947<0),0)","v":0},0,{"$f":"IF($A2947=O$3,AND($A2947=O$3,$D2947<0),0)","v":0},0,0,0,0,0,0,0,{"$f":"IF($A2947=W$3,AND($A2947=W$3,$D2947<0),0)","v":0},0,{"$f":"IF($A2947=Y$3,AND($A2947=Y$3,$D2947<0),0)","v":0},0,{"$f":"IF($A2947=AA$3,AND($A2947=AA$3,$D2947<0),0)","v":0},0,{"$f":"IF($A2947=AC$3,AND($A2947=AC$3,$D2947<0),0)","v":0},0,0]
[{"$f":"IF(B2948=0,\"\",MONTH(B2948))","v":""},null,null,null,{"$f":"IF(D2948=\"\",\"\",IF(D2948<0,\"DEBITO\",\"CREDITO\"))","v":""},null,false,false,0,{"$f":"IF($A2948=I$3,AND($A2948=I$3,$D2948<0),0)","v":0},0,{"$f":"IF($A2948=K$3,AND($A2948=K$3,$D2948<0),0)","v":0},0,{"$f":"IF($A2948=M$3,AND($A2948=M$3,$D2948<0),0)","v":0},0,{"$f":"IF($A2948=O$3,AND($A2948=O$3,$D2948<0),0)","v":0},0,0,0,0,0,0,0,{"$f":"IF($A2948=W$3,AND($A2948=W$3,$D2948<0),0)","v":0},0,{"$f":"IF($A2948=Y$3,AND($A2948=Y$3,$D2948<0),0)","v":0},0,{"$f":"IF($A2948=AA$3,AND($A2948=AA$3,$D2948<0),0)","v":0},0,{"$f":"IF($A2948=AC$3,AND($A2948=AC$3,$D2948<0),0)","v":0},0,0]
[{"$f":"IF(B2951=0,\"\",MONTH(B2951))","v":""},null,null,null,{"$f":"IF(D2951=\"\",\"\",IF(D2951<0,\"DEBITO\",\"CREDITO\"))","v":""},null,false,false,0,{"$f":"IF($A2951=I$3,AND($A2951=I$3,$D2951<0),0)","v":0},0,{"$f":"IF($A2951=K$3,AND($A2951=K$3,$D2951<0),0)","v":0},0,{"$f":"IF($A2951=M$3,AND($A2951=M$3,$D2951<0),0)","v":0},0,{"$f":"IF($A2951=O$3,AND($A2951=O$3,$D2951<0),0)","v":0},0,0,0,0,0,0,0,{"$f":"IF($A2951=W$3,AND($A2951=W$3,$D2951<0),0)","v":0},0,{"$f":"IF($A2951=Y$3,AND($A2951=Y$3,$D2951<0),0)","v":0},0,{"$f":"IF($A2951=AA$3,AND($A2951=AA$3,$D2951<0),0)","v":0},0,{"$f":"IF($A2951=AC$3,AND($A2951=AC$3,$D2951<0),0)","v":0},0,0]
[{"$f":"IF(B2952=0,\"\",MONTH(B2952))","v":""},null,null,null,{"$f":"IF(D2952=\"\",\"\",IF(D2952<0,\"DEBITO\",\"CREDITO\"))","v":""},null,false,false,0,{"$f":"IF($A2952=I$3,AND($A2952=I$3,$D2952<0),0)","v":0},0,{"$f":"IF($A2952=K$3,AND($A2952=K$3,$D2952<0),0)","v":0},0,{"$f":"IF($A2952=M$3,AND($A2952=M$3,$D2952<0),0)","v":0},0,{"$f":"IF($A2952=O$3,AND($A2952=O$3,$D2952<0),0)","v":0},0,0,0,0,0,0,0,{"$f":"IF($A2952=W$3,AND($A2952=W$3,$D2952<0),0)","v":0},0,{"$f":"IF($A2952=Y$3,AND($A2952=Y$3,$D2952<0),0)","v":0},0,{"$f":"IF($A2952=AA$3,AND($A2952=AA$3,$D2952<0),0)","v":0},0,{"$f":"IF($A2952=AC$3,AND($A2952=AC$3,$D2952<0),0)","v":0},0,0]
[{"$f":"IF(B2955=0,\"\",MONTH(B2955))","v":""},null,null,null,{"$f":"IF(D2955=\"\",\"\",IF(D2955<0,\"DEBITO\",\"CREDITO\"))","v":""},null,false,false,0,{"$f":"IF($A2955=I$3,AND($A2955=I$3,$D2955<0),0)","v":0},0,{"$f":"IF($A2955=K$3,AND($A2955=K$3,$D2955<0),0)","v":0},0,{"$f":"IF($A2955=M$3,AND($A2955=M$3,$D2955<0),0)","v":0},0,{"$f":"IF($A2955=O$3,AND($A2955=O$3,$D2955<0),0)","v":0},0,0,0,0,0,0,0,{"$f":"IF($A2955=W$3,AND($A2955=W$3,$D2955<0),0)","v":0},0,{"$f":"IF($A2955=Y$3,AND($A2955=Y$3,$D2955<0),0)","v":0},0,{"$f":"IF($A2955=AA$3,AND($A2955=AA$3,$D2955<0),0)","v":0},0,{"$f":"IF($A2955=AC$3,AND($A2955=AC$3,$D2955<0),0)","v":0},0,0]
[{"$f":"IF(B2956=0,\"\",MONTH(B2956))","v":""},null,null,null,{"$f":"IF(D2956=\"\",\"\",IF(D2956<0,\"DEBITO\",\"CREDITO\"))","v":""},null,false,false,0,{"$f":"IF($A2956=I$3,AND($A2956=I$3,$D2956<0),0)","v":0},0,{"$f":"IF($A2956=K$3,AND($A2956=K$3,$D2956<0),0)","v":0},0,{"$f":"IF($A2956=M$3,AND($A2956=M$3,$D2956<0),0)","v":0},0,{"$f":"IF($A2956=O$3,AND($A2956=O$3,$D2956<0),0)","v":0},0,0,0,0,0,0,0,{"$f":"IF($A2956=W$3,AND($A2956=W$3,$D2956<0),0)","v":0},0,{"$f":"IF($A2956=Y$3,AND($A2956=Y$3,$D2956<0),0)","v":0},0,{"$f":"IF($A2956=AA$3,AND($A2956=AA$3,$D2956<0),0)","v":0},0,{"$f":"IF($A2956=AC$3,AND($A2956=AC$3,$D2956<0),0)","v":0},0,0]
[{"$f":"IF(B2959=0,\"\",MONTH(B2959))","v":""},null,null,null,{"$f":"IF(D2959=\"\",\"\",IF(D2959<0,\"DEBITO\",\"CREDITO\"))","v":""},null,false,false,0,{"$f":"IF($A2959=I$3,AND($A2959=I$3,$D2959<0),0)","v":0},0,{"$f":"IF($A2959=K$3,AND($A2959=K$3,$D2959<0),0)","v":0},0,{"$f":"IF($A2959=M$3,AND($A2959=M$3,$D2959<0),0)","v":0},0,{"$f":"IF($A2959=O$3,AND($A2959=O$3,$D2959<0),0)","v":0},0,0,0,0,0,0,0,{"$f":"IF($A2959=W$3,AND($A2959=W$3,$D2959<0),0)","v":0},0,{"$f":"IF($A2959=Y$3,AND($A2959=Y$3,$D2959<0),0)","v":0},0,{"$f":"IF($A2959=AA$3,AND($A2959=AA$3,$D2959<0),0)","v":0},0,{"$f":"IF($A2959=AC$3,AND($A2959=AC$3,$D2959<0),0)","v":0},0,0]
[{"$f":"IF(B2960=0,\"\",MONTH(B2960))","v":""},null,null,null,{"$f":"IF(D2960=\"\",\"\",IF(D2960<0,\"DEBITO\",\"CREDITO\"))","v":""},null,false,false,0,{"$f":"IF($A2960=I$3,AND($A2960=I$3,$D2960<0),0)","v":0},0,{"$f":"IF($A2960=K$3,AND($A2960=K$3,$D2960<0),0)","v":0},0,{"$f":"IF($A2960=M$3,AND($A2960=M$3,$D2960<0),0)","v":0},0,{"$f":"IF($A2960=O$3,AND($A2960=O$3,$D2960<0),0)","v":0},0,0,0,0,0,0,0,{"$f":"IF($A2960=W$3,AND($A2960=W$3,$D2960<0),0)","v":0},0,{"$f":"IF($A2960=Y$3,AND($A2960=Y$3,$D2960<0),0)","v":0},0,{"$f":"IF($A2960=AA$3,AND($A2960=AA$3,$D2960<0),0)","v":0},0,{"$f":"IF($A2960=AC$3,AND($A2960=AC$3,$D2960<0),0)","v":0},0,0]
[{"$f":"IF(B2963=0,\"\",MONTH(B2963))","v":""},null,null,null,{"$f":"IF(D2963=\"\",\"\",IF(D2963<0,\"DEBITO\",\"CREDITO\"))","v":""},null,false,false,0,{"$f":"IF($A2963=I$3,AND($A2963=I$3,$D2963<0),0)","v":0},0,{"$f":"IF($A2963=K$3,AND($A2963=K$3,$D2963<0),0)","v":0},0,{"$f":"IF($A2963=M$3,AND($A2963=M$3,$D2963<0),0)","v":0},0,{"$f":"IF($A2963=O$3,AND($A2963=O$3,$D2963<0),0)","v":0},0,0,0,0,0,0,0,{"$f":"IF($A2963=W$3,AND($A2963=W$3,$D2963<0),0)","v":0},0,{"$f":"IF($A2963=Y$3,AND($A2963=Y$3,$D2963<0),0)","v":0},0,{"$f":"IF($A2963=AA$3,AND($A2963=AA$3,$D2963<0),0)","v":0},0,{"$f":"IF($A2963=AC$3,AND($A2963=AC$3,$D2963<0),0)","v":0},0,0]
[{"$f":"IF(B2965=0,\"\",MONTH(B2965))","v":""},null,null,null,{"$f":"IF(D2965=\"\",\"\",IF(D2965<0,\"DEBITO\",\"CREDITO\"))","v":""},null,false,false,0,{"$f":"IF($A2965=I$3,AND($A2965=I$3,$D2965<0),0)","v":0},0,{"$f":"IF($A2965=K$3,AND($A2965=K$3,$D2965<0),0)","v":0},0,{"$f":"IF($A2965=M$3,AND($A2965=M$3,$D2965<0),0)","v":0},0,{"$f":"IF($A2965=O$3,AND($A2965=O$3,$D2965<0),0)","v":0},0,0,0,0,0,0,0,{"$f":"IF($A2965=W$3,AND($A2965=W$3,$D2965<0),0)","v":0},0,{"$f":"IF($A2965=Y$3,AND($A2965=Y$3,$D2965<0),0)","v":0},0,{"$f":"IF($A2965=AA$3,AND($A2965=AA$3,$D2965<0),0)","v":0},0,{"$f":"IF($A2965=AC$3,AND($A2965=AC$3,$D2965<0),0)","v":0},0,0]
[{"$f":"IF(B2968=0,\"\",MONTH(B2968))","v":""},null,null,null,{"$f":"IF(D2968=\"\",\"\",IF(D2968<0,\"DEBITO\",\"CREDITO\"))","v":""},null,false,false,0,{"$f":"IF($A2968=I$3,AND($A2968=I$3,$D2968<0),0)","v":0},0,{"$f":"IF($A2968=K$3,AND($A2968=K$3,$D2968<0),0)","v":0},0,{"$f":"IF($A2968=M$3,AND($A2968=M$3,$D2968<0),0)","v":0},0,{"$f":"IF($A2968=O$3,AND($A2968=O$3,$D2968<0),0)","v":0},0,0,0,0,0,0,0,{"$f":"IF($A2968=W$3,AND($A2968=W$3,$D2968<0),0)","v":0},0,{"$f":"IF($A2968=Y$3,AND($A2968=Y$3,$D2968<0),0)","v":0},0,{"$f":"IF($A2968=AA$3,AND($A2968=AA$3,$D2968<0),0)","v":0},0,{"$f":"IF($A2968=AC$3,AND($A2968=AC$3,$D2968<0),0)","v":0},0,0]
[{"$f":"IF(B2969=0,\"\",MONTH(B2969))","v":""},null,null,null,{"$f":"IF(D2969=\"\",\"\",IF(D2969<0,\"DEBITO\",\"CREDITO\"))","v":""},null,false,false,{"$f":"IF($A2969=I$3,AND($A2969=I$3,$D2969>0),0)","v":0},{"$f":"IF($A2969=I$3,AND($A2969=I$3,$D2969<0),0)","v":0},{"$f":"IF($A2969=K$3,AND($A2969=K$3,$D2969>0),0)","v":0},{"$f":"IF($A2969=K$3,AND($A2969=K$3,$D2969<0),0)","v":0},{"$f":"IF($A2969=M$3,AND($A2969=M$3,$D2969>0),0)","v":0},{"$f":"IF($A2969=M$3,AND($A2969=M$3,$D2969<0),0)","v":0},{"$f":"IF($A2969=O$3,AND($A2969=O$3,$D2969>0),0)","v":0},{"$f":"IF($A2969=O$3,AND($A2969=O$3,$D2969<0),0)","v":0},{"$f":"IF($A2969=Q$3,AND($A2969=Q$3,$D2969>0),0)","v":0},0,0,0,0,0,{"$f":"IF($A2969=W$3,AND($A2969=W$3,$D2969>0),0)","v":0},{"$f":"IF($A2969=W$3,AND($A2969=W$3,$D2969<0),0)","v":0},{"$f":"IF($A2969=Y$3,AND($A2969=Y$3,$D2969>0),0)","v":0},{"$f":"IF($A2969=Y$3,AND($A2969=Y$3,$D2969<0),0)","v":0},{"$f":"IF($A2969=AA$3,AND($A2969=AA$3,$D2969>0),0)","v":0},{"$f":"IF($A2969=AA$3,AND($A2969=AA$3,$D2969<0),0)","v":0},{"$f":"IF($A2969=AC$3,AND($A2969=AC$3,$D2969>0),0)","v":0},{"$f":"IF($A2969=AC$3,AND($A2969=AC$3,$D2969<0),0)","v":0},{"$f":"IF($A2969=AE$3,AND($A2969=AE$3,$D2969>0),0)","v":0},0]
[{"$f":"IF(B2972=0,\"\",MONTH(B2972))","v":""},null,null,null,{"$f":"IF(D2972=\"\",\"\",IF(D2972<0,\"DEBITO\",\"CREDITO\"))","v":""},null,false,false,0,{"$f":"IF($A2972=I$3,AND($A2972=I$3,$D2972<0),0)","v":0},0,{"$f":"IF($A2972=K$3,AND($A2972=K$3,$D2972<0),0)","v":0},0,{"$f":"IF($A2972=M$3,AND($A2972=M$3,$D2972<0),0)","v":0},0,{"$f":"IF($A2972=O$3,AND($A2972=O$3,$D2972<0),0)","v":0},0,0,0,0,0,0,0,{"$f":"IF($A2972=W$3,AND($A2972=W$3,$D2972<0),0)","v":0},0,{"$f":"IF($A2972=Y$3,AND($A2972=Y$3,$D2972<0),0)","v":0},0,{"$f":"IF($A2972=AA$3,AND($A2972=AA$3,$D2972<0),0)","v":0},0,{"$f":"IF($A2972=AC$3,AND($A2972=AC$3,$D2972<0),0)","v":0},0,0]
[{"$f":"IF(B2973=0,\"\",MONTH(B2973))","v":""},null,null,null,{"$f":"IF(D2973=\"\",\"\",IF(D2973<0,\"DEBITO\",\"CREDITO\"))","v":""},null,false,false,0,{"$f":"IF($A2973=I$3,AND($A2973=I$3,$D2973<0),0)","v":0},0,{"$f":"IF($A2973=K$3,AND($A2973=K$3,$D2973<0),0)","v":0},0,{"$f":"IF($A2973=M$3,AND($A2973=M$3,$D2973<0),0)","v":0},0,{"$f":"IF($A2973=O$3,AND($A2973=O$3,$D2973<0),0)","v":0},0,0,0,0,0,0,0,{"$f":"IF($A2973=W$3,AND($A2973=W$3,$D2973<0),0)","v":0},0,{"$f":"IF($A2973=Y$3,AND($A2973=Y$3,$D2973<0),0)","v":0},0,{"$f":"IF($A2973=AA$3,AND($A2973=AA$3,$D2973<0),0)","v":0},0,{"$f":"IF($A2973=AC$3,AND($A2973=AC$3,$D2973<0),0)","v":0},0,0]
[{"$f":"IF(B2976=0,\"\",MONTH(B2976))","v":""},null,null,null,{"$f":"IF(D2976=\"\",\"\",IF(D2976<0,\"DEBITO\",\"CREDITO\"))","v":""},null,false,false,0,{"$f":"IF($A2976=I$3,AND($A2976=I$3,$D2976<0),0)","v":0},0,{"$f":"IF($A2976=K$3,AND($A2976=K$3,$D2976<0),0)","v":0},0,{"$f":"IF($A2976=M$3,AND($A2976=M$3,$D2976<0),0)","v":0},0,{"$f":"IF($A2976=O$3,AND($A2976=O$3,$D2976<0),0)","v":0},0,0,0,0,0,0,0,{"$f":"IF($A2976=W$3,AND($A2976=W$3,$D2976<0),0)","v":0},0,{"$f":"IF($A2976=Y$3,AND($A2976=Y$3,$D2976<0),0)","v":0},0,{"$f":"IF($A2976=AA$3,AND($A2976=AA$3,$D2976<0),0)","v":0},0,{"$f":"IF($A2976=AC$3,AND($A2976=AC$3,$D2976<0),0)","v":0},0,0]
[{"$f":"IF(B2977=0,\"\",MONTH(B2977))","v":""},null,null,null,{"$f":"IF(D2977=\"\",\"\",IF(D2977<0,\"DEBITO\",\"CREDITO\"))","v":""},null,false,false,0,{"$f":"IF($A2977=I$3,AND($A2977=I$3,$D2977<0),0)","v":0},0,{"$f":"IF($A2977=K$3,AND($A2977=K$3,$D2977<0),0)","v":0},0,{"$f":"IF($A2977=M$3,AND($A2977=M$3,$D2977<0),0)","v":0},0,{"$f":"IF($A2977=O$3,AND($A2977=O$3,$D2977<0),0)","v":0},0,0,0,0,0,0,0,{"$f":"IF($A2977=W$3,AND($A2977=W$3,$D2977<0),0)","v":0},0,{"$f":"IF($A2977=Y$3,AND($A2977=Y$3,$D2977<0),0)","v":0},0,{"$f":"IF($A2977=AA$3,AND($A2977=AA$3,$D2977<0),0)","v":0},0,{"$f":"IF($A2977=AC$3,AND($A2977=AC$3,$D2977<0),0)","v":0},0,0]
[{"$f":"IF(B2980=0,\"\",MONTH(B2980))","v":""},null,null,null,{"$f":"IF(D2980=\"\",\"\",IF(D2980<0,\"DEBITO\",\"CREDITO\"))","v":""},null,false,false,0,{"$f":"IF($A2980=I$3,AND($A2980=I$3,$D2980<0),0)","v":0},0,{"$f":"IF($A2980=K$3,AND($A2980=K$3,$D2980<0),0)","v":0},0,{"$f":"IF($A2980=M$3,AND($A2980=M$3,$D2980<0),0)","v":0},0,{"$f":"IF($A2980=O$3,AND($A2980=O$3,$D2980<0),0)","v":0},0,0,0,0,0,0,0,{"$f":"IF($A2980=W$3,AND($A2980=W$3,$D2980<0),0)","v":0},0,{"$f":"IF($A2980=Y$3,AND($A2980=Y$3,$D2980<0),0)","v":0},0,{"$f":"IF($A2980=AA$3,AND($A2980=AA$3,$D2980<0),0)","v":0},0,{"$f":"IF($A2980=AC$3,AND($A2980=AC$3,$D2980<0),0)","v":0},0,0]
[{"$f":"IF(B2981=0,\"\",MONTH(B2981))","v":""},null,null,null,{"$f":"IF(D2981=\"\",\"\",IF(D2981<0,\"DEBITO\",\"CREDITO\"))","v":""},null,false,false,0,{"$f":"IF($A2981=I$3,AND($A2981=I$3,$D2981<0),0)","v":0},0,{"$f":"IF($A2981=K$3,AND($A2981=K$3,$D2981<0),0)","v":0},0,{"$f":"IF($A2981=M$3,AND($A2981=M$3,$D2981<0),0)","v":0},0,{"$f":"IF($A2981=O$3,AND($A2981=O$3,$D2981<0),0)","v":0},0,0,0,0,0,0,0,{"$f":"IF($A2981=W$3,AND($A2981=W$3,$D2981<0),0)","v":0},0,{"$f":"IF($A2981=Y$3,AND($A2981=Y$3,$D2981<0),0)","v":0},0,{"$f":"IF($A2981=AA$3,AND($A2981=AA$3,$D2981<0),0)","v":0},0,{"$f":"IF($A2981=AC$3,AND($A2981=AC$3,$D2981<0),0)","v":0},0,0]
[{"$f":"IF(B2984=0,\"\",MONTH(B2984))","v":""},null,null,null,{"$f":"IF(D2984=\"\",\"\",IF(D2984<0,\"DEBITO\",\"CREDITO\"))","v":""},null,false,false,0,{"$f":"IF($A2984=I$3,AND($A2984=I$3,$D2984<0),0)","v":0},0,{"$f":"IF($A2984=K$3,AND($A2984=K$3,$D2984<0),0)","v":0},0,{"$f":"IF($A2984=M$3,AND($A2984=M$3,$D2984<0),0)","v":0},0,{"$f":"IF($A2984=O$3,AND($A2984=O$3,$D2984<0),0)","v":0},0,0,0,0,0,0,0,{"$f":"IF($A2984=W$3,AND($A2984=W$3,$D2984<0),0)","v":0},0,{"$f":"IF($A2984=Y$3,AND($A2984=Y$3,$D2984<0),0)","v":0},0,{"$f":"IF($A2984=AA$3,AND($A2984=AA$3,$D2984<0),0)","v":0},0,{"$f":"IF($A2984=AC$3,AND($A2984=AC$3,$D2984<0),0)","v":0},0,0]
[{"$f":"IF(B2987=0,\"\",MONTH(B2987))","v":""},null,null,null,{"$f":"IF(D2987=\"\",\"\",IF(D2987<0,\"DEBITO\",\"CREDITO\"))","v":""},null,false,false,0,{"$f":"IF($A2987=I$3,AND($A2987=I$3,$D2987<0),0)","v":0},0,{"$f":"IF($A2987=K$3,AND($A2987=K$3,$D2987<0),0)","v":0},0,{"$f":"IF($A2987=M$3,AND($A2987=M$3,$D2987<0),0)","v":0},0,{"$f":"IF($A2987=O$3,AND($A2987=O$3,$D2987<0),0)","v":0},0,0,0,0,0,0,0,{"$f":"IF($A2987=W$3,AND($A2987=W$3,$D2987<0),0)","v":0},0,{"$f":"IF($A2987=Y$3,AND($A2987=Y$3,$D2987<0),0)","v":0},0,{"$f":"IF($A2987=AA$3,AND($A2987=AA$3,$D2987<0),0)","v":0},0,{"$f":"IF($A2987=AC$3,AND($A2987=AC$3,$D2987<0),0)","v":0},0,0]
[{"$f":"IF(B2989=0,\"\",MONTH(B2989))","v":""},null,null,null,{"$f":"IF(D2989=\"\",\"\",IF(D2989<0,\"DEBITO\",\"CREDITO\"))","v":""},null,false,false,0,{"$f":"IF($A2989=I$3,AND($A2989=I$3,$D2989<0),0)","v":0},0,{"$f":"IF($A2989=K$3,AND($A2989=K$3,$D2989<0),0)","v":0},0,{"$f":"IF($A2989=M$3,AND($A2989=M$3,$D2989<0),0)","v":0},0,{"$f":"IF($A2989=O$3,AND($A2989=O$3,$D2989<0),0)","v":0},0,0,0,0,0,0,0,{"$f":"IF($A2989=W$3,AND($A2989=W$3,$D2989<0),0)","v":0},0,{"$f":"IF($A2989=Y$3,AND($A2989=Y$3,$D2989<0),0)","v":0},0,{"$f":"IF($A2989=AA$3,AND($A2989=AA$3,$D2989<0),0)","v":0},0,{"$f":"IF($A2989=AC$3,AND($A2989=AC$3,$D2989<0),0)","v":0},0,0]
[{"$f":"IF(B2990=0,\"\",MONTH(B2990))","v":""},null,null,null,{"$f":"IF(D2990=\"\",\"\",IF(D2990<0,\"DEBITO\",\"CREDITO\"))","v":""},null,false,false,0,{"$f":"IF($A2990=I$3,AND($A2990=I$3,$D2990<0),0)","v":0},0,{"$f":"IF($A2990=K$3,AND($A2990=K$3,$D2990<0),0)","v":0},0,{"$f":"IF($A2990=M$3,AND($A2990=M$3,$D2990<0),0)","v":0},0,{"$f":"IF($A2990=O$3,AND($A2990=O$3,$D2990<0),0)","v":0},0,0,0,0,0,0,0,{"$f":"IF($A2990=W$3,AND($A2990=W$3,$D2990<0),0)","v":0},0,{"$f":"IF($A2990=Y$3,AND($A2990=Y$3,$D2990<0),0)","v":0},0,{"$f":"IF($A2990=AA$3,AND($A2990=AA$3,$D2990<0),0)","v":0},0,{"$f":"IF($A2990=AC$3,AND($A2990=AC$3,$D2990<0),0)","v":0},0,0]
[{"$f":"IF(B2993=0,\"\",MONTH(B2993))","v":""},null,null,null,{"$f":"IF(D2993=\"\",\"\",IF(D2993<0,\"DEBITO\",\"CREDITO\"))","v":""},null,false,false,0,{"$f":"IF($A2993=I$3,AND($A2993=I$3,$D2993<0),0)","v":0},0,{"$f":"IF($A2993=K$3,AND($A2993=K$3,$D2993<0),0)","v":0},0,{"$f":"IF($A2993=M$3,AND($A2993=M$3,$D2993<0),0)","v":0},0,{"$f":"IF($A2993=O$3,AND($A2993=O$3,$D2993<0),0)","v":0},0,0,0,0,0,0,0,{"$f":"IF($A2993=W$3,AND($A2993=W$3,$D2993<0),0)","v":0},0,{"$f":"IF($A2993=Y$3,AND($A2993=Y$3,$D2993<0),0)","v":0},0,{"$f":"IF($A2993=AA$3,AND($A2993=AA$3,$D2993<0),0)","v":0},0,{"$f":"IF($A2993=AC$3,AND($A2993=AC$3,$D2993<0),0)","v":0},0,0]
[{"$f":"IF(B2994=0,\"\",MONTH(B2994))","v":""},null,null,null,{"$f":"IF(D2994=\"\",\"\",IF(D2994<0,\"DEBITO\",\"CREDITO\"))","v":""},null,false,false,0,{"$f":"IF($A2994=I$3,AND($A2994=I$3,$D2994<0),0)","v":0},0,{"$f":"IF($A2994=K$3,AND($A2994=K$3,$D2994<0),0)","v":0},0,{"$f":"IF($A2994=M$3,AND($A2994=M$3,$D2994<0),0)","v":0},0,{"$f":"IF($A2994=O$3,AND($A2994=O$3,$D2994<0),0)","v":0},0,0,0,0,0,0,0,{"$f":"IF($A2994=W$3,AND($A2994=W$3,$D2994<0),0)","v":0},0,{"$f":"IF($A2994=Y$3,AND($A2994=Y$3,$D2994<0),0)","v":0},0,{"$f":"IF($A2994=AA$3,AND($A2994=AA$3,$D2994<0),0)","v":0},0,{"$f":"IF($A2994=AC$3,AND($A2994=AC$3,$D2994<0),0)","v":0},0,0]
[{"$f":"IF(B2997=0,\"\",MONTH(B2997))","v":""},null,null,null,{"$f":"IF(D2997=\"\",\"\",IF(D2997<0,\"DEBITO\",\"CREDITO\"))","v":""},null,false,false,0,{"$f":"IF($A2997=I$3,AND($A2997=I$3,$D2997<0),0)","v":0},0,{"$f":"IF($A2997=K$3,AND($A2997=K$3,$D2997<0),0)","v":0},0,{"$f":"IF($A2997=M$3,AND($A2997=M$3,$D2997<0),0)","v":0},0,{"$f":"IF($A2997=O$3,AND($A2997=O$3,$D2997<0),0)","v":0},0,0,0,0,0,0,0,{"$f":"IF($A2997=W$3,AND($A2997=W$3,$D2997<0),0)","v":0},0,{"$f":"IF($A2997=Y$3,AND($A2997=Y$3,$D2997<0),0)","v":0},0,{"$f":"IF($A2997=AA$3,AND($A2997=AA$3,$D2997<0),0)","v":0},0,{"$f":"IF($A2997=AC$3,AND($A2997=AC$3,$D2997<0),0)","v":0},0,0]
[{"$f":"IF(B2998=0,\"\",MONTH(B2998))","v":""},null,null,null,{"$f":"IF(D2998=\"\",\"\",IF(D2998<0,\"DEBITO\",\"CREDITO\"))","v":""},null,false,false,0,{"$f":"IF($A2998=I$3,AND($A2998=I$3,$D2998<0),0)","v":0},0,{"$f":"IF($A2998=K$3,AND($A2998=K$3,$D2998<0),0)","v":0},0,{"$f":"IF($A2998=M$3,AND($A2998=M$3,$D2998<0),0)","v":0},0,{"$f":"IF($A2998=O$3,AND($A2998=O$3,$D2998<0),0)","v":0},0,0,0,0,0,0,0,{"$f":"IF($A2998=W$3,AND($A2998=W$3,$D2998<0),0)","v":0},0,{"$f":"IF($A2998=Y$3,AND($A2998=Y$3,$D2998<0),0)","v":0},0,{"$f":"IF($A2998=AA$3,AND($A2998=AA$3,$D2998<0),0)","v":0},0,{"$f":"IF($A2998=AC$3,AND($A2998=AC$3,$D2998<0),0)","v":0},0,0]
[{"$f":"IF(B3001=0,\"\",MONTH(B3001))","v":""},null,null,null,{"$f":"IF(D3001=\"\",\"\",IF(D3001<0,\"DEBITO\",\"CREDITO\"))","v":""},null,false,false,0,{"$f":"IF($A3001=I$3,AND($A3001=I$3,$D3001<0),0)","v":0},0,{"$f":"IF($A3001=K$3,AND($A3001=K$3,$D3001<0),0)","v":0},0,{"$f":"IF($A3001=M$3,AND($A3001=M$3,$D3001<0),0)","v":0},0,{"$f":"IF($A3001=O$3,AND($A3001=O$3,$D3001<0),0)","v":0},0,0,0,0,0,0,0,{"$f":"IF($A3001=W$3,AND($A3001=W$3,$D3001<0),0)","v":0},0,{"$f":"IF($A3001=Y$3,AND($A3001=Y$3,$D3001<0),0)","v":0},0,{"$f":"IF($A3001=AA$3,AND($A3001=AA$3,$D3001<0),0)","v":0},0,{"$f":"IF($A3001=AC$3,AND($A3001=AC$3,$D3001<0),0)","v":0},0,0]
[{"$f":"IF(B3002=0,\"\",MONTH(B3002))","v":""},null,null,null,{"$f":"IF(D3002=\"\",\"\",IF(D3002<0,\"DEBITO\",\"CREDITO\"))","v":""},null,false,false,0,{"$f":"IF($A3002=I$3,AND($A3002=I$3,$D3002<0),0)","v":0},0,{"$f":"IF($A3002=K$3,AND($A3002=K$3,$D3002<0),0)","v":0},0,{"$f":"IF($A3002=M$3,AND($A3002=M$3,$D3002<0),0)","v":0},0,{"$f":"IF($A3002=O$3,AND($A3002=O$3,$D3002<0),0)","v":0},0,0,0,0,0,0,0,{"$f":"IF($A3002=W$3,AND($A3002=W$3,$D3002<0),0)","v":0},0,{"$f":"IF($A3002=Y$3,AND($A3002=Y$3,$D3002<0),0)","v":0},0,{"$f":"IF($A3002=AA$3,AND($A3002=AA$3,$D3002<0),0)","v":0},0,{"$f":"IF($A3002=AC$3,AND($A3002=AC$3,$D3002<0),0)","v":0},0,0]
[{"$f":"IF(B3005=0,\"\",MONTH(B3005))","v":""},null,null,null,{"$f":"IF(D3005=\"\",\"\",IF(D3005<0,\"DEBITO\",\"CREDITO\"))","v":""},null,false,false,0,{"$f":"IF($A3005=I$3,AND($A3005=I$3,$D3005<0),0)","v":0},0,{"$f":"IF($A3005=K$3,AND($A3005=K$3,$D3005<0),0)","v":0},0,{"$f":"IF($A3005=M$3,AND($A3005=M$3,$D3005<0),0)","v":0},0,{"$f":"IF($A3005=O$3,AND($A3005=O$3,$D3005<0),0)","v":0},0,0,0,0,0,0,0,{"$f":"IF($A3005=W$3,AND($A3005=W$3,$D3005<0),0)","v":0},0,{"$f":"IF($A3005=Y$3,AND($A3005=Y$3,$D3005<0),0)","v":0},0,{"$f":"IF($A3005=AA$3,AND($A3005=AA$3,$D3005<0),0)","v":0},0,{"$f":"IF($A3005=AC$3,AND($A3005=AC$3,$D3005<0),0)","v":0},0,0]
[{"$f":"IF(B3006=0,\"\",MONTH(B3006))","v":""},null,null,null,{"$f":"IF(D3006=\"\",\"\",IF(D3006<0,\"DEBITO\",\"CREDITO\"))","v":""},null,false,false,0,{"$f":"IF($A3006=I$3,AND($A3006=I$3,$D3006<0),0)","v":0},0,{"$f":"IF($A3006=K$3,AND($A3006=K$3,$D3006<0),0)","v":0},0,{"$f":"IF($A3006=M$3,AND($A3006=M$3,$D3006<0),0)","v":0},0,{"$f":"IF($A3006=O$3,AND($A3006=O$3,$D3006<0),0)","v":0},0,0,0,0,0,0,0,{"$f":"IF($A3006=W$3,AND($A3006=W$3,$D3006<0),0)","v":0},0,{"$f":"IF($A3006=Y$3,AND($A3006=Y$3,$D3006<0),0)","v":0},0,{"$f":"IF($A3006=AA$3,AND($A3006=AA$3,$D3006<0),0)","v":0},0,{"$f":"IF($A3006=AC$3,AND($A3006=AC$3,$D3006<0),0)","v":0},0,0]
[{"$f":"IF(B3008=0,\"\",MONTH(B3008))","v":""},null,null,null,{"$f":"IF(D3008=\"\",\"\",IF(D3008<0,\"DEBITO\",\"CREDITO\"))","v":""},null,false,false,0,{"$f":"IF($A3008=I$3,AND($A3008=I$3,$D3008<0),0)","v":0},0,{"$f":"IF($A3008=K$3,AND($A3008=K$3,$D3008<0),0)","v":0},0,{"$f":"IF($A3008=M$3,AND($A3008=M$3,$D3008<0),0)","v":0},0,{"$f":"IF($A3008=O$3,AND($A3008=O$3,$D3008<0),0)","v":0},0,0,0,0,0,0,0,{"$f":"IF($A3008=W$3,AND($A3008=W$3,$D3008<0),0)","v":0},0,{"$f":"IF($A3008=Y$3,AND($A3008=Y$3,$D3008<0),0)","v":0},0,{"$f":"IF($A3008=AA$3,AND($A3008=AA$3,$D3008<0),0)","v":0},0,{"$f":"IF($A3008=AC$3,AND($A3008=AC$3,$D3008<0),0)","v":0},0,0]
[{"$f":"IF(B3011=0,\"\",MONTH(B3011))","v":""},null,null,null,{"$f":"IF(D3011=\"\",\"\",IF(D3011<0,\"DEBITO\",\"CREDITO\"))","v":""},null,false,false,0,{"$f":"IF($A3011=I$3,AND($A3011=I$3,$D3011<0),0)","v":0},0,{"$f":"IF($A3011=K$3,AND($A3011=K$3,$D3011<0),0)","v":0},0,{"$f":"IF($A3011=M$3,AND($A3011=M$3,$D3011<0),0)","v":0},0,{"$f":"IF($A3011=O$3,AND($A3011=O$3,$D3011<0),0)","v":0},0,0,0,0,0,0,0,{"$f":"IF($A3011=W$3,AND($A3011=W$3,$D3011<0),0)","v":0},0,{"$f":"IF($A3011=Y$3,AND($A3011=Y$3,$D3011<0),0)","v":0},0,{"$f":"IF($A3011=AA$3,AND($A3011=AA$3,$D3011<0),0)","v":0},0,{"$f":"IF($A3011=AC$3,AND($A3011=AC$3,$D3011<0),0)","v":0},0,0]
[{"$f":"IF(B3014=0,\"\",MONTH(B3014))","v":""},null,null,null,{"$f":"IF(D3014=\"\",\"\",IF(D3014<0,\"DEBITO\",\"CREDITO\"))","v":""},null,false,false,0,{"$f":"IF($A3014=I$3,AND($A3014=I$3,$D3014<0),0)","v":0},0,{"$f":"IF($A3014=K$3,AND($A3014=K$3,$D3014<0),0)","v":0},0,{"$f":"IF($A3014=M$3,AND($A3014=M$3,$D3014<0),0)","v":0},0,{"$f":"IF($A3014=O$3,AND($A3014=O$3,$D3014<0),0)","v":0},0,0,0,0,0,0,0,{"$f":"IF($A3014=W$3,AND($A3014=W$3,$D3014<0),0)","v":0},0,{"$f":"IF($A3014=Y$3,AND($A3014=Y$3,$D3014<0),0)","v":0},0,{"$f":"IF($A3014=AA$3,AND($A3014=AA$3,$D3014<0),0)","v":0},0,{"$f":"IF($A3014=AC$3,AND($A3014=AC$3,$D3014<0),0)","v":0},0,0]
[{"$f":"IF(B3015=0,\"\",MONTH(B3015))","v":""},null,null,null,{"$f":"IF(D3015=\"\",\"\",IF(D3015<0,\"DEBITO\",\"CREDITO\"))","v":""},null,false,false,0,{"$f":"IF($A3015=I$3,AND($A3015=I$3,$D3015<0),0)","v":0},0,{"$f":"IF($A3015=K$3,AND($A3015=K$3,$D3015<0),0)","v":0},0,{"$f":"IF($A3015=M$3,AND($A3015=M$3,$D3015<0),0)","v":0},0,{"$f":"IF($A3015=O$3,AND($A3015=O$3,$D3015<0),0)","v":0},0,0,0,0,0,0,0,{"$f":"IF($A3015=W$3,AND($A3015=W$3,$D3015<0),0)","v":0},0,{"$f":"IF($A3015=Y$3,AND($A3015=Y$3,$D3015<0),0)","v":0},0,{"$f":"IF($A3015=AA$3,AND($A3015=AA$3,$D3015<0),0)","v":0},0,{"$f":"IF($A3015=AC$3,AND($A3015=AC$3,$D3015<0),0)","v":0},0,0]
[{"$f":"IF(B3018=0,\"\",MONTH(B3018))","v":""},null,null,null,{"$f":"IF(D3018=\"\",\"\",IF(D3018<0,\"DEBITO\",\"CREDITO\"))","v":""},null,false,false,0,{"$f":"IF($A3018=I$3,AND($A3018=I$3,$D3018<0),0)","v":0},0,{"$f":"IF($A3018=K$3,AND($A3018=K$3,$D3018<0),0)","v":0},0,{"$f":"IF($A3018=M$3,AND($A3018=M$3,$D3018<0),0)","v":0},0,{"$f":"IF($A3018=O$3,AND($A3018=O$3,$D3018<0),0)","v":0},0,0,{"$f":"IF($A3018=S$3,AND($A3018=S$3,$D3018>0),0)","v":0},{"$f":"IF($A3018=S$3,AND($A3018=S$3,$D3018<0),0)","v":0},{"$f":"IF($A3018=U$3,AND($A3018=U$3,$D3018>0),0)","v":0},{"$f":"IF($A3018=U$3,AND($A3018=U$3,$D3018<0),0)","v":0},0,{"$f":"IF($A3018=W$3,AND($A3018=W$3,$D3018<0),0)","v":0},0,{"$f":"IF($A3018=Y$3,AND($A3018=Y$3,$D3018<0),0)","v":0},0,{"$f":"IF($A3018=AA$3,AND($A3018=AA$3,$D3018<0),0)","v":0},0,{"$f":"IF($A3018=AC$3,AND($A3018=AC$3,$D3018<0),0)","v":0},0,0]
[{"$f":"IF(B3019=0,\"\",MONTH(B3019))","v":""},null,null,null,{"$f":"IF(D3019=\"\",\"\",IF(D3019<0,\"DEBITO\",\"CREDITO\"))","v":""},null,false,false,0,{"$f":"IF($A3019=I$3,AND($A3019=I$3,$D3019<0),0)","v":0},0,{"$f":"IF($A3019=K$3,AND($A3019=K$3,$D3019<0),0)","v":0},0,{"$f":"IF($A3019=M$3,AND($A3019=M$3,$D3019<0),0)","v":0},0,{"$f":"IF($A3019=O$3,AND($A3019=O$3,$D3019<0),0)","v":0},0,0,0,0,0,0,0,{"$f":"IF($A3019=W$3,AND($A3019=W$3,$D3019<0),0)","v":0},0,{"$f":"IF($A3019=Y$3,AND($A3019=Y$3,$D3019<0),0)","v":0},0,{"$f":"IF($A3019=AA$3,AND($A3019=AA$3,$D3019<0),0)","v":0},0,{"$f":"IF($A3019=AC$3,AND($A3019=AC$3,$D3019<0),0)","v":0},0,0]
[{"$f":"IF(B3022=0,\"\",MONTH(B3022))","v":""},null,null,null,{"$f":"IF(D3022=\"\",\"\",IF(D3022<0,\"DEBITO\",\"CREDITO\"))","v":""},null,false,false,0,{"$f":"IF($A3022=I$3,AND($A3022=I$3,$D3022<0),0)","v":0},0,{"$f":"IF($A3022=K$3,AND($A3022=K$3,$D3022<0),0)","v":0},0,{"$f":"IF($A3022=M$3,AND($A3022=M$3,$D3022<0),0)","v":0},0,{"$f":"IF($A3022=O$3,AND($A3022=O$3,$D3022<0),0)","v":0},0,0,0,0,0,0,0,{"$f":"IF($A3022=W$3,AND($A3022=W$3,$D3022<0),0)","v":0},0,{"$f":"IF($A3022=Y$3,AND($A3022=Y$3,$D3022<0),0)","v":0},0,{"$f":"IF($A3022=AA$3,AND($A3022=AA$3,$D3022<0),0)","v":0},0,{"$f":"IF($A3022=AC$3,AND($A3022=AC$3,$D3022<0),0)","v":0},0,0]
[{"$f":"IF(B3023=0,\"\",MONTH(B3023))","v":""},null,null,null,{"$f":"IF(D3023=\"\",\"\",IF(D3023<0,\"DEBITO\",\"CREDITO\"))","v":""},null,false,false,0,{"$f":"IF($A3023=I$3,AND($A3023=I$3,$D3023<0),0)","v":0},0,{"$f":"IF($A3023=K$3,AND($A3023=K$3,$D3023<0),0)","v":0},0,{"$f":"IF($A3023=M$3,AND($A3023=M$3,$D3023<0),0)","v":0},0,{"$f":"IF($A3023=O$3,AND($A3023=O$3,$D3023<0),0)","v":0},0,0,0,0,0,0,0,{"$f":"IF($A3023=W$3,AND($A3023=W$3,$D3023<0),0)","v":0},0,{"$f":"IF($A3023=Y$3,AND($A3023=Y$3,$D3023<0),0)","v":0},0,{"$f":"IF($A3023=AA$3,AND($A3023=AA$3,$D3023<0),0)","v":0},0,{"$f":"IF($A3023=AC$3,AND($A3023=AC$3,$D3023<0),0)","v":0},0,0]
[{"$f":"IF(B3026=0,\"\",MONTH(B3026))","v":""},null,null,null,{"$f":"IF(D3026=\"\",\"\",IF(D3026<0,\"DEBITO\",\"CREDITO\"))","v":""},null,false,false,0,{"$f":"IF($A3026=I$3,AND($A3026=I$3,$D3026<0),0)","v":0},0,{"$f":"IF($A3026=K$3,AND($A3026=K$3,$D3026<0),0)","v":0},0,{"$f":"IF($A3026=M$3,AND($A3026=M$3,$D3026<0),0)","v":0},0,{"$f":"IF($A3026=O$3,AND($A3026=O$3,$D3026<0),0)","v":0},0,0,0,0,0,0,0,{"$f":"IF($A3026=W$3,AND($A3026=W$3,$D3026<0),0)","v":0},0,{"$f":"IF($A3026=Y$3,AND($A3026=Y$3,$D3026<0),0)","v":0},0,{"$f":"IF($A3026=AA$3,AND($A3026=AA$3,$D3026<0),0)","v":0},0,{"$f":"IF($A3026=AC$3,AND($A3026=AC$3,$D3026<0),0)","v":0},0,0]
[{"$f":"IF(B3027=0,\"\",MONTH(B3027))","v":""},null,null,null,{"$f":"IF(D3027=\"\",\"\",IF(D3027<0,\"DEBITO\",\"CREDITO\"))","v":""},null,false,false,0,{"$f":"IF($A3027=I$3,AND($A3027=I$3,$D3027<0),0)","v":0},0,{"$f":"IF($A3027=K$3,AND($A3027=K$3,$D3027<0),0)","v":0},0,{"$f":"IF($A3027=M$3,AND($A3027=M$3,$D3027<0),0)","v":0},0,{"$f":"IF($A3027=O$3,AND($A3027=O$3,$D3027<0),0)","v":0},0,0,0,0,0,0,0,{"$f":"IF($A3027=W$3,AND($A3027=W$3,$D3027<0),0)","v":0},0,{"$f":"IF($A3027=Y$3,AND($A3027=Y$3,$D3027<0),0)","v":0},0,{"$f":"IF($A3027=AA$3,AND($A3027=AA$3,$D3027<0),0)","v":0},0,{"$f":"IF($A3027=AC$3,AND($A3027=AC$3,$D3027<0),0)","v":0},0,0]
[{"$f":"IF(B3030=0,\"\",MONTH(B3030))","v":""},null,null,null,{"$f":"IF(D3030=\"\",\"\",IF(D3030<0,\"DEBITO\",\"CREDITO\"))","v":""},null,false,false,0,{"$f":"IF($A3030=I$3,AND($A3030=I$3,$D3030<0),0)","v":0},0,{"$f":"IF($A3030=K$3,AND($A3030=K$3,$D3030<0),0)","v":0},0,{"$f":"IF($A3030=M$3,AND($A3030=M$3,$D3030<0),0)","v":0},0,{"$f":"IF($A3030=O$3,AND($A3030=O$3,$D3030<0),0)","v":0},0,0,0,0,0,0,0,{"$f":"IF($A3030=W$3,AND($A3030=W$3,$D3030<0),0)","v":0},0,{"$f":"IF($A3030=Y$3,AND($A3030=Y$3,$D3030<0),0)","v":0},0,{"$f":"IF($A3030=AA$3,AND($A3030=AA$3,$D3030<0),0)","v":0},0,{"$f":"IF($A3030=AC$3,AND($A3030=AC$3,$D3030<0),0)","v":0},0,0]
[{"$f":"IF(B3032=0,\"\",MONTH(B3032))","v":""},null,null,null,{"$f":"IF(D3032=\"\",\"\",IF(D3032<0,\"DEBITO\",\"CREDITO\"))","v":""},null,false,false,0,{"$f":"IF($A3032=I$3,AND($A3032=I$3,$D3032<0),0)","v":0},0,{"$f":"IF($A3032=K$3,AND($A3032=K$3,$D3032<0),0)","v":0},0,{"$f":"IF($A3032=M$3,AND($A3032=M$3,$D3032<0),0)","v":0},0,{"$f":"IF($A3032=O$3,AND($A3032=O$3,$D3032<0),0)","v":0},0,0,0,0,0,0,0,{"$f":"IF($A3032=W$3,AND($A3032=W$3,$D3032<0),0)","v":0},0,{"$f":"IF($A3032=Y$3,AND($A3032=Y$3,$D3032<0),0)","v":0},0,{"$f":"IF($A3032=AA$3,AND($A3032=AA$3,$D3032<0),0)","v":0},0,{"$f":"IF($A3032=AC$3,AND($A3032=AC$3,$D3032<0),0)","v":0},0,0]
[{"$f":"IF(B3035=0,\"\",MONTH(B3035))","v":""},null,null,null,{"$f":"IF(D3035=\"\",\"\",IF(D3035<0,\"DEBITO\",\"CREDITO\"))","v":""},null,false,false,0,{"$f":"IF($A3035=I$3,AND($A3035=I$3,$D3035<0),0)","v":0},0,{"$f":"IF($A3035=K$3,AND($A3035=K$3,$D3035<0),0)","v":0},0,{"$f":"IF($A3035=M$3,AND($A3035=M$3,$D3035<0),0)","v":0},0,{"$f":"IF($A3035=O$3,AND($A3035=O$3,$D3035<0),0)","v":0},0,0,0,0,0,0,0,{"$f":"IF($A3035=W$3,AND($A3035=W$3,$D3035<0),0)","v":0},0,{"$f":"IF($A3035=Y$3,AND($A3035=Y$3,$D3035<0),0)","v":0},0,{"$f":"IF($A3035=AA$3,AND($A3035=AA$3,$D3035<0),0)","v":0},0,{"$f":"IF($A3035=AC$3,AND($A3035=AC$3,$D3035<0),0)","v":0},0,0]
[{"$f":"IF(B3036=0,\"\",MONTH(B3036))","v":""},null,null,null,{"$f":"IF(D3036=\"\",\"\",IF(D3036<0,\"DEBITO\",\"CREDITO\"))","v":""},null,false,false,0,{"$f":"IF($A3036=I$3,AND($A3036=I$3,$D3036<0),0)","v":0},0,{"$f":"IF($A3036=K$3,AND($A3036=K$3,$D3036<0),0)","v":0},0,{"$f":"IF($A3036=M$3,AND($A3036=M$3,$D3036<0),0)","v":0},0,{"$f":"IF($A3036=O$3,AND($A3036=O$3,$D3036<0),0)","v":0},0,0,0,0,0,0,0,{"$f":"IF($A3036=W$3,AND($A3036=W$3,$D3036<0),0)","v":0},0,{"$f":"IF($A3036=Y$3,AND($A3036=Y$3,$D3036<0),0)","v":0},0,{"$f":"IF($A3036=AA$3,AND($A3036=AA$3,$D3036<0),0)","v":0},0,{"$f":"IF($A3036=AC$3,AND($A3036=AC$3,$D3036<0),0)","v":0},0,0]
[{"$f":"IF(B3039=0,\"\",MONTH(B3039))","v":""},null,null,null,{"$f":"IF(D3039=\"\",\"\",IF(D3039<0,\"DEBITO\",\"CREDITO\"))","v":""},null,false,false,0,{"$f":"IF($A3039=I$3,AND($A3039=I$3,$D3039<0),0)","v":0},0,{"$f":"IF($A3039=K$3,AND($A3039=K$3,$D3039<0),0)","v":0},0,{"$f":"IF($A3039=M$3,AND($A3039=M$3,$D3039<0),0)","v":0},0,{"$f":"IF($A3039=O$3,AND($A3039=O$3,$D3039<0),0)","v":0},0,0,0,0,0,0,0,{"$f":"IF($A3039=W$3,AND($A3039=W$3,$D3039<0),0)","v":0},0,{"$f":"IF($A3039=Y$3,AND($A3039=Y$3,$D3039<0),0)","v":0},0,{"$f":"IF($A3039=AA$3,AND($A3039=AA$3,$D3039<0),0)","v":0},0,{"$f":"IF($A3039=AC$3,AND($A3039=AC$3,$D3039<0),0)","v":0},0,0]
[{"$f":"IF(B3040=0,\"\",MONTH(B3040))","v":""},null,null,null,{"$f":"IF(D3040=\"\",\"\",IF(D3040<0,\"DEBITO\",\"CREDITO\"))","v":""},null,false,false,0,{"$f":"IF($A3040=I$3,AND($A3040=I$3,$D3040<0),0)","v":0},0,{"$f":"IF($A3040=K$3,AND($A3040=K$3,$D3040<0),0)","v":0},0,{"$f":"IF($A3040=M$3,AND($A3040=M$3,$D3040<0),0)","v":0},0,{"$f":"IF($A3040=O$3,AND($A3040=O$3,$D3040<0),0)","v":0},0,0,0,0,0,0,0,{"$f":"IF($A3040=W$3,AND($A3040=W$3,$D3040<0),0)","v":0},0,{"$f":"IF($A3040=Y$3,AND($A3040=Y$3,$D3040<0),0)","v":0},0,{"$f":"IF($A3040=AA$3,AND($A3040=AA$3,$D3040<0),0)","v":0},0,{"$f":"IF($A3040=AC$3,AND($A3040=AC$3,$D3040<0),0)","v":0},0,0]
[{"$f":"IF(B3043=0,\"\",MONTH(B3043))","v":""},null,null,null,{"$f":"IF(D3043=\"\",\"\",IF(D3043<0,\"DEBITO\",\"CREDITO\"))","v":""},null,false,false,0,{"$f":"IF($A3043=I$3,AND($A3043=I$3,$D3043<0),0)","v":0},0,{"$f":"IF($A3043=K$3,AND($A3043=K$3,$D3043<0),0)","v":0},0,{"$f":"IF($A3043=M$3,AND($A3043=M$3,$D3043<0),0)","v":0},0,{"$f":"IF($A3043=O$3,AND($A3043=O$3,$D3043<0),0)","v":0},0,0,0,0,0,0,0,{"$f":"IF($A3043=W$3,AND($A3043=W$3,$D3043<0),0)","v":0},0,{"$f":"IF($A3043=Y$3,AND($A3043=Y$3,$D3043<0),0)","v":0},0,{"$f":"IF($A3043=AA$3,AND($A3043=AA$3,$D3043<0),0)","v":0},0,{"$f":"IF($A3043=AC$3,AND($A3043=AC$3,$D3043<0),0)","v":0},0,0]
[{"$f":"IF(B3044=0,\"\",MONTH(B3044))","v":""},null,null,null,{"$f":"IF(D3044=\"\",\"\",IF(D3044<0,\"DEBITO\",\"CREDITO\"))","v":""},null,false,false,0,{"$f":"IF($A3044=I$3,AND($A3044=I$3,$D3044<0),0)","v":0},0,{"$f":"IF($A3044=K$3,AND($A3044=K$3,$D3044<0),0)","v":0},0,{"$f":"IF($A3044=M$3,AND($A3044=M$3,$D3044<0),0)","v":0},0,{"$f":"IF($A3044=O$3,AND($A3044=O$3,$D3044<0),0)","v":0},0,0,0,0,0,0,0,{"$f":"IF($A3044=W$3,AND($A3044=W$3,$D3044<0),0)","v":0},0,{"$f":"IF($A3044=Y$3,AND($A3044=Y$3,$D3044<0),0)","v":0},0,{"$f":"IF($A3044=AA$3,AND($A3044=AA$3,$D3044<0),0)","v":0},0,{"$f":"IF($A3044=AC$3,AND($A3044=AC$3,$D3044<0),0)","v":0},0,0]
[{"$f":"IF(B3047=0,\"\",MONTH(B3047))","v":""},null,null,null,{"$f":"IF(D3047=\"\",\"\",IF(D3047<0,\"DEBITO\",\"CREDITO\"))","v":""},null,false,false,0,{"$f":"IF($A3047=I$3,AND($A3047=I$3,$D3047<0),0)","v":0},0,{"$f":"IF($A3047=K$3,AND($A3047=K$3,$D3047<0),0)","v":0},0,{"$f":"IF($A3047=M$3,AND($A3047=M$3,$D3047<0),0)","v":0},0,{"$f":"IF($A3047=O$3,AND($A3047=O$3,$D3047<0),0)","v":0},0,0,0,0,0,0,0,{"$f":"IF($A3047=W$3,AND($A3047=W$3,$D3047<0),0)","v":0},0,{"$f":"IF($A3047=Y$3,AND($A3047=Y$3,$D3047<0),0)","v":0},0,{"$f":"IF($A3047=AA$3,AND($A3047=AA$3,$D3047<0),0)","v":0},0,{"$f":"IF($A3047=AC$3,AND($A3047=AC$3,$D3047<0),0)","v":0},0,0]
[{"$f":"IF(B3048=0,\"\",MONTH(B3048))","v":""},null,null,null,{"$f":"IF(D3048=\"\",\"\",IF(D3048<0,\"DEBITO\",\"CREDITO\"))","v":""},null,false,false,0,{"$f":"IF($A3048=I$3,AND($A3048=I$3,$D3048<0),0)","v":0},0,{"$f":"IF($A3048=K$3,AND($A3048=K$3,$D3048<0),0)","v":0},0,{"$f":"IF($A3048=M$3,AND($A3048=M$3,$D3048<0),0)","v":0},0,{"$f":"IF($A3048=O$3,AND($A3048=O$3,$D3048<0),0)","v":0},0,0,0,0,0,0,0,{"$f":"IF($A3048=W$3,AND($A3048=W$3,$D3048<0),0)","v":0},0,{"$f":"IF($A3048=Y$3,AND($A3048=Y$3,$D3048<0),0)","v":0},0,{"$f":"IF($A3048=AA$3,AND($A3048=AA$3,$D3048<0),0)","v":0},0,{"$f":"IF($A3048=AC$3,AND($A3048=AC$3,$D3048<0),0)","v":0},0,0]
[{"$f":"IF(B3051=0,\"\",MONTH(B3051))","v":""},null,null,null,{"$f":"IF(D3051=\"\",\"\",IF(D3051<0,\"DEBITO\",\"CREDITO\"))","v":""},null,false,false,0,{"$f":"IF($A3051=I$3,AND($A3051=I$3,$D3051<0),0)","v":0},0,{"$f":"IF($A3051=K$3,AND($A3051=K$3,$D3051<0),0)","v":0},0,{"$f":"IF($A3051=M$3,AND($A3051=M$3,$D3051<0),0)","v":0},0,{"$f":"IF($A3051=O$3,AND($A3051=O$3,$D3051<0),0)","v":0},0,0,0,0,0,0,0,{"$f":"IF($A3051=W$3,AND($A3051=W$3,$D3051<0),0)","v":0},0,{"$f":"IF($A3051=Y$3,AND($A3051=Y$3,$D3051<0),0)","v":0},0,{"$f":"IF($A3051=AA$3,AND($A3051=AA$3,$D3051<0),0)","v":0},0,{"$f":"IF($A3051=AC$3,AND($A3051=AC$3,$D3051<0),0)","v":0},0,0]
[{"$f":"IF(B3054=0,\"\",MONTH(B3054))","v":""},null,null,null,{"$f":"IF(D3054=\"\",\"\",IF(D3054<0,\"DEBITO\",\"CREDITO\"))","v":""},null,false,false,0,{"$f":"IF($A3054=I$3,AND($A3054=I$3,$D3054<0),0)","v":0},0,{"$f":"IF($A3054=K$3,AND($A3054=K$3,$D3054<0),0)","v":0},0,{"$f":"IF($A3054=M$3,AND($A3054=M$3,$D3054<0),0)","v":0},0,{"$f":"IF($A3054=O$3,AND($A3054=O$3,$D3054<0),0)","v":0},0,0,0,0,0,0,0,{"$f":"IF($A3054=W$3,AND($A3054=W$3,$D3054<0),0)","v":0},0,{"$f":"IF($A3054=Y$3,AND($A3054=Y$3,$D3054<0),0)","v":0},0,{"$f":"IF($A3054=AA$3,AND($A3054=AA$3,$D3054<0),0)","v":0},0,{"$f":"IF($A3054=AC$3,AND($A3054=AC$3,$D3054<0),0)","v":0},0,0]
[{"$f":"IF(B3056=0,\"\",MONTH(B3056))","v":""},null,null,null,{"$f":"IF(D3056=\"\",\"\",IF(D3056<0,\"DEBITO\",\"CREDITO\"))","v":""},null,false,false,0,{"$f":"IF($A3056=I$3,AND($A3056=I$3,$D3056<0),0)","v":0},0,{"$f":"IF($A3056=K$3,AND($A3056=K$3,$D3056<0),0)","v":0},0,{"$f":"IF($A3056=M$3,AND($A3056=M$3,$D3056<0),0)","v":0},0,{"$f":"IF($A3056=O$3,AND($A3056=O$3,$D3056<0),0)","v":0},0,0,0,0,0,0,0,{"$f":"IF($A3056=W$3,AND($A3056=W$3,$D3056<0),0)","v":0},0,{"$f":"IF($A3056=Y$3,AND($A3056=Y$3,$D3056<0),0)","v":0},0,{"$f":"IF($A3056=AA$3,AND($A3056=AA$3,$D3056<0),0)","v":0},0,{"$f":"IF($A3056=AC$3,AND($A3056=AC$3,$D3056<0),0)","v":0},0,0]
[{"$f":"IF(B3057=0,\"\",MONTH(B3057))","v":""},null,null,null,{"$f":"IF(D3057=\"\",\"\",IF(D3057<0,\"DEBITO\",\"CREDITO\"))","v":""},null,false,false,0,{"$f":"IF($A3057=I$3,AND($A3057=I$3,$D3057<0),0)","v":0},0,{"$f":"IF($A3057=K$3,AND($A3057=K$3,$D3057<0),0)","v":0},0,{"$f":"IF($A3057=M$3,AND($A3057=M$3,$D3057<0),0)","v":0},0,{"$f":"IF($A3057=O$3,AND($A3057=O$3,$D3057<0),0)","v":0},0,0,0,0,0,0,0,{"$f":"IF($A3057=W$3,AND($A3057=W$3,$D3057<0),0)","v":0},0,{"$f":"IF($A3057=Y$3,AND($A3057=Y$3,$D3057<0),0)","v":0},0,{"$f":"IF($A3057=AA$3,AND($A3057=AA$3,$D3057<0),0)","v":0},0,{"$f":"IF($A3057=AC$3,AND($A3057=AC$3,$D3057<0),0)","v":0},0,0]
[{"$f":"IF(B3060=0,\"\",MONTH(B3060))","v":""},null,null,null,{"$f":"IF(D3060=\"\",\"\",IF(D3060<0,\"DEBITO\",\"CREDITO\"))","v":""},null,false,false,0,{"$f":"IF($A3060=I$3,AND($A3060=I$3,$D3060<0),0)","v":0},0,{"$f":"IF($A3060=K$3,AND($A3060=K$3,$D3060<0),0)","v":0},0,{"$f":"IF($A3060=M$3,AND($A3060=M$3,$D3060<0),0)","v":0},0,{"$f":"IF($A3060=O$3,AND($A3060=O$3,$D3060<0),0)","v":0},0,0,0,0,0,0,0,{"$f":"IF($A3060=W$3,AND($A3060=W$3,$D3060<0),0)","v":0},0,{"$f":"IF($A3060=Y$3,AND($A3060=Y$3,$D3060<0),0)","v":0},0,{"$f":"IF($A3060=AA$3,AND($A3060=AA$3,$D3060<0),0)","v":0},0,{"$f":"IF($A3060=AC$3,AND($A3060=AC$3,$D3060<0),0)","v":0},0,0]
[{"$f":"IF(B3061=0,\"\",MONTH(B3061))","v":""},null,null,null,{"$f":"IF(D3061=\"\",\"\",IF(D3061<0,\"DEBITO\",\"CREDITO\"))","v":""},null,false,false,0,{"$f":"IF($A3061=I$3,AND($A3061=I$3,$D3061<0),0)","v":0},0,{"$f":"IF($A3061=K$3,AND($A3061=K$3,$D3061<0),0)","v":0},0,{"$f":"IF($A3061=M$3,AND($A3061=M$3,$D3061<0),0)","v":0},0,{"$f":"IF($A3061=O$3,AND($A3061=O$3,$D3061<0),0)","v":0},0,0,0,0,0,0,0,{"$f":"IF($A3061=W$3,AND($A3061=W$3,$D3061<0),0)","v":0},0,{"$f":"IF($A3061=Y$3,AND($A3061=Y$3,$D3061<0),0)","v":0},0,{"$f":"IF($A3061=AA$3,AND($A3061=AA$3,$D3061<0),0)","v":0},0,{"$f":"IF($A3061=AC$3,AND($A3061=AC$3,$D3061<0),0)","v":0},0,0]
[{"$f":"IF(B3064=0,\"\",MONTH(B3064))","v":""},null,null,null,{"$f":"IF(D3064=\"\",\"\",IF(D3064<0,\"DEBITO\",\"CREDITO\"))","v":""},null,false,false,0,{"$f":"IF($A3064=I$3,AND($A3064=I$3,$D3064<0),0)","v":0},0,{"$f":"IF($A3064=K$3,AND($A3064=K$3,$D3064<0),0)","v":0},0,{"$f":"IF($A3064=M$3,AND($A3064=M$3,$D3064<0),0)","v":0},0,{"$f":"IF($A3064=O$3,AND($A3064=O$3,$D3064<0),0)","v":0},0,0,0,0,0,0,0,{"$f":"IF($A3064=W$3,AND($A3064=W$3,$D3064<0),0)","v":0},0,{"$f":"IF($A3064=Y$3,AND($A3064=Y$3,$D3064<0),0)","v":0},0,{"$f":"IF($A3064=AA$3,AND($A3064=AA$3,$D3064<0),0)","v":0},0,{"$f":"IF($A3064=AC$3,AND($A3064=AC$3,$D3064<0),0)","v":0},0,0]
[{"$f":"IF(B3065=0,\"\",MONTH(B3065))","v":""},null,null,null,{"$f":"IF(D3065=\"\",\"\",IF(D3065<0,\"DEBITO\",\"CREDITO\"))","v":""},null,false,false,0,{"$f":"IF($A3065=I$3,AND($A3065=I$3,$D3065<0),0)","v":0},0,{"$f":"IF($A3065=K$3,AND($A3065=K$3,$D3065<0),0)","v":0},0,{"$f":"IF($A3065=M$3,AND($A3065=M$3,$D3065<0),0)","v":0},0,{"$f":"IF($A3065=O$3,AND($A3065=O$3,$D3065<0),0)","v":0},0,0,0,0,0,0,0,{"$f":"IF($A3065=W$3,AND($A3065=W$3,$D3065<0),0)","v":0},0,{"$f":"IF($A3065=Y$3,AND($A3065=Y$3,$D3065<0),0)","v":0},0,{"$f":"IF($A3065=AA$3,AND($A3065=AA$3,$D3065<0),0)","v":0},0,{"$f":"IF($A3065=AC$3,AND($A3065=AC$3,$D3065<0),0)","v":0},0,0]
[{"$f":"IF(B3068=0,\"\",MONTH(B3068))","v":""},null,null,null,{"$f":"IF(D3068=\"\",\"\",IF(D3068<0,\"DEBITO\",\"CREDITO\"))","v":""},null,false,false,0,{"$f":"IF($A3068=I$3,AND($A3068=I$3,$D3068<0),0)","v":0},0,{"$f":"IF($A3068=K$3,AND($A3068=K$3,$D3068<0),0)","v":0},0,{"$f":"IF($A3068=M$3,AND($A3068=M$3,$D3068<0),0)","v":0},0,{"$f":"IF($A3068=O$3,AND($A3068=O$3,$D3068<0),0)","v":0},0,0,0,0,0,0,0,{"$f":"IF($A3068=W$3,AND($A3068=W$3,$D3068<0),0)","v":0},0,{"$f":"IF($A3068=Y$3,AND($A3068=Y$3,$D3068<0),0)","v":0},0,{"$f":"IF($A3068=AA$3,AND($A3068=AA$3,$D3068<0),0)","v":0},0,{"$f":"IF($A3068=AC$3,AND($A3068=AC$3,$D3068<0),0)","v":0},0,0]
[{"$f":"IF(B3069=0,\"\",MONTH(B3069))","v":""},null,null,null,{"$f":"IF(D3069=\"\",\"\",IF(D3069<0,\"DEBITO\",\"CREDITO\"))","v":""},null,false,false,0,{"$f":"IF($A3069=I$3,AND($A3069=I$3,$D3069<0),0)","v":0},0,{"$f":"IF($A3069=K$3,AND($A3069=K$3,$D3069<0),0)","v":0},0,{"$f":"IF($A3069=M$3,AND($A3069=M$3,$D3069<0),0)","v":0},0,{"$f":"IF($A3069=O$3,AND($A3069=O$3,$D3069<0),0)","v":0},0,0,0,0,0,0,0,{"$f":"IF($A3069=W$3,AND($A3069=W$3,$D3069<0),0)","v":0},0,{"$f":"IF($A3069=Y$3,AND($A3069=Y$3,$D3069<0),0)","v":0},0,{"$f":"IF($A3069=AA$3,AND($A3069=AA$3,$D3069<0),0)","v":0},0,{"$f":"IF($A3069=AC$3,AND($A3069=AC$3,$D3069<0),0)","v":0},0,0]
[{"$f":"IF(B3072=0,\"\",MONTH(B3072))","v":""},null,null,null,{"$f":"IF(D3072=\"\",\"\",IF(D3072<0,\"DEBITO\",\"CREDITO\"))","v":""},null,false,false,0,{"$f":"IF($A3072=I$3,AND($A3072=I$3,$D3072<0),0)","v":0},0,{"$f":"IF($A3072=K$3,AND($A3072=K$3,$D3072<0),0)","v":0},0,{"$f":"IF($A3072=M$3,AND($A3072=M$3,$D3072<0),0)","v":0},0,{"$f":"IF($A3072=O$3,AND($A3072=O$3,$D3072<0),0)","v":0},0,0,0,0,0,0,0,{"$f":"IF($A3072=W$3,AND($A3072=W$3,$D3072<0),0)","v":0},0,{"$f":"IF($A3072=Y$3,AND($A3072=Y$3,$D3072<0),0)","v":0},0,{"$f":"IF($A3072=AA$3,AND($A3072=AA$3,$D3072<0),0)","v":0},0,{"$f":"IF($A3072=AC$3,AND($A3072=AC$3,$D3072<0),0)","v":0},0,0]
[{"$f":"IF(B3073=0,\"\",MONTH(B3073))","v":""},null,null,null,{"$f":"IF(D3073=\"\",\"\",IF(D3073<0,\"DEBITO\",\"CREDITO\"))","v":""},null,false,false,0,{"$f":"IF($A3073=I$3,AND($A3073=I$3,$D3073<0),0)","v":0},0,{"$f":"IF($A3073=K$3,AND($A3073=K$3,$D3073<0),0)","v":0},0,{"$f":"IF($A3073=M$3,AND($A3073=M$3,$D3073<0),0)","v":0},0,{"$f":"IF($A3073=O$3,AND($A3073=O$3,$D3073<0),0)","v":0},0,0,0,0,0,0,0,{"$f":"IF($A3073=W$3,AND($A3073=W$3,$D3073<0),0)","v":0},0,{"$f":"IF($A3073=Y$3,AND($A3073=Y$3,$D3073<0),0)","v":0},0,{"$f":"IF($A3073=AA$3,AND($A3073=AA$3,$D3073<0),0)","v":0},0,{"$f":"IF($A3073=AC$3,AND($A3073=AC$3,$D3073<0),0)","v":0},0,0]
[{"$f":"IF(B3077=0,\"\",MONTH(B3077))","v":""},null,null,null,{"$f":"IF(D3077=\"\",\"\",IF(D3077<0,\"DEBITO\",\"CREDITO\"))","v":""},null,false,false,0,{"$f":"IF($A3077=I$3,AND($A3077=I$3,$D3077<0),0)","v":0},0,{"$f":"IF($A3077=K$3,AND($A3077=K$3,$D3077<0),0)","v":0},0,{"$f":"IF($A3077=M$3,AND($A3077=M$3,$D3077<0),0)","v":0},0,{"$f":"IF($A3077=O$3,AND($A3077=O$3,$D3077<0),0)","v":0},0,0,0,0,0,0,0,{"$f":"IF($A3077=W$3,AND($A3077=W$3,$D3077<0),0)","v":0},0,{"$f":"IF($A3077=Y$3,AND($A3077=Y$3,$D3077<0),0)","v":0},0,{"$f":"IF($A3077=AA$3,AND($A3077=AA$3,$D3077<0),0)","v":0},0,{"$f":"IF($A3077=AC$3,AND($A3077=AC$3,$D3077<0),0)","v":0},0,0]
[{"$f":"IF(B3078=0,\"\",MONTH(B3078))","v":""},null,null,null,{"$f":"IF(D3078=\"\",\"\",IF(D3078<0,\"DEBITO\",\"CREDITO\"))","v":""},null,false,false,0,{"$f":"IF($A3078=I$3,AND($A3078=I$3,$D3078<0),0)","v":0},0,{"$f":"IF($A3078=K$3,AND($A3078=K$3,$D3078<0),0)","v":0},0,{"$f":"IF($A3078=M$3,AND($A3078=M$3,$D3078<0),0)","v":0},0,{"$f":"IF($A3078=O$3,AND($A3078=O$3,$D3078<0),0)","v":0},0,0,0,0,0,0,0,{"$f":"IF($A3078=W$3,AND($A3078=W$3,$D3078<0),0)","v":0},0,{"$f":"IF($A3078=Y$3,AND($A3078=Y$3,$D3078<0),0)","v":0},0,{"$f":"IF($A3078=AA$3,AND($A3078=AA$3,$D3078<0),0)","v":0},0,{"$f":"IF($A3078=AC$3,AND($A3078=AC$3,$D3078<0),0)","v":0},0,0]
[{"$f":"IF(B3081=0,\"\",MONTH(B3081))","v":""},null,null,null,{"$f":"IF(D3081=\"\",\"\",IF(D3081<0,\"DEBITO\",\"CREDITO\"))","v":""},null,{"$f":"AND(A3081=$E$3,D3081>0)","v":false},{"$f":"AND(A3081=$E$3,D3081<0)","v":false},0,{"$f":"IF($A3081=I$3,AND($A3081=I$3,$D3081<0),0)","v":0},0,{"$f":"IF($A3081=K$3,AND($A3081=K$3,$D3081<0),0)","v":0},0,{"$f":"IF($A3081=M$3,AND($A3081=M$3,$D3081<0),0)","v":0},0,{"$f":"IF($A3081=O$3,AND($A3081=O$3,$D3081<0),0)","v":0},0,{"$f":"IF($A3081=Q$3,AND($A3081=Q$3,$D3081<0),0)","v":0},0,0,0,0,0,{"$f":"IF($A3081=W$3,AND($A3081=W$3,$D3081<0),0)","v":0},0,{"$f":"IF($A3081=Y$3,AND($A3081=Y$3,$D3081<0),0)","v":0},0,{"$f":"IF($A3081=AA$3,AND($A3081=AA$3,$D3081<0),0)","v":0},0,{"$f":"IF($A3081=AC$3,AND($A3081=AC$3,$D3081<0),0)","v":0},0,{"$f":"IF($A3081=AE$3,AND($A3081=AE$3,$D3081<0),0)","v":0}]
[{"$f":"IF(B3082=0,\"\",MONTH(B3082))","v":""},null,null,null,{"$f":"IF(D3082=\"\",\"\",IF(D3082<0,\"DEBITO\",\"CREDITO\"))","v":""},null,false,false,0,{"$f":"IF($A3082=I$3,AND($A3082=I$3,$D3082<0),0)","v":0},0,{"$f":"IF($A3082=K$3,AND($A3082=K$3,$D3082<0),0)","v":0},0,{"$f":"IF($A3082=M$3,AND($A3082=M$3,$D3082<0),0)","v":0},0,{"$f":"IF($A3082=O$3,AND($A3082=O$3,$D3082<0),0)","v":0},0,0,{"$f":"IF($A3082=S$3,AND($A3082=S$3,$D3082>0),0)","v":0},{"$f":"IF($A3082=S$3,AND($A3082=S$3,$D3082<0),0)","v":0},{"$f":"IF($A3082=U$3,AND($A3082=U$3,$D3082>0),0)","v":0},{"$f":"IF($A3082=U$3,AND($A3082=U$3,$D3082<0),0)","v":0},0,{"$f":"IF($A3082=W$3,AND($A3082=W$3,$D3082<0),0)","v":0},0,{"$f":"IF($A3082=Y$3,AND($A3082=Y$3,$D3082<0),0)","v":0},0,{"$f":"IF($A3082=AA$3,AND($A3082=AA$3,$D3082<0),0)","v":0},0,{"$f":"IF($A3082=AC$3,AND($A3082=AC$3,$D3082<0),0)","v":0},0,0]
[{"$f":"IF(B3085=0,\"\",MONTH(B3085))","v":""},null,null,null,{"$f":"IF(D3085=\"\",\"\",IF(D3085<0,\"DEBITO\",\"CREDITO\"))","v":""},null,false,false,0,{"$f":"IF($A3085=I$3,AND($A3085=I$3,$D3085<0),0)","v":0},0,{"$f":"IF($A3085=K$3,AND($A3085=K$3,$D3085<0),0)","v":0},0,{"$f":"IF($A3085=M$3,AND($A3085=M$3,$D3085<0),0)","v":0},0,{"$f":"IF($A3085=O$3,AND($A3085=O$3,$D3085<0),0)","v":0},0,0,0,0,0,0,0,{"$f":"IF($A3085=W$3,AND($A3085=W$3,$D3085<0),0)","v":0},0,{"$f":"IF($A3085=Y$3,AND($A3085=Y$3,$D3085<0),0)","v":0},0,{"$f":"IF($A3085=AA$3,AND($A3085=AA$3,$D3085<0),0)","v":0},0,{"$f":"IF($A3085=AC$3,AND($A3085=AC$3,$D3085<0),0)","v":0},0,0]
[{"$f":"IF(B3086=0,\"\",MONTH(B3086))","v":""},null,null,null,{"$f":"IF(D3086=\"\",\"\",IF(D3086<0,\"DEBITO\",\"CREDITO\"))","v":""},null,false,false,0,{"$f":"IF($A3086=I$3,AND($A3086=I$3,$D3086<0),0)","v":0},0,{"$f":"IF($A3086=K$3,AND($A3086=K$3,$D3086<0),0)","v":0},0,{"$f":"IF($A3086=M$3,AND($A3086=M$3,$D3086<0),0)","v":0},0,{"$f":"IF($A3086=O$3,AND($A3086=O$3,$D3086<0),0)","v":0},0,0,0,0,0,0,0,{"$f":"IF($A3086=W$3,AND($A3086=W$3,$D3086<0),0)","v":0},0,{"$f":"IF($A3086=Y$3,AND($A3086=Y$3,$D3086<0),0)","v":0},0,{"$f":"IF($A3086=AA$3,AND($A3086=AA$3,$D3086<0),0)","v":0},0,{"$f":"IF($A3086=AC$3,AND($A3086=AC$3,$D3086<0),0)","v":0},0,0]
[{"$f":"IF(B3089=0,\"\",MONTH(B3089))","v":""},null,null,null,{"$f":"IF(D3089=\"\",\"\",IF(D3089<0,\"DEBITO\",\"CREDITO\"))","v":""},null,false,false,0,{"$f":"IF($A3089=I$3,AND($A3089=I$3,$D3089<0),0)","v":0},0,{"$f":"IF($A3089=K$3,AND($A3089=K$3,$D3089<0),0)","v":0},0,{"$f":"IF($A3089=M$3,AND($A3089=M$3,$D3089<0),0)","v":0},0,{"$f":"IF($A3089=O$3,AND($A3089=O$3,$D3089<0),0)","v":0},0,0,0,0,0,0,0,{"$f":"IF($A3089=W$3,AND($A3089=W$3,$D3089<0),0)","v":0},0,{"$f":"IF($A3089=Y$3,AND($A3089=Y$3,$D3089<0),0)","v":0},0,{"$f":"IF($A3089=AA$3,AND($A3089=AA$3,$D3089<0),0)","v":0},0,{"$f":"IF($A3089=AC$3,AND($A3089=AC$3,$D3089<0),0)","v":0},0,0]
[{"$f":"IF(B3090=0,\"\",MONTH(B3090))","v":""},null,null,null,{"$f":"IF(D3090=\"\",\"\",IF(D3090<0,\"DEBITO\",\"CREDITO\"))","v":""},null,false,false,0,{"$f":"IF($A3090=I$3,AND($A3090=I$3,$D3090<0),0)","v":0},0,{"$f":"IF($A3090=K$3,AND($A3090=K$3,$D3090<0),0)","v":0},0,{"$f":"IF($A3090=M$3,AND($A3090=M$3,$D3090<0),0)","v":0},0,{"$f":"IF($A3090=O$3,AND($A3090=O$3,$D3090<0),0)","v":0},0,0,0,0,0,0,0,{"$f":"IF($A3090=W$3,AND($A3090=W$3,$D3090<0),0)","v":0},0,{"$f":"IF($A3090=Y$3,AND($A3090=Y$3,$D3090<0),0)","v":0},0,{"$f":"IF($A3090=AA$3,AND($A3090=AA$3,$D3090<0),0)","v":0},0,{"$f":"IF($A3090=AC$3,AND($A3090=AC$3,$D3090<0),0)","v":0},0,0]
[{"$f":"IF(B3093=0,\"\",MONTH(B3093))","v":""},null,null,null,{"$f":"IF(D3093=\"\",\"\",IF(D3093<0,\"DEBITO\",\"CREDITO\"))","v":""},null,false,false,0,{"$f":"IF($A3093=I$3,AND($A3093=I$3,$D3093<0),0)","v":0},0,{"$f":"IF($A3093=K$3,AND($A3093=K$3,$D3093<0),0)","v":0},0,{"$f":"IF($A3093=M$3,AND($A3093=M$3,$D3093<0),0)","v":0},0,{"$f":"IF($A3093=O$3,AND($A3093=O$3,$D3093<0),0)","v":0},0,0,0,0,0,0,0,{"$f":"IF($A3093=W$3,AND($A3093=W$3,$D3093<0),0)","v":0},0,{"$f":"IF($A3093=Y$3,AND($A3093=Y$3,$D3093<0),0)","v":0},0,{"$f":"IF($A3093=AA$3,AND($A3093=AA$3,$D3093<0),0)","v":0},0,{"$f":"IF($A3093=AC$3,AND($A3093=AC$3,$D3093<0),0)","v":0},0,0]
[{"$f":"IF(B3095=0,\"\",MONTH(B3095))","v":""},null,null,null,{"$f":"IF(D3095=\"\",\"\",IF(D3095<0,\"DEBITO\",\"CREDITO\"))","v":""},null,false,false,0,{"$f":"IF($A3095=I$3,AND($A3095=I$3,$D3095<0),0)","v":0},0,{"$f":"IF($A3095=K$3,AND($A3095=K$3,$D3095<0),0)","v":0},0,{"$f":"IF($A3095=M$3,AND($A3095=M$3,$D3095<0),0)","v":0},0,{"$f":"IF($A3095=O$3,AND($A3095=O$3,$D3095<0),0)","v":0},0,0,0,0,0,0,0,{"$f":"IF($A3095=W$3,AND($A3095=W$3,$D3095<0),0)","v":0},0,{"$f":"IF($A3095=Y$3,AND($A3095=Y$3,$D3095<0),0)","v":0},0,{"$f":"IF($A3095=AA$3,AND($A3095=AA$3,$D3095<0),0)","v":0},0,{"$f":"IF($A3095=AC$3,AND($A3095=AC$3,$D3095<0),0)","v":0},0,0]
[{"$f":"IF(B3097=0,\"\",MONTH(B3097))","v":""},null,null,null,{"$f":"IF(D3097=\"\",\"\",IF(D3097<0,\"DEBITO\",\"CREDITO\"))","v":""},null,false,false,{"$f":"IF($A3097=I$3,AND($A3097=I$3,$D3097>0),0)","v":0},{"$f":"IF($A3097=I$3,AND($A3097=I$3,$D3097<0),0)","v":0},{"$f":"IF($A3097=K$3,AND($A3097=K$3,$D3097>0),0)","v":0},{"$f":"IF($A3097=K$3,AND($A3097=K$3,$D3097<0),0)","v":0},{"$f":"IF($A3097=M$3,AND($A3097=M$3,$D3097>0),0)","v":0},{"$f":"IF($A3097=M$3,AND($A3097=M$3,$D3097<0),0)","v":0},{"$f":"IF($A3097=O$3,AND($A3097=O$3,$D3097>0),0)","v":0},{"$f":"IF($A3097=O$3,AND($A3097=O$3,$D3097<0),0)","v":0},{"$f":"IF($A3097=Q$3,AND($A3097=Q$3,$D3097>0),0)","v":0},0,0,0,0,0,{"$f":"IF($A3097=W$3,AND($A3097=W$3,$D3097>0),0)","v":0},{"$f":"IF($A3097=W$3,AND($A3097=W$3,$D3097<0),0)","v":0},{"$f":"IF($A3097=Y$3,AND($A3097=Y$3,$D3097>0),0)","v":0},{"$f":"IF($A3097=Y$3,AND($A3097=Y$3,$D3097<0),0)","v":0},{"$f":"IF($A3097=AA$3,AND($A3097=AA$3,$D3097>0),0)","v":0},{"$f":"IF($A3097=AA$3,AND($A3097=AA$3,$D3097<0),0)","v":0},{"$f":"IF($A3097=AC$3,AND($A3097=AC$3,$D3097>0),0)","v":0},{"$f":"IF($A3097=AC$3,AND($A3097=AC$3,$D3097<0),0)","v":0},{"$f":"IF($A3097=AE$3,AND($A3097=AE$3,$D3097>0),0)","v":0},0]
[{"$f":"IF(B3098=0,\"\",MONTH(B3098))","v":""},null,null,null,{"$f":"IF(D3098=\"\",\"\",IF(D3098<0,\"DEBITO\",\"CREDITO\"))","v":""},null,false,false,0,{"$f":"IF($A3098=I$3,AND($A3098=I$3,$D3098<0),0)","v":0},0,{"$f":"IF($A3098=K$3,AND($A3098=K$3,$D3098<0),0)","v":0},0,{"$f":"IF($A3098=M$3,AND($A3098=M$3,$D3098<0),0)","v":0},0,{"$f":"IF($A3098=O$3,AND($A3098=O$3,$D3098<0),0)","v":0},0,0,0,0,0,0,0,{"$f":"IF($A3098=W$3,AND($A3098=W$3,$D3098<0),0)","v":0},0,{"$f":"IF($A3098=Y$3,AND($A3098=Y$3,$D3098<0),0)","v":0},0,{"$f":"IF($A3098=AA$3,AND($A3098=AA$3,$D3098<0),0)","v":0},0,{"$f":"IF($A3098=AC$3,AND($A3098=AC$3,$D3098<0),0)","v":0},0,0]
[{"$f":"IF(B3099=0,\"\",MONTH(B3099))","v":""},null,null,null,{"$f":"IF(D3099=\"\",\"\",IF(D3099<0,\"DEBITO\",\"CREDITO\"))","v":""},null,false,false,0,{"$f":"IF($A3099=I$3,AND($A3099=I$3,$D3099<0),0)","v":0},0,{"$f":"IF($A3099=K$3,AND($A3099=K$3,$D3099<0),0)","v":0},0,{"$f":"IF($A3099=M$3,AND($A3099=M$3,$D3099<0),0)","v":0},0,{"$f":"IF($A3099=O$3,AND($A3099=O$3,$D3099<0),0)","v":0},0,0,0,0,0,0,0,{"$f":"IF($A3099=W$3,AND($A3099=W$3,$D3099<0),0)","v":0},0,{"$f":"IF($A3099=Y$3,AND($A3099=Y$3,$D3099<0),0)","v":0},0,{"$f":"IF($A3099=AA$3,AND($A3099=AA$3,$D3099<0),0)","v":0},0,{"$f":"IF($A3099=AC$3,AND($A3099=AC$3,$D3099<0),0)","v":0},0,0]
[{"$f":"IF(B3100=0,\"\",MONTH(B3100))","v":""},null,null,null,{"$f":"IF(D3100=\"\",\"\",IF(D3100<0,\"DEBITO\",\"CREDITO\"))","v":""},null,false,false,0,{"$f":"IF($A3100=I$3,AND($A3100=I$3,$D3100<0),0)","v":0},0,{"$f":"IF($A3100=K$3,AND($A3100=K$3,$D3100<0),0)","v":0},0,{"$f":"IF($A3100=M$3,AND($A3100=M$3,$D3100<0),0)","v":0},0,{"$f":"IF($A3100=O$3,AND($A3100=O$3,$D3100<0),0)","v":0},0,0,0,0,0,0,0,{"$f":"IF($A3100=W$3,AND($A3100=W$3,$D3100<0),0)","v":0},0,{"$f":"IF($A3100=Y$3,AND($A3100=Y$3,$D3100<0),0)","v":0},0,{"$f":"IF($A3100=AA$3,AND($A3100=AA$3,$D3100<0),0)","v":0},0,{"$f":"IF($A3100=AC$3,AND($A3100=AC$3,$D3100<0),0)","v":0},0,0]
[{"$f":"IF(B3101=0,\"\",MONTH(B3101))","v":""},null,null,null,{"$f":"IF(D3101=\"\",\"\",IF(D3101<0,\"DEBITO\",\"CREDITO\"))","v":""},null,false,false,0,{"$f":"IF($A3101=I$3,AND($A3101=I$3,$D3101<0),0)","v":0},0,{"$f":"IF($A3101=K$3,AND($A3101=K$3,$D3101<0),0)","v":0},0,{"$f":"IF($A3101=M$3,AND($A3101=M$3,$D3101<0),0)","v":0},0,{"$f":"IF($A3101=O$3,AND($A3101=O$3,$D3101<0),0)","v":0},0,0,0,0,0,0,0,{"$f":"IF($A3101=W$3,AND($A3101=W$3,$D3101<0),0)","v":0},0,{"$f":"IF($A3101=Y$3,AND($A3101=Y$3,$D3101<0),0)","v":0},0,{"$f":"IF($A3101=AA$3,AND($A3101=AA$3,$D3101<0),0)","v":0},0,{"$f":"IF($A3101=AC$3,AND($A3101=AC$3,$D3101<0),0)","v":0},0,0]
[{"$f":"IF(B3102=0,\"\",MONTH(B3102))","v":""},null,null,null,{"$f":"IF(D3102=\"\",\"\",IF(D3102<0,\"DEBITO\",\"CREDITO\"))","v":""},null,false,false,0,{"$f":"IF($A3102=I$3,AND($A3102=I$3,$D3102<0),0)","v":0},0,{"$f":"IF($A3102=K$3,AND($A3102=K$3,$D3102<0),0)","v":0},0,{"$f":"IF($A3102=M$3,AND($A3102=M$3,$D3102<0),0)","v":0},0,{"$f":"IF($A3102=O$3,AND($A3102=O$3,$D3102<0),0)","v":0},0,0,0,0,0,0,0,{"$f":"IF($A3102=W$3,AND($A3102=W$3,$D3102<0),0)","v":0},0,{"$f":"IF($A3102=Y$3,AND($A3102=Y$3,$D3102<0),0)","v":0},0,{"$f":"IF($A3102=AA$3,AND($A3102=AA$3,$D3102<0),0)","v":0},0,{"$f":"IF($A3102=AC$3,AND($A3102=AC$3,$D3102<0),0)","v":0},0,0]
[{"$f":"IF(B3103=0,\"\",MONTH(B3103))","v":""},null,null,null,{"$f":"IF(D3103=\"\",\"\",IF(D3103<0,\"DEBITO\",\"CREDITO\"))","v":""},null,false,false,0,{"$f":"IF($A3103=I$3,AND($A3103=I$3,$D3103<0),0)","v":0},0,{"$f":"IF($A3103=K$3,AND($A3103=K$3,$D3103<0),0)","v":0},0,{"$f":"IF($A3103=M$3,AND($A3103=M$3,$D3103<0),0)","v":0},0,{"$f":"IF($A3103=O$3,AND($A3103=O$3,$D3103<0),0)","v":0},0,0,0,0,0,0,0,{"$f":"IF($A3103=W$3,AND($A3103=W$3,$D3103<0),0)","v":0},0,{"$f":"IF($A3103=Y$3,AND($A3103=Y$3,$D3103<0),0)","v":0},0,{"$f":"IF($A3103=AA$3,AND($A3103=AA$3,$D3103<0),0)","v":0},0,{"$f":"IF($A3103=AC$3,AND($A3103=AC$3,$D3103<0),0)","v":0},0,0]
[{"$f":"IF(B3104=0,\"\",MONTH(B3104))","v":""},null,null,null,{"$f":"IF(D3104=\"\",\"\",IF(D3104<0,\"DEBITO\",\"CREDITO\"))","v":""},null,false,false,0,{"$f":"IF($A3104=I$3,AND($A3104=I$3,$D3104<0),0)","v":0},0,{"$f":"IF($A3104=K$3,AND($A3104=K$3,$D3104<0),0)","v":0},0,{"$f":"IF($A3104=M$3,AND($A3104=M$3,$D3104<0),0)","v":0},0,{"$f":"IF($A3104=O$3,AND($A3104=O$3,$D3104<0),0)","v":0},0,0,0,0,0,0,0,{"$f":"IF($A3104=W$3,AND($A3104=W$3,$D3104<0),0)","v":0},0,{"$f":"IF($A3104=Y$3,AND($A3104=Y$3,$D3104<0),0)","v":0},0,{"$f":"IF($A3104=AA$3,AND($A3104=AA$3,$D3104<0),0)","v":0},0,{"$f":"IF($A3104=AC$3,AND($A3104=AC$3,$D3104<0),0)","v":0},0,0]
[{"$f":"IF(B3105=0,\"\",MONTH(B3105))","v":""},null,null,null,{"$f":"IF(D3105=\"\",\"\",IF(D3105<0,\"DEBITO\",\"CREDITO\"))","v":""},null,false,false,0,{"$f":"IF($A3105=I$3,AND($A3105=I$3,$D3105<0),0)","v":0},0,{"$f":"IF($A3105=K$3,AND($A3105=K$3,$D3105<0),0)","v":0},0,{"$f":"IF($A3105=M$3,AND($A3105=M$3,$D3105<0),0)","v":0},0,{"$f":"IF($A3105=O$3,AND($A3105=O$3,$D3105<0),0)","v":0},0,0,0,0,0,0,0,{"$f":"IF($A3105=W$3,AND($A3105=W$3,$D3105<0),0)","v":0},0,{"$f":"IF($A3105=Y$3,AND($A3105=Y$3,$D3105<0),0)","v":0},0,{"$f":"IF($A3105=AA$3,AND($A3105=AA$3,$D3105<0),0)","v":0},0,{"$f":"IF($A3105=AC$3,AND($A3105=AC$3,$D3105<0),0)","v":0},0,0]
[{"$f":"IF(B3106=0,\"\",MONTH(B3106))","v":""},null,null,null,{"$f":"IF(D3106=\"\",\"\",IF(D3106<0,\"DEBITO\",\"CREDITO\"))","v":""},null,false,false,0,{"$f":"IF($A3106=I$3,AND($A3106=I$3,$D3106<0),0)","v":0},0,{"$f":"IF($A3106=K$3,AND($A3106=K$3,$D3106<0),0)","v":0},0,{"$f":"IF($A3106=M$3,AND($A3106=M$3,$D3106<0),0)","v":0},0,{"$f":"IF($A3106=O$3,AND($A3106=O$3,$D3106<0),0)","v":0},0,0,0,0,0,0,0,{"$f":"IF($A3106=W$3,AND($A3106=W$3,$D3106<0),0)","v":0},0,{"$f":"IF($A3106=Y$3,AND($A3106=Y$3,$D3106<0),0)","v":0},0,{"$f":"IF($A3106=AA$3,AND($A3106=AA$3,$D3106<0),0)","v":0},0,{"$f":"IF($A3106=AC$3,AND($A3106=AC$3,$D3106<0),0)","v":0},0,0]
[{"$f":"IF(B3107=0,\"\",MONTH(B3107))","v":""},null,null,null,{"$f":"IF(D3107=\"\",\"\",IF(D3107<0,\"DEBITO\",\"CREDITO\"))","v":""},null,false,false,0,{"$f":"IF($A3107=I$3,AND($A3107=I$3,$D3107<0),0)","v":0},0,{"$f":"IF($A3107=K$3,AND($A3107=K$3,$D3107<0),0)","v":0},0,{"$f":"IF($A3107=M$3,AND($A3107=M$3,$D3107<0),0)","v":0},0,{"$f":"IF($A3107=O$3,AND($A3107=O$3,$D3107<0),0)","v":0},0,0,0,0,0,0,0,{"$f":"IF($A3107=W$3,AND($A3107=W$3,$D3107<0),0)","v":0},0,{"$f":"IF($A3107=Y$3,AND($A3107=Y$3,$D3107<0),0)","v":0},0,{"$f":"IF($A3107=AA$3,AND($A3107=AA$3,$D3107<0),0)","v":0},0,{"$f":"IF($A3107=AC$3,AND($A3107=AC$3,$D3107<0),0)","v":0},0,0]
[{"$f":"IF(B3108=0,\"\",MONTH(B3108))","v":""},null,null,null,{"$f":"IF(D3108=\"\",\"\",IF(D3108<0,\"DEBITO\",\"CREDITO\"))","v":""},null,false,false,0,{"$f":"IF($A3108=I$3,AND($A3108=I$3,$D3108<0),0)","v":0},0,{"$f":"IF($A3108=K$3,AND($A3108=K$3,$D3108<0),0)","v":0},0,{"$f":"IF($A3108=M$3,AND($A3108=M$3,$D3108<0),0)","v":0},0,{"$f":"IF($A3108=O$3,AND($A3108=O$3,$D3108<0),0)","v":0},0,0,0,0,0,0,0,{"$f":"IF($A3108=W$3,AND($A3108=W$3,$D3108<0),0)","v":0},0,{"$f":"IF($A3108=Y$3,AND($A3108=Y$3,$D3108<0),0)","v":0},0,{"$f":"IF($A3108=AA$3,AND($A3108=AA$3,$D3108<0),0)","v":0},0,{"$f":"IF($A3108=AC$3,AND($A3108=AC$3,$D3108<0),0)","v":0},0,0]
[{"$f":"IF(B3109=0,\"\",MONTH(B3109))","v":""},null,null,null,{"$f":"IF(D3109=\"\",\"\",IF(D3109<0,\"DEBITO\",\"CREDITO\"))","v":""},null,false,false,0,{"$f":"IF($A3109=I$3,AND($A3109=I$3,$D3109<0),0)","v":0},0,{"$f":"IF($A3109=K$3,AND($A3109=K$3,$D3109<0),0)","v":0},0,{"$f":"IF($A3109=M$3,AND($A3109=M$3,$D3109<0),0)","v":0},0,{"$f":"IF($A3109=O$3,AND($A3109=O$3,$D3109<0),0)","v":0},0,0,0,0,0,0,0,{"$f":"IF($A3109=W$3,AND($A3109=W$3,$D3109<0),0)","v":0},0,{"$f":"IF($A3109=Y$3,AND($A3109=Y$3,$D3109<0),0)","v":0},0,{"$f":"IF($A3109=AA$3,AND($A3109=AA$3,$D3109<0),0)","v":0},0,{"$f":"IF($A3109=AC$3,AND($A3109=AC$3,$D3109<0),0)","v":0},0,0]
[{"$f":"IF(B3110=0,\"\",MONTH(B3110))","v":""},null,null,null,{"$f":"IF(D3110=\"\",\"\",IF(D3110<0,\"DEBITO\",\"CREDITO\"))","v":""},null,false,false,0,{"$f":"IF($A3110=I$3,AND($A3110=I$3,$D3110<0),0)","v":0},0,{"$f":"IF($A3110=K$3,AND($A3110=K$3,$D3110<0),0)","v":0},0,{"$f":"IF($A3110=M$3,AND($A3110=M$3,$D3110<0),0)","v":0},0,{"$f":"IF($A3110=O$3,AND($A3110=O$3,$D3110<0),0)","v":0},0,0,0,0,0,0,0,{"$f":"IF($A3110=W$3,AND($A3110=W$3,$D3110<0),0)","v":0},0,{"$f":"IF($A3110=Y$3,AND($A3110=Y$3,$D3110<0),0)","v":0},0,{"$f":"IF($A3110=AA$3,AND($A3110=AA$3,$D3110<0),0)","v":0},0,{"$f":"IF($A3110=AC$3,AND($A3110=AC$3,$D3110<0),0)","v":0},0,0]
[{"$f":"IF(B3111=0,\"\",MONTH(B3111))","v":""},null,null,null,{"$f":"IF(D3111=\"\",\"\",IF(D3111<0,\"DEBITO\",\"CREDITO\"))","v":""},null,false,false,0,{"$f":"IF($A3111=I$3,AND($A3111=I$3,$D3111<0),0)","v":0},0,{"$f":"IF($A3111=K$3,AND($A3111=K$3,$D3111<0),0)","v":0},0,{"$f":"IF($A3111=M$3,AND($A3111=M$3,$D3111<0),0)","v":0},0,{"$f":"IF($A3111=O$3,AND($A3111=O$3,$D3111<0),0)","v":0},0,0,0,0,0,0,0,{"$f":"IF($A3111=W$3,AND($A3111=W$3,$D3111<0),0)","v":0},0,{"$f":"IF($A3111=Y$3,AND($A3111=Y$3,$D3111<0),0)","v":0},0,{"$f":"IF($A3111=AA$3,AND($A3111=AA$3,$D3111<0),0)","v":0},0,{"$f":"IF($A3111=AC$3,AND($A3111=AC$3,$D3111<0),0)","v":0},0,0]
[{"$f":"IF(B3112=0,\"\",MONTH(B3112))","v":""},null,null,null,{"$f":"IF(D3112=\"\",\"\",IF(D3112<0,\"DEBITO\",\"CREDITO\"))","v":""},null,false,false,0,{"$f":"IF($A3112=I$3,AND($A3112=I$3,$D3112<0),0)","v":0},0,{"$f":"IF($A3112=K$3,AND($A3112=K$3,$D3112<0),0)","v":0},0,{"$f":"IF($A3112=M$3,AND($A3112=M$3,$D3112<0),0)","v":0},0,{"$f":"IF($A3112=O$3,AND($A3112=O$3,$D3112<0),0)","v":0},0,0,0,0,0,0,0,{"$f":"IF($A3112=W$3,AND($A3112=W$3,$D3112<0),0)","v":0},0,{"$f":"IF($A3112=Y$3,AND($A3112=Y$3,$D3112<0),0)","v":0},0,{"$f":"IF($A3112=AA$3,AND($A3112=AA$3,$D3112<0),0)","v":0},0,{"$f":"IF($A3112=AC$3,AND($A3112=AC$3,$D3112<0),0)","v":0},0,0]
[{"$f":"IF(B3113=0,\"\",MONTH(B3113))","v":""},null,null,null,{"$f":"IF(D3113=\"\",\"\",IF(D3113<0,\"DEBITO\",\"CREDITO\"))","v":""},null,false,false,0,{"$f":"IF($A3113=I$3,AND($A3113=I$3,$D3113<0),0)","v":0},0,{"$f":"IF($A3113=K$3,AND($A3113=K$3,$D3113<0),0)","v":0},0,{"$f":"IF($A3113=M$3,AND($A3113=M$3,$D3113<0),0)","v":0},0,{"$f":"IF($A3113=O$3,AND($A3113=O$3,$D3113<0),0)","v":0},0,0,0,0,0,0,0,{"$f":"IF($A3113=W$3,AND($A3113=W$3,$D3113<0),0)","v":0},0,{"$f":"IF($A3113=Y$3,AND($A3113=Y$3,$D3113<0),0)","v":0},0,{"$f":"IF($A3113=AA$3,AND($A3113=AA$3,$D3113<0),0)","v":0},0,{"$f":"IF($A3113=AC$3,AND($A3113=AC$3,$D3113<0),0)","v":0},0,0]
[{"$f":"IF(B3114=0,\"\",MONTH(B3114))","v":""},null,null,null,{"$f":"IF(D3114=\"\",\"\",IF(D3114<0,\"DEBITO\",\"CREDITO\"))","v":""},null,false,false,0,{"$f":"IF($A3114=I$3,AND($A3114=I$3,$D3114<0),0)","v":0},0,{"$f":"IF($A3114=K$3,AND($A3114=K$3,$D3114<0),0)","v":0},0,{"$f":"IF($A3114=M$3,AND($A3114=M$3,$D3114<0),0)","v":0},0,{"$f":"IF($A3114=O$3,AND($A3114=O$3,$D3114<0),0)","v":0},0,0,0,0,0,0,0,{"$f":"IF($A3114=W$3,AND($A3114=W$3,$D3114<0),0)","v":0},0,{"$f":"IF($A3114=Y$3,AND($A3114=Y$3,$D3114<0),0)","v":0},0,{"$f":"IF($A3114=AA$3,AND($A3114=AA$3,$D3114<0),0)","v":0},0,{"$f":"IF($A3114=AC$3,AND($A3114=AC$3,$D3114<0),0)","v":0},0,0]
[{"$f":"IF(B3115=0,\"\",MONTH(B3115))","v":""},null,null,null,{"$f":"IF(D3115=\"\",\"\",IF(D3115<0,\"DEBITO\",\"CREDITO\"))","v":""},null,false,false,0,{"$f":"IF($A3115=I$3,AND($A3115=I$3,$D3115<0),0)","v":0},0,{"$f":"IF($A3115=K$3,AND($A3115=K$3,$D3115<0),0)","v":0},0,{"$f":"IF($A3115=M$3,AND($A3115=M$3,$D3115<0),0)","v":0},0,{"$f":"IF($A3115=O$3,AND($A3115=O$3,$D3115<0),0)","v":0},0,0,0,0,0,0,0,{"$f":"IF($A3115=W$3,AND($A3115=W$3,$D3115<0),0)","v":0},0,{"$f":"IF($A3115=Y$3,AND($A3115=Y$3,$D3115<0),0)","v":0},0,{"$f":"IF($A3115=AA$3,AND($A3115=AA$3,$D3115<0),0)","v":0},0,{"$f":"IF($A3115=AC$3,AND($A3115=AC$3,$D3115<0),0)","v":0},0,0]
[{"$f":"IF(B3116=0,\"\",MONTH(B3116))","v":""},null,null,null,{"$f":"IF(D3116=\"\",\"\",IF(D3116<0,\"DEBITO\",\"CREDITO\"))","v":""},null,false,false,0,{"$f":"IF($A3116=I$3,AND($A3116=I$3,$D3116<0),0)","v":0},0,{"$f":"IF($A3116=K$3,AND($A3116=K$3,$D3116<0),0)","v":0},0,{"$f":"IF($A3116=M$3,AND($A3116=M$3,$D3116<0),0)","v":0},0,{"$f":"IF($A3116=O$3,AND($A3116=O$3,$D3116<0),0)","v":0},0,0,0,0,0,0,0,{"$f":"IF($A3116=W$3,AND($A3116=W$3,$D3116<0),0)","v":0},0,{"$f":"IF($A3116=Y$3,AND($A3116=Y$3,$D3116<0),0)","v":0},0,{"$f":"IF($A3116=AA$3,AND($A3116=AA$3,$D3116<0),0)","v":0},0,{"$f":"IF($A3116=AC$3,AND($A3116=AC$3,$D3116<0),0)","v":0},0,0]
[{"$f":"IF(B3117=0,\"\",MONTH(B3117))","v":""},null,null,null,{"$f":"IF(D3117=\"\",\"\",IF(D3117<0,\"DEBITO\",\"CREDITO\"))","v":""},null,false,false,0,{"$f":"IF($A3117=I$3,AND($A3117=I$3,$D3117<0),0)","v":0},0,{"$f":"IF($A3117=K$3,AND($A3117=K$3,$D3117<0),0)","v":0},0,{"$f":"IF($A3117=M$3,AND($A3117=M$3,$D3117<0),0)","v":0},0,{"$f":"IF($A3117=O$3,AND($A3117=O$3,$D3117<0),0)","v":0},0,0,0,0,0,0,0,{"$f":"IF($A3117=W$3,AND($A3117=W$3,$D3117<0),0)","v":0},0,{"$f":"IF($A3117=Y$3,AND($A3117=Y$3,$D3117<0),0)","v":0},0,{"$f":"IF($A3117=AA$3,AND($A3117=AA$3,$D3117<0),0)","v":0},0,{"$f":"IF($A3117=AC$3,AND($A3117=AC$3,$D3117<0),0)","v":0},0,0]
[{"$f":"IF(B3118=0,\"\",MONTH(B3118))","v":""},null,null,null,{"$f":"IF(D3118=\"\",\"\",IF(D3118<0,\"DEBITO\",\"CREDITO\"))","v":""},null,false,false,0,{"$f":"IF($A3118=I$3,AND($A3118=I$3,$D3118<0),0)","v":0},0,{"$f":"IF($A3118=K$3,AND($A3118=K$3,$D3118<0),0)","v":0},0,{"$f":"IF($A3118=M$3,AND($A3118=M$3,$D3118<0),0)","v":0},0,{"$f":"IF($A3118=O$3,AND($A3118=O$3,$D3118<0),0)","v":0},0,0,0,0,0,0,0,{"$f":"IF($A3118=W$3,AND($A3118=W$3,$D3118<0),0)","v":0},0,{"$f":"IF($A3118=Y$3,AND($A3118=Y$3,$D3118<0),0)","v":0},0,{"$f":"IF($A3118=AA$3,AND($A3118=AA$3,$D3118<0),0)","v":0},0,{"$f":"IF($A3118=AC$3,AND($A3118=AC$3,$D3118<0),0)","v":0},0,0]
[{"$f":"IF(B3119=0,\"\",MONTH(B3119))","v":""},null,null,null,{"$f":"IF(D3119=\"\",\"\",IF(D3119<0,\"DEBITO\",\"CREDITO\"))","v":""},null,false,false,0,{"$f":"IF($A3119=I$3,AND($A3119=I$3,$D3119<0),0)","v":0},0,{"$f":"IF($A3119=K$3,AND($A3119=K$3,$D3119<0),0)","v":0},0,{"$f":"IF($A3119=M$3,AND($A3119=M$3,$D3119<0),0)","v":0},0,{"$f":"IF($A3119=O$3,AND($A3119=O$3,$D3119<0),0)","v":0},0,0,0,0,0,0,0,{"$f":"IF($A3119=W$3,AND($A3119=W$3,$D3119<0),0)","v":0},0,{"$f":"IF($A3119=Y$3,AND($A3119=Y$3,$D3119<0),0)","v":0},0,{"$f":"IF($A3119=AA$3,AND($A3119=AA$3,$D3119<0),0)","v":0},0,{"$f":"IF($A3119=AC$3,AND($A3119=AC$3,$D3119<0),0)","v":0},0,0]
[{"$f":"IF(B3120=0,\"\",MONTH(B3120))","v":""},null,null,null,{"$f":"IF(D3120=\"\",\"\",IF(D3120<0,\"DEBITO\",\"CREDITO\"))","v":""},null,false,false,0,{"$f":"IF($A3120=I$3,AND($A3120=I$3,$D3120<0),0)","v":0},0,{"$f":"IF($A3120=K$3,AND($A3120=K$3,$D3120<0),0)","v":0},0,{"$f":"IF($A3120=M$3,AND($A3120=M$3,$D3120<0),0)","v":0},0,{"$f":"IF($A3120=O$3,AND($A3120=O$3,$D3120<0),0)","v":0},0,0,0,0,0,0,0,{"$f":"IF($A3120=W$3,AND($A3120=W$3,$D3120<0),0)","v":0},0,{"$f":"IF($A3120=Y$3,AND($A3120=Y$3,$D3120<0),0)","v":0},0,{"$f":"IF($A3120=AA$3,AND($A3120=AA$3,$D3120<0),0)","v":0},0,{"$f":"IF($A3120=AC$3,AND($A3120=AC$3,$D3120<0),0)","v":0},0,0]
[{"$f":"IF(B3121=0,\"\",MONTH(B3121))","v":""},null,null,null,{"$f":"IF(D3121=\"\",\"\",IF(D3121<0,\"DEBITO\",\"CREDITO\"))","v":""},null,false,false,0,{"$f":"IF($A3121=I$3,AND($A3121=I$3,$D3121<0),0)","v":0},0,{"$f":"IF($A3121=K$3,AND($A3121=K$3,$D3121<0),0)","v":0},0,{"$f":"IF($A3121=M$3,AND($A3121=M$3,$D3121<0),0)","v":0},0,{"$f":"IF($A3121=O$3,AND($A3121=O$3,$D3121<0),0)","v":0},0,0,0,0,0,0,0,{"$f":"IF($A3121=W$3,AND($A3121=W$3,$D3121<0),0)","v":0},0,{"$f":"IF($A3121=Y$3,AND($A3121=Y$3,$D3121<0),0)","v":0},0,{"$f":"IF($A3121=AA$3,AND($A3121=AA$3,$D3121<0),0)","v":0},0,{"$f":"IF($A3121=AC$3,AND($A3121=AC$3,$D3121<0),0)","v":0},0,0]
[{"$f":"IF(B3122=0,\"\",MONTH(B3122))","v":""},null,null,null,{"$f":"IF(D3122=\"\",\"\",IF(D3122<0,\"DEBITO\",\"CREDITO\"))","v":""},null,false,false,0,{"$f":"IF($A3122=I$3,AND($A3122=I$3,$D3122<0),0)","v":0},0,{"$f":"IF($A3122=K$3,AND($A3122=K$3,$D3122<0),0)","v":0},0,{"$f":"IF($A3122=M$3,AND($A3122=M$3,$D3122<0),0)","v":0},0,{"$f":"IF($A3122=O$3,AND($A3122=O$3,$D3122<0),0)","v":0},0,0,0,0,0,0,0,{"$f":"IF($A3122=W$3,AND($A3122=W$3,$D3122<0),0)","v":0},0,{"$f":"IF($A3122=Y$3,AND($A3122=Y$3,$D3122<0),0)","v":0},0,{"$f":"IF($A3122=AA$3,AND($A3122=AA$3,$D3122<0),0)","v":0},0,{"$f":"IF($A3122=AC$3,AND($A3122=AC$3,$D3122<0),0)","v":0},0,0]
[{"$f":"IF(B3123=0,\"\",MONTH(B3123))","v":""},null,null,null,{"$f":"IF(D3123=\"\",\"\",IF(D3123<0,\"DEBITO\",\"CREDITO\"))","v":""},null,false,false,0,{"$f":"IF($A3123=I$3,AND($A3123=I$3,$D3123<0),0)","v":0},0,{"$f":"IF($A3123=K$3,AND($A3123=K$3,$D3123<0),0)","v":0},0,{"$f":"IF($A3123=M$3,AND($A3123=M$3,$D3123<0),0)","v":0},0,{"$f":"IF($A3123=O$3,AND($A3123=O$3,$D3123<0),0)","v":0},0,0,0,0,0,0,0,{"$f":"IF($A3123=W$3,AND($A3123=W$3,$D3123<0),0)","v":0},0,{"$f":"IF($A3123=Y$3,AND($A3123=Y$3,$D3123<0),0)","v":0},0,{"$f":"IF($A3123=AA$3,AND($A3123=AA$3,$D3123<0),0)","v":0},0,{"$f":"IF($A3123=AC$3,AND($A3123=AC$3,$D3123<0),0)","v":0},0,0]
[{"$f":"IF(B3124=0,\"\",MONTH(B3124))","v":""},null,null,null,{"$f":"IF(D3124=\"\",\"\",IF(D3124<0,\"DEBITO\",\"CREDITO\"))","v":""},null,false,false,0,{"$f":"IF($A3124=I$3,AND($A3124=I$3,$D3124<0),0)","v":0},0,{"$f":"IF($A3124=K$3,AND($A3124=K$3,$D3124<0),0)","v":0},0,{"$f":"IF($A3124=M$3,AND($A3124=M$3,$D3124<0),0)","v":0},0,{"$f":"IF($A3124=O$3,AND($A3124=O$3,$D3124<0),0)","v":0},0,0,0,0,0,0,0,{"$f":"IF($A3124=W$3,AND($A3124=W$3,$D3124<0),0)","v":0},0,{"$f":"IF($A3124=Y$3,AND($A3124=Y$3,$D3124<0),0)","v":0},0,{"$f":"IF($A3124=AA$3,AND($A3124=AA$3,$D3124<0),0)","v":0},0,{"$f":"IF($A3124=AC$3,AND($A3124=AC$3,$D3124<0),0)","v":0},0,0]
[{"$f":"IF(B3125=0,\"\",MONTH(B3125))","v":""},null,null,null,{"$f":"IF(D3125=\"\",\"\",IF(D3125<0,\"DEBITO\",\"CREDITO\"))","v":""},null,false,false,0,{"$f":"IF($A3125=I$3,AND($A3125=I$3,$D3125<0),0)","v":0},0,{"$f":"IF($A3125=K$3,AND($A3125=K$3,$D3125<0),0)","v":0},0,{"$f":"IF($A3125=M$3,AND($A3125=M$3,$D3125<0),0)","v":0},0,{"$f":"IF($A3125=O$3,AND($A3125=O$3,$D3125<0),0)","v":0},0,0,0,0,0,0,0,{"$f":"IF($A3125=W$3,AND($A3125=W$3,$D3125<0),0)","v":0},0,{"$f":"IF($A3125=Y$3,AND($A3125=Y$3,$D3125<0),0)","v":0},0,{"$f":"IF($A3125=AA$3,AND($A3125=AA$3,$D3125<0),0)","v":0},0,{"$f":"IF($A3125=AC$3,AND($A3125=AC$3,$D3125<0),0)","v":0},0,0]
[{"$f":"IF(B3126=0,\"\",MONTH(B3126))","v":""},null,null,null,{"$f":"IF(D3126=\"\",\"\",IF(D3126<0,\"DEBITO\",\"CREDITO\"))","v":""},null,false,false,0,{"$f":"IF($A3126=I$3,AND($A3126=I$3,$D3126<0),0)","v":0},0,{"$f":"IF($A3126=K$3,AND($A3126=K$3,$D3126<0),0)","v":0},0,{"$f":"IF($A3126=M$3,AND($A3126=M$3,$D3126<0),0)","v":0},0,{"$f":"IF($A3126=O$3,AND($A3126=O$3,$D3126<0),0)","v":0},0,0,0,0,0,0,0,{"$f":"IF($A3126=W$3,AND($A3126=W$3,$D3126<0),0)","v":0},0,{"$f":"IF($A3126=Y$3,AND($A3126=Y$3,$D3126<0),0)","v":0},0,{"$f":"IF($A3126=AA$3,AND($A3126=AA$3,$D3126<0),0)","v":0},0,{"$f":"IF($A3126=AC$3,AND($A3126=AC$3,$D3126<0),0)","v":0},0,0]
[{"$f":"IF(B3127=0,\"\",MONTH(B3127))","v":""},null,null,null,{"$f":"IF(D3127=\"\",\"\",IF(D3127<0,\"DEBITO\",\"CREDITO\"))","v":""},null,false,false,0,{"$f":"IF($A3127=I$3,AND($A3127=I$3,$D3127<0),0)","v":0},0,{"$f":"IF($A3127=K$3,AND($A3127=K$3,$D3127<0),0)","v":0},0,{"$f":"IF($A3127=M$3,AND($A3127=M$3,$D3127<0),0)","v":0},0,{"$f":"IF($A3127=O$3,AND($A3127=O$3,$D3127<0),0)","v":0},0,0,0,0,0,0,0,{"$f":"IF($A3127=W$3,AND($A3127=W$3,$D3127<0),0)","v":0},0,{"$f":"IF($A3127=Y$3,AND($A3127=Y$3,$D3127<0),0)","v":0},0,{"$f":"IF($A3127=AA$3,AND($A3127=AA$3,$D3127<0),0)","v":0},0,{"$f":"IF($A3127=AC$3,AND($A3127=AC$3,$D3127<0),0)","v":0},0,0]
[{"$f":"IF(B3128=0,\"\",MONTH(B3128))","v":""},null,null,null,{"$f":"IF(D3128=\"\",\"\",IF(D3128<0,\"DEBITO\",\"CREDITO\"))","v":""},null,false,false,0,{"$f":"IF($A3128=I$3,AND($A3128=I$3,$D3128<0),0)","v":0},0,{"$f":"IF($A3128=K$3,AND($A3128=K$3,$D3128<0),0)","v":0},0,{"$f":"IF($A3128=M$3,AND($A3128=M$3,$D3128<0),0)","v":0},0,{"$f":"IF($A3128=O$3,AND($A3128=O$3,$D3128<0),0)","v":0},0,0,0,0,0,0,0,{"$f":"IF($A3128=W$3,AND($A3128=W$3,$D3128<0),0)","v":0},0,{"$f":"IF($A3128=Y$3,AND($A3128=Y$3,$D3128<0),0)","v":0},0,{"$f":"IF($A3128=AA$3,AND($A3128=AA$3,$D3128<0),0)","v":0},0,{"$f":"IF($A3128=AC$3,AND($A3128=AC$3,$D3128<0),0)","v":0},0,0]
[{"$f":"IF(B3129=0,\"\",MONTH(B3129))","v":""},null,null,null,{"$f":"IF(D3129=\"\",\"\",IF(D3129<0,\"DEBITO\",\"CREDITO\"))","v":""},null,false,false,0,{"$f":"IF($A3129=I$3,AND($A3129=I$3,$D3129<0),0)","v":0},0,{"$f":"IF($A3129=K$3,AND($A3129=K$3,$D3129<0),0)","v":0},0,{"$f":"IF($A3129=M$3,AND($A3129=M$3,$D3129<0),0)","v":0},0,{"$f":"IF($A3129=O$3,AND($A3129=O$3,$D3129<0),0)","v":0},0,0,0,0,0,0,0,{"$f":"IF($A3129=W$3,AND($A3129=W$3,$D3129<0),0)","v":0},0,{"$f":"IF($A3129=Y$3,AND($A3129=Y$3,$D3129<0),0)","v":0},0,{"$f":"IF($A3129=AA$3,AND($A3129=AA$3,$D3129<0),0)","v":0},0,{"$f":"IF($A3129=AC$3,AND($A3129=AC$3,$D3129<0),0)","v":0},0,0]
[{"$f":"IF(B3130=0,\"\",MONTH(B3130))","v":""},null,null,null,{"$f":"IF(D3130=\"\",\"\",IF(D3130<0,\"DEBITO\",\"CREDITO\"))","v":""},null,false,false,0,{"$f":"IF($A3130=I$3,AND($A3130=I$3,$D3130<0),0)","v":0},0,{"$f":"IF($A3130=K$3,AND($A3130=K$3,$D3130<0),0)","v":0},0,{"$f":"IF($A3130=M$3,AND($A3130=M$3,$D3130<0),0)","v":0},0,{"$f":"IF($A3130=O$3,AND($A3130=O$3,$D3130<0),0)","v":0},0,0,0,0,0,0,0,{"$f":"IF($A3130=W$3,AND($A3130=W$3,$D3130<0),0)","v":0},0,{"$f":"IF($A3130=Y$3,AND($A3130=Y$3,$D3130<0),0)","v":0},0,{"$f":"IF($A3130=AA$3,AND($A3130=AA$3,$D3130<0),0)","v":0},0,{"$f":"IF($A3130=AC$3,AND($A3130=AC$3,$D3130<0),0)","v":0},0,0]
[{"$f":"IF(B3131=0,\"\",MONTH(B3131))","v":""},null,null,null,{"$f":"IF(D3131=\"\",\"\",IF(D3131<0,\"DEBITO\",\"CREDITO\"))","v":""},null,false,false,0,{"$f":"IF($A3131=I$3,AND($A3131=I$3,$D3131<0),0)","v":0},0,{"$f":"IF($A3131=K$3,AND($A3131=K$3,$D3131<0),0)","v":0},0,{"$f":"IF($A3131=M$3,AND($A3131=M$3,$D3131<0),0)","v":0},0,{"$f":"IF($A3131=O$3,AND($A3131=O$3,$D3131<0),0)","v":0},0,0,0,0,0,0,0,{"$f":"IF($A3131=W$3,AND($A3131=W$3,$D3131<0),0)","v":0},0,{"$f":"IF($A3131=Y$3,AND($A3131=Y$3,$D3131<0),0)","v":0},0,{"$f":"IF($A3131=AA$3,AND($A3131=AA$3,$D3131<0),0)","v":0},0,{"$f":"IF($A3131=AC$3,AND($A3131=AC$3,$D3131<0),0)","v":0},0,0]
[{"$f":"IF(B3132=0,\"\",MONTH(B3132))","v":""},null,null,null,{"$f":"IF(D3132=\"\",\"\",IF(D3132<0,\"DEBITO\",\"CREDITO\"))","v":""},null,false,false,0,{"$f":"IF($A3132=I$3,AND($A3132=I$3,$D3132<0),0)","v":0},0,{"$f":"IF($A3132=K$3,AND($A3132=K$3,$D3132<0),0)","v":0},0,{"$f":"IF($A3132=M$3,AND($A3132=M$3,$D3132<0),0)","v":0},0,{"$f":"IF($A3132=O$3,AND($A3132=O$3,$D3132<0),0)","v":0},0,0,0,0,0,0,0,{"$f":"IF($A3132=W$3,AND($A3132=W$3,$D3132<0),0)","v":0},0,{"$f":"IF($A3132=Y$3,AND($A3132=Y$3,$D3132<0),0)","v":0},0,{"$f":"IF($A3132=AA$3,AND($A3132=AA$3,$D3132<0),0)","v":0},0,{"$f":"IF($A3132=AC$3,AND($A3132=AC$3,$D3132<0),0)","v":0},0,0]
[{"$f":"IF(B3133=0,\"\",MONTH(B3133))","v":""},null,null,null,{"$f":"IF(D3133=\"\",\"\",IF(D3133<0,\"DEBITO\",\"CREDITO\"))","v":""},null,false,false,0,{"$f":"IF($A3133=I$3,AND($A3133=I$3,$D3133<0),0)","v":0},0,{"$f":"IF($A3133=K$3,AND($A3133=K$3,$D3133<0),0)","v":0},0,{"$f":"IF($A3133=M$3,AND($A3133=M$3,$D3133<0),0)","v":0},0,{"$f":"IF($A3133=O$3,AND($A3133=O$3,$D3133<0),0)","v":0},0,0,0,0,0,0,0,{"$f":"IF($A3133=W$3,AND($A3133=W$3,$D3133<0),0)","v":0},0,{"$f":"IF($A3133=Y$3,AND($A3133=Y$3,$D3133<0),0)","v":0},0,{"$f":"IF($A3133=AA$3,AND($A3133=AA$3,$D3133<0),0)","v":0},0,{"$f":"IF($A3133=AC$3,AND($A3133=AC$3,$D3133<0),0)","v":0},0,0]
[{"$f":"IF(B3134=0,\"\",MONTH(B3134))","v":""},null,null,null,{"$f":"IF(D3134=\"\",\"\",IF(D3134<0,\"DEBITO\",\"CREDITO\"))","v":""},null,false,false,0,{"$f":"IF($A3134=I$3,AND($A3134=I$3,$D3134<0),0)","v":0},0,{"$f":"IF($A3134=K$3,AND($A3134=K$3,$D3134<0),0)","v":0},0,{"$f":"IF($A3134=M$3,AND($A3134=M$3,$D3134<0),0)","v":0},0,{"$f":"IF($A3134=O$3,AND($A3134=O$3,$D3134<0),0)","v":0},0,0,0,0,0,0,0,{"$f":"IF($A3134=W$3,AND($A3134=W$3,$D3134<0),0)","v":0},0,{"$f":"IF($A3134=Y$3,AND($A3134=Y$3,$D3134<0),0)","v":0},0,{"$f":"IF($A3134=AA$3,AND($A3134=AA$3,$D3134<0),0)","v":0},0,{"$f":"IF($A3134=AC$3,AND($A3134=AC$3,$D3134<0),0)","v":0},0,0]
[{"$f":"IF(B3135=0,\"\",MONTH(B3135))","v":""},null,null,null,{"$f":"IF(D3135=\"\",\"\",IF(D3135<0,\"DEBITO\",\"CREDITO\"))","v":""},null,false,false,0,{"$f":"IF($A3135=I$3,AND($A3135=I$3,$D3135<0),0)","v":0},0,{"$f":"IF($A3135=K$3,AND($A3135=K$3,$D3135<0),0)","v":0},0,{"$f":"IF($A3135=M$3,AND($A3135=M$3,$D3135<0),0)","v":0},0,{"$f":"IF($A3135=O$3,AND($A3135=O$3,$D3135<0),0)","v":0},0,0,0,0,0,0,0,{"$f":"IF($A3135=W$3,AND($A3135=W$3,$D3135<0),0)","v":0},0,{"$f":"IF($A3135=Y$3,AND($A3135=Y$3,$D3135<0),0)","v":0},0,{"$f":"IF($A3135=AA$3,AND($A3135=AA$3,$D3135<0),0)","v":0},0,{"$f":"IF($A3135=AC$3,AND($A3135=AC$3,$D3135<0),0)","v":0},0,0]
[{"$f":"IF(B3136=0,\"\",MONTH(B3136))","v":""},null,null,null,{"$f":"IF(D3136=\"\",\"\",IF(D3136<0,\"DEBITO\",\"CREDITO\"))","v":""},null,false,false,0,{"$f":"IF($A3136=I$3,AND($A3136=I$3,$D3136<0),0)","v":0},0,{"$f":"IF($A3136=K$3,AND($A3136=K$3,$D3136<0),0)","v":0},0,{"$f":"IF($A3136=M$3,AND($A3136=M$3,$D3136<0),0)","v":0},0,{"$f":"IF($A3136=O$3,AND($A3136=O$3,$D3136<0),0)","v":0},0,0,0,0,0,0,0,{"$f":"IF($A3136=W$3,AND($A3136=W$3,$D3136<0),0)","v":0},0,{"$f":"IF($A3136=Y$3,AND($A3136=Y$3,$D3136<0),0)","v":0},0,{"$f":"IF($A3136=AA$3,AND($A3136=AA$3,$D3136<0),0)","v":0},0,{"$f":"IF($A3136=AC$3,AND($A3136=AC$3,$D3136<0),0)","v":0},0,0]
[{"$f":"IF(B3137=0,\"\",MONTH(B3137))","v":""},null,null,null,{"$f":"IF(D3137=\"\",\"\",IF(D3137<0,\"DEBITO\",\"CREDITO\"))","v":""},null,false,false,0,{"$f":"IF($A3137=I$3,AND($A3137=I$3,$D3137<0),0)","v":0},0,{"$f":"IF($A3137=K$3,AND($A3137=K$3,$D3137<0),0)","v":0},0,{"$f":"IF($A3137=M$3,AND($A3137=M$3,$D3137<0),0)","v":0},0,{"$f":"IF($A3137=O$3,AND($A3137=O$3,$D3137<0),0)","v":0},0,0,0,0,0,0,0,{"$f":"IF($A3137=W$3,AND($A3137=W$3,$D3137<0),0)","v":0},0,{"$f":"IF($A3137=Y$3,AND($A3137=Y$3,$D3137<0),0)","v":0},0,{"$f":"IF($A3137=AA$3,AND($A3137=AA$3,$D3137<0),0)","v":0},0,{"$f":"IF($A3137=AC$3,AND($A3137=AC$3,$D3137<0),0)","v":0},0,0]
[{"$f":"IF(B3138=0,\"\",MONTH(B3138))","v":""},null,null,null,{"$f":"IF(D3138=\"\",\"\",IF(D3138<0,\"DEBITO\",\"CREDITO\"))","v":""},null,false,false,0,{"$f":"IF($A3138=I$3,AND($A3138=I$3,$D3138<0),0)","v":0},0,{"$f":"IF($A3138=K$3,AND($A3138=K$3,$D3138<0),0)","v":0},0,{"$f":"IF($A3138=M$3,AND($A3138=M$3,$D3138<0),0)","v":0},0,{"$f":"IF($A3138=O$3,AND($A3138=O$3,$D3138<0),0)","v":0},0,0,0,0,0,0,0,{"$f":"IF($A3138=W$3,AND($A3138=W$3,$D3138<0),0)","v":0},0,{"$f":"IF($A3138=Y$3,AND($A3138=Y$3,$D3138<0),0)","v":0},0,{"$f":"IF($A3138=AA$3,AND($A3138=AA$3,$D3138<0),0)","v":0},0,{"$f":"IF($A3138=AC$3,AND($A3138=AC$3,$D3138<0),0)","v":0},0,0]
[{"$f":"IF(B3139=0,\"\",MONTH(B3139))","v":""},null,null,null,{"$f":"IF(D3139=\"\",\"\",IF(D3139<0,\"DEBITO\",\"CREDITO\"))","v":""},null,false,false,0,{"$f":"IF($A3139=I$3,AND($A3139=I$3,$D3139<0),0)","v":0},0,{"$f":"IF($A3139=K$3,AND($A3139=K$3,$D3139<0),0)","v":0},0,{"$f":"IF($A3139=M$3,AND($A3139=M$3,$D3139<0),0)","v":0},0,{"$f":"IF($A3139=O$3,AND($A3139=O$3,$D3139<0),0)","v":0},0,0,0,0,0,0,0,{"$f":"IF($A3139=W$3,AND($A3139=W$3,$D3139<0),0)","v":0},0,{"$f":"IF($A3139=Y$3,AND($A3139=Y$3,$D3139<0),0)","v":0},0,{"$f":"IF($A3139=AA$3,AND($A3139=AA$3,$D3139<0),0)","v":0},0,{"$f":"IF($A3139=AC$3,AND($A3139=AC$3,$D3139<0),0)","v":0},0,0]
[{"$f":"IF(B3140=0,\"\",MONTH(B3140))","v":""},null,null,null,{"$f":"IF(D3140=\"\",\"\",IF(D3140<0,\"DEBITO\",\"CREDITO\"))","v":""},null,false,false,0,{"$f":"IF($A3140=I$3,AND($A3140=I$3,$D3140<0),0)","v":0},0,{"$f":"IF($A3140=K$3,AND($A3140=K$3,$D3140<0),0)","v":0},0,{"$f":"IF($A3140=M$3,AND($A3140=M$3,$D3140<0),0)","v":0},0,{"$f":"IF($A3140=O$3,AND($A3140=O$3,$D3140<0),0)","v":0},0,0,0,0,0,0,0,{"$f":"IF($A3140=W$3,AND($A3140=W$3,$D3140<0),0)","v":0},0,{"$f":"IF($A3140=Y$3,AND($A3140=Y$3,$D3140<0),0)","v":0},0,{"$f":"IF($A3140=AA$3,AND($A3140=AA$3,$D3140<0),0)","v":0},0,{"$f":"IF($A3140=AC$3,AND($A3140=AC$3,$D3140<0),0)","v":0},0,0]
[{"$f":"IF(B3141=0,\"\",MONTH(B3141))","v":""},null,null,null,{"$f":"IF(D3141=\"\",\"\",IF(D3141<0,\"DEBITO\",\"CREDITO\"))","v":""},null,false,false,0,{"$f":"IF($A3141=I$3,AND($A3141=I$3,$D3141<0),0)","v":0},0,{"$f":"IF($A3141=K$3,AND($A3141=K$3,$D3141<0),0)","v":0},0,{"$f":"IF($A3141=M$3,AND($A3141=M$3,$D3141<0),0)","v":0},0,{"$f":"IF($A3141=O$3,AND($A3141=O$3,$D3141<0),0)","v":0},0,0,0,0,0,0,0,{"$f":"IF($A3141=W$3,AND($A3141=W$3,$D3141<0),0)","v":0},0,{"$f":"IF($A3141=Y$3,AND($A3141=Y$3,$D3141<0),0)","v":0},0,{"$f":"IF($A3141=AA$3,AND($A3141=AA$3,$D3141<0),0)","v":0},0,{"$f":"IF($A3141=AC$3,AND($A3141=AC$3,$D3141<0),0)","v":0},0,0]
[{"$f":"IF(B3142=0,\"\",MONTH(B3142))","v":""},null,null,null,{"$f":"IF(D3142=\"\",\"\",IF(D3142<0,\"DEBITO\",\"CREDITO\"))","v":""},null,false,false,0,{"$f":"IF($A3142=I$3,AND($A3142=I$3,$D3142<0),0)","v":0},0,{"$f":"IF($A3142=K$3,AND($A3142=K$3,$D3142<0),0)","v":0},0,{"$f":"IF($A3142=M$3,AND($A3142=M$3,$D3142<0),0)","v":0},0,{"$f":"IF($A3142=O$3,AND($A3142=O$3,$D3142<0),0)","v":0},0,0,0,0,0,0,0,{"$f":"IF($A3142=W$3,AND($A3142=W$3,$D3142<0),0)","v":0},0,{"$f":"IF($A3142=Y$3,AND($A3142=Y$3,$D3142<0),0)","v":0},0,{"$f":"IF($A3142=AA$3,AND($A3142=AA$3,$D3142<0),0)","v":0},0,{"$f":"IF($A3142=AC$3,AND($A3142=AC$3,$D3142<0),0)","v":0},0,0]
[{"$f":"IF(B3143=0,\"\",MONTH(B3143))","v":""},null,null,null,{"$f":"IF(D3143=\"\",\"\",IF(D3143<0,\"DEBITO\",\"CREDITO\"))","v":""},null,false,false,0,{"$f":"IF($A3143=I$3,AND($A3143=I$3,$D3143<0),0)","v":0},0,{"$f":"IF($A3143=K$3,AND($A3143=K$3,$D3143<0),0)","v":0},0,{"$f":"IF($A3143=M$3,AND($A3143=M$3,$D3143<0),0)","v":0},0,{"$f":"IF($A3143=O$3,AND($A3143=O$3,$D3143<0),0)","v":0},0,0,0,0,0,0,0,{"$f":"IF($A3143=W$3,AND($A3143=W$3,$D3143<0),0)","v":0},0,{"$f":"IF($A3143=Y$3,AND($A3143=Y$3,$D3143<0),0)","v":0},0,{"$f":"IF($A3143=AA$3,AND($A3143=AA$3,$D3143<0),0)","v":0},0,{"$f":"IF($A3143=AC$3,AND($A3143=AC$3,$D3143<0),0)","v":0},0,0]
[{"$f":"IF(B3144=0,\"\",MONTH(B3144))","v":""},null,null,null,{"$f":"IF(D3144=\"\",\"\",IF(D3144<0,\"DEBITO\",\"CREDITO\"))","v":""},null,false,false,0,{"$f":"IF($A3144=I$3,AND($A3144=I$3,$D3144<0),0)","v":0},0,{"$f":"IF($A3144=K$3,AND($A3144=K$3,$D3144<0),0)","v":0},0,{"$f":"IF($A3144=M$3,AND($A3144=M$3,$D3144<0),0)","v":0},0,{"$f":"IF($A3144=O$3,AND($A3144=O$3,$D3144<0),0)","v":0},0,0,0,0,0,0,0,{"$f":"IF($A3144=W$3,AND($A3144=W$3,$D3144<0),0)","v":0},0,{"$f":"IF($A3144=Y$3,AND($A3144=Y$3,$D3144<0),0)","v":0},0,{"$f":"IF($A3144=AA$3,AND($A3144=AA$3,$D3144<0),0)","v":0},0,{"$f":"IF($A3144=AC$3,AND($A3144=AC$3,$D3144<0),0)","v":0},0,0]
[{"$f":"IF(B3145=0,\"\",MONTH(B3145))","v":""},null,null,null,{"$f":"IF(D3145=\"\",\"\",IF(D3145<0,\"DEBITO\",\"CREDITO\"))","v":""},null,{"$f":"AND(A3145=$E$3,D3145>0)","v":false},{"$f":"AND(A3145=$E$3,D3145<0)","v":false},0,{"$f":"IF($A3145=I$3,AND($A3145=I$3,$D3145<0),0)","v":0},0,{"$f":"IF($A3145=K$3,AND($A3145=K$3,$D3145<0),0)","v":0},0,{"$f":"IF($A3145=M$3,AND($A3145=M$3,$D3145<0),0)","v":0},0,{"$f":"IF($A3145=O$3,AND($A3145=O$3,$D3145<0),0)","v":0},0,{"$f":"IF($A3145=Q$3,AND($A3145=Q$3,$D3145<0),0)","v":0},0,0,0,0,0,{"$f":"IF($A3145=W$3,AND($A3145=W$3,$D3145<0),0)","v":0},0,{"$f":"IF($A3145=Y$3,AND($A3145=Y$3,$D3145<0),0)","v":0},0,{"$f":"IF($A3145=AA$3,AND($A3145=AA$3,$D3145<0),0)","v":0},0,{"$f":"IF($A3145=AC$3,AND($A3145=AC$3,$D3145<0),0)","v":0},0,{"$f":"IF($A3145=AE$3,AND($A3145=AE$3,$D3145<0),0)","v":0}]
[{"$f":"IF(B3146=0,\"\",MONTH(B3146))","v":""},null,null,null,{"$f":"IF(D3146=\"\",\"\",IF(D3146<0,\"DEBITO\",\"CREDITO\"))","v":""},null,false,false,0,{"$f":"IF($A3146=I$3,AND($A3146=I$3,$D3146<0),0)","v":0},0,{"$f":"IF($A3146=K$3,AND($A3146=K$3,$D3146<0),0)","v":0},0,{"$f":"IF($A3146=M$3,AND($A3146=M$3,$D3146<0),0)","v":0},0,{"$f":"IF($A3146=O$3,AND($A3146=O$3,$D3146<0),0)","v":0},0,0,{"$f":"IF($A3146=S$3,AND($A3146=S$3,$D3146>0),0)","v":0},{"$f":"IF($A3146=S$3,AND($A3146=S$3,$D3146<0),0)","v":0},{"$f":"IF($A3146=U$3,AND($A3146=U$3,$D3146>0),0)","v":0},{"$f":"IF($A3146=U$3,AND($A3146=U$3,$D3146<0),0)","v":0},0,{"$f":"IF($A3146=W$3,AND($A3146=W$3,$D3146<0),0)","v":0},0,{"$f":"IF($A3146=Y$3,AND($A3146=Y$3,$D3146<0),0)","v":0},0,{"$f":"IF($A3146=AA$3,AND($A3146=AA$3,$D3146<0),0)","v":0},0,{"$f":"IF($A3146=AC$3,AND($A3146=AC$3,$D3146<0),0)","v":0},0,0]
[{"$f":"IF(B3147=0,\"\",MONTH(B3147))","v":""},null,null,null,{"$f":"IF(D3147=\"\",\"\",IF(D3147<0,\"DEBITO\",\"CREDITO\"))","v":""},null,false,false,0,{"$f":"IF($A3147=I$3,AND($A3147=I$3,$D3147<0),0)","v":0},0,{"$f":"IF($A3147=K$3,AND($A3147=K$3,$D3147<0),0)","v":0},0,{"$f":"IF($A3147=M$3,AND($A3147=M$3,$D3147<0),0)","v":0},0,{"$f":"IF($A3147=O$3,AND($A3147=O$3,$D3147<0),0)","v":0},0,0,0,0,0,0,0,{"$f":"IF($A3147=W$3,AND($A3147=W$3,$D3147<0),0)","v":0},0,{"$f":"IF($A3147=Y$3,AND($A3147=Y$3,$D3147<0),0)","v":0},0,{"$f":"IF($A3147=AA$3,AND($A3147=AA$3,$D3147<0),0)","v":0},0,{"$f":"IF($A3147=AC$3,AND($A3147=AC$3,$D3147<0),0)","v":0},0,0]
[{"$f":"IF(B3148=0,\"\",MONTH(B3148))","v":""},null,null,null,{"$f":"IF(D3148=\"\",\"\",IF(D3148<0,\"DEBITO\",\"CREDITO\"))","v":""},null,false,false,0,{"$f":"IF($A3148=I$3,AND($A3148=I$3,$D3148<0),0)","v":0},0,{"$f":"IF($A3148=K$3,AND($A3148=K$3,$D3148<0),0)","v":0},0,{"$f":"IF($A3148=M$3,AND($A3148=M$3,$D3148<0),0)","v":0},0,{"$f":"IF($A3148=O$3,AND($A3148=O$3,$D3148<0),0)","v":0},0,0,0,0,0,0,0,{"$f":"IF($A3148=W$3,AND($A3148=W$3,$D3148<0),0)","v":0},0,{"$f":"IF($A3148=Y$3,AND($A3148=Y$3,$D3148<0),0)","v":0},0,{"$f":"IF($A3148=AA$3,AND($A3148=AA$3,$D3148<0),0)","v":0},0,{"$f":"IF($A3148=AC$3,AND($A3148=AC$3,$D3148<0),0)","v":0},0,0]
[{"$f":"IF(B3149=0,\"\",MONTH(B3149))","v":""},null,null,null,{"$f":"IF(D3149=\"\",\"\",IF(D3149<0,\"DEBITO\",\"CREDITO\"))","v":""},null,false,false,0,{"$f":"IF($A3149=I$3,AND($A3149=I$3,$D3149<0),0)","v":0},0,{"$f":"IF($A3149=K$3,AND($A3149=K$3,$D3149<0),0)","v":0},0,{"$f":"IF($A3149=M$3,AND($A3149=M$3,$D3149<0),0)","v":0},0,{"$f":"IF($A3149=O$3,AND($A3149=O$3,$D3149<0),0)","v":0},0,0,0,0,0,0,0,{"$f":"IF($A3149=W$3,AND($A3149=W$3,$D3149<0),0)","v":0},0,{"$f":"IF($A3149=Y$3,AND($A3149=Y$3,$D3149<0),0)","v":0},0,{"$f":"IF($A3149=AA$3,AND($A3149=AA$3,$D3149<0),0)","v":0},0,{"$f":"IF($A3149=AC$3,AND($A3149=AC$3,$D3149<0),0)","v":0},0,0]
[{"$f":"IF(B3150=0,\"\",MONTH(B3150))","v":""},null,null,null,{"$f":"IF(D3150=\"\",\"\",IF(D3150<0,\"DEBITO\",\"CREDITO\"))","v":""},null,false,false,0,{"$f":"IF($A3150=I$3,AND($A3150=I$3,$D3150<0),0)","v":0},0,{"$f":"IF($A3150=K$3,AND($A3150=K$3,$D3150<0),0)","v":0},0,{"$f":"IF($A3150=M$3,AND($A3150=M$3,$D3150<0),0)","v":0},0,{"$f":"IF($A3150=O$3,AND($A3150=O$3,$D3150<0),0)","v":0},0,0,0,0,0,0,0,{"$f":"IF($A3150=W$3,AND($A3150=W$3,$D3150<0),0)","v":0},0,{"$f":"IF($A3150=Y$3,AND($A3150=Y$3,$D3150<0),0)","v":0},0,{"$f":"IF($A3150=AA$3,AND($A3150=AA$3,$D3150<0),0)","v":0},0,{"$f":"IF($A3150=AC$3,AND($A3150=AC$3,$D3150<0),0)","v":0},0,0]
[{"$f":"IF(B3151=0,\"\",MONTH(B3151))","v":""},null,null,null,{"$f":"IF(D3151=\"\",\"\",IF(D3151<0,\"DEBITO\",\"CREDITO\"))","v":""},null,false,false,0,{"$f":"IF($A3151=I$3,AND($A3151=I$3,$D3151<0),0)","v":0},0,{"$f":"IF($A3151=K$3,AND($A3151=K$3,$D3151<0),0)","v":0},0,{"$f":"IF($A3151=M$3,AND($A3151=M$3,$D3151<0),0)","v":0},0,{"$f":"IF($A3151=O$3,AND($A3151=O$3,$D3151<0),0)","v":0},0,0,0,0,0,0,0,{"$f":"IF($A3151=W$3,AND($A3151=W$3,$D3151<0),0)","v":0},0,{"$f":"IF($A3151=Y$3,AND($A3151=Y$3,$D3151<0),0)","v":0},0,{"$f":"IF($A3151=AA$3,AND($A3151=AA$3,$D3151<0),0)","v":0},0,{"$f":"IF($A3151=AC$3,AND($A3151=AC$3,$D3151<0),0)","v":0},0,0]
[{"$f":"IF(B3152=0,\"\",MONTH(B3152))","v":""},null,null,null,{"$f":"IF(D3152=\"\",\"\",IF(D3152<0,\"DEBITO\",\"CREDITO\"))","v":""},null,false,false,0,{"$f":"IF($A3152=I$3,AND($A3152=I$3,$D3152<0),0)","v":0},0,{"$f":"IF($A3152=K$3,AND($A3152=K$3,$D3152<0),0)","v":0},0,{"$f":"IF($A3152=M$3,AND($A3152=M$3,$D3152<0),0)","v":0},0,{"$f":"IF($A3152=O$3,AND($A3152=O$3,$D3152<0),0)","v":0},0,0,0,0,0,0,0,{"$f":"IF($A3152=W$3,AND($A3152=W$3,$D3152<0),0)","v":0},0,{"$f":"IF($A3152=Y$3,AND($A3152=Y$3,$D3152<0),0)","v":0},0,{"$f":"IF($A3152=AA$3,AND($A3152=AA$3,$D3152<0),0)","v":0},0,{"$f":"IF($A3152=AC$3,AND($A3152=AC$3,$D3152<0),0)","v":0},0,0]
[{"$f":"IF(B3153=0,\"\",MONTH(B3153))","v":""},null,null,null,{"$f":"IF(D3153=\"\",\"\",IF(D3153<0,\"DEBITO\",\"CREDITO\"))","v":""},null,false,false,0,{"$f":"IF($A3153=I$3,AND($A3153=I$3,$D3153<0),0)","v":0},0,{"$f":"IF($A3153=K$3,AND($A3153=K$3,$D3153<0),0)","v":0},0,{"$f":"IF($A3153=M$3,AND($A3153=M$3,$D3153<0),0)","v":0},0,{"$f":"IF($A3153=O$3,AND($A3153=O$3,$D3153<0),0)","v":0},0,0,0,0,0,0,0,{"$f":"IF($A3153=W$3,AND($A3153=W$3,$D3153<0),0)","v":0},0,{"$f":"IF($A3153=Y$3,AND($A3153=Y$3,$D3153<0),0)","v":0},0,{"$f":"IF($A3153=AA$3,AND($A3153=AA$3,$D3153<0),0)","v":0},0,{"$f":"IF($A3153=AC$3,AND($A3153=AC$3,$D3153<0),0)","v":0},0,0]
[{"$f":"IF(B3154=0,\"\",MONTH(B3154))","v":""},null,null,null,{"$f":"IF(D3154=\"\",\"\",IF(D3154<0,\"DEBITO\",\"CREDITO\"))","v":""},null,false,false,0,{"$f":"IF($A3154=I$3,AND($A3154=I$3,$D3154<0),0)","v":0},0,{"$f":"IF($A3154=K$3,AND($A3154=K$3,$D3154<0),0)","v":0},0,{"$f":"IF($A3154=M$3,AND($A3154=M$3,$D3154<0),0)","v":0},0,{"$f":"IF($A3154=O$3,AND($A3154=O$3,$D3154<0),0)","v":0},0,0,0,0,0,0,0,{"$f":"IF($A3154=W$3,AND($A3154=W$3,$D3154<0),0)","v":0},0,{"$f":"IF($A3154=Y$3,AND($A3154=Y$3,$D3154<0),0)","v":0},0,{"$f":"IF($A3154=AA$3,AND($A3154=AA$3,$D3154<0),0)","v":0},0,{"$f":"IF($A3154=AC$3,AND($A3154=AC$3,$D3154<0),0)","v":0},0,0]
[{"$f":"IF(B3155=0,\"\",MONTH(B3155))","v":""},null,null,null,{"$f":"IF(D3155=\"\",\"\",IF(D3155<0,\"DEBITO\",\"CREDITO\"))","v":""},null,false,false,0,{"$f":"IF($A3155=I$3,AND($A3155=I$3,$D3155<0),0)","v":0},0,{"$f":"IF($A3155=K$3,AND($A3155=K$3,$D3155<0),0)","v":0},0,{"$f":"IF($A3155=M$3,AND($A3155=M$3,$D3155<0),0)","v":0},0,{"$f":"IF($A3155=O$3,AND($A3155=O$3,$D3155<0),0)","v":0},0,0,0,0,0,0,0,{"$f":"IF($A3155=W$3,AND($A3155=W$3,$D3155<0),0)","v":0},0,{"$f":"IF($A3155=Y$3,AND($A3155=Y$3,$D3155<0),0)","v":0},0,{"$f":"IF($A3155=AA$3,AND($A3155=AA$3,$D3155<0),0)","v":0},0,{"$f":"IF($A3155=AC$3,AND($A3155=AC$3,$D3155<0),0)","v":0},0,0]
[{"$f":"IF(B3156=0,\"\",MONTH(B3156))","v":""},null,null,null,{"$f":"IF(D3156=\"\",\"\",IF(D3156<0,\"DEBITO\",\"CREDITO\"))","v":""},null,false,false,0,{"$f":"IF($A3156=I$3,AND($A3156=I$3,$D3156<0),0)","v":0},0,{"$f":"IF($A3156=K$3,AND($A3156=K$3,$D3156<0),0)","v":0},0,{"$f":"IF($A3156=M$3,AND($A3156=M$3,$D3156<0),0)","v":0},0,{"$f":"IF($A3156=O$3,AND($A3156=O$3,$D3156<0),0)","v":0},0,0,0,0,0,0,0,{"$f":"IF($A3156=W$3,AND($A3156=W$3,$D3156<0),0)","v":0},0,{"$f":"IF($A3156=Y$3,AND($A3156=Y$3,$D3156<0),0)","v":0},0,{"$f":"IF($A3156=AA$3,AND($A3156=AA$3,$D3156<0),0)","v":0},0,{"$f":"IF($A3156=AC$3,AND($A3156=AC$3,$D3156<0),0)","v":0},0,0]
[{"$f":"IF(B3157=0,\"\",MONTH(B3157))","v":""},null,null,null,{"$f":"IF(D3157=\"\",\"\",IF(D3157<0,\"DEBITO\",\"CREDITO\"))","v":""},null,false,false,0,{"$f":"IF($A3157=I$3,AND($A3157=I$3,$D3157<0),0)","v":0},0,{"$f":"IF($A3157=K$3,AND($A3157=K$3,$D3157<0),0)","v":0},0,{"$f":"IF($A3157=M$3,AND($A3157=M$3,$D3157<0),0)","v":0},0,{"$f":"IF($A3157=O$3,AND($A3157=O$3,$D3157<0),0)","v":0},0,0,0,0,0,0,0,{"$f":"IF($A3157=W$3,AND($A3157=W$3,$D3157<0),0)","v":0},0,{"$f":"IF($A3157=Y$3,AND($A3157=Y$3,$D3157<0),0)","v":0},0,{"$f":"IF($A3157=AA$3,AND($A3157=AA$3,$D3157<0),0)","v":0},0,{"$f":"IF($A3157=AC$3,AND($A3157=AC$3,$D3157<0),0)","v":0},0,0]
[{"$f":"IF(B3158=0,\"\",MONTH(B3158))","v":""},null,null,null,{"$f":"IF(D3158=\"\",\"\",IF(D3158<0,\"DEBITO\",\"CREDITO\"))","v":""},null,false,false,0,{"$f":"IF($A3158=I$3,AND($A3158=I$3,$D3158<0),0)","v":0},0,{"$f":"IF($A3158=K$3,AND($A3158=K$3,$D3158<0),0)","v":0},0,{"$f":"IF($A3158=M$3,AND($A3158=M$3,$D3158<0),0)","v":0},0,{"$f":"IF($A3158=O$3,AND($A3158=O$3,$D3158<0),0)","v":0},0,0,0,0,0,0,0,{"$f":"IF($A3158=W$3,AND($A3158=W$3,$D3158<0),0)","v":0},0,{"$f":"IF($A3158=Y$3,AND($A3158=Y$3,$D3158<0),0)","v":0},0,{"$f":"IF($A3158=AA$3,AND($A3158=AA$3,$D3158<0),0)","v":0},0,{"$f":"IF($A3158=AC$3,AND($A3158=AC$3,$D3158<0),0)","v":0},0,0]
[{"$f":"IF(B3159=0,\"\",MONTH(B3159))","v":""},null,null,null,{"$f":"IF(D3159=\"\",\"\",IF(D3159<0,\"DEBITO\",\"CREDITO\"))","v":""},null,false,false,0,{"$f":"IF($A3159=I$3,AND($A3159=I$3,$D3159<0),0)","v":0},0,{"$f":"IF($A3159=K$3,AND($A3159=K$3,$D3159<0),0)","v":0},0,{"$f":"IF($A3159=M$3,AND($A3159=M$3,$D3159<0),0)","v":0},0,{"$f":"IF($A3159=O$3,AND($A3159=O$3,$D3159<0),0)","v":0},0,0,0,0,0,0,0,{"$f":"IF($A3159=W$3,AND($A3159=W$3,$D3159<0),0)","v":0},0,{"$f":"IF($A3159=Y$3,AND($A3159=Y$3,$D3159<0),0)","v":0},0,{"$f":"IF($A3159=AA$3,AND($A3159=AA$3,$D3159<0),0)","v":0},0,{"$f":"IF($A3159=AC$3,AND($A3159=AC$3,$D3159<0),0)","v":0},0,0]
[{"$f":"IF(B3160=0,\"\",MONTH(B3160))","v":""},null,null,null,{"$f":"IF(D3160=\"\",\"\",IF(D3160<0,\"DEBITO\",\"CREDITO\"))","v":""},null,false,false,0,{"$f":"IF($A3160=I$3,AND($A3160=I$3,$D3160<0),0)","v":0},0,{"$f":"IF($A3160=K$3,AND($A3160=K$3,$D3160<0),0)","v":0},0,{"$f":"IF($A3160=M$3,AND($A3160=M$3,$D3160<0),0)","v":0},0,{"$f":"IF($A3160=O$3,AND($A3160=O$3,$D3160<0),0)","v":0},0,0,0,0,0,0,0,{"$f":"IF($A3160=W$3,AND($A3160=W$3,$D3160<0),0)","v":0},0,{"$f":"IF($A3160=Y$3,AND($A3160=Y$3,$D3160<0),0)","v":0},0,{"$f":"IF($A3160=AA$3,AND($A3160=AA$3,$D3160<0),0)","v":0},0,{"$f":"IF($A3160=AC$3,AND($A3160=AC$3,$D3160<0),0)","v":0},0,0]
[{"$f":"IF(B3161=0,\"\",MONTH(B3161))","v":""},null,null,null,{"$f":"IF(D3161=\"\",\"\",IF(D3161<0,\"DEBITO\",\"CREDITO\"))","v":""},null,false,false,{"$f":"IF($A3161=I$3,AND($A3161=I$3,$D3161>0),0)","v":0},{"$f":"IF($A3161=I$3,AND($A3161=I$3,$D3161<0),0)","v":0},{"$f":"IF($A3161=K$3,AND($A3161=K$3,$D3161>0),0)","v":0},{"$f":"IF($A3161=K$3,AND($A3161=K$3,$D3161<0),0)","v":0},{"$f":"IF($A3161=M$3,AND($A3161=M$3,$D3161>0),0)","v":0},{"$f":"IF($A3161=M$3,AND($A3161=M$3,$D3161<0),0)","v":0},{"$f":"IF($A3161=O$3,AND($A3161=O$3,$D3161>0),0)","v":0},{"$f":"IF($A3161=O$3,AND($A3161=O$3,$D3161<0),0)","v":0},{"$f":"IF($A3161=Q$3,AND($A3161=Q$3,$D3161>0),0)","v":0},0,0,0,0,0,{"$f":"IF($A3161=W$3,AND($A3161=W$3,$D3161>0),0)","v":0},{"$f":"IF($A3161=W$3,AND($A3161=W$3,$D3161<0),0)","v":0},{"$f":"IF($A3161=Y$3,AND($A3161=Y$3,$D3161>0),0)","v":0},{"$f":"IF($A3161=Y$3,AND($A3161=Y$3,$D3161<0),0)","v":0},{"$f":"IF($A3161=AA$3,AND($A3161=AA$3,$D3161>0),0)","v":0},{"$f":"IF($A3161=AA$3,AND($A3161=AA$3,$D3161<0),0)","v":0},{"$f":"IF($A3161=AC$3,AND($A3161=AC$3,$D3161>0),0)","v":0},{"$f":"IF($A3161=AC$3,AND($A3161=AC$3,$D3161<0),0)","v":0},{"$f":"IF($A3161=AE$3,AND($A3161=AE$3,$D3161>0),0)","v":0},0]
[{"$f":"IF(B3162=0,\"\",MONTH(B3162))","v":""},null,null,null,{"$f":"IF(D3162=\"\",\"\",IF(D3162<0,\"DEBITO\",\"CREDITO\"))","v":""},null,false,false,0,{"$f":"IF($A3162=I$3,AND($A3162=I$3,$D3162<0),0)","v":0},0,{"$f":"IF($A3162=K$3,AND($A3162=K$3,$D3162<0),0)","v":0},0,{"$f":"IF($A3162=M$3,AND($A3162=M$3,$D3162<0),0)","v":0},0,{"$f":"IF($A3162=O$3,AND($A3162=O$3,$D3162<0),0)","v":0},0,0,0,0,0,0,0,{"$f":"IF($A3162=W$3,AND($A3162=W$3,$D3162<0),0)","v":0},0,{"$f":"IF($A3162=Y$3,AND($A3162=Y$3,$D3162<0),0)","v":0},0,{"$f":"IF($A3162=AA$3,AND($A3162=AA$3,$D3162<0),0)","v":0},0,{"$f":"IF($A3162=AC$3,AND($A3162=AC$3,$D3162<0),0)","v":0},0,0]
[{"$f":"IF(B3163=0,\"\",MONTH(B3163))","v":""},null,null,null,{"$f":"IF(D3163=\"\",\"\",IF(D3163<0,\"DEBITO\",\"CREDITO\"))","v":""},null,false,false,0,{"$f":"IF($A3163=I$3,AND($A3163=I$3,$D3163<0),0)","v":0},0,{"$f":"IF($A3163=K$3,AND($A3163=K$3,$D3163<0),0)","v":0},0,{"$f":"IF($A3163=M$3,AND($A3163=M$3,$D3163<0),0)","v":0},0,{"$f":"IF($A3163=O$3,AND($A3163=O$3,$D3163<0),0)","v":0},0,0,0,0,0,0,0,{"$f":"IF($A3163=W$3,AND($A3163=W$3,$D3163<0),0)","v":0},0,{"$f":"IF($A3163=Y$3,AND($A3163=Y$3,$D3163<0),0)","v":0},0,{"$f":"IF($A3163=AA$3,AND($A3163=AA$3,$D3163<0),0)","v":0},0,{"$f":"IF($A3163=AC$3,AND($A3163=AC$3,$D3163<0),0)","v":0},0,0]
[{"$f":"IF(B3164=0,\"\",MONTH(B3164))","v":""},null,null,null,{"$f":"IF(D3164=\"\",\"\",IF(D3164<0,\"DEBITO\",\"CREDITO\"))","v":""},null,false,false,0,{"$f":"IF($A3164=I$3,AND($A3164=I$3,$D3164<0),0)","v":0},0,{"$f":"IF($A3164=K$3,AND($A3164=K$3,$D3164<0),0)","v":0},0,{"$f":"IF($A3164=M$3,AND($A3164=M$3,$D3164<0),0)","v":0},0,{"$f":"IF($A3164=O$3,AND($A3164=O$3,$D3164<0),0)","v":0},0,0,0,0,0,0,0,{"$f":"IF($A3164=W$3,AND($A3164=W$3,$D3164<0),0)","v":0},0,{"$f":"IF($A3164=Y$3,AND($A3164=Y$3,$D3164<0),0)","v":0},0,{"$f":"IF($A3164=AA$3,AND($A3164=AA$3,$D3164<0),0)","v":0},0,{"$f":"IF($A3164=AC$3,AND($A3164=AC$3,$D3164<0),0)","v":0},0,0]
[{"$f":"IF(B3165=0,\"\",MONTH(B3165))","v":""},null,null,null,{"$f":"IF(D3165=\"\",\"\",IF(D3165<0,\"DEBITO\",\"CREDITO\"))","v":""},null,false,false,0,{"$f":"IF($A3165=I$3,AND($A3165=I$3,$D3165<0),0)","v":0},0,{"$f":"IF($A3165=K$3,AND($A3165=K$3,$D3165<0),0)","v":0},0,{"$f":"IF($A3165=M$3,AND($A3165=M$3,$D3165<0),0)","v":0},0,{"$f":"IF($A3165=O$3,AND($A3165=O$3,$D3165<0),0)","v":0},0,0,0,0,0,0,0,{"$f":"IF($A3165=W$3,AND($A3165=W$3,$D3165<0),0)","v":0},0,{"$f":"IF($A3165=Y$3,AND($A3165=Y$3,$D3165<0),0)","v":0},0,{"$f":"IF($A3165=AA$3,AND($A3165=AA$3,$D3165<0),0)","v":0},0,{"$f":"IF($A3165=AC$3,AND($A3165=AC$3,$D3165<0),0)","v":0},0,0]
[{"$f":"IF(B3166=0,\"\",MONTH(B3166))","v":""},null,null,null,{"$f":"IF(D3166=\"\",\"\",IF(D3166<0,\"DEBITO\",\"CREDITO\"))","v":""},null,false,false,0,{"$f":"IF($A3166=I$3,AND($A3166=I$3,$D3166<0),0)","v":0},0,{"$f":"IF($A3166=K$3,AND($A3166=K$3,$D3166<0),0)","v":0},0,{"$f":"IF($A3166=M$3,AND($A3166=M$3,$D3166<0),0)","v":0},0,{"$f":"IF($A3166=O$3,AND($A3166=O$3,$D3166<0),0)","v":0},0,0,0,0,0,0,0,{"$f":"IF($A3166=W$3,AND($A3166=W$3,$D3166<0),0)","v":0},0,{"$f":"IF($A3166=Y$3,AND($A3166=Y$3,$D3166<0),0)","v":0},0,{"$f":"IF($A3166=AA$3,AND($A3166=AA$3,$D3166<0),0)","v":0},0,{"$f":"IF($A3166=AC$3,AND($A3166=AC$3,$D3166<0),0)","v":0},0,0]
[{"$f":"IF(B3167=0,\"\",MONTH(B3167))","v":""},null,null,null,{"$f":"IF(D3167=\"\",\"\",IF(D3167<0,\"DEBITO\",\"CREDITO\"))","v":""},null,false,false,0,{"$f":"IF($A3167=I$3,AND($A3167=I$3,$D3167<0),0)","v":0},0,{"$f":"IF($A3167=K$3,AND($A3167=K$3,$D3167<0),0)","v":0},0,{"$f":"IF($A3167=M$3,AND($A3167=M$3,$D3167<0),0)","v":0},0,{"$f":"IF($A3167=O$3,AND($A3167=O$3,$D3167<0),0)","v":0},0,0,0,0,0,0,0,{"$f":"IF($A3167=W$3,AND($A3167=W$3,$D3167<0),0)","v":0},0,{"$f":"IF($A3167=Y$3,AND($A3167=Y$3,$D3167<0),0)","v":0},0,{"$f":"IF($A3167=AA$3,AND($A3167=AA$3,$D3167<0),0)","v":0},0,{"$f":"IF($A3167=AC$3,AND($A3167=AC$3,$D3167<0),0)","v":0},0,0]
[{"$f":"IF(B3168=0,\"\",MONTH(B3168))","v":""},null,null,null,{"$f":"IF(D3168=\"\",\"\",IF(D3168<0,\"DEBITO\",\"CREDITO\"))","v":""},null,false,false,0,{"$f":"IF($A3168=I$3,AND($A3168=I$3,$D3168<0),0)","v":0},0,{"$f":"IF($A3168=K$3,AND($A3168=K$3,$D3168<0),0)","v":0},0,{"$f":"IF($A3168=M$3,AND($A3168=M$3,$D3168<0),0)","v":0},0,{"$f":"IF($A3168=O$3,AND($A3168=O$3,$D3168<0),0)","v":0},0,0,0,0,0,0,0,{"$f":"IF($A3168=W$3,AND($A3168=W$3,$D3168<0),0)","v":0},0,{"$f":"IF($A3168=Y$3,AND($A3168=Y$3,$D3168<0),0)","v":0},0,{"$f":"IF($A3168=AA$3,AND($A3168=AA$3,$D3168<0),0)","v":0},0,{"$f":"IF($A3168=AC$3,AND($A3168=AC$3,$D3168<0),0)","v":0},0,0]
[{"$f":"IF(B3169=0,\"\",MONTH(B3169))","v":""},null,null,null,{"$f":"IF(D3169=\"\",\"\",IF(D3169<0,\"DEBITO\",\"CREDITO\"))","v":""},null,false,false,0,{"$f":"IF($A3169=I$3,AND($A3169=I$3,$D3169<0),0)","v":0},0,{"$f":"IF($A3169=K$3,AND($A3169=K$3,$D3169<0),0)","v":0},0,{"$f":"IF($A3169=M$3,AND($A3169=M$3,$D3169<0),0)","v":0},0,{"$f":"IF($A3169=O$3,AND($A3169=O$3,$D3169<0),0)","v":0},0,0,0,0,0,0,0,{"$f":"IF($A3169=W$3,AND($A3169=W$3,$D3169<0),0)","v":0},0,{"$f":"IF($A3169=Y$3,AND($A3169=Y$3,$D3169<0),0)","v":0},0,{"$f":"IF($A3169=AA$3,AND($A3169=AA$3,$D3169<0),0)","v":0},0,{"$f":"IF($A3169=AC$3,AND($A3169=AC$3,$D3169<0),0)","v":0},0,0]
[{"$f":"IF(B3170=0,\"\",MONTH(B3170))","v":""},null,null,null,{"$f":"IF(D3170=\"\",\"\",IF(D3170<0,\"DEBITO\",\"CREDITO\"))","v":""},null,false,false,0,{"$f":"IF($A3170=I$3,AND($A3170=I$3,$D3170<0),0)","v":0},0,{"$f":"IF($A3170=K$3,AND($A3170=K$3,$D3170<0),0)","v":0},0,{"$f":"IF($A3170=M$3,AND($A3170=M$3,$D3170<0),0)","v":0},0,{"$f":"IF($A3170=O$3,AND($A3170=O$3,$D3170<0),0)","v":0},0,0,0,0,0,0,0,{"$f":"IF($A3170=W$3,AND($A3170=W$3,$D3170<0),0)","v":0},0,{"$f":"IF($A3170=Y$3,AND($A3170=Y$3,$D3170<0),0)","v":0},0,{"$f":"IF($A3170=AA$3,AND($A3170=AA$3,$D3170<0),0)","v":0},0,{"$f":"IF($A3170=AC$3,AND($A3170=AC$3,$D3170<0),0)","v":0},0,0]
[{"$f":"IF(B3171=0,\"\",MONTH(B3171))","v":""},null,null,null,{"$f":"IF(D3171=\"\",\"\",IF(D3171<0,\"DEBITO\",\"CREDITO\"))","v":""},null,false,false,0,{"$f":"IF($A3171=I$3,AND($A3171=I$3,$D3171<0),0)","v":0},0,{"$f":"IF($A3171=K$3,AND($A3171=K$3,$D3171<0),0)","v":0},0,{"$f":"IF($A3171=M$3,AND($A3171=M$3,$D3171<0),0)","v":0},0,{"$f":"IF($A3171=O$3,AND($A3171=O$3,$D3171<0),0)","v":0},0,0,0,0,0,0,0,{"$f":"IF($A3171=W$3,AND($A3171=W$3,$D3171<0),0)","v":0},0,{"$f":"IF($A3171=Y$3,AND($A3171=Y$3,$D3171<0),0)","v":0},0,{"$f":"IF($A3171=AA$3,AND($A3171=AA$3,$D3171<0),0)","v":0},0,{"$f":"IF($A3171=AC$3,AND($A3171=AC$3,$D3171<0),0)","v":0},0,0]
[{"$f":"IF(B3172=0,\"\",MONTH(B3172))","v":""},null,null,null,{"$f":"IF(D3172=\"\",\"\",IF(D3172<0,\"DEBITO\",\"CREDITO\"))","v":""},null,false,false,0,{"$f":"IF($A3172=I$3,AND($A3172=I$3,$D3172<0),0)","v":0},0,{"$f":"IF($A3172=K$3,AND($A3172=K$3,$D3172<0),0)","v":0},0,{"$f":"IF($A3172=M$3,AND($A3172=M$3,$D3172<0),0)","v":0},0,{"$f":"IF($A3172=O$3,AND($A3172=O$3,$D3172<0),0)","v":0},0,0,0,0,0,0,0,{"$f":"IF($A3172=W$3,AND($A3172=W$3,$D3172<0),0)","v":0},0,{"$f":"IF($A3172=Y$3,AND($A3172=Y$3,$D3172<0),0)","v":0},0,{"$f":"IF($A3172=AA$3,AND($A3172=AA$3,$D3172<0),0)","v":0},0,{"$f":"IF($A3172=AC$3,AND($A3172=AC$3,$D3172<0),0)","v":0},0,0]
[{"$f":"IF(B3173=0,\"\",MONTH(B3173))","v":""},null,null,null,{"$f":"IF(D3173=\"\",\"\",IF(D3173<0,\"DEBITO\",\"CREDITO\"))","v":""},null,false,false,0,{"$f":"IF($A3173=I$3,AND($A3173=I$3,$D3173<0),0)","v":0},0,{"$f":"IF($A3173=K$3,AND($A3173=K$3,$D3173<0),0)","v":0},0,{"$f":"IF($A3173=M$3,AND($A3173=M$3,$D3173<0),0)","v":0},0,{"$f":"IF($A3173=O$3,AND($A3173=O$3,$D3173<0),0)","v":0},0,0,0,0,0,0,0,{"$f":"IF($A3173=W$3,AND($A3173=W$3,$D3173<0),0)","v":0},0,{"$f":"IF($A3173=Y$3,AND($A3173=Y$3,$D3173<0),0)","v":0},0,{"$f":"IF($A3173=AA$3,AND($A3173=AA$3,$D3173<0),0)","v":0},0,{"$f":"IF($A3173=AC$3,AND($A3173=AC$3,$D3173<0),0)","v":0},0,0]
[{"$f":"IF(B3174=0,\"\",MONTH(B3174))","v":""},null,null,null,{"$f":"IF(D3174=\"\",\"\",IF(D3174<0,\"DEBITO\",\"CREDITO\"))","v":""},null,false,false,0,{"$f":"IF($A3174=I$3,AND($A3174=I$3,$D3174<0),0)","v":0},0,{"$f":"IF($A3174=K$3,AND($A3174=K$3,$D3174<0),0)","v":0},0,{"$f":"IF($A3174=M$3,AND($A3174=M$3,$D3174<0),0)","v":0},0,{"$f":"IF($A3174=O$3,AND($A3174=O$3,$D3174<0),0)","v":0},0,0,0,0,0,0,0,{"$f":"IF($A3174=W$3,AND($A3174=W$3,$D3174<0),0)","v":0},0,{"$f":"IF($A3174=Y$3,AND($A3174=Y$3,$D3174<0),0)","v":0},0,{"$f":"IF($A3174=AA$3,AND($A3174=AA$3,$D3174<0),0)","v":0},0,{"$f":"IF($A3174=AC$3,AND($A3174=AC$3,$D3174<0),0)","v":0},0,0]
[{"$f":"IF(B3175=0,\"\",MONTH(B3175))","v":""},null,null,null,{"$f":"IF(D3175=\"\",\"\",IF(D3175<0,\"DEBITO\",\"CREDITO\"))","v":""},null,false,false,0,{"$f":"IF($A3175=I$3,AND($A3175=I$3,$D3175<0),0)","v":0},0,{"$f":"IF($A3175=K$3,AND($A3175=K$3,$D3175<0),0)","v":0},0,{"$f":"IF($A3175=M$3,AND($A3175=M$3,$D3175<0),0)","v":0},0,{"$f":"IF($A3175=O$3,AND($A3175=O$3,$D3175<0),0)","v":0},0,0,0,0,0,0,0,{"$f":"IF($A3175=W$3,AND($A3175=W$3,$D3175<0),0)","v":0},0,{"$f":"IF($A3175=Y$3,AND($A3175=Y$3,$D3175<0),0)","v":0},0,{"$f":"IF($A3175=AA$3,AND($A3175=AA$3,$D3175<0),0)","v":0},0,{"$f":"IF($A3175=AC$3,AND($A3175=AC$3,$D3175<0),0)","v":0},0,0]
[{"$f":"IF(B3176=0,\"\",MONTH(B3176))","v":""},null,null,null,{"$f":"IF(D3176=\"\",\"\",IF(D3176<0,\"DEBITO\",\"CREDITO\"))","v":""},null,false,false,0,{"$f":"IF($A3176=I$3,AND($A3176=I$3,$D3176<0),0)","v":0},0,{"$f":"IF($A3176=K$3,AND($A3176=K$3,$D3176<0),0)","v":0},0,{"$f":"IF($A3176=M$3,AND($A3176=M$3,$D3176<0),0)","v":0},0,{"$f":"IF($A3176=O$3,AND($A3176=O$3,$D3176<0),0)","v":0},0,0,0,0,0,0,0,{"$f":"IF($A3176=W$3,AND($A3176=W$3,$D3176<0),0)","v":0},0,{"$f":"IF($A3176=Y$3,AND($A3176=Y$3,$D3176<0),0)","v":0},0,{"$f":"IF($A3176=AA$3,AND($A3176=AA$3,$D3176<0),0)","v":0},0,{"$f":"IF($A3176=AC$3,AND($A3176=AC$3,$D3176<0),0)","v":0},0,0]
[{"$f":"IF(B3177=0,\"\",MONTH(B3177))","v":""},null,null,null,{"$f":"IF(D3177=\"\",\"\",IF(D3177<0,\"DEBITO\",\"CREDITO\"))","v":""},null,false,false,0,{"$f":"IF($A3177=I$3,AND($A3177=I$3,$D3177<0),0)","v":0},0,{"$f":"IF($A3177=K$3,AND($A3177=K$3,$D3177<0),0)","v":0},0,{"$f":"IF($A3177=M$3,AND($A3177=M$3,$D3177<0),0)","v":0},0,{"$f":"IF($A3177=O$3,AND($A3177=O$3,$D3177<0),0)","v":0},0,0,0,0,0,0,0,{"$f":"IF($A3177=W$3,AND($A3177=W$3,$D3177<0),0)","v":0},0,{"$f":"IF($A3177=Y$3,AND($A3177=Y$3,$D3177<0),0)","v":0},0,{"$f":"IF($A3177=AA$3,AND($A3177=AA$3,$D3177<0),0)","v":0},0,{"$f":"IF($A3177=AC$3,AND($A3177=AC$3,$D3177<0),0)","v":0},0,0]
[{"$f":"IF(B3178=0,\"\",MONTH(B3178))","v":""},null,null,null,{"$f":"IF(D3178=\"\",\"\",IF(D3178<0,\"DEBITO\",\"CREDITO\"))","v":""},null,false,false,0,{"$f":"IF($A3178=I$3,AND($A3178=I$3,$D3178<0),0)","v":0},0,{"$f":"IF($A3178=K$3,AND($A3178=K$3,$D3178<0),0)","v":0},0,{"$f":"IF($A3178=M$3,AND($A3178=M$3,$D3178<0),0)","v":0},0,{"$f":"IF($A3178=O$3,AND($A3178=O$3,$D3178<0),0)","v":0},0,0,0,0,0,0,0,{"$f":"IF($A3178=W$3,AND($A3178=W$3,$D3178<0),0)","v":0},0,{"$f":"IF($A3178=Y$3,AND($A3178=Y$3,$D3178<0),0)","v":0},0,{"$f":"IF($A3178=AA$3,AND($A3178=AA$3,$D3178<0),0)","v":0},0,{"$f":"IF($A3178=AC$3,AND($A3178=AC$3,$D3178<0),0)","v":0},0,0]
[{"$f":"IF(B3179=0,\"\",MONTH(B3179))","v":""},null,null,null,{"$f":"IF(D3179=\"\",\"\",IF(D3179<0,\"DEBITO\",\"CREDITO\"))","v":""},null,false,false,0,{"$f":"IF($A3179=I$3,AND($A3179=I$3,$D3179<0),0)","v":0},0,{"$f":"IF($A3179=K$3,AND($A3179=K$3,$D3179<0),0)","v":0},0,{"$f":"IF($A3179=M$3,AND($A3179=M$3,$D3179<0),0)","v":0},0,{"$f":"IF($A3179=O$3,AND($A3179=O$3,$D3179<0),0)","v":0},0,0,0,0,0,0,0,{"$f":"IF($A3179=W$3,AND($A3179=W$3,$D3179<0),0)","v":0},0,{"$f":"IF($A3179=Y$3,AND($A3179=Y$3,$D3179<0),0)","v":0},0,{"$f":"IF($A3179=AA$3,AND($A3179=AA$3,$D3179<0),0)","v":0},0,{"$f":"IF($A3179=AC$3,AND($A3179=AC$3,$D3179<0),0)","v":0},0,0]
[{"$f":"IF(B3180=0,\"\",MONTH(B3180))","v":""},null,null,null,{"$f":"IF(D3180=\"\",\"\",IF(D3180<0,\"DEBITO\",\"CREDITO\"))","v":""},null,false,false,0,{"$f":"IF($A3180=I$3,AND($A3180=I$3,$D3180<0),0)","v":0},0,{"$f":"IF($A3180=K$3,AND($A3180=K$3,$D3180<0),0)","v":0},0,{"$f":"IF($A3180=M$3,AND($A3180=M$3,$D3180<0),0)","v":0},0,{"$f":"IF($A3180=O$3,AND($A3180=O$3,$D3180<0),0)","v":0},0,0,0,0,0,0,0,{"$f":"IF($A3180=W$3,AND($A3180=W$3,$D3180<0),0)","v":0},0,{"$f":"IF($A3180=Y$3,AND($A3180=Y$3,$D3180<0),0)","v":0},0,{"$f":"IF($A3180=AA$3,AND($A3180=AA$3,$D3180<0),0)","v":0},0,{"$f":"IF($A3180=AC$3,AND($A3180=AC$3,$D3180<0),0)","v":0},0,0]
[{"$f":"IF(B3181=0,\"\",MONTH(B3181))","v":""},null,null,null,{"$f":"IF(D3181=\"\",\"\",IF(D3181<0,\"DEBITO\",\"CREDITO\"))","v":""},null,false,false,0,{"$f":"IF($A3181=I$3,AND($A3181=I$3,$D3181<0),0)","v":0},0,{"$f":"IF($A3181=K$3,AND($A3181=K$3,$D3181<0),0)","v":0},0,{"$f":"IF($A3181=M$3,AND($A3181=M$3,$D3181<0),0)","v":0},0,{"$f":"IF($A3181=O$3,AND($A3181=O$3,$D3181<0),0)","v":0},0,0,0,0,0,0,0,{"$f":"IF($A3181=W$3,AND($A3181=W$3,$D3181<0),0)","v":0},0,{"$f":"IF($A3181=Y$3,AND($A3181=Y$3,$D3181<0),0)","v":0},0,{"$f":"IF($A3181=AA$3,AND($A3181=AA$3,$D3181<0),0)","v":0},0,{"$f":"IF($A3181=AC$3,AND($A3181=AC$3,$D3181<0),0)","v":0},0,0]
[{"$f":"IF(B3182=0,\"\",MONTH(B3182))","v":""},null,null,null,{"$f":"IF(D3182=\"\",\"\",IF(D3182<0,\"DEBITO\",\"CREDITO\"))","v":""},null,false,false,0,{"$f":"IF($A3182=I$3,AND($A3182=I$3,$D3182<0),0)","v":0},0,{"$f":"IF($A3182=K$3,AND($A3182=K$3,$D3182<0),0)","v":0},0,{"$f":"IF($A3182=M$3,AND($A3182=M$3,$D3182<0),0)","v":0},0,{"$f":"IF($A3182=O$3,AND($A3182=O$3,$D3182<0),0)","v":0},0,0,0,0,0,0,0,{"$f":"IF($A3182=W$3,AND($A3182=W$3,$D3182<0),0)","v":0},0,{"$f":"IF($A3182=Y$3,AND($A3182=Y$3,$D3182<0),0)","v":0},0,{"$f":"IF($A3182=AA$3,AND($A3182=AA$3,$D3182<0),0)","v":0},0,{"$f":"IF($A3182=AC$3,AND($A3182=AC$3,$D3182<0),0)","v":0},0,0]
[{"$f":"IF(B3183=0,\"\",MONTH(B3183))","v":""},null,null,null,{"$f":"IF(D3183=\"\",\"\",IF(D3183<0,\"DEBITO\",\"CREDITO\"))","v":""},null,false,false,0,{"$f":"IF($A3183=I$3,AND($A3183=I$3,$D3183<0),0)","v":0},0,{"$f":"IF($A3183=K$3,AND($A3183=K$3,$D3183<0),0)","v":0},0,{"$f":"IF($A3183=M$3,AND($A3183=M$3,$D3183<0),0)","v":0},0,{"$f":"IF($A3183=O$3,AND($A3183=O$3,$D3183<0),0)","v":0},0,0,0,0,0,0,0,{"$f":"IF($A3183=W$3,AND($A3183=W$3,$D3183<0),0)","v":0},0,{"$f":"IF($A3183=Y$3,AND($A3183=Y$3,$D3183<0),0)","v":0},0,{"$f":"IF($A3183=AA$3,AND($A3183=AA$3,$D3183<0),0)","v":0},0,{"$f":"IF($A3183=AC$3,AND($A3183=AC$3,$D3183<0),0)","v":0},0,0]
[{"$f":"IF(B3184=0,\"\",MONTH(B3184))","v":""},null,null,null,{"$f":"IF(D3184=\"\",\"\",IF(D3184<0,\"DEBITO\",\"CREDITO\"))","v":""},null,false,false,0,{"$f":"IF($A3184=I$3,AND($A3184=I$3,$D3184<0),0)","v":0},0,{"$f":"IF($A3184=K$3,AND($A3184=K$3,$D3184<0),0)","v":0},0,{"$f":"IF($A3184=M$3,AND($A3184=M$3,$D3184<0),0)","v":0},0,{"$f":"IF($A3184=O$3,AND($A3184=O$3,$D3184<0),0)","v":0},0,0,0,0,0,0,0,{"$f":"IF($A3184=W$3,AND($A3184=W$3,$D3184<0),0)","v":0},0,{"$f":"IF($A3184=Y$3,AND($A3184=Y$3,$D3184<0),0)","v":0},0,{"$f":"IF($A3184=AA$3,AND($A3184=AA$3,$D3184<0),0)","v":0},0,{"$f":"IF($A3184=AC$3,AND($A3184=AC$3,$D3184<0),0)","v":0},0,0]
[{"$f":"IF(B3185=0,\"\",MONTH(B3185))","v":""},null,null,null,{"$f":"IF(D3185=\"\",\"\",IF(D3185<0,\"DEBITO\",\"CREDITO\"))","v":""},null,false,false,0,{"$f":"IF($A3185=I$3,AND($A3185=I$3,$D3185<0),0)","v":0},0,{"$f":"IF($A3185=K$3,AND($A3185=K$3,$D3185<0),0)","v":0},0,{"$f":"IF($A3185=M$3,AND($A3185=M$3,$D3185<0),0)","v":0},0,{"$f":"IF($A3185=O$3,AND($A3185=O$3,$D3185<0),0)","v":0},0,0,0,0,0,0,0,{"$f":"IF($A3185=W$3,AND($A3185=W$3,$D3185<0),0)","v":0},0,{"$f":"IF($A3185=Y$3,AND($A3185=Y$3,$D3185<0),0)","v":0},0,{"$f":"IF($A3185=AA$3,AND($A3185=AA$3,$D3185<0),0)","v":0},0,{"$f":"IF($A3185=AC$3,AND($A3185=AC$3,$D3185<0),0)","v":0},0,0]
[{"$f":"IF(B3186=0,\"\",MONTH(B3186))","v":""},null,null,null,{"$f":"IF(D3186=\"\",\"\",IF(D3186<0,\"DEBITO\",\"CREDITO\"))","v":""},null,false,false,0,{"$f":"IF($A3186=I$3,AND($A3186=I$3,$D3186<0),0)","v":0},0,{"$f":"IF($A3186=K$3,AND($A3186=K$3,$D3186<0),0)","v":0},0,{"$f":"IF($A3186=M$3,AND($A3186=M$3,$D3186<0),0)","v":0},0,{"$f":"IF($A3186=O$3,AND($A3186=O$3,$D3186<0),0)","v":0},0,0,0,0,0,0,0,{"$f":"IF($A3186=W$3,AND($A3186=W$3,$D3186<0),0)","v":0},0,{"$f":"IF($A3186=Y$3,AND($A3186=Y$3,$D3186<0),0)","v":0},0,{"$f":"IF($A3186=AA$3,AND($A3186=AA$3,$D3186<0),0)","v":0},0,{"$f":"IF($A3186=AC$3,AND($A3186=AC$3,$D3186<0),0)","v":0},0,0]
[{"$f":"IF(B3187=0,\"\",MONTH(B3187))","v":""},null,null,null,{"$f":"IF(D3187=\"\",\"\",IF(D3187<0,\"DEBITO\",\"CREDITO\"))","v":""},null,false,false,0,{"$f":"IF($A3187=I$3,AND($A3187=I$3,$D3187<0),0)","v":0},0,{"$f":"IF($A3187=K$3,AND($A3187=K$3,$D3187<0),0)","v":0},0,{"$f":"IF($A3187=M$3,AND($A3187=M$3,$D3187<0),0)","v":0},0,{"$f":"IF($A3187=O$3,AND($A3187=O$3,$D3187<0),0)","v":0},0,0,0,0,0,0,0,{"$f":"IF($A3187=W$3,AND($A3187=W$3,$D3187<0),0)","v":0},0,{"$f":"IF($A3187=Y$3,AND($A3187=Y$3,$D3187<0),0)","v":0},0,{"$f":"IF($A3187=AA$3,AND($A3187=AA$3,$D3187<0),0)","v":0},0,{"$f":"IF($A3187=AC$3,AND($A3187=AC$3,$D3187<0),0)","v":0},0,0]
[{"$f":"IF(B3188=0,\"\",MONTH(B3188))","v":""},null,null,null,{"$f":"IF(D3188=\"\",\"\",IF(D3188<0,\"DEBITO\",\"CREDITO\"))","v":""},null,false,false,0,{"$f":"IF($A3188=I$3,AND($A3188=I$3,$D3188<0),0)","v":0},0,{"$f":"IF($A3188=K$3,AND($A3188=K$3,$D3188<0),0)","v":0},0,{"$f":"IF($A3188=M$3,AND($A3188=M$3,$D3188<0),0)","v":0},0,{"$f":"IF($A3188=O$3,AND($A3188=O$3,$D3188<0),0)","v":0},0,0,0,0,0,0,0,{"$f":"IF($A3188=W$3,AND($A3188=W$3,$D3188<0),0)","v":0},0,{"$f":"IF($A3188=Y$3,AND($A3188=Y$3,$D3188<0),0)","v":0},0,{"$f":"IF($A3188=AA$3,AND($A3188=AA$3,$D3188<0),0)","v":0},0,{"$f":"IF($A3188=AC$3,AND($A3188=AC$3,$D3188<0),0)","v":0},0,0]
[{"$f":"IF(B3189=0,\"\",MONTH(B3189))","v":""},null,null,null,{"$f":"IF(D3189=\"\",\"\",IF(D3189<0,\"DEBITO\",\"CREDITO\"))","v":""},null,false,false,0,{"$f":"IF($A3189=I$3,AND($A3189=I$3,$D3189<0),0)","v":0},0,{"$f":"IF($A3189=K$3,AND($A3189=K$3,$D3189<0),0)","v":0},0,{"$f":"IF($A3189=M$3,AND($A3189=M$3,$D3189<0),0)","v":0},0,{"$f":"IF($A3189=O$3,AND($A3189=O$3,$D3189<0),0)","v":0},0,0,0,0,0,0,0,{"$f":"IF($A3189=W$3,AND($A3189=W$3,$D3189<0),0)","v":0},0,{"$f":"IF($A3189=Y$3,AND($A3189=Y$3,$D3189<0),0)","v":0},0,{"$f":"IF($A3189=AA$3,AND($A3189=AA$3,$D3189<0),0)","v":0},0,{"$f":"IF($A3189=AC$3,AND($A3189=AC$3,$D3189<0),0)","v":0},0,0]
[{"$f":"IF(B3190=0,\"\",MONTH(B3190))","v":""},null,null,null,{"$f":"IF(D3190=\"\",\"\",IF(D3190<0,\"DEBITO\",\"CREDITO\"))","v":""},null,false,false,0,{"$f":"IF($A3190=I$3,AND($A3190=I$3,$D3190<0),0)","v":0},0,{"$f":"IF($A3190=K$3,AND($A3190=K$3,$D3190<0),0)","v":0},0,{"$f":"IF($A3190=M$3,AND($A3190=M$3,$D3190<0),0)","v":0},0,{"$f":"IF($A3190=O$3,AND($A3190=O$3,$D3190<0),0)","v":0},0,0,0,0,0,0,0,{"$f":"IF($A3190=W$3,AND($A3190=W$3,$D3190<0),0)","v":0},0,{"$f":"IF($A3190=Y$3,AND($A3190=Y$3,$D3190<0),0)","v":0},0,{"$f":"IF($A3190=AA$3,AND($A3190=AA$3,$D3190<0),0)","v":0},0,{"$f":"IF($A3190=AC$3,AND($A3190=AC$3,$D3190<0),0)","v":0},0,0]
[{"$f":"IF(B3191=0,\"\",MONTH(B3191))","v":""},null,null,null,{"$f":"IF(D3191=\"\",\"\",IF(D3191<0,\"DEBITO\",\"CREDITO\"))","v":""},null,false,false,0,{"$f":"IF($A3191=I$3,AND($A3191=I$3,$D3191<0),0)","v":0},0,{"$f":"IF($A3191=K$3,AND($A3191=K$3,$D3191<0),0)","v":0},0,{"$f":"IF($A3191=M$3,AND($A3191=M$3,$D3191<0),0)","v":0},0,{"$f":"IF($A3191=O$3,AND($A3191=O$3,$D3191<0),0)","v":0},0,0,0,0,0,0,0,{"$f":"IF($A3191=W$3,AND($A3191=W$3,$D3191<0),0)","v":0},0,{"$f":"IF($A3191=Y$3,AND($A3191=Y$3,$D3191<0),0)","v":0},0,{"$f":"IF($A3191=AA$3,AND($A3191=AA$3,$D3191<0),0)","v":0},0,{"$f":"IF($A3191=AC$3,AND($A3191=AC$3,$D3191<0),0)","v":0},0,0]
[{"$f":"IF(B3192=0,\"\",MONTH(B3192))","v":""},null,null,null,{"$f":"IF(D3192=\"\",\"\",IF(D3192<0,\"DEBITO\",\"CREDITO\"))","v":""},null,false,false,0,{"$f":"IF($A3192=I$3,AND($A3192=I$3,$D3192<0),0)","v":0},0,{"$f":"IF($A3192=K$3,AND($A3192=K$3,$D3192<0),0)","v":0},0,{"$f":"IF($A3192=M$3,AND($A3192=M$3,$D3192<0),0)","v":0},0,{"$f":"IF($A3192=O$3,AND($A3192=O$3,$D3192<0),0)","v":0},0,0,0,0,0,0,0,{"$f":"IF($A3192=W$3,AND($A3192=W$3,$D3192<0),0)","v":0},0,{"$f":"IF($A3192=Y$3,AND($A3192=Y$3,$D3192<0),0)","v":0},0,{"$f":"IF($A3192=AA$3,AND($A3192=AA$3,$D3192<0),0)","v":0},0,{"$f":"IF($A3192=AC$3,AND($A3192=AC$3,$D3192<0),0)","v":0},0,0]
[{"$f":"IF(B3193=0,\"\",MONTH(B3193))","v":""},null,null,null,{"$f":"IF(D3193=\"\",\"\",IF(D3193<0,\"DEBITO\",\"CREDITO\"))","v":""},null,false,false,0,{"$f":"IF($A3193=I$3,AND($A3193=I$3,$D3193<0),0)","v":0},0,{"$f":"IF($A3193=K$3,AND($A3193=K$3,$D3193<0),0)","v":0},0,{"$f":"IF($A3193=M$3,AND($A3193=M$3,$D3193<0),0)","v":0},0,{"$f":"IF($A3193=O$3,AND($A3193=O$3,$D3193<0),0)","v":0},0,0,0,0,0,0,0,{"$f":"IF($A3193=W$3,AND($A3193=W$3,$D3193<0),0)","v":0},0,{"$f":"IF($A3193=Y$3,AND($A3193=Y$3,$D3193<0),0)","v":0},0,{"$f":"IF($A3193=AA$3,AND($A3193=AA$3,$D3193<0),0)","v":0},0,{"$f":"IF($A3193=AC$3,AND($A3193=AC$3,$D3193<0),0)","v":0},0,0]
[{"$f":"IF(B3194=0,\"\",MONTH(B3194))","v":""},null,null,null,{"$f":"IF(D3194=\"\",\"\",IF(D3194<0,\"DEBITO\",\"CREDITO\"))","v":""},null,false,false,0,{"$f":"IF($A3194=I$3,AND($A3194=I$3,$D3194<0),0)","v":0},0,{"$f":"IF($A3194=K$3,AND($A3194=K$3,$D3194<0),0)","v":0},0,{"$f":"IF($A3194=M$3,AND($A3194=M$3,$D3194<0),0)","v":0},0,{"$f":"IF($A3194=O$3,AND($A3194=O$3,$D3194<0),0)","v":0},0,0,0,0,0,0,0,{"$f":"IF($A3194=W$3,AND($A3194=W$3,$D3194<0),0)","v":0},0,{"$f":"IF($A3194=Y$3,AND($A3194=Y$3,$D3194<0),0)","v":0},0,{"$f":"IF($A3194=AA$3,AND($A3194=AA$3,$D3194<0),0)","v":0},0,{"$f":"IF($A3194=AC$3,AND($A3194=AC$3,$D3194<0),0)","v":0},0,0]
[{"$f":"IF(B3195=0,\"\",MONTH(B3195))","v":""},null,null,null,{"$f":"IF(D3195=\"\",\"\",IF(D3195<0,\"DEBITO\",\"CREDITO\"))","v":""},null,false,false,0,{"$f":"IF($A3195=I$3,AND($A3195=I$3,$D3195<0),0)","v":0},0,{"$f":"IF($A3195=K$3,AND($A3195=K$3,$D3195<0),0)","v":0},0,{"$f":"IF($A3195=M$3,AND($A3195=M$3,$D3195<0),0)","v":0},0,{"$f":"IF($A3195=O$3,AND($A3195=O$3,$D3195<0),0)","v":0},0,0,0,0,0,0,0,{"$f":"IF($A3195=W$3,AND($A3195=W$3,$D3195<0),0)","v":0},0,{"$f":"IF($A3195=Y$3,AND($A3195=Y$3,$D3195<0),0)","v":0},0,{"$f":"IF($A3195=AA$3,AND($A3195=AA$3,$D3195<0),0)","v":0},0,{"$f":"IF($A3195=AC$3,AND($A3195=AC$3,$D3195<0),0)","v":0},0,0]
[{"$f":"IF(B3196=0,\"\",MONTH(B3196))","v":""},null,null,null,{"$f":"IF(D3196=\"\",\"\",IF(D3196<0,\"DEBITO\",\"CREDITO\"))","v":""},null,false,false,0,{"$f":"IF($A3196=I$3,AND($A3196=I$3,$D3196<0),0)","v":0},0,{"$f":"IF($A3196=K$3,AND($A3196=K$3,$D3196<0),0)","v":0},0,{"$f":"IF($A3196=M$3,AND($A3196=M$3,$D3196<0),0)","v":0},0,{"$f":"IF($A3196=O$3,AND($A3196=O$3,$D3196<0),0)","v":0},0,0,0,0,0,0,0,{"$f":"IF($A3196=W$3,AND($A3196=W$3,$D3196<0),0)","v":0},0,{"$f":"IF($A3196=Y$3,AND($A3196=Y$3,$D3196<0),0)","v":0},0,{"$f":"IF($A3196=AA$3,AND($A3196=AA$3,$D3196<0),0)","v":0},0,{"$f":"IF($A3196=AC$3,AND($A3196=AC$3,$D3196<0),0)","v":0},0,0]
[{"$f":"IF(B3197=0,\"\",MONTH(B3197))","v":""},null,null,null,{"$f":"IF(D3197=\"\",\"\",IF(D3197<0,\"DEBITO\",\"CREDITO\"))","v":""},null,false,false,0,{"$f":"IF($A3197=I$3,AND($A3197=I$3,$D3197<0),0)","v":0},0,{"$f":"IF($A3197=K$3,AND($A3197=K$3,$D3197<0),0)","v":0},0,{"$f":"IF($A3197=M$3,AND($A3197=M$3,$D3197<0),0)","v":0},0,{"$f":"IF($A3197=O$3,AND($A3197=O$3,$D3197<0),0)","v":0},0,0,0,0,0,0,0,{"$f":"IF($A3197=W$3,AND($A3197=W$3,$D3197<0),0)","v":0},0,{"$f":"IF($A3197=Y$3,AND($A3197=Y$3,$D3197<0),0)","v":0},0,{"$f":"IF($A3197=AA$3,AND($A3197=AA$3,$D3197<0),0)","v":0},0,{"$f":"IF($A3197=AC$3,AND($A3197=AC$3,$D3197<0),0)","v":0},0,0]
[{"$f":"IF(B3198=0,\"\",MONTH(B3198))","v":""},null,null,null,{"$f":"IF(D3198=\"\",\"\",IF(D3198<0,\"DEBITO\",\"CREDITO\"))","v":""},null,false,false,0,{"$f":"IF($A3198=I$3,AND($A3198=I$3,$D3198<0),0)","v":0},0,{"$f":"IF($A3198=K$3,AND($A3198=K$3,$D3198<0),0)","v":0},0,{"$f":"IF($A3198=M$3,AND($A3198=M$3,$D3198<0),0)","v":0},0,{"$f":"IF($A3198=O$3,AND($A3198=O$3,$D3198<0),0)","v":0},0,0,0,0,0,0,0,{"$f":"IF($A3198=W$3,AND($A3198=W$3,$D3198<0),0)","v":0},0,{"$f":"IF($A3198=Y$3,AND($A3198=Y$3,$D3198<0),0)","v":0},0,{"$f":"IF($A3198=AA$3,AND($A3198=AA$3,$D3198<0),0)","v":0},0,{"$f":"IF($A3198=AC$3,AND($A3198=AC$3,$D3198<0),0)","v":0},0,0]
[{"$f":"IF(B3199=0,\"\",MONTH(B3199))","v":""},null,null,null,{"$f":"IF(D3199=\"\",\"\",IF(D3199<0,\"DEBITO\",\"CREDITO\"))","v":""},null,false,false,0,{"$f":"IF($A3199=I$3,AND($A3199=I$3,$D3199<0),0)","v":0},0,{"$f":"IF($A3199=K$3,AND($A3199=K$3,$D3199<0),0)","v":0},0,{"$f":"IF($A3199=M$3,AND($A3199=M$3,$D3199<0),0)","v":0},0,{"$f":"IF($A3199=O$3,AND($A3199=O$3,$D3199<0),0)","v":0},0,0,0,0,0,0,0,{"$f":"IF($A3199=W$3,AND($A3199=W$3,$D3199<0),0)","v":0},0,{"$f":"IF($A3199=Y$3,AND($A3199=Y$3,$D3199<0),0)","v":0},0,{"$f":"IF($A3199=AA$3,AND($A3199=AA$3,$D3199<0),0)","v":0},0,{"$f":"IF($A3199=AC$3,AND($A3199=AC$3,$D3199<0),0)","v":0},0,0]
[{"$f":"IF(B3200=0,\"\",MONTH(B3200))","v":""},null,null,null,{"$f":"IF(D3200=\"\",\"\",IF(D3200<0,\"DEBITO\",\"CREDITO\"))","v":""},null,false,false,0,{"$f":"IF($A3200=I$3,AND($A3200=I$3,$D3200<0),0)","v":0},0,{"$f":"IF($A3200=K$3,AND($A3200=K$3,$D3200<0),0)","v":0},0,{"$f":"IF($A3200=M$3,AND($A3200=M$3,$D3200<0),0)","v":0},0,{"$f":"IF($A3200=O$3,AND($A3200=O$3,$D3200<0),0)","v":0},0,0,0,0,0,0,0,{"$f":"IF($A3200=W$3,AND($A3200=W$3,$D3200<0),0)","v":0},0,{"$f":"IF($A3200=Y$3,AND($A3200=Y$3,$D3200<0),0)","v":0},0,{"$f":"IF($A3200=AA$3,AND($A3200=AA$3,$D3200<0),0)","v":0},0,{"$f":"IF($A3200=AC$3,AND($A3200=AC$3,$D3200<0),0)","v":0},0,0]
[{"$f":"IF(B3201=0,\"\",MONTH(B3201))","v":""},null,null,null,{"$f":"IF(D3201=\"\",\"\",IF(D3201<0,\"DEBITO\",\"CREDITO\"))","v":""},null,false,false,0,{"$f":"IF($A3201=I$3,AND($A3201=I$3,$D3201<0),0)","v":0},0,{"$f":"IF($A3201=K$3,AND($A3201=K$3,$D3201<0),0)","v":0},0,{"$f":"IF($A3201=M$3,AND($A3201=M$3,$D3201<0),0)","v":0},0,{"$f":"IF($A3201=O$3,AND($A3201=O$3,$D3201<0),0)","v":0},0,0,0,0,0,0,0,{"$f":"IF($A3201=W$3,AND($A3201=W$3,$D3201<0),0)","v":0},0,{"$f":"IF($A3201=Y$3,AND($A3201=Y$3,$D3201<0),0)","v":0},0,{"$f":"IF($A3201=AA$3,AND($A3201=AA$3,$D3201<0),0)","v":0},0,{"$f":"IF($A3201=AC$3,AND($A3201=AC$3,$D3201<0),0)","v":0},0,0]
[{"$f":"IF(B3202=0,\"\",MONTH(B3202))","v":""},null,null,null,{"$f":"IF(D3202=\"\",\"\",IF(D3202<0,\"DEBITO\",\"CREDITO\"))","v":""},null,false,false,0,{"$f":"IF($A3202=I$3,AND($A3202=I$3,$D3202<0),0)","v":0},0,{"$f":"IF($A3202=K$3,AND($A3202=K$3,$D3202<0),0)","v":0},0,{"$f":"IF($A3202=M$3,AND($A3202=M$3,$D3202<0),0)","v":0},0,{"$f":"IF($A3202=O$3,AND($A3202=O$3,$D3202<0),0)","v":0},0,0,0,0,0,0,0,{"$f":"IF($A3202=W$3,AND($A3202=W$3,$D3202<0),0)","v":0},0,{"$f":"IF($A3202=Y$3,AND($A3202=Y$3,$D3202<0),0)","v":0},0,{"$f":"IF($A3202=AA$3,AND($A3202=AA$3,$D3202<0),0)","v":0},0,{"$f":"IF($A3202=AC$3,AND($A3202=AC$3,$D3202<0),0)","v":0},0,0]
[{"$f":"IF(B3203=0,\"\",MONTH(B3203))","v":""},null,null,null,{"$f":"IF(D3203=\"\",\"\",IF(D3203<0,\"DEBITO\",\"CREDITO\"))","v":""},null,false,false,0,{"$f":"IF($A3203=I$3,AND($A3203=I$3,$D3203<0),0)","v":0},0,{"$f":"IF($A3203=K$3,AND($A3203=K$3,$D3203<0),0)","v":0},0,{"$f":"IF($A3203=M$3,AND($A3203=M$3,$D3203<0),0)","v":0},0,{"$f":"IF($A3203=O$3,AND($A3203=O$3,$D3203<0),0)","v":0},0,0,0,0,0,0,0,{"$f":"IF($A3203=W$3,AND($A3203=W$3,$D3203<0),0)","v":0},0,{"$f":"IF($A3203=Y$3,AND($A3203=Y$3,$D3203<0),0)","v":0},0,{"$f":"IF($A3203=AA$3,AND($A3203=AA$3,$D3203<0),0)","v":0},0,{"$f":"IF($A3203=AC$3,AND($A3203=AC$3,$D3203<0),0)","v":0},0,0]
[{"$f":"IF(B3204=0,\"\",MONTH(B3204))","v":""},null,null,null,{"$f":"IF(D3204=\"\",\"\",IF(D3204<0,\"DEBITO\",\"CREDITO\"))","v":""},null,false,false,0,{"$f":"IF($A3204=I$3,AND($A3204=I$3,$D3204<0),0)","v":0},0,{"$f":"IF($A3204=K$3,AND($A3204=K$3,$D3204<0),0)","v":0},0,{"$f":"IF($A3204=M$3,AND($A3204=M$3,$D3204<0),0)","v":0},0,{"$f":"IF($A3204=O$3,AND($A3204=O$3,$D3204<0),0)","v":0},0,0,0,0,0,0,0,{"$f":"IF($A3204=W$3,AND($A3204=W$3,$D3204<0),0)","v":0},0,{"$f":"IF($A3204=Y$3,AND($A3204=Y$3,$D3204<0),0)","v":0},0,{"$f":"IF($A3204=AA$3,AND($A3204=AA$3,$D3204<0),0)","v":0},0,{"$f":"IF($A3204=AC$3,AND($A3204=AC$3,$D3204<0),0)","v":0},0,0]
[{"$f":"IF(B3205=0,\"\",MONTH(B3205))","v":""},null,null,null,{"$f":"IF(D3205=\"\",\"\",IF(D3205<0,\"DEBITO\",\"CREDITO\"))","v":""},null,false,false,0,{"$f":"IF($A3205=I$3,AND($A3205=I$3,$D3205<0),0)","v":0},0,{"$f":"IF($A3205=K$3,AND($A3205=K$3,$D3205<0),0)","v":0},0,{"$f":"IF($A3205=M$3,AND($A3205=M$3,$D3205<0),0)","v":0},0,{"$f":"IF($A3205=O$3,AND($A3205=O$3,$D3205<0),0)","v":0},0,0,0,0,0,0,0,{"$f":"IF($A3205=W$3,AND($A3205=W$3,$D3205<0),0)","v":0},0,{"$f":"IF($A3205=Y$3,AND($A3205=Y$3,$D3205<0),0)","v":0},0,{"$f":"IF($A3205=AA$3,AND($A3205=AA$3,$D3205<0),0)","v":0},0,{"$f":"IF($A3205=AC$3,AND($A3205=AC$3,$D3205<0),0)","v":0},0,0]
[{"$f":"IF(B3206=0,\"\",MONTH(B3206))","v":""},null,null,null,{"$f":"IF(D3206=\"\",\"\",IF(D3206<0,\"DEBITO\",\"CREDITO\"))","v":""},null,false,false,0,{"$f":"IF($A3206=I$3,AND($A3206=I$3,$D3206<0),0)","v":0},0,{"$f":"IF($A3206=K$3,AND($A3206=K$3,$D3206<0),0)","v":0},0,{"$f":"IF($A3206=M$3,AND($A3206=M$3,$D3206<0),0)","v":0},0,{"$f":"IF($A3206=O$3,AND($A3206=O$3,$D3206<0),0)","v":0},0,0,0,0,0,0,0,{"$f":"IF($A3206=W$3,AND($A3206=W$3,$D3206<0),0)","v":0},0,{"$f":"IF($A3206=Y$3,AND($A3206=Y$3,$D3206<0),0)","v":0},0,{"$f":"IF($A3206=AA$3,AND($A3206=AA$3,$D3206<0),0)","v":0},0,{"$f":"IF($A3206=AC$3,AND($A3206=AC$3,$D3206<0),0)","v":0},0,0]
[{"$f":"IF(B3207=0,\"\",MONTH(B3207))","v":""},null,null,null,{"$f":"IF(D3207=\"\",\"\",IF(D3207<0,\"DEBITO\",\"CREDITO\"))","v":""},null,false,false,0,{"$f":"IF($A3207=I$3,AND($A3207=I$3,$D3207<0),0)","v":0},0,{"$f":"IF($A3207=K$3,AND($A3207=K$3,$D3207<0),0)","v":0},0,{"$f":"IF($A3207=M$3,AND($A3207=M$3,$D3207<0),0)","v":0},0,{"$f":"IF($A3207=O$3,AND($A3207=O$3,$D3207<0),0)","v":0},0,0,0,0,0,0,0,{"$f":"IF($A3207=W$3,AND($A3207=W$3,$D3207<0),0)","v":0},0,{"$f":"IF($A3207=Y$3,AND($A3207=Y$3,$D3207<0),0)","v":0},0,{"$f":"IF($A3207=AA$3,AND($A3207=AA$3,$D3207<0),0)","v":0},0,{"$f":"IF($A3207=AC$3,AND($A3207=AC$3,$D3207<0),0)","v":0},0,0]
[{"$f":"IF(B3208=0,\"\",MONTH(B3208))","v":""},null,null,null,{"$f":"IF(D3208=\"\",\"\",IF(D3208<0,\"DEBITO\",\"CREDITO\"))","v":""},null,false,false,0,{"$f":"IF($A3208=I$3,AND($A3208=I$3,$D3208<0),0)","v":0},0,{"$f":"IF($A3208=K$3,AND($A3208=K$3,$D3208<0),0)","v":0},0,{"$f":"IF($A3208=M$3,AND($A3208=M$3,$D3208<0),0)","v":0},0,{"$f":"IF($A3208=O$3,AND($A3208=O$3,$D3208<0),0)","v":0},0,0,0,0,0,0,0,{"$f":"IF($A3208=W$3,AND($A3208=W$3,$D3208<0),0)","v":0},0,{"$f":"IF($A3208=Y$3,AND($A3208=Y$3,$D3208<0),0)","v":0},0,{"$f":"IF($A3208=AA$3,AND($A3208=AA$3,$D3208<0),0)","v":0},0,{"$f":"IF($A3208=AC$3,AND($A3208=AC$3,$D3208<0),0)","v":0},0,0]
[{"$f":"IF(B3209=0,\"\",MONTH(B3209))","v":""},null,null,null,{"$f":"IF(D3209=\"\",\"\",IF(D3209<0,\"DEBITO\",\"CREDITO\"))","v":""},null,{"$f":"AND(A3209=$E$3,D3209>0)","v":false},{"$f":"AND(A3209=$E$3,D3209<0)","v":false},0,{"$f":"IF($A3209=I$3,AND($A3209=I$3,$D3209<0),0)","v":0},0,{"$f":"IF($A3209=K$3,AND($A3209=K$3,$D3209<0),0)","v":0},0,{"$f":"IF($A3209=M$3,AND($A3209=M$3,$D3209<0),0)","v":0},0,{"$f":"IF($A3209=O$3,AND($A3209=O$3,$D3209<0),0)","v":0},0,{"$f":"IF($A3209=Q$3,AND($A3209=Q$3,$D3209<0),0)","v":0},0,0,0,0,0,{"$f":"IF($A3209=W$3,AND($A3209=W$3,$D3209<0),0)","v":0},0,{"$f":"IF($A3209=Y$3,AND($A3209=Y$3,$D3209<0),0)","v":0},0,{"$f":"IF($A3209=AA$3,AND($A3209=AA$3,$D3209<0),0)","v":0},0,{"$f":"IF($A3209=AC$3,AND($A3209=AC$3,$D3209<0),0)","v":0},0,{"$f":"IF($A3209=AE$3,AND($A3209=AE$3,$D3209<0),0)","v":0}]
[{"$f":"IF(B3210=0,\"\",MONTH(B3210))","v":""},null,null,null,{"$f":"IF(D3210=\"\",\"\",IF(D3210<0,\"DEBITO\",\"CREDITO\"))","v":""},null,false,false,0,{"$f":"IF($A3210=I$3,AND($A3210=I$3,$D3210<0),0)","v":0},0,{"$f":"IF($A3210=K$3,AND($A3210=K$3,$D3210<0),0)","v":0},0,{"$f":"IF($A3210=M$3,AND($A3210=M$3,$D3210<0),0)","v":0},0,{"$f":"IF($A3210=O$3,AND($A3210=O$3,$D3210<0),0)","v":0},0,0,{"$f":"IF($A3210=S$3,AND($A3210=S$3,$D3210>0),0)","v":0},{"$f":"IF($A3210=S$3,AND($A3210=S$3,$D3210<0),0)","v":0},{"$f":"IF($A3210=U$3,AND($A3210=U$3,$D3210>0),0)","v":0},{"$f":"IF($A3210=U$3,AND($A3210=U$3,$D3210<0),0)","v":0},0,{"$f":"IF($A3210=W$3,AND($A3210=W$3,$D3210<0),0)","v":0},0,{"$f":"IF($A3210=Y$3,AND($A3210=Y$3,$D3210<0),0)","v":0},0,{"$f":"IF($A3210=AA$3,AND($A3210=AA$3,$D3210<0),0)","v":0},0,{"$f":"IF($A3210=AC$3,AND($A3210=AC$3,$D3210<0),0)","v":0},0,0]
[{"$f":"IF(B3211=0,\"\",MONTH(B3211))","v":""},null,null,null,{"$f":"IF(D3211=\"\",\"\",IF(D3211<0,\"DEBITO\",\"CREDITO\"))","v":""},null,false,false,0,{"$f":"IF($A3211=I$3,AND($A3211=I$3,$D3211<0),0)","v":0},0,{"$f":"IF($A3211=K$3,AND($A3211=K$3,$D3211<0),0)","v":0},0,{"$f":"IF($A3211=M$3,AND($A3211=M$3,$D3211<0),0)","v":0},0,{"$f":"IF($A3211=O$3,AND($A3211=O$3,$D3211<0),0)","v":0},0,0,0,0,0,0,0,{"$f":"IF($A3211=W$3,AND($A3211=W$3,$D3211<0),0)","v":0},0,{"$f":"IF($A3211=Y$3,AND($A3211=Y$3,$D3211<0),0)","v":0},0,{"$f":"IF($A3211=AA$3,AND($A3211=AA$3,$D3211<0),0)","v":0},0,{"$f":"IF($A3211=AC$3,AND($A3211=AC$3,$D3211<0),0)","v":0},0,0]
[{"$f":"IF(B3212=0,\"\",MONTH(B3212))","v":""},null,null,null,{"$f":"IF(D3212=\"\",\"\",IF(D3212<0,\"DEBITO\",\"CREDITO\"))","v":""},null,false,false,0,{"$f":"IF($A3212=I$3,AND($A3212=I$3,$D3212<0),0)","v":0},0,{"$f":"IF($A3212=K$3,AND($A3212=K$3,$D3212<0),0)","v":0},0,{"$f":"IF($A3212=M$3,AND($A3212=M$3,$D3212<0),0)","v":0},0,{"$f":"IF($A3212=O$3,AND($A3212=O$3,$D3212<0),0)","v":0},0,0,0,0,0,0,0,{"$f":"IF($A3212=W$3,AND($A3212=W$3,$D3212<0),0)","v":0},0,{"$f":"IF($A3212=Y$3,AND($A3212=Y$3,$D3212<0),0)","v":0},0,{"$f":"IF($A3212=AA$3,AND($A3212=AA$3,$D3212<0),0)","v":0},0,{"$f":"IF($A3212=AC$3,AND($A3212=AC$3,$D3212<0),0)","v":0},0,0]
[{"$f":"IF(B3213=0,\"\",MONTH(B3213))","v":""},null,null,null,{"$f":"IF(D3213=\"\",\"\",IF(D3213<0,\"DEBITO\",\"CREDITO\"))","v":""},null,false,false,0,{"$f":"IF($A3213=I$3,AND($A3213=I$3,$D3213<0),0)","v":0},0,{"$f":"IF($A3213=K$3,AND($A3213=K$3,$D3213<0),0)","v":0},0,{"$f":"IF($A3213=M$3,AND($A3213=M$3,$D3213<0),0)","v":0},0,{"$f":"IF($A3213=O$3,AND($A3213=O$3,$D3213<0),0)","v":0},0,0,0,0,0,0,0,{"$f":"IF($A3213=W$3,AND($A3213=W$3,$D3213<0),0)","v":0},0,{"$f":"IF($A3213=Y$3,AND($A3213=Y$3,$D3213<0),0)","v":0},0,{"$f":"IF($A3213=AA$3,AND($A3213=AA$3,$D3213<0),0)","v":0},0,{"$f":"IF($A3213=AC$3,AND($A3213=AC$3,$D3213<0),0)","v":0},0,0]
[{"$f":"IF(B3214=0,\"\",MONTH(B3214))","v":""},null,null,null,{"$f":"IF(D3214=\"\",\"\",IF(D3214<0,\"DEBITO\",\"CREDITO\"))","v":""},null,false,false,0,{"$f":"IF($A3214=I$3,AND($A3214=I$3,$D3214<0),0)","v":0},0,{"$f":"IF($A3214=K$3,AND($A3214=K$3,$D3214<0),0)","v":0},0,{"$f":"IF($A3214=M$3,AND($A3214=M$3,$D3214<0),0)","v":0},0,{"$f":"IF($A3214=O$3,AND($A3214=O$3,$D3214<0),0)","v":0},0,0,0,0,0,0,0,{"$f":"IF($A3214=W$3,AND($A3214=W$3,$D3214<0),0)","v":0},0,{"$f":"IF($A3214=Y$3,AND($A3214=Y$3,$D3214<0),0)","v":0},0,{"$f":"IF($A3214=AA$3,AND($A3214=AA$3,$D3214<0),0)","v":0},0,{"$f":"IF($A3214=AC$3,AND($A3214=AC$3,$D3214<0),0)","v":0},0,0]
[{"$f":"IF(B3215=0,\"\",MONTH(B3215))","v":""},null,null,null,{"$f":"IF(D3215=\"\",\"\",IF(D3215<0,\"DEBITO\",\"CREDITO\"))","v":""},null,false,false,0,{"$f":"IF($A3215=I$3,AND($A3215=I$3,$D3215<0),0)","v":0},0,{"$f":"IF($A3215=K$3,AND($A3215=K$3,$D3215<0),0)","v":0},0,{"$f":"IF($A3215=M$3,AND($A3215=M$3,$D3215<0),0)","v":0},0,{"$f":"IF($A3215=O$3,AND($A3215=O$3,$D3215<0),0)","v":0},0,0,0,0,0,0,0,{"$f":"IF($A3215=W$3,AND($A3215=W$3,$D3215<0),0)","v":0},0,{"$f":"IF($A3215=Y$3,AND($A3215=Y$3,$D3215<0),0)","v":0},0,{"$f":"IF($A3215=AA$3,AND($A3215=AA$3,$D3215<0),0)","v":0},0,{"$f":"IF($A3215=AC$3,AND($A3215=AC$3,$D3215<0),0)","v":0},0,0]
[{"$f":"IF(B3216=0,\"\",MONTH(B3216))","v":""},null,null,null,{"$f":"IF(D3216=\"\",\"\",IF(D3216<0,\"DEBITO\",\"CREDITO\"))","v":""},null,false,false,0,{"$f":"IF($A3216=I$3,AND($A3216=I$3,$D3216<0),0)","v":0},0,{"$f":"IF($A3216=K$3,AND($A3216=K$3,$D3216<0),0)","v":0},0,{"$f":"IF($A3216=M$3,AND($A3216=M$3,$D3216<0),0)","v":0},0,{"$f":"IF($A3216=O$3,AND($A3216=O$3,$D3216<0),0)","v":0},0,0,0,0,0,0,0,{"$f":"IF($A3216=W$3,AND($A3216=W$3,$D3216<0),0)","v":0},0,{"$f":"IF($A3216=Y$3,AND($A3216=Y$3,$D3216<0),0)","v":0},0,{"$f":"IF($A3216=AA$3,AND($A3216=AA$3,$D3216<0),0)","v":0},0,{"$f":"IF($A3216=AC$3,AND($A3216=AC$3,$D3216<0),0)","v":0},0,0]
[{"$f":"IF(B3217=0,\"\",MONTH(B3217))","v":""},null,null,null,{"$f":"IF(D3217=\"\",\"\",IF(D3217<0,\"DEBITO\",\"CREDITO\"))","v":""},null,false,false,0,{"$f":"IF($A3217=I$3,AND($A3217=I$3,$D3217<0),0)","v":0},0,{"$f":"IF($A3217=K$3,AND($A3217=K$3,$D3217<0),0)","v":0},0,{"$f":"IF($A3217=M$3,AND($A3217=M$3,$D3217<0),0)","v":0},0,{"$f":"IF($A3217=O$3,AND($A3217=O$3,$D3217<0),0)","v":0},0,0,0,0,0,0,0,{"$f":"IF($A3217=W$3,AND($A3217=W$3,$D3217<0),0)","v":0},0,{"$f":"IF($A3217=Y$3,AND($A3217=Y$3,$D3217<0),0)","v":0},0,{"$f":"IF($A3217=AA$3,AND($A3217=AA$3,$D3217<0),0)","v":0},0,{"$f":"IF($A3217=AC$3,AND($A3217=AC$3,$D3217<0),0)","v":0},0,0]
[{"$f":"IF(B3218=0,\"\",MONTH(B3218))","v":""},null,null,null,{"$f":"IF(D3218=\"\",\"\",IF(D3218<0,\"DEBITO\",\"CREDITO\"))","v":""},null,false,false,0,{"$f":"IF($A3218=I$3,AND($A3218=I$3,$D3218<0),0)","v":0},0,{"$f":"IF($A3218=K$3,AND($A3218=K$3,$D3218<0),0)","v":0},0,{"$f":"IF($A3218=M$3,AND($A3218=M$3,$D3218<0),0)","v":0},0,{"$f":"IF($A3218=O$3,AND($A3218=O$3,$D3218<0),0)","v":0},0,0,0,0,0,0,0,{"$f":"IF($A3218=W$3,AND($A3218=W$3,$D3218<0),0)","v":0},0,{"$f":"IF($A3218=Y$3,AND($A3218=Y$3,$D3218<0),0)","v":0},0,{"$f":"IF($A3218=AA$3,AND($A3218=AA$3,$D3218<0),0)","v":0},0,{"$f":"IF($A3218=AC$3,AND($A3218=AC$3,$D3218<0),0)","v":0},0,0]
[{"$f":"IF(B3219=0,\"\",MONTH(B3219))","v":""},null,null,null,{"$f":"IF(D3219=\"\",\"\",IF(D3219<0,\"DEBITO\",\"CREDITO\"))","v":""},null,false,false,0,{"$f":"IF($A3219=I$3,AND($A3219=I$3,$D3219<0),0)","v":0},0,{"$f":"IF($A3219=K$3,AND($A3219=K$3,$D3219<0),0)","v":0},0,{"$f":"IF($A3219=M$3,AND($A3219=M$3,$D3219<0),0)","v":0},0,{"$f":"IF($A3219=O$3,AND($A3219=O$3,$D3219<0),0)","v":0},0,0,0,0,0,0,0,{"$f":"IF($A3219=W$3,AND($A3219=W$3,$D3219<0),0)","v":0},0,{"$f":"IF($A3219=Y$3,AND($A3219=Y$3,$D3219<0),0)","v":0},0,{"$f":"IF($A3219=AA$3,AND($A3219=AA$3,$D3219<0),0)","v":0},0,{"$f":"IF($A3219=AC$3,AND($A3219=AC$3,$D3219<0),0)","v":0},0,0]
[{"$f":"IF(B3220=0,\"\",MONTH(B3220))","v":""},null,null,null,{"$f":"IF(D3220=\"\",\"\",IF(D3220<0,\"DEBITO\",\"CREDITO\"))","v":""},null,false,false,0,{"$f":"IF($A3220=I$3,AND($A3220=I$3,$D3220<0),0)","v":0},0,{"$f":"IF($A3220=K$3,AND($A3220=K$3,$D3220<0),0)","v":0},0,{"$f":"IF($A3220=M$3,AND($A3220=M$3,$D3220<0),0)","v":0},0,{"$f":"IF($A3220=O$3,AND($A3220=O$3,$D3220<0),0)","v":0},0,0,0,0,0,0,0,{"$f":"IF($A3220=W$3,AND($A3220=W$3,$D3220<0),0)","v":0},0,{"$f":"IF($A3220=Y$3,AND($A3220=Y$3,$D3220<0),0)","v":0},0,{"$f":"IF($A3220=AA$3,AND($A3220=AA$3,$D3220<0),0)","v":0},0,{"$f":"IF($A3220=AC$3,AND($A3220=AC$3,$D3220<0),0)","v":0},0,0]
[{"$f":"IF(B3221=0,\"\",MONTH(B3221))","v":""},null,null,null,{"$f":"IF(D3221=\"\",\"\",IF(D3221<0,\"DEBITO\",\"CREDITO\"))","v":""},null,false,false,0,{"$f":"IF($A3221=I$3,AND($A3221=I$3,$D3221<0),0)","v":0},0,{"$f":"IF($A3221=K$3,AND($A3221=K$3,$D3221<0),0)","v":0},0,{"$f":"IF($A3221=M$3,AND($A3221=M$3,$D3221<0),0)","v":0},0,{"$f":"IF($A3221=O$3,AND($A3221=O$3,$D3221<0),0)","v":0},0,0,0,0,0,0,0,{"$f":"IF($A3221=W$3,AND($A3221=W$3,$D3221<0),0)","v":0},0,{"$f":"IF($A3221=Y$3,AND($A3221=Y$3,$D3221<0),0)","v":0},0,{"$f":"IF($A3221=AA$3,AND($A3221=AA$3,$D3221<0),0)","v":0},0,{"$f":"IF($A3221=AC$3,AND($A3221=AC$3,$D3221<0),0)","v":0},0,0]
[{"$f":"IF(B3222=0,\"\",MONTH(B3222))","v":""},null,null,null,{"$f":"IF(D3222=\"\",\"\",IF(D3222<0,\"DEBITO\",\"CREDITO\"))","v":""},null,false,false,0,{"$f":"IF($A3222=I$3,AND($A3222=I$3,$D3222<0),0)","v":0},0,{"$f":"IF($A3222=K$3,AND($A3222=K$3,$D3222<0),0)","v":0},0,{"$f":"IF($A3222=M$3,AND($A3222=M$3,$D3222<0),0)","v":0},0,{"$f":"IF($A3222=O$3,AND($A3222=O$3,$D3222<0),0)","v":0},0,0,0,0,0,0,0,{"$f":"IF($A3222=W$3,AND($A3222=W$3,$D3222<0),0)","v":0},0,{"$f":"IF($A3222=Y$3,AND($A3222=Y$3,$D3222<0),0)","v":0},0,{"$f":"IF($A3222=AA$3,AND($A3222=AA$3,$D3222<0),0)","v":0},0,{"$f":"IF($A3222=AC$3,AND($A3222=AC$3,$D3222<0),0)","v":0},0,0]
[{"$f":"IF(B3223=0,\"\",MONTH(B3223))","v":""},null,null,null,{"$f":"IF(D3223=\"\",\"\",IF(D3223<0,\"DEBITO\",\"CREDITO\"))","v":""},null,false,false,0,{"$f":"IF($A3223=I$3,AND($A3223=I$3,$D3223<0),0)","v":0},0,{"$f":"IF($A3223=K$3,AND($A3223=K$3,$D3223<0),0)","v":0},0,{"$f":"IF($A3223=M$3,AND($A3223=M$3,$D3223<0),0)","v":0},0,{"$f":"IF($A3223=O$3,AND($A3223=O$3,$D3223<0),0)","v":0},0,0,0,0,0,0,0,{"$f":"IF($A3223=W$3,AND($A3223=W$3,$D3223<0),0)","v":0},0,{"$f":"IF($A3223=Y$3,AND($A3223=Y$3,$D3223<0),0)","v":0},0,{"$f":"IF($A3223=AA$3,AND($A3223=AA$3,$D3223<0),0)","v":0},0,{"$f":"IF($A3223=AC$3,AND($A3223=AC$3,$D3223<0),0)","v":0},0,0]
[{"$f":"IF(B3224=0,\"\",MONTH(B3224))","v":""},null,null,null,{"$f":"IF(D3224=\"\",\"\",IF(D3224<0,\"DEBITO\",\"CREDITO\"))","v":""},null,false,false,0,{"$f":"IF($A3224=I$3,AND($A3224=I$3,$D3224<0),0)","v":0},0,{"$f":"IF($A3224=K$3,AND($A3224=K$3,$D3224<0),0)","v":0},0,{"$f":"IF($A3224=M$3,AND($A3224=M$3,$D3224<0),0)","v":0},0,{"$f":"IF($A3224=O$3,AND($A3224=O$3,$D3224<0),0)","v":0},0,0,0,0,0,0,0,{"$f":"IF($A3224=W$3,AND($A3224=W$3,$D3224<0),0)","v":0},0,{"$f":"IF($A3224=Y$3,AND($A3224=Y$3,$D3224<0),0)","v":0},0,{"$f":"IF($A3224=AA$3,AND($A3224=AA$3,$D3224<0),0)","v":0},0,{"$f":"IF($A3224=AC$3,AND($A3224=AC$3,$D3224<0),0)","v":0},0,0]
[{"$f":"IF(B3225=0,\"\",MONTH(B3225))","v":""},null,null,null,{"$f":"IF(D3225=\"\",\"\",IF(D3225<0,\"DEBITO\",\"CREDITO\"))","v":""},null,false,false,{"$f":"IF($A3225=I$3,AND($A3225=I$3,$D3225>0),0)","v":0},{"$f":"IF($A3225=I$3,AND($A3225=I$3,$D3225<0),0)","v":0},{"$f":"IF($A3225=K$3,AND($A3225=K$3,$D3225>0),0)","v":0},{"$f":"IF($A3225=K$3,AND($A3225=K$3,$D3225<0),0)","v":0},{"$f":"IF($A3225=M$3,AND($A3225=M$3,$D3225>0),0)","v":0},{"$f":"IF($A3225=M$3,AND($A3225=M$3,$D3225<0),0)","v":0},{"$f":"IF($A3225=O$3,AND($A3225=O$3,$D3225>0),0)","v":0},{"$f":"IF($A3225=O$3,AND($A3225=O$3,$D3225<0),0)","v":0},{"$f":"IF($A3225=Q$3,AND($A3225=Q$3,$D3225>0),0)","v":0},0,0,0,0,0,{"$f":"IF($A3225=W$3,AND($A3225=W$3,$D3225>0),0)","v":0},{"$f":"IF($A3225=W$3,AND($A3225=W$3,$D3225<0),0)","v":0},{"$f":"IF($A3225=Y$3,AND($A3225=Y$3,$D3225>0),0)","v":0},{"$f":"IF($A3225=Y$3,AND($A3225=Y$3,$D3225<0),0)","v":0},{"$f":"IF($A3225=AA$3,AND($A3225=AA$3,$D3225>0),0)","v":0},{"$f":"IF($A3225=AA$3,AND($A3225=AA$3,$D3225<0),0)","v":0},{"$f":"IF($A3225=AC$3,AND($A3225=AC$3,$D3225>0),0)","v":0},{"$f":"IF($A3225=AC$3,AND($A3225=AC$3,$D3225<0),0)","v":0},{"$f":"IF($A3225=AE$3,AND($A3225=AE$3,$D3225>0),0)","v":0},0]
[{"$f":"IF(B3226=0,\"\",MONTH(B3226))","v":""},null,null,null,{"$f":"IF(D3226=\"\",\"\",IF(D3226<0,\"DEBITO\",\"CREDITO\"))","v":""},null,false,false,0,{"$f":"IF($A3226=I$3,AND($A3226=I$3,$D3226<0),0)","v":0},0,{"$f":"IF($A3226=K$3,AND($A3226=K$3,$D3226<0),0)","v":0},0,{"$f":"IF($A3226=M$3,AND($A3226=M$3,$D3226<0),0)","v":0},0,{"$f":"IF($A3226=O$3,AND($A3226=O$3,$D3226<0),0)","v":0},0,0,0,0,0,0,0,{"$f":"IF($A3226=W$3,AND($A3226=W$3,$D3226<0),0)","v":0},0,{"$f":"IF($A3226=Y$3,AND($A3226=Y$3,$D3226<0),0)","v":0},0,{"$f":"IF($A3226=AA$3,AND($A3226=AA$3,$D3226<0),0)","v":0},0,{"$f":"IF($A3226=AC$3,AND($A3226=AC$3,$D3226<0),0)","v":0},0,0]
[{"$f":"IF(B3227=0,\"\",MONTH(B3227))","v":""},null,null,null,{"$f":"IF(D3227=\"\",\"\",IF(D3227<0,\"DEBITO\",\"CREDITO\"))","v":""},null,false,false,0,{"$f":"IF($A3227=I$3,AND($A3227=I$3,$D3227<0),0)","v":0},0,{"$f":"IF($A3227=K$3,AND($A3227=K$3,$D3227<0),0)","v":0},0,{"$f":"IF($A3227=M$3,AND($A3227=M$3,$D3227<0),0)","v":0},0,{"$f":"IF($A3227=O$3,AND($A3227=O$3,$D3227<0),0)","v":0},0,0,0,0,0,0,0,{"$f":"IF($A3227=W$3,AND($A3227=W$3,$D3227<0),0)","v":0},0,{"$f":"IF($A3227=Y$3,AND($A3227=Y$3,$D3227<0),0)","v":0},0,{"$f":"IF($A3227=AA$3,AND($A3227=AA$3,$D3227<0),0)","v":0},0,{"$f":"IF($A3227=AC$3,AND($A3227=AC$3,$D3227<0),0)","v":0},0,0]
[{"$f":"IF(B3228=0,\"\",MONTH(B3228))","v":""},null,null,null,{"$f":"IF(D3228=\"\",\"\",IF(D3228<0,\"DEBITO\",\"CREDITO\"))","v":""},null,false,false,0,{"$f":"IF($A3228=I$3,AND($A3228=I$3,$D3228<0),0)","v":0},0,{"$f":"IF($A3228=K$3,AND($A3228=K$3,$D3228<0),0)","v":0},0,{"$f":"IF($A3228=M$3,AND($A3228=M$3,$D3228<0),0)","v":0},0,{"$f":"IF($A3228=O$3,AND($A3228=O$3,$D3228<0),0)","v":0},0,0,0,0,0,0,0,{"$f":"IF($A3228=W$3,AND($A3228=W$3,$D3228<0),0)","v":0},0,{"$f":"IF($A3228=Y$3,AND($A3228=Y$3,$D3228<0),0)","v":0},0,{"$f":"IF($A3228=AA$3,AND($A3228=AA$3,$D3228<0),0)","v":0},0,{"$f":"IF($A3228=AC$3,AND($A3228=AC$3,$D3228<0),0)","v":0},0,0]
[{"$f":"IF(B3229=0,\"\",MONTH(B3229))","v":""},null,null,null,{"$f":"IF(D3229=\"\",\"\",IF(D3229<0,\"DEBITO\",\"CREDITO\"))","v":""},null,false,false,0,{"$f":"IF($A3229=I$3,AND($A3229=I$3,$D3229<0),0)","v":0},0,{"$f":"IF($A3229=K$3,AND($A3229=K$3,$D3229<0),0)","v":0},0,{"$f":"IF($A3229=M$3,AND($A3229=M$3,$D3229<0),0)","v":0},0,{"$f":"IF($A3229=O$3,AND($A3229=O$3,$D3229<0),0)","v":0},0,0,0,0,0,0,0,{"$f":"IF($A3229=W$3,AND($A3229=W$3,$D3229<0),0)","v":0},0,{"$f":"IF($A3229=Y$3,AND($A3229=Y$3,$D3229<0),0)","v":0},0,{"$f":"IF($A3229=AA$3,AND($A3229=AA$3,$D3229<0),0)","v":0},0,{"$f":"IF($A3229=AC$3,AND($A3229=AC$3,$D3229<0),0)","v":0},0,0]
[{"$f":"IF(B3230=0,\"\",MONTH(B3230))","v":""},null,null,null,{"$f":"IF(D3230=\"\",\"\",IF(D3230<0,\"DEBITO\",\"CREDITO\"))","v":""},null,false,false,0,{"$f":"IF($A3230=I$3,AND($A3230=I$3,$D3230<0),0)","v":0},0,{"$f":"IF($A3230=K$3,AND($A3230=K$3,$D3230<0),0)","v":0},0,{"$f":"IF($A3230=M$3,AND($A3230=M$3,$D3230<0),0)","v":0},0,{"$f":"IF($A3230=O$3,AND($A3230=O$3,$D3230<0),0)","v":0},0,0,0,0,0,0,0,{"$f":"IF($A3230=W$3,AND($A3230=W$3,$D3230<0),0)","v":0},0,{"$f":"IF($A3230=Y$3,AND($A3230=Y$3,$D3230<0),0)","v":0},0,{"$f":"IF($A3230=AA$3,AND($A3230=AA$3,$D3230<0),0)","v":0},0,{"$f":"IF($A3230=AC$3,AND($A3230=AC$3,$D3230<0),0)","v":0},0,0]
[{"$f":"IF(B3231=0,\"\",MONTH(B3231))","v":""},null,null,null,{"$f":"IF(D3231=\"\",\"\",IF(D3231<0,\"DEBITO\",\"CREDITO\"))","v":""},null,false,false,0,{"$f":"IF($A3231=I$3,AND($A3231=I$3,$D3231<0),0)","v":0},0,{"$f":"IF($A3231=K$3,AND($A3231=K$3,$D3231<0),0)","v":0},0,{"$f":"IF($A3231=M$3,AND($A3231=M$3,$D3231<0),0)","v":0},0,{"$f":"IF($A3231=O$3,AND($A3231=O$3,$D3231<0),0)","v":0},0,0,0,0,0,0,0,{"$f":"IF($A3231=W$3,AND($A3231=W$3,$D3231<0),0)","v":0},0,{"$f":"IF($A3231=Y$3,AND($A3231=Y$3,$D3231<0),0)","v":0},0,{"$f":"IF($A3231=AA$3,AND($A3231=AA$3,$D3231<0),0)","v":0},0,{"$f":"IF($A3231=AC$3,AND($A3231=AC$3,$D3231<0),0)","v":0},0,0]
[{"$f":"IF(B3232=0,\"\",MONTH(B3232))","v":""},null,null,null,{"$f":"IF(D3232=\"\",\"\",IF(D3232<0,\"DEBITO\",\"CREDITO\"))","v":""},null,false,false,0,{"$f":"IF($A3232=I$3,AND($A3232=I$3,$D3232<0),0)","v":0},0,{"$f":"IF($A3232=K$3,AND($A3232=K$3,$D3232<0),0)","v":0},0,{"$f":"IF($A3232=M$3,AND($A3232=M$3,$D3232<0),0)","v":0},0,{"$f":"IF($A3232=O$3,AND($A3232=O$3,$D3232<0),0)","v":0},0,0,0,0,0,0,0,{"$f":"IF($A3232=W$3,AND($A3232=W$3,$D3232<0),0)","v":0},0,{"$f":"IF($A3232=Y$3,AND($A3232=Y$3,$D3232<0),0)","v":0},0,{"$f":"IF($A3232=AA$3,AND($A3232=AA$3,$D3232<0),0)","v":0},0,{"$f":"IF($A3232=AC$3,AND($A3232=AC$3,$D3232<0),0)","v":0},0,0]
[{"$f":"IF(B3233=0,\"\",MONTH(B3233))","v":""},null,null,null,{"$f":"IF(D3233=\"\",\"\",IF(D3233<0,\"DEBITO\",\"CREDITO\"))","v":""},null,false,false,0,{"$f":"IF($A3233=I$3,AND($A3233=I$3,$D3233<0),0)","v":0},0,{"$f":"IF($A3233=K$3,AND($A3233=K$3,$D3233<0),0)","v":0},0,{"$f":"IF($A3233=M$3,AND($A3233=M$3,$D3233<0),0)","v":0},0,{"$f":"IF($A3233=O$3,AND($A3233=O$3,$D3233<0),0)","v":0},0,0,0,0,0,0,0,{"$f":"IF($A3233=W$3,AND($A3233=W$3,$D3233<0),0)","v":0},0,{"$f":"IF($A3233=Y$3,AND($A3233=Y$3,$D3233<0),0)","v":0},0,{"$f":"IF($A3233=AA$3,AND($A3233=AA$3,$D3233<0),0)","v":0},0,{"$f":"IF($A3233=AC$3,AND($A3233=AC$3,$D3233<0),0)","v":0},0,0]
[{"$f":"IF(B3234=0,\"\",MONTH(B3234))","v":""},null,null,null,{"$f":"IF(D3234=\"\",\"\",IF(D3234<0,\"DEBITO\",\"CREDITO\"))","v":""},null,false,false,0,{"$f":"IF($A3234=I$3,AND($A3234=I$3,$D3234<0),0)","v":0},0,{"$f":"IF($A3234=K$3,AND($A3234=K$3,$D3234<0),0)","v":0},0,{"$f":"IF($A3234=M$3,AND($A3234=M$3,$D3234<0),0)","v":0},0,{"$f":"IF($A3234=O$3,AND($A3234=O$3,$D3234<0),0)","v":0},0,0,0,0,0,0,0,{"$f":"IF($A3234=W$3,AND($A3234=W$3,$D3234<0),0)","v":0},0,{"$f":"IF($A3234=Y$3,AND($A3234=Y$3,$D3234<0),0)","v":0},0,{"$f":"IF($A3234=AA$3,AND($A3234=AA$3,$D3234<0),0)","v":0},0,{"$f":"IF($A3234=AC$3,AND($A3234=AC$3,$D3234<0),0)","v":0},0,0]
[{"$f":"IF(B3235=0,\"\",MONTH(B3235))","v":""},null,null,null,{"$f":"IF(D3235=\"\",\"\",IF(D3235<0,\"DEBITO\",\"CREDITO\"))","v":""},null,false,false,0,{"$f":"IF($A3235=I$3,AND($A3235=I$3,$D3235<0),0)","v":0},0,{"$f":"IF($A3235=K$3,AND($A3235=K$3,$D3235<0),0)","v":0},0,{"$f":"IF($A3235=M$3,AND($A3235=M$3,$D3235<0),0)","v":0},0,{"$f":"IF($A3235=O$3,AND($A3235=O$3,$D3235<0),0)","v":0},0,0,0,0,0,0,0,{"$f":"IF($A3235=W$3,AND($A3235=W$3,$D3235<0),0)","v":0},0,{"$f":"IF($A3235=Y$3,AND($A3235=Y$3,$D3235<0),0)","v":0},0,{"$f":"IF($A3235=AA$3,AND($A3235=AA$3,$D3235<0),0)","v":0},0,{"$f":"IF($A3235=AC$3,AND($A3235=AC$3,$D3235<0),0)","v":0},0,0]
[{"$f":"IF(B3236=0,\"\",MONTH(B3236))","v":""},null,null,null,{"$f":"IF(D3236=\"\",\"\",IF(D3236<0,\"DEBITO\",\"CREDITO\"))","v":""},null,false,false,0,{"$f":"IF($A3236=I$3,AND($A3236=I$3,$D3236<0),0)","v":0},0,{"$f":"IF($A3236=K$3,AND($A3236=K$3,$D3236<0),0)","v":0},0,{"$f":"IF($A3236=M$3,AND($A3236=M$3,$D3236<0),0)","v":0},0,{"$f":"IF($A3236=O$3,AND($A3236=O$3,$D3236<0),0)","v":0},0,0,0,0,0,0,0,{"$f":"IF($A3236=W$3,AND($A3236=W$3,$D3236<0),0)","v":0},0,{"$f":"IF($A3236=Y$3,AND($A3236=Y$3,$D3236<0),0)","v":0},0,{"$f":"IF($A3236=AA$3,AND($A3236=AA$3,$D3236<0),0)","v":0},0,{"$f":"IF($A3236=AC$3,AND($A3236=AC$3,$D3236<0),0)","v":0},0,0]
[{"$f":"IF(B3237=0,\"\",MONTH(B3237))","v":""},null,null,null,{"$f":"IF(D3237=\"\",\"\",IF(D3237<0,\"DEBITO\",\"CREDITO\"))","v":""},null,false,false,0,{"$f":"IF($A3237=I$3,AND($A3237=I$3,$D3237<0),0)","v":0},0,{"$f":"IF($A3237=K$3,AND($A3237=K$3,$D3237<0),0)","v":0},0,{"$f":"IF($A3237=M$3,AND($A3237=M$3,$D3237<0),0)","v":0},0,{"$f":"IF($A3237=O$3,AND($A3237=O$3,$D3237<0),0)","v":0},0,0,0,0,0,0,0,{"$f":"IF($A3237=W$3,AND($A3237=W$3,$D3237<0),0)","v":0},0,{"$f":"IF($A3237=Y$3,AND($A3237=Y$3,$D3237<0),0)","v":0},0,{"$f":"IF($A3237=AA$3,AND($A3237=AA$3,$D3237<0),0)","v":0},0,{"$f":"IF($A3237=AC$3,AND($A3237=AC$3,$D3237<0),0)","v":0},0,0]
[{"$f":"IF(B3238=0,\"\",MONTH(B3238))","v":""},null,null,null,{"$f":"IF(D3238=\"\",\"\",IF(D3238<0,\"DEBITO\",\"CREDITO\"))","v":""},null,false,false,0,{"$f":"IF($A3238=I$3,AND($A3238=I$3,$D3238<0),0)","v":0},0,{"$f":"IF($A3238=K$3,AND($A3238=K$3,$D3238<0),0)","v":0},0,{"$f":"IF($A3238=M$3,AND($A3238=M$3,$D3238<0),0)","v":0},0,{"$f":"IF($A3238=O$3,AND($A3238=O$3,$D3238<0),0)","v":0},0,0,0,0,0,0,0,{"$f":"IF($A3238=W$3,AND($A3238=W$3,$D3238<0),0)","v":0},0,{"$f":"IF($A3238=Y$3,AND($A3238=Y$3,$D3238<0),0)","v":0},0,{"$f":"IF($A3238=AA$3,AND($A3238=AA$3,$D3238<0),0)","v":0},0,{"$f":"IF($A3238=AC$3,AND($A3238=AC$3,$D3238<0),0)","v":0},0,0]
[{"$f":"IF(B3239=0,\"\",MONTH(B3239))","v":""},null,null,null,{"$f":"IF(D3239=\"\",\"\",IF(D3239<0,\"DEBITO\",\"CREDITO\"))","v":""},null,false,false,0,{"$f":"IF($A3239=I$3,AND($A3239=I$3,$D3239<0),0)","v":0},0,{"$f":"IF($A3239=K$3,AND($A3239=K$3,$D3239<0),0)","v":0},0,{"$f":"IF($A3239=M$3,AND($A3239=M$3,$D3239<0),0)","v":0},0,{"$f":"IF($A3239=O$3,AND($A3239=O$3,$D3239<0),0)","v":0},0,0,0,0,0,0,0,{"$f":"IF($A3239=W$3,AND($A3239=W$3,$D3239<0),0)","v":0},0,{"$f":"IF($A3239=Y$3,AND($A3239=Y$3,$D3239<0),0)","v":0},0,{"$f":"IF($A3239=AA$3,AND($A3239=AA$3,$D3239<0),0)","v":0},0,{"$f":"IF($A3239=AC$3,AND($A3239=AC$3,$D3239<0),0)","v":0},0,0]
[{"$f":"IF(B3240=0,\"\",MONTH(B3240))","v":""},null,null,null,{"$f":"IF(D3240=\"\",\"\",IF(D3240<0,\"DEBITO\",\"CREDITO\"))","v":""},null,false,false,0,{"$f":"IF($A3240=I$3,AND($A3240=I$3,$D3240<0),0)","v":0},0,{"$f":"IF($A3240=K$3,AND($A3240=K$3,$D3240<0),0)","v":0},0,{"$f":"IF($A3240=M$3,AND($A3240=M$3,$D3240<0),0)","v":0},0,{"$f":"IF($A3240=O$3,AND($A3240=O$3,$D3240<0),0)","v":0},0,0,0,0,0,0,0,{"$f":"IF($A3240=W$3,AND($A3240=W$3,$D3240<0),0)","v":0},0,{"$f":"IF($A3240=Y$3,AND($A3240=Y$3,$D3240<0),0)","v":0},0,{"$f":"IF($A3240=AA$3,AND($A3240=AA$3,$D3240<0),0)","v":0},0,{"$f":"IF($A3240=AC$3,AND($A3240=AC$3,$D3240<0),0)","v":0},0,0]
[{"$f":"IF(B3241=0,\"\",MONTH(B3241))","v":""},null,null,null,{"$f":"IF(D3241=\"\",\"\",IF(D3241<0,\"DEBITO\",\"CREDITO\"))","v":""},null,false,false,0,{"$f":"IF($A3241=I$3,AND($A3241=I$3,$D3241<0),0)","v":0},0,{"$f":"IF($A3241=K$3,AND($A3241=K$3,$D3241<0),0)","v":0},0,{"$f":"IF($A3241=M$3,AND($A3241=M$3,$D3241<0),0)","v":0},0,{"$f":"IF($A3241=O$3,AND($A3241=O$3,$D3241<0),0)","v":0},0,0,0,0,0,0,0,{"$f":"IF($A3241=W$3,AND($A3241=W$3,$D3241<0),0)","v":0},0,{"$f":"IF($A3241=Y$3,AND($A3241=Y$3,$D3241<0),0)","v":0},0,{"$f":"IF($A3241=AA$3,AND($A3241=AA$3,$D3241<0),0)","v":0},0,{"$f":"IF($A3241=AC$3,AND($A3241=AC$3,$D3241<0),0)","v":0},0,0]
[{"$f":"IF(B3242=0,\"\",MONTH(B3242))","v":""},null,null,null,{"$f":"IF(D3242=\"\",\"\",IF(D3242<0,\"DEBITO\",\"CREDITO\"))","v":""},null,false,false,0,{"$f":"IF($A3242=I$3,AND($A3242=I$3,$D3242<0),0)","v":0},0,{"$f":"IF($A3242=K$3,AND($A3242=K$3,$D3242<0),0)","v":0},0,{"$f":"IF($A3242=M$3,AND($A3242=M$3,$D3242<0),0)","v":0},0,{"$f":"IF($A3242=O$3,AND($A3242=O$3,$D3242<0),0)","v":0},0,0,0,0,0,0,0,{"$f":"IF($A3242=W$3,AND($A3242=W$3,$D3242<0),0)","v":0},0,{"$f":"IF($A3242=Y$3,AND($A3242=Y$3,$D3242<0),0)","v":0},0,{"$f":"IF($A3242=AA$3,AND($A3242=AA$3,$D3242<0),0)","v":0},0,{"$f":"IF($A3242=AC$3,AND($A3242=AC$3,$D3242<0),0)","v":0},0,0]
[{"$f":"IF(B3243=0,\"\",MONTH(B3243))","v":""},null,null,null,{"$f":"IF(D3243=\"\",\"\",IF(D3243<0,\"DEBITO\",\"CREDITO\"))","v":""},null,false,false,0,{"$f":"IF($A3243=I$3,AND($A3243=I$3,$D3243<0),0)","v":0},0,{"$f":"IF($A3243=K$3,AND($A3243=K$3,$D3243<0),0)","v":0},0,{"$f":"IF($A3243=M$3,AND($A3243=M$3,$D3243<0),0)","v":0},0,{"$f":"IF($A3243=O$3,AND($A3243=O$3,$D3243<0),0)","v":0},0,0,0,0,0,0,0,{"$f":"IF($A3243=W$3,AND($A3243=W$3,$D3243<0),0)","v":0},0,{"$f":"IF($A3243=Y$3,AND($A3243=Y$3,$D3243<0),0)","v":0},0,{"$f":"IF($A3243=AA$3,AND($A3243=AA$3,$D3243<0),0)","v":0},0,{"$f":"IF($A3243=AC$3,AND($A3243=AC$3,$D3243<0),0)","v":0},0,0]
[{"$f":"IF(B3244=0,\"\",MONTH(B3244))","v":""},null,null,null,{"$f":"IF(D3244=\"\",\"\",IF(D3244<0,\"DEBITO\",\"CREDITO\"))","v":""},null,false,false,0,{"$f":"IF($A3244=I$3,AND($A3244=I$3,$D3244<0),0)","v":0},0,{"$f":"IF($A3244=K$3,AND($A3244=K$3,$D3244<0),0)","v":0},0,{"$f":"IF($A3244=M$3,AND($A3244=M$3,$D3244<0),0)","v":0},0,{"$f":"IF($A3244=O$3,AND($A3244=O$3,$D3244<0),0)","v":0},0,0,0,0,0,0,0,{"$f":"IF($A3244=W$3,AND($A3244=W$3,$D3244<0),0)","v":0},0,{"$f":"IF($A3244=Y$3,AND($A3244=Y$3,$D3244<0),0)","v":0},0,{"$f":"IF($A3244=AA$3,AND($A3244=AA$3,$D3244<0),0)","v":0},0,{"$f":"IF($A3244=AC$3,AND($A3244=AC$3,$D3244<0),0)","v":0},0,0]
[{"$f":"IF(B3245=0,\"\",MONTH(B3245))","v":""},null,null,null,{"$f":"IF(D3245=\"\",\"\",IF(D3245<0,\"DEBITO\",\"CREDITO\"))","v":""},null,false,false,0,{"$f":"IF($A3245=I$3,AND($A3245=I$3,$D3245<0),0)","v":0},0,{"$f":"IF($A3245=K$3,AND($A3245=K$3,$D3245<0),0)","v":0},0,{"$f":"IF($A3245=M$3,AND($A3245=M$3,$D3245<0),0)","v":0},0,{"$f":"IF($A3245=O$3,AND($A3245=O$3,$D3245<0),0)","v":0},0,0,0,0,0,0,0,{"$f":"IF($A3245=W$3,AND($A3245=W$3,$D3245<0),0)","v":0},0,{"$f":"IF($A3245=Y$3,AND($A3245=Y$3,$D3245<0),0)","v":0},0,{"$f":"IF($A3245=AA$3,AND($A3245=AA$3,$D3245<0),0)","v":0},0,{"$f":"IF($A3245=AC$3,AND($A3245=AC$3,$D3245<0),0)","v":0},0,0]
[{"$f":"IF(B3246=0,\"\",MONTH(B3246))","v":""},null,null,null,{"$f":"IF(D3246=\"\",\"\",IF(D3246<0,\"DEBITO\",\"CREDITO\"))","v":""},null,false,false,0,{"$f":"IF($A3246=I$3,AND($A3246=I$3,$D3246<0),0)","v":0},0,{"$f":"IF($A3246=K$3,AND($A3246=K$3,$D3246<0),0)","v":0},0,{"$f":"IF($A3246=M$3,AND($A3246=M$3,$D3246<0),0)","v":0},0,{"$f":"IF($A3246=O$3,AND($A3246=O$3,$D3246<0),0)","v":0},0,0,0,0,0,0,0,{"$f":"IF($A3246=W$3,AND($A3246=W$3,$D3246<0),0)","v":0},0,{"$f":"IF($A3246=Y$3,AND($A3246=Y$3,$D3246<0),0)","v":0},0,{"$f":"IF($A3246=AA$3,AND($A3246=AA$3,$D3246<0),0)","v":0},0,{"$f":"IF($A3246=AC$3,AND($A3246=AC$3,$D3246<0),0)","v":0},0,0]
[{"$f":"IF(B3247=0,\"\",MONTH(B3247))","v":""},null,null,null,{"$f":"IF(D3247=\"\",\"\",IF(D3247<0,\"DEBITO\",\"CREDITO\"))","v":""},null,false,false,0,{"$f":"IF($A3247=I$3,AND($A3247=I$3,$D3247<0),0)","v":0},0,{"$f":"IF($A3247=K$3,AND($A3247=K$3,$D3247<0),0)","v":0},0,{"$f":"IF($A3247=M$3,AND($A3247=M$3,$D3247<0),0)","v":0},0,{"$f":"IF($A3247=O$3,AND($A3247=O$3,$D3247<0),0)","v":0},0,0,0,0,0,0,0,{"$f":"IF($A3247=W$3,AND($A3247=W$3,$D3247<0),0)","v":0},0,{"$f":"IF($A3247=Y$3,AND($A3247=Y$3,$D3247<0),0)","v":0},0,{"$f":"IF($A3247=AA$3,AND($A3247=AA$3,$D3247<0),0)","v":0},0,{"$f":"IF($A3247=AC$3,AND($A3247=AC$3,$D3247<0),0)","v":0},0,0]
[{"$f":"IF(B3248=0,\"\",MONTH(B3248))","v":""},null,null,null,{"$f":"IF(D3248=\"\",\"\",IF(D3248<0,\"DEBITO\",\"CREDITO\"))","v":""},null,false,false,0,{"$f":"IF($A3248=I$3,AND($A3248=I$3,$D3248<0),0)","v":0},0,{"$f":"IF($A3248=K$3,AND($A3248=K$3,$D3248<0),0)","v":0},0,{"$f":"IF($A3248=M$3,AND($A3248=M$3,$D3248<0),0)","v":0},0,{"$f":"IF($A3248=O$3,AND($A3248=O$3,$D3248<0),0)","v":0},0,0,0,0,0,0,0,{"$f":"IF($A3248=W$3,AND($A3248=W$3,$D3248<0),0)","v":0},0,{"$f":"IF($A3248=Y$3,AND($A3248=Y$3,$D3248<0),0)","v":0},0,{"$f":"IF($A3248=AA$3,AND($A3248=AA$3,$D3248<0),0)","v":0},0,{"$f":"IF($A3248=AC$3,AND($A3248=AC$3,$D3248<0),0)","v":0},0,0]
[{"$f":"IF(B3249=0,\"\",MONTH(B3249))","v":""},null,null,null,{"$f":"IF(D3249=\"\",\"\",IF(D3249<0,\"DEBITO\",\"CREDITO\"))","v":""},null,false,false,0,{"$f":"IF($A3249=I$3,AND($A3249=I$3,$D3249<0),0)","v":0},0,{"$f":"IF($A3249=K$3,AND($A3249=K$3,$D3249<0),0)","v":0},0,{"$f":"IF($A3249=M$3,AND($A3249=M$3,$D3249<0),0)","v":0},0,{"$f":"IF($A3249=O$3,AND($A3249=O$3,$D3249<0),0)","v":0},0,0,0,0,0,0,0,{"$f":"IF($A3249=W$3,AND($A3249=W$3,$D3249<0),0)","v":0},0,{"$f":"IF($A3249=Y$3,AND($A3249=Y$3,$D3249<0),0)","v":0},0,{"$f":"IF($A3249=AA$3,AND($A3249=AA$3,$D3249<0),0)","v":0},0,{"$f":"IF($A3249=AC$3,AND($A3249=AC$3,$D3249<0),0)","v":0},0,0]
[{"$f":"IF(B3250=0,\"\",MONTH(B3250))","v":""},null,null,null,{"$f":"IF(D3250=\"\",\"\",IF(D3250<0,\"DEBITO\",\"CREDITO\"))","v":""},null,false,false,0,{"$f":"IF($A3250=I$3,AND($A3250=I$3,$D3250<0),0)","v":0},0,{"$f":"IF($A3250=K$3,AND($A3250=K$3,$D3250<0),0)","v":0},0,{"$f":"IF($A3250=M$3,AND($A3250=M$3,$D3250<0),0)","v":0},0,{"$f":"IF($A3250=O$3,AND($A3250=O$3,$D3250<0),0)","v":0},0,0,0,0,0,0,0,{"$f":"IF($A3250=W$3,AND($A3250=W$3,$D3250<0),0)","v":0},0,{"$f":"IF($A3250=Y$3,AND($A3250=Y$3,$D3250<0),0)","v":0},0,{"$f":"IF($A3250=AA$3,AND($A3250=AA$3,$D3250<0),0)","v":0},0,{"$f":"IF($A3250=AC$3,AND($A3250=AC$3,$D3250<0),0)","v":0},0,0]
[{"$f":"IF(B3251=0,\"\",MONTH(B3251))","v":""},null,null,null,{"$f":"IF(D3251=\"\",\"\",IF(D3251<0,\"DEBITO\",\"CREDITO\"))","v":""},null,false,false,0,{"$f":"IF($A3251=I$3,AND($A3251=I$3,$D3251<0),0)","v":0},0,{"$f":"IF($A3251=K$3,AND($A3251=K$3,$D3251<0),0)","v":0},0,{"$f":"IF($A3251=M$3,AND($A3251=M$3,$D3251<0),0)","v":0},0,{"$f":"IF($A3251=O$3,AND($A3251=O$3,$D3251<0),0)","v":0},0,0,0,0,0,0,0,{"$f":"IF($A3251=W$3,AND($A3251=W$3,$D3251<0),0)","v":0},0,{"$f":"IF($A3251=Y$3,AND($A3251=Y$3,$D3251<0),0)","v":0},0,{"$f":"IF($A3251=AA$3,AND($A3251=AA$3,$D3251<0),0)","v":0},0,{"$f":"IF($A3251=AC$3,AND($A3251=AC$3,$D3251<0),0)","v":0},0,0]
[{"$f":"IF(B3252=0,\"\",MONTH(B3252))","v":""},null,null,null,{"$f":"IF(D3252=\"\",\"\",IF(D3252<0,\"DEBITO\",\"CREDITO\"))","v":""},null,false,false,0,{"$f":"IF($A3252=I$3,AND($A3252=I$3,$D3252<0),0)","v":0},0,{"$f":"IF($A3252=K$3,AND($A3252=K$3,$D3252<0),0)","v":0},0,{"$f":"IF($A3252=M$3,AND($A3252=M$3,$D3252<0),0)","v":0},0,{"$f":"IF($A3252=O$3,AND($A3252=O$3,$D3252<0),0)","v":0},0,0,0,0,0,0,0,{"$f":"IF($A3252=W$3,AND($A3252=W$3,$D3252<0),0)","v":0},0,{"$f":"IF($A3252=Y$3,AND($A3252=Y$3,$D3252<0),0)","v":0},0,{"$f":"IF($A3252=AA$3,AND($A3252=AA$3,$D3252<0),0)","v":0},0,{"$f":"IF($A3252=AC$3,AND($A3252=AC$3,$D3252<0),0)","v":0},0,0]
[{"$f":"IF(B3253=0,\"\",MONTH(B3253))","v":""},null,null,null,{"$f":"IF(D3253=\"\",\"\",IF(D3253<0,\"DEBITO\",\"CREDITO\"))","v":""},null,false,false,0,{"$f":"IF($A3253=I$3,AND($A3253=I$3,$D3253<0),0)","v":0},0,{"$f":"IF($A3253=K$3,AND($A3253=K$3,$D3253<0),0)","v":0},0,{"$f":"IF($A3253=M$3,AND($A3253=M$3,$D3253<0),0)","v":0},0,{"$f":"IF($A3253=O$3,AND($A3253=O$3,$D3253<0),0)","v":0},0,0,0,0,0,0,0,{"$f":"IF($A3253=W$3,AND($A3253=W$3,$D3253<0),0)","v":0},0,{"$f":"IF($A3253=Y$3,AND($A3253=Y$3,$D3253<0),0)","v":0},0,{"$f":"IF($A3253=AA$3,AND($A3253=AA$3,$D3253<0),0)","v":0},0,{"$f":"IF($A3253=AC$3,AND($A3253=AC$3,$D3253<0),0)","v":0},0,0]
[{"$f":"IF(B3254=0,\"\",MONTH(B3254))","v":""},null,null,null,{"$f":"IF(D3254=\"\",\"\",IF(D3254<0,\"DEBITO\",\"CREDITO\"))","v":""},null,false,false,0,{"$f":"IF($A3254=I$3,AND($A3254=I$3,$D3254<0),0)","v":0},0,{"$f":"IF($A3254=K$3,AND($A3254=K$3,$D3254<0),0)","v":0},0,{"$f":"IF($A3254=M$3,AND($A3254=M$3,$D3254<0),0)","v":0},0,{"$f":"IF($A3254=O$3,AND($A3254=O$3,$D3254<0),0)","v":0},0,0,0,0,0,0,0,{"$f":"IF($A3254=W$3,AND($A3254=W$3,$D3254<0),0)","v":0},0,{"$f":"IF($A3254=Y$3,AND($A3254=Y$3,$D3254<0),0)","v":0},0,{"$f":"IF($A3254=AA$3,AND($A3254=AA$3,$D3254<0),0)","v":0},0,{"$f":"IF($A3254=AC$3,AND($A3254=AC$3,$D3254<0),0)","v":0},0,0]
[{"$f":"IF(B3255=0,\"\",MONTH(B3255))","v":""},null,null,null,{"$f":"IF(D3255=\"\",\"\",IF(D3255<0,\"DEBITO\",\"CREDITO\"))","v":""},null,false,false,0,{"$f":"IF($A3255=I$3,AND($A3255=I$3,$D3255<0),0)","v":0},0,{"$f":"IF($A3255=K$3,AND($A3255=K$3,$D3255<0),0)","v":0},0,{"$f":"IF($A3255=M$3,AND($A3255=M$3,$D3255<0),0)","v":0},0,{"$f":"IF($A3255=O$3,AND($A3255=O$3,$D3255<0),0)","v":0},0,0,0,0,0,0,0,{"$f":"IF($A3255=W$3,AND($A3255=W$3,$D3255<0),0)","v":0},0,{"$f":"IF($A3255=Y$3,AND($A3255=Y$3,$D3255<0),0)","v":0},0,{"$f":"IF($A3255=AA$3,AND($A3255=AA$3,$D3255<0),0)","v":0},0,{"$f":"IF($A3255=AC$3,AND($A3255=AC$3,$D3255<0),0)","v":0},0,0]
[{"$f":"IF(B3256=0,\"\",MONTH(B3256))","v":""},null,null,null,{"$f":"IF(D3256=\"\",\"\",IF(D3256<0,\"DEBITO\",\"CREDITO\"))","v":""},null,false,false,0,{"$f":"IF($A3256=I$3,AND($A3256=I$3,$D3256<0),0)","v":0},0,{"$f":"IF($A3256=K$3,AND($A3256=K$3,$D3256<0),0)","v":0},0,{"$f":"IF($A3256=M$3,AND($A3256=M$3,$D3256<0),0)","v":0},0,{"$f":"IF($A3256=O$3,AND($A3256=O$3,$D3256<0),0)","v":0},0,0,0,0,0,0,0,{"$f":"IF($A3256=W$3,AND($A3256=W$3,$D3256<0),0)","v":0},0,{"$f":"IF($A3256=Y$3,AND($A3256=Y$3,$D3256<0),0)","v":0},0,{"$f":"IF($A3256=AA$3,AND($A3256=AA$3,$D3256<0),0)","v":0},0,{"$f":"IF($A3256=AC$3,AND($A3256=AC$3,$D3256<0),0)","v":0},0,0]
[{"$f":"IF(B3257=0,\"\",MONTH(B3257))","v":""},null,null,null,{"$f":"IF(D3257=\"\",\"\",IF(D3257<0,\"DEBITO\",\"CREDITO\"))","v":""},null,false,false,0,{"$f":"IF($A3257=I$3,AND($A3257=I$3,$D3257<0),0)","v":0},0,{"$f":"IF($A3257=K$3,AND($A3257=K$3,$D3257<0),0)","v":0},0,{"$f":"IF($A3257=M$3,AND($A3257=M$3,$D3257<0),0)","v":0},0,{"$f":"IF($A3257=O$3,AND($A3257=O$3,$D3257<0),0)","v":0},0,0,0,0,0,0,0,{"$f":"IF($A3257=W$3,AND($A3257=W$3,$D3257<0),0)","v":0},0,{"$f":"IF($A3257=Y$3,AND($A3257=Y$3,$D3257<0),0)","v":0},0,{"$f":"IF($A3257=AA$3,AND($A3257=AA$3,$D3257<0),0)","v":0},0,{"$f":"IF($A3257=AC$3,AND($A3257=AC$3,$D3257<0),0)","v":0},0,0]
[{"$f":"IF(B3258=0,\"\",MONTH(B3258))","v":""},null,null,null,{"$f":"IF(D3258=\"\",\"\",IF(D3258<0,\"DEBITO\",\"CREDITO\"))","v":""},null,false,false,0,{"$f":"IF($A3258=I$3,AND($A3258=I$3,$D3258<0),0)","v":0},0,{"$f":"IF($A3258=K$3,AND($A3258=K$3,$D3258<0),0)","v":0},0,{"$f":"IF($A3258=M$3,AND($A3258=M$3,$D3258<0),0)","v":0},0,{"$f":"IF($A3258=O$3,AND($A3258=O$3,$D3258<0),0)","v":0},0,0,0,0,0,0,0,{"$f":"IF($A3258=W$3,AND($A3258=W$3,$D3258<0),0)","v":0},0,{"$f":"IF($A3258=Y$3,AND($A3258=Y$3,$D3258<0),0)","v":0},0,{"$f":"IF($A3258=AA$3,AND($A3258=AA$3,$D3258<0),0)","v":0},0,{"$f":"IF($A3258=AC$3,AND($A3258=AC$3,$D3258<0),0)","v":0},0,0]
[{"$f":"IF(B3259=0,\"\",MONTH(B3259))","v":""},null,null,null,{"$f":"IF(D3259=\"\",\"\",IF(D3259<0,\"DEBITO\",\"CREDITO\"))","v":""},null,false,false,0,{"$f":"IF($A3259=I$3,AND($A3259=I$3,$D3259<0),0)","v":0},0,{"$f":"IF($A3259=K$3,AND($A3259=K$3,$D3259<0),0)","v":0},0,{"$f":"IF($A3259=M$3,AND($A3259=M$3,$D3259<0),0)","v":0},0,{"$f":"IF($A3259=O$3,AND($A3259=O$3,$D3259<0),0)","v":0},0,0,0,0,0,0,0,{"$f":"IF($A3259=W$3,AND($A3259=W$3,$D3259<0),0)","v":0},0,{"$f":"IF($A3259=Y$3,AND($A3259=Y$3,$D3259<0),0)","v":0},0,{"$f":"IF($A3259=AA$3,AND($A3259=AA$3,$D3259<0),0)","v":0},0,{"$f":"IF($A3259=AC$3,AND($A3259=AC$3,$D3259<0),0)","v":0},0,0]
[{"$f":"IF(B3260=0,\"\",MONTH(B3260))","v":""},null,null,null,{"$f":"IF(D3260=\"\",\"\",IF(D3260<0,\"DEBITO\",\"CREDITO\"))","v":""},null,false,false,0,{"$f":"IF($A3260=I$3,AND($A3260=I$3,$D3260<0),0)","v":0},0,{"$f":"IF($A3260=K$3,AND($A3260=K$3,$D3260<0),0)","v":0},0,{"$f":"IF($A3260=M$3,AND($A3260=M$3,$D3260<0),0)","v":0},0,{"$f":"IF($A3260=O$3,AND($A3260=O$3,$D3260<0),0)","v":0},0,0,0,0,0,0,0,{"$f":"IF($A3260=W$3,AND($A3260=W$3,$D3260<0),0)","v":0},0,{"$f":"IF($A3260=Y$3,AND($A3260=Y$3,$D3260<0),0)","v":0},0,{"$f":"IF($A3260=AA$3,AND($A3260=AA$3,$D3260<0),0)","v":0},0,{"$f":"IF($A3260=AC$3,AND($A3260=AC$3,$D3260<0),0)","v":0},0,0]
[{"$f":"IF(B3261=0,\"\",MONTH(B3261))","v":""},null,null,null,{"$f":"IF(D3261=\"\",\"\",IF(D3261<0,\"DEBITO\",\"CREDITO\"))","v":""},null,false,false,0,{"$f":"IF($A3261=I$3,AND($A3261=I$3,$D3261<0),0)","v":0},0,{"$f":"IF($A3261=K$3,AND($A3261=K$3,$D3261<0),0)","v":0},0,{"$f":"IF($A3261=M$3,AND($A3261=M$3,$D3261<0),0)","v":0},0,{"$f":"IF($A3261=O$3,AND($A3261=O$3,$D3261<0),0)","v":0},0,0,0,0,0,0,0,{"$f":"IF($A3261=W$3,AND($A3261=W$3,$D3261<0),0)","v":0},0,{"$f":"IF($A3261=Y$3,AND($A3261=Y$3,$D3261<0),0)","v":0},0,{"$f":"IF($A3261=AA$3,AND($A3261=AA$3,$D3261<0),0)","v":0},0,{"$f":"IF($A3261=AC$3,AND($A3261=AC$3,$D3261<0),0)","v":0},0,0]
[{"$f":"IF(B3262=0,\"\",MONTH(B3262))","v":""},null,null,null,{"$f":"IF(D3262=\"\",\"\",IF(D3262<0,\"DEBITO\",\"CREDITO\"))","v":""},null,false,false,0,{"$f":"IF($A3262=I$3,AND($A3262=I$3,$D3262<0),0)","v":0},0,{"$f":"IF($A3262=K$3,AND($A3262=K$3,$D3262<0),0)","v":0},0,{"$f":"IF($A3262=M$3,AND($A3262=M$3,$D3262<0),0)","v":0},0,{"$f":"IF($A3262=O$3,AND($A3262=O$3,$D3262<0),0)","v":0},0,0,0,0,0,0,0,{"$f":"IF($A3262=W$3,AND($A3262=W$3,$D3262<0),0)","v":0},0,{"$f":"IF($A3262=Y$3,AND($A3262=Y$3,$D3262<0),0)","v":0},0,{"$f":"IF($A3262=AA$3,AND($A3262=AA$3,$D3262<0),0)","v":0},0,{"$f":"IF($A3262=AC$3,AND($A3262=AC$3,$D3262<0),0)","v":0},0,0]
[{"$f":"IF(B3263=0,\"\",MONTH(B3263))","v":""},null,null,null,{"$f":"IF(D3263=\"\",\"\",IF(D3263<0,\"DEBITO\",\"CREDITO\"))","v":""},null,false,false,0,{"$f":"IF($A3263=I$3,AND($A3263=I$3,$D3263<0),0)","v":0},0,{"$f":"IF($A3263=K$3,AND($A3263=K$3,$D3263<0),0)","v":0},0,{"$f":"IF($A3263=M$3,AND($A3263=M$3,$D3263<0),0)","v":0},0,{"$f":"IF($A3263=O$3,AND($A3263=O$3,$D3263<0),0)","v":0},0,0,0,0,0,0,0,{"$f":"IF($A3263=W$3,AND($A3263=W$3,$D3263<0),0)","v":0},0,{"$f":"IF($A3263=Y$3,AND($A3263=Y$3,$D3263<0),0)","v":0},0,{"$f":"IF($A3263=AA$3,AND($A3263=AA$3,$D3263<0),0)","v":0},0,{"$f":"IF($A3263=AC$3,AND($A3263=AC$3,$D3263<0),0)","v":0},0,0]
[{"$f":"IF(B3264=0,\"\",MONTH(B3264))","v":""},null,null,null,{"$f":"IF(D3264=\"\",\"\",IF(D3264<0,\"DEBITO\",\"CREDITO\"))","v":""},null,false,false,0,{"$f":"IF($A3264=I$3,AND($A3264=I$3,$D3264<0),0)","v":0},0,{"$f":"IF($A3264=K$3,AND($A3264=K$3,$D3264<0),0)","v":0},0,{"$f":"IF($A3264=M$3,AND($A3264=M$3,$D3264<0),0)","v":0},0,{"$f":"IF($A3264=O$3,AND($A3264=O$3,$D3264<0),0)","v":0},0,0,0,0,0,0,0,{"$f":"IF($A3264=W$3,AND($A3264=W$3,$D3264<0),0)","v":0},0,{"$f":"IF($A3264=Y$3,AND($A3264=Y$3,$D3264<0),0)","v":0},0,{"$f":"IF($A3264=AA$3,AND($A3264=AA$3,$D3264<0),0)","v":0},0,{"$f":"IF($A3264=AC$3,AND($A3264=AC$3,$D3264<0),0)","v":0},0,0]
[{"$f":"IF(B3265=0,\"\",MONTH(B3265))","v":""},null,null,null,{"$f":"IF(D3265=\"\",\"\",IF(D3265<0,\"DEBITO\",\"CREDITO\"))","v":""},null,false,false,0,{"$f":"IF($A3265=I$3,AND($A3265=I$3,$D3265<0),0)","v":0},0,{"$f":"IF($A3265=K$3,AND($A3265=K$3,$D3265<0),0)","v":0},0,{"$f":"IF($A3265=M$3,AND($A3265=M$3,$D3265<0),0)","v":0},0,{"$f":"IF($A3265=O$3,AND($A3265=O$3,$D3265<0),0)","v":0},0,0,0,0,0,0,0,{"$f":"IF($A3265=W$3,AND($A3265=W$3,$D3265<0),0)","v":0},0,{"$f":"IF($A3265=Y$3,AND($A3265=Y$3,$D3265<0),0)","v":0},0,{"$f":"IF($A3265=AA$3,AND($A3265=AA$3,$D3265<0),0)","v":0},0,{"$f":"IF($A3265=AC$3,AND($A3265=AC$3,$D3265<0),0)","v":0},0,0]
[{"$f":"IF(B3266=0,\"\",MONTH(B3266))","v":""},null,null,null,{"$f":"IF(D3266=\"\",\"\",IF(D3266<0,\"DEBITO\",\"CREDITO\"))","v":""},null,false,false,0,{"$f":"IF($A3266=I$3,AND($A3266=I$3,$D3266<0),0)","v":0},0,{"$f":"IF($A3266=K$3,AND($A3266=K$3,$D3266<0),0)","v":0},0,{"$f":"IF($A3266=M$3,AND($A3266=M$3,$D3266<0),0)","v":0},0,{"$f":"IF($A3266=O$3,AND($A3266=O$3,$D3266<0),0)","v":0},0,0,0,0,0,0,0,{"$f":"IF($A3266=W$3,AND($A3266=W$3,$D3266<0),0)","v":0},0,{"$f":"IF($A3266=Y$3,AND($A3266=Y$3,$D3266<0),0)","v":0},0,{"$f":"IF($A3266=AA$3,AND($A3266=AA$3,$D3266<0),0)","v":0},0,{"$f":"IF($A3266=AC$3,AND($A3266=AC$3,$D3266<0),0)","v":0},0,0]
[{"$f":"IF(B3267=0,\"\",MONTH(B3267))","v":""},null,null,null,{"$f":"IF(D3267=\"\",\"\",IF(D3267<0,\"DEBITO\",\"CREDITO\"))","v":""},null,false,false,0,{"$f":"IF($A3267=I$3,AND($A3267=I$3,$D3267<0),0)","v":0},0,{"$f":"IF($A3267=K$3,AND($A3267=K$3,$D3267<0),0)","v":0},0,{"$f":"IF($A3267=M$3,AND($A3267=M$3,$D3267<0),0)","v":0},0,{"$f":"IF($A3267=O$3,AND($A3267=O$3,$D3267<0),0)","v":0},0,0,0,0,0,0,0,{"$f":"IF($A3267=W$3,AND($A3267=W$3,$D3267<0),0)","v":0},0,{"$f":"IF($A3267=Y$3,AND($A3267=Y$3,$D3267<0),0)","v":0},0,{"$f":"IF($A3267=AA$3,AND($A3267=AA$3,$D3267<0),0)","v":0},0,{"$f":"IF($A3267=AC$3,AND($A3267=AC$3,$D3267<0),0)","v":0},0,0]
[{"$f":"IF(B3268=0,\"\",MONTH(B3268))","v":""},null,null,null,{"$f":"IF(D3268=\"\",\"\",IF(D3268<0,\"DEBITO\",\"CREDITO\"))","v":""},null,false,false,0,{"$f":"IF($A3268=I$3,AND($A3268=I$3,$D3268<0),0)","v":0},0,{"$f":"IF($A3268=K$3,AND($A3268=K$3,$D3268<0),0)","v":0},0,{"$f":"IF($A3268=M$3,AND($A3268=M$3,$D3268<0),0)","v":0},0,{"$f":"IF($A3268=O$3,AND($A3268=O$3,$D3268<0),0)","v":0},0,0,0,0,0,0,0,{"$f":"IF($A3268=W$3,AND($A3268=W$3,$D3268<0),0)","v":0},0,{"$f":"IF($A3268=Y$3,AND($A3268=Y$3,$D3268<0),0)","v":0},0,{"$f":"IF($A3268=AA$3,AND($A3268=AA$3,$D3268<0),0)","v":0},0,{"$f":"IF($A3268=AC$3,AND($A3268=AC$3,$D3268<0),0)","v":0},0,0]
[{"$f":"IF(B3269=0,\"\",MONTH(B3269))","v":""},null,null,null,{"$f":"IF(D3269=\"\",\"\",IF(D3269<0,\"DEBITO\",\"CREDITO\"))","v":""},null,false,false,0,{"$f":"IF($A3269=I$3,AND($A3269=I$3,$D3269<0),0)","v":0},0,{"$f":"IF($A3269=K$3,AND($A3269=K$3,$D3269<0),0)","v":0},0,{"$f":"IF($A3269=M$3,AND($A3269=M$3,$D3269<0),0)","v":0},0,{"$f":"IF($A3269=O$3,AND($A3269=O$3,$D3269<0),0)","v":0},0,0,0,0,0,0,0,{"$f":"IF($A3269=W$3,AND($A3269=W$3,$D3269<0),0)","v":0},0,{"$f":"IF($A3269=Y$3,AND($A3269=Y$3,$D3269<0),0)","v":0},0,{"$f":"IF($A3269=AA$3,AND($A3269=AA$3,$D3269<0),0)","v":0},0,{"$f":"IF($A3269=AC$3,AND($A3269=AC$3,$D3269<0),0)","v":0},0,0]
[{"$f":"IF(B3270=0,\"\",MONTH(B3270))","v":""},null,null,null,{"$f":"IF(D3270=\"\",\"\",IF(D3270<0,\"DEBITO\",\"CREDITO\"))","v":""},null,false,false,0,{"$f":"IF($A3270=I$3,AND($A3270=I$3,$D3270<0),0)","v":0},0,{"$f":"IF($A3270=K$3,AND($A3270=K$3,$D3270<0),0)","v":0},0,{"$f":"IF($A3270=M$3,AND($A3270=M$3,$D3270<0),0)","v":0},0,{"$f":"IF($A3270=O$3,AND($A3270=O$3,$D3270<0),0)","v":0},0,0,0,0,0,0,0,{"$f":"IF($A3270=W$3,AND($A3270=W$3,$D3270<0),0)","v":0},0,{"$f":"IF($A3270=Y$3,AND($A3270=Y$3,$D3270<0),0)","v":0},0,{"$f":"IF($A3270=AA$3,AND($A3270=AA$3,$D3270<0),0)","v":0},0,{"$f":"IF($A3270=AC$3,AND($A3270=AC$3,$D3270<0),0)","v":0},0,0]
[{"$f":"IF(B3271=0,\"\",MONTH(B3271))","v":""},null,null,null,{"$f":"IF(D3271=\"\",\"\",IF(D3271<0,\"DEBITO\",\"CREDITO\"))","v":""},null,false,false,0,{"$f":"IF($A3271=I$3,AND($A3271=I$3,$D3271<0),0)","v":0},0,{"$f":"IF($A3271=K$3,AND($A3271=K$3,$D3271<0),0)","v":0},0,{"$f":"IF($A3271=M$3,AND($A3271=M$3,$D3271<0),0)","v":0},0,{"$f":"IF($A3271=O$3,AND($A3271=O$3,$D3271<0),0)","v":0},0,0,0,0,0,0,0,{"$f":"IF($A3271=W$3,AND($A3271=W$3,$D3271<0),0)","v":0},0,{"$f":"IF($A3271=Y$3,AND($A3271=Y$3,$D3271<0),0)","v":0},0,{"$f":"IF($A3271=AA$3,AND($A3271=AA$3,$D3271<0),0)","v":0},0,{"$f":"IF($A3271=AC$3,AND($A3271=AC$3,$D3271<0),0)","v":0},0,0]
[{"$f":"IF(B3272=0,\"\",MONTH(B3272))","v":""},null,null,null,{"$f":"IF(D3272=\"\",\"\",IF(D3272<0,\"DEBITO\",\"CREDITO\"))","v":""},null,false,false,0,{"$f":"IF($A3272=I$3,AND($A3272=I$3,$D3272<0),0)","v":0},0,{"$f":"IF($A3272=K$3,AND($A3272=K$3,$D3272<0),0)","v":0},0,{"$f":"IF($A3272=M$3,AND($A3272=M$3,$D3272<0),0)","v":0},0,{"$f":"IF($A3272=O$3,AND($A3272=O$3,$D3272<0),0)","v":0},0,0,0,0,0,0,0,{"$f":"IF($A3272=W$3,AND($A3272=W$3,$D3272<0),0)","v":0},0,{"$f":"IF($A3272=Y$3,AND($A3272=Y$3,$D3272<0),0)","v":0},0,{"$f":"IF($A3272=AA$3,AND($A3272=AA$3,$D3272<0),0)","v":0},0,{"$f":"IF($A3272=AC$3,AND($A3272=AC$3,$D3272<0),0)","v":0},0,0]
[{"$f":"IF(B3273=0,\"\",MONTH(B3273))","v":""},null,null,null,{"$f":"IF(D3273=\"\",\"\",IF(D3273<0,\"DEBITO\",\"CREDITO\"))","v":""},null,{"$f":"AND(A3273=$E$3,D3273>0)","v":false},{"$f":"AND(A3273=$E$3,D3273<0)","v":false},0,{"$f":"IF($A3273=I$3,AND($A3273=I$3,$D3273<0),0)","v":0},0,{"$f":"IF($A3273=K$3,AND($A3273=K$3,$D3273<0),0)","v":0},0,{"$f":"IF($A3273=M$3,AND($A3273=M$3,$D3273<0),0)","v":0},0,{"$f":"IF($A3273=O$3,AND($A3273=O$3,$D3273<0),0)","v":0},0,{"$f":"IF($A3273=Q$3,AND($A3273=Q$3,$D3273<0),0)","v":0},0,0,0,0,0,{"$f":"IF($A3273=W$3,AND($A3273=W$3,$D3273<0),0)","v":0},0,{"$f":"IF($A3273=Y$3,AND($A3273=Y$3,$D3273<0),0)","v":0},0,{"$f":"IF($A3273=AA$3,AND($A3273=AA$3,$D3273<0),0)","v":0},0,{"$f":"IF($A3273=AC$3,AND($A3273=AC$3,$D3273<0),0)","v":0},0,{"$f":"IF($A3273=AE$3,AND($A3273=AE$3,$D3273<0),0)","v":0}]
[{"$f":"IF(B3274=0,\"\",MONTH(B3274))","v":""},null,null,null,{"$f":"IF(D3274=\"\",\"\",IF(D3274<0,\"DEBITO\",\"CREDITO\"))","v":""},null,false,false,0,{"$f":"IF($A3274=I$3,AND($A3274=I$3,$D3274<0),0)","v":0},0,{"$f":"IF($A3274=K$3,AND($A3274=K$3,$D3274<0),0)","v":0},0,{"$f":"IF($A3274=M$3,AND($A3274=M$3,$D3274<0),0)","v":0},0,{"$f":"IF($A3274=O$3,AND($A3274=O$3,$D3274<0),0)","v":0},0,0,{"$f":"IF($A3274=S$3,AND($A3274=S$3,$D3274>0),0)","v":0},{"$f":"IF($A3274=S$3,AND($A3274=S$3,$D3274<0),0)","v":0},{"$f":"IF($A3274=U$3,AND($A3274=U$3,$D3274>0),0)","v":0},{"$f":"IF($A3274=U$3,AND($A3274=U$3,$D3274<0),0)","v":0},0,{"$f":"IF($A3274=W$3,AND($A3274=W$3,$D3274<0),0)","v":0},0,{"$f":"IF($A3274=Y$3,AND($A3274=Y$3,$D3274<0),0)","v":0},0,{"$f":"IF($A3274=AA$3,AND($A3274=AA$3,$D3274<0),0)","v":0},0,{"$f":"IF($A3274=AC$3,AND($A3274=AC$3,$D3274<0),0)","v":0},0,0]
[{"$f":"IF(B3275=0,\"\",MONTH(B3275))","v":""},null,null,null,{"$f":"IF(D3275=\"\",\"\",IF(D3275<0,\"DEBITO\",\"CREDITO\"))","v":""},null,false,false,0,{"$f":"IF($A3275=I$3,AND($A3275=I$3,$D3275<0),0)","v":0},0,{"$f":"IF($A3275=K$3,AND($A3275=K$3,$D3275<0),0)","v":0},0,{"$f":"IF($A3275=M$3,AND($A3275=M$3,$D3275<0),0)","v":0},0,{"$f":"IF($A3275=O$3,AND($A3275=O$3,$D3275<0),0)","v":0},0,0,0,0,0,0,0,{"$f":"IF($A3275=W$3,AND($A3275=W$3,$D3275<0),0)","v":0},0,{"$f":"IF($A3275=Y$3,AND($A3275=Y$3,$D3275<0),0)","v":0},0,{"$f":"IF($A3275=AA$3,AND($A3275=AA$3,$D3275<0),0)","v":0},0,{"$f":"IF($A3275=AC$3,AND($A3275=AC$3,$D3275<0),0)","v":0},0,0]
[{"$f":"IF(B3276=0,\"\",MONTH(B3276))","v":""},null,null,null,{"$f":"IF(D3276=\"\",\"\",IF(D3276<0,\"DEBITO\",\"CREDITO\"))","v":""},null,false,false,0,{"$f":"IF($A3276=I$3,AND($A3276=I$3,$D3276<0),0)","v":0},0,{"$f":"IF($A3276=K$3,AND($A3276=K$3,$D3276<0),0)","v":0},0,{"$f":"IF($A3276=M$3,AND($A3276=M$3,$D3276<0),0)","v":0},0,{"$f":"IF($A3276=O$3,AND($A3276=O$3,$D3276<0),0)","v":0},0,0,0,0,0,0,0,{"$f":"IF($A3276=W$3,AND($A3276=W$3,$D3276<0),0)","v":0},0,{"$f":"IF($A3276=Y$3,AND($A3276=Y$3,$D3276<0),0)","v":0},0,{"$f":"IF($A3276=AA$3,AND($A3276=AA$3,$D3276<0),0)","v":0},0,{"$f":"IF($A3276=AC$3,AND($A3276=AC$3,$D3276<0),0)","v":0},0,0]
[{"$f":"IF(B3277=0,\"\",MONTH(B3277))","v":""},null,null,null,{"$f":"IF(D3277=\"\",\"\",IF(D3277<0,\"DEBITO\",\"CREDITO\"))","v":""},null,false,false,0,{"$f":"IF($A3277=I$3,AND($A3277=I$3,$D3277<0),0)","v":0},0,{"$f":"IF($A3277=K$3,AND($A3277=K$3,$D3277<0),0)","v":0},0,{"$f":"IF($A3277=M$3,AND($A3277=M$3,$D3277<0),0)","v":0},0,{"$f":"IF($A3277=O$3,AND($A3277=O$3,$D3277<0),0)","v":0},0,0,0,0,0,0,0,{"$f":"IF($A3277=W$3,AND($A3277=W$3,$D3277<0),0)","v":0},0,{"$f":"IF($A3277=Y$3,AND($A3277=Y$3,$D3277<0),0)","v":0},0,{"$f":"IF($A3277=AA$3,AND($A3277=AA$3,$D3277<0),0)","v":0},0,{"$f":"IF($A3277=AC$3,AND($A3277=AC$3,$D3277<0),0)","v":0},0,0]
[{"$f":"IF(B3278=0,\"\",MONTH(B3278))","v":""},null,null,null,{"$f":"IF(D3278=\"\",\"\",IF(D3278<0,\"DEBITO\",\"CREDITO\"))","v":""},null,false,false,0,{"$f":"IF($A3278=I$3,AND($A3278=I$3,$D3278<0),0)","v":0},0,{"$f":"IF($A3278=K$3,AND($A3278=K$3,$D3278<0),0)","v":0},0,{"$f":"IF($A3278=M$3,AND($A3278=M$3,$D3278<0),0)","v":0},0,{"$f":"IF($A3278=O$3,AND($A3278=O$3,$D3278<0),0)","v":0},0,0,0,0,0,0,0,{"$f":"IF($A3278=W$3,AND($A3278=W$3,$D3278<0),0)","v":0},0,{"$f":"IF($A3278=Y$3,AND($A3278=Y$3,$D3278<0),0)","v":0},0,{"$f":"IF($A3278=AA$3,AND($A3278=AA$3,$D3278<0),0)","v":0},0,{"$f":"IF($A3278=AC$3,AND($A3278=AC$3,$D3278<0),0)","v":0},0,0]
[{"$f":"IF(B3279=0,\"\",MONTH(B3279))","v":""},null,null,null,{"$f":"IF(D3279=\"\",\"\",IF(D3279<0,\"DEBITO\",\"CREDITO\"))","v":""},null,false,false,0,{"$f":"IF($A3279=I$3,AND($A3279=I$3,$D3279<0),0)","v":0},0,{"$f":"IF($A3279=K$3,AND($A3279=K$3,$D3279<0),0)","v":0},0,{"$f":"IF($A3279=M$3,AND($A3279=M$3,$D3279<0),0)","v":0},0,{"$f":"IF($A3279=O$3,AND($A3279=O$3,$D3279<0),0)","v":0},0,0,0,0,0,0,0,{"$f":"IF($A3279=W$3,AND($A3279=W$3,$D3279<0),0)","v":0},0,{"$f":"IF($A3279=Y$3,AND($A3279=Y$3,$D3279<0),0)","v":0},0,{"$f":"IF($A3279=AA$3,AND($A3279=AA$3,$D3279<0),0)","v":0},0,{"$f":"IF($A3279=AC$3,AND($A3279=AC$3,$D3279<0),0)","v":0},0,0]
[{"$f":"IF(B3280=0,\"\",MONTH(B3280))","v":""},null,null,null,{"$f":"IF(D3280=\"\",\"\",IF(D3280<0,\"DEBITO\",\"CREDITO\"))","v":""},null,false,false,0,{"$f":"IF($A3280=I$3,AND($A3280=I$3,$D3280<0),0)","v":0},0,{"$f":"IF($A3280=K$3,AND($A3280=K$3,$D3280<0),0)","v":0},0,{"$f":"IF($A3280=M$3,AND($A3280=M$3,$D3280<0),0)","v":0},0,{"$f":"IF($A3280=O$3,AND($A3280=O$3,$D3280<0),0)","v":0},0,0,0,0,0,0,0,{"$f":"IF($A3280=W$3,AND($A3280=W$3,$D3280<0),0)","v":0},0,{"$f":"IF($A3280=Y$3,AND($A3280=Y$3,$D3280<0),0)","v":0},0,{"$f":"IF($A3280=AA$3,AND($A3280=AA$3,$D3280<0),0)","v":0},0,{"$f":"IF($A3280=AC$3,AND($A3280=AC$3,$D3280<0),0)","v":0},0,0]
[{"$f":"IF(B3281=0,\"\",MONTH(B3281))","v":""},null,null,null,{"$f":"IF(D3281=\"\",\"\",IF(D3281<0,\"DEBITO\",\"CREDITO\"))","v":""},null,false,false,0,{"$f":"IF($A3281=I$3,AND($A3281=I$3,$D3281<0),0)","v":0},0,{"$f":"IF($A3281=K$3,AND($A3281=K$3,$D3281<0),0)","v":0},0,{"$f":"IF($A3281=M$3,AND($A3281=M$3,$D3281<0),0)","v":0},0,{"$f":"IF($A3281=O$3,AND($A3281=O$3,$D3281<0),0)","v":0},0,0,0,0,0,0,0,{"$f":"IF($A3281=W$3,AND($A3281=W$3,$D3281<0),0)","v":0},0,{"$f":"IF($A3281=Y$3,AND($A3281=Y$3,$D3281<0),0)","v":0},0,{"$f":"IF($A3281=AA$3,AND($A3281=AA$3,$D3281<0),0)","v":0},0,{"$f":"IF($A3281=AC$3,AND($A3281=AC$3,$D3281<0),0)","v":0},0,0]
[{"$f":"IF(B3282=0,\"\",MONTH(B3282))","v":""},null,null,null,{"$f":"IF(D3282=\"\",\"\",IF(D3282<0,\"DEBITO\",\"CREDITO\"))","v":""},null,false,false,0,{"$f":"IF($A3282=I$3,AND($A3282=I$3,$D3282<0),0)","v":0},0,{"$f":"IF($A3282=K$3,AND($A3282=K$3,$D3282<0),0)","v":0},0,{"$f":"IF($A3282=M$3,AND($A3282=M$3,$D3282<0),0)","v":0},0,{"$f":"IF($A3282=O$3,AND($A3282=O$3,$D3282<0),0)","v":0},0,0,0,0,0,0,0,{"$f":"IF($A3282=W$3,AND($A3282=W$3,$D3282<0),0)","v":0},0,{"$f":"IF($A3282=Y$3,AND($A3282=Y$3,$D3282<0),0)","v":0},0,{"$f":"IF($A3282=AA$3,AND($A3282=AA$3,$D3282<0),0)","v":0},0,{"$f":"IF($A3282=AC$3,AND($A3282=AC$3,$D3282<0),0)","v":0},0,0]
[{"$f":"IF(B3283=0,\"\",MONTH(B3283))","v":""},null,null,null,{"$f":"IF(D3283=\"\",\"\",IF(D3283<0,\"DEBITO\",\"CREDITO\"))","v":""},null,false,false,0,{"$f":"IF($A3283=I$3,AND($A3283=I$3,$D3283<0),0)","v":0},0,{"$f":"IF($A3283=K$3,AND($A3283=K$3,$D3283<0),0)","v":0},0,{"$f":"IF($A3283=M$3,AND($A3283=M$3,$D3283<0),0)","v":0},0,{"$f":"IF($A3283=O$3,AND($A3283=O$3,$D3283<0),0)","v":0},0,0,0,0,0,0,0,{"$f":"IF($A3283=W$3,AND($A3283=W$3,$D3283<0),0)","v":0},0,{"$f":"IF($A3283=Y$3,AND($A3283=Y$3,$D3283<0),0)","v":0},0,{"$f":"IF($A3283=AA$3,AND($A3283=AA$3,$D3283<0),0)","v":0},0,{"$f":"IF($A3283=AC$3,AND($A3283=AC$3,$D3283<0),0)","v":0},0,0]
[{"$f":"IF(B3284=0,\"\",MONTH(B3284))","v":""},null,null,null,{"$f":"IF(D3284=\"\",\"\",IF(D3284<0,\"DEBITO\",\"CREDITO\"))","v":""},null,false,false,0,{"$f":"IF($A3284=I$3,AND($A3284=I$3,$D3284<0),0)","v":0},0,{"$f":"IF($A3284=K$3,AND($A3284=K$3,$D3284<0),0)","v":0},0,{"$f":"IF($A3284=M$3,AND($A3284=M$3,$D3284<0),0)","v":0},0,{"$f":"IF($A3284=O$3,AND($A3284=O$3,$D3284<0),0)","v":0},0,0,0,0,0,0,0,{"$f":"IF($A3284=W$3,AND($A3284=W$3,$D3284<0),0)","v":0},0,{"$f":"IF($A3284=Y$3,AND($A3284=Y$3,$D3284<0),0)","v":0},0,{"$f":"IF($A3284=AA$3,AND($A3284=AA$3,$D3284<0),0)","v":0},0,{"$f":"IF($A3284=AC$3,AND($A3284=AC$3,$D3284<0),0)","v":0},0,0]
[{"$f":"IF(B3285=0,\"\",MONTH(B3285))","v":""},null,null,null,{"$f":"IF(D3285=\"\",\"\",IF(D3285<0,\"DEBITO\",\"CREDITO\"))","v":""},null,false,false,0,{"$f":"IF($A3285=I$3,AND($A3285=I$3,$D3285<0),0)","v":0},0,{"$f":"IF($A3285=K$3,AND($A3285=K$3,$D3285<0),0)","v":0},0,{"$f":"IF($A3285=M$3,AND($A3285=M$3,$D3285<0),0)","v":0},0,{"$f":"IF($A3285=O$3,AND($A3285=O$3,$D3285<0),0)","v":0},0,0,0,0,0,0,0,{"$f":"IF($A3285=W$3,AND($A3285=W$3,$D3285<0),0)","v":0},0,{"$f":"IF($A3285=Y$3,AND($A3285=Y$3,$D3285<0),0)","v":0},0,{"$f":"IF($A3285=AA$3,AND($A3285=AA$3,$D3285<0),0)","v":0},0,{"$f":"IF($A3285=AC$3,AND($A3285=AC$3,$D3285<0),0)","v":0},0,0]
[{"$f":"IF(B3286=0,\"\",MONTH(B3286))","v":""},null,null,null,{"$f":"IF(D3286=\"\",\"\",IF(D3286<0,\"DEBITO\",\"CREDITO\"))","v":""},null,false,false,0,{"$f":"IF($A3286=I$3,AND($A3286=I$3,$D3286<0),0)","v":0},0,{"$f":"IF($A3286=K$3,AND($A3286=K$3,$D3286<0),0)","v":0},0,{"$f":"IF($A3286=M$3,AND($A3286=M$3,$D3286<0),0)","v":0},0,{"$f":"IF($A3286=O$3,AND($A3286=O$3,$D3286<0),0)","v":0},0,0,0,0,0,0,0,{"$f":"IF($A3286=W$3,AND($A3286=W$3,$D3286<0),0)","v":0},0,{"$f":"IF($A3286=Y$3,AND($A3286=Y$3,$D3286<0),0)","v":0},0,{"$f":"IF($A3286=AA$3,AND($A3286=AA$3,$D3286<0),0)","v":0},0,{"$f":"IF($A3286=AC$3,AND($A3286=AC$3,$D3286<0),0)","v":0},0,0]
[{"$f":"IF(B3287=0,\"\",MONTH(B3287))","v":""},null,null,null,{"$f":"IF(D3287=\"\",\"\",IF(D3287<0,\"DEBITO\",\"CREDITO\"))","v":""},null,false,false,0,{"$f":"IF($A3287=I$3,AND($A3287=I$3,$D3287<0),0)","v":0},0,{"$f":"IF($A3287=K$3,AND($A3287=K$3,$D3287<0),0)","v":0},0,{"$f":"IF($A3287=M$3,AND($A3287=M$3,$D3287<0),0)","v":0},0,{"$f":"IF($A3287=O$3,AND($A3287=O$3,$D3287<0),0)","v":0},0,0,0,0,0,0,0,{"$f":"IF($A3287=W$3,AND($A3287=W$3,$D3287<0),0)","v":0},0,{"$f":"IF($A3287=Y$3,AND($A3287=Y$3,$D3287<0),0)","v":0},0,{"$f":"IF($A3287=AA$3,AND($A3287=AA$3,$D3287<0),0)","v":0},0,{"$f":"IF($A3287=AC$3,AND($A3287=AC$3,$D3287<0),0)","v":0},0,0]
[{"$f":"IF(B3288=0,\"\",MONTH(B3288))","v":""},null,null,null,{"$f":"IF(D3288=\"\",\"\",IF(D3288<0,\"DEBITO\",\"CREDITO\"))","v":""},null,false,false,0,{"$f":"IF($A3288=I$3,AND($A3288=I$3,$D3288<0),0)","v":0},0,{"$f":"IF($A3288=K$3,AND($A3288=K$3,$D3288<0),0)","v":0},0,{"$f":"IF($A3288=M$3,AND($A3288=M$3,$D3288<0),0)","v":0},0,{"$f":"IF($A3288=O$3,AND($A3288=O$3,$D3288<0),0)","v":0},0,0,0,0,0,0,0,{"$f":"IF($A3288=W$3,AND($A3288=W$3,$D3288<0),0)","v":0},0,{"$f":"IF($A3288=Y$3,AND($A3288=Y$3,$D3288<0),0)","v":0},0,{"$f":"IF($A3288=AA$3,AND($A3288=AA$3,$D3288<0),0)","v":0},0,{"$f":"IF($A3288=AC$3,AND($A3288=AC$3,$D3288<0),0)","v":0},0,0]
[{"$f":"IF(B3289=0,\"\",MONTH(B3289))","v":""},null,null,null,{"$f":"IF(D3289=\"\",\"\",IF(D3289<0,\"DEBITO\",\"CREDITO\"))","v":""},null,false,false,{"$f":"IF($A3289=I$3,AND($A3289=I$3,$D3289>0),0)","v":0},{"$f":"IF($A3289=I$3,AND($A3289=I$3,$D3289<0),0)","v":0},{"$f":"IF($A3289=K$3,AND($A3289=K$3,$D3289>0),0)","v":0},{"$f":"IF($A3289=K$3,AND($A3289=K$3,$D3289<0),0)","v":0},{"$f":"IF($A3289=M$3,AND($A3289=M$3,$D3289>0),0)","v":0},{"$f":"IF($A3289=M$3,AND($A3289=M$3,$D3289<0),0)","v":0},{"$f":"IF($A3289=O$3,AND($A3289=O$3,$D3289>0),0)","v":0},{"$f":"IF($A3289=O$3,AND($A3289=O$3,$D3289<0),0)","v":0},{"$f":"IF($A3289=Q$3,AND($A3289=Q$3,$D3289>0),0)","v":0},0,0,0,0,0,{"$f":"IF($A3289=W$3,AND($A3289=W$3,$D3289>0),0)","v":0},{"$f":"IF($A3289=W$3,AND($A3289=W$3,$D3289<0),0)","v":0},{"$f":"IF($A3289=Y$3,AND($A3289=Y$3,$D3289>0),0)","v":0},{"$f":"IF($A3289=Y$3,AND($A3289=Y$3,$D3289<0),0)","v":0},{"$f":"IF($A3289=AA$3,AND($A3289=AA$3,$D3289>0),0)","v":0},{"$f":"IF($A3289=AA$3,AND($A3289=AA$3,$D3289<0),0)","v":0},{"$f":"IF($A3289=AC$3,AND($A3289=AC$3,$D3289>0),0)","v":0},{"$f":"IF($A3289=AC$3,AND($A3289=AC$3,$D3289<0),0)","v":0},{"$f":"IF($A3289=AE$3,AND($A3289=AE$3,$D3289>0),0)","v":0},0]
[{"$f":"IF(B3290=0,\"\",MONTH(B3290))","v":""},null,null,null,{"$f":"IF(D3290=\"\",\"\",IF(D3290<0,\"DEBITO\",\"CREDITO\"))","v":""},null,false,false,0,{"$f":"IF($A3290=I$3,AND($A3290=I$3,$D3290<0),0)","v":0},0,{"$f":"IF($A3290=K$3,AND($A3290=K$3,$D3290<0),0)","v":0},0,{"$f":"IF($A3290=M$3,AND($A3290=M$3,$D3290<0),0)","v":0},0,{"$f":"IF($A3290=O$3,AND($A3290=O$3,$D3290<0),0)","v":0},0,0,0,0,0,0,0,{"$f":"IF($A3290=W$3,AND($A3290=W$3,$D3290<0),0)","v":0},0,{"$f":"IF($A3290=Y$3,AND($A3290=Y$3,$D3290<0),0)","v":0},0,{"$f":"IF($A3290=AA$3,AND($A3290=AA$3,$D3290<0),0)","v":0},0,{"$f":"IF($A3290=AC$3,AND($A3290=AC$3,$D3290<0),0)","v":0},0,0]
[{"$f":"IF(B3291=0,\"\",MONTH(B3291))","v":""},null,null,null,{"$f":"IF(D3291=\"\",\"\",IF(D3291<0,\"DEBITO\",\"CREDITO\"))","v":""},null,false,false,0,{"$f":"IF($A3291=I$3,AND($A3291=I$3,$D3291<0),0)","v":0},0,{"$f":"IF($A3291=K$3,AND($A3291=K$3,$D3291<0),0)","v":0},0,{"$f":"IF($A3291=M$3,AND($A3291=M$3,$D3291<0),0)","v":0},0,{"$f":"IF($A3291=O$3,AND($A3291=O$3,$D3291<0),0)","v":0},0,0,0,0,0,0,0,{"$f":"IF($A3291=W$3,AND($A3291=W$3,$D3291<0),0)","v":0},0,{"$f":"IF($A3291=Y$3,AND($A3291=Y$3,$D3291<0),0)","v":0},0,{"$f":"IF($A3291=AA$3,AND($A3291=AA$3,$D3291<0),0)","v":0},0,{"$f":"IF($A3291=AC$3,AND($A3291=AC$3,$D3291<0),0)","v":0},0,0]
[{"$f":"IF(B3292=0,\"\",MONTH(B3292))","v":""},null,null,null,{"$f":"IF(D3292=\"\",\"\",IF(D3292<0,\"DEBITO\",\"CREDITO\"))","v":""},null,false,false,0,{"$f":"IF($A3292=I$3,AND($A3292=I$3,$D3292<0),0)","v":0},0,{"$f":"IF($A3292=K$3,AND($A3292=K$3,$D3292<0),0)","v":0},0,{"$f":"IF($A3292=M$3,AND($A3292=M$3,$D3292<0),0)","v":0},0,{"$f":"IF($A3292=O$3,AND($A3292=O$3,$D3292<0),0)","v":0},0,0,0,0,0,0,0,{"$f":"IF($A3292=W$3,AND($A3292=W$3,$D3292<0),0)","v":0},0,{"$f":"IF($A3292=Y$3,AND($A3292=Y$3,$D3292<0),0)","v":0},0,{"$f":"IF($A3292=AA$3,AND($A3292=AA$3,$D3292<0),0)","v":0},0,{"$f":"IF($A3292=AC$3,AND($A3292=AC$3,$D3292<0),0)","v":0},0,0]
[{"$f":"IF(B3293=0,\"\",MONTH(B3293))","v":""},null,null,null,{"$f":"IF(D3293=\"\",\"\",IF(D3293<0,\"DEBITO\",\"CREDITO\"))","v":""},null,false,false,0,{"$f":"IF($A3293=I$3,AND($A3293=I$3,$D3293<0),0)","v":0},0,{"$f":"IF($A3293=K$3,AND($A3293=K$3,$D3293<0),0)","v":0},0,{"$f":"IF($A3293=M$3,AND($A3293=M$3,$D3293<0),0)","v":0},0,{"$f":"IF($A3293=O$3,AND($A3293=O$3,$D3293<0),0)","v":0},0,0,0,0,0,0,0,{"$f":"IF($A3293=W$3,AND($A3293=W$3,$D3293<0),0)","v":0},0,{"$f":"IF($A3293=Y$3,AND($A3293=Y$3,$D3293<0),0)","v":0},0,{"$f":"IF($A3293=AA$3,AND($A3293=AA$3,$D3293<0),0)","v":0},0,{"$f":"IF($A3293=AC$3,AND($A3293=AC$3,$D3293<0),0)","v":0},0,0]
[{"$f":"IF(B3294=0,\"\",MONTH(B3294))","v":""},null,null,null,{"$f":"IF(D3294=\"\",\"\",IF(D3294<0,\"DEBITO\",\"CREDITO\"))","v":""},null,false,false,0,{"$f":"IF($A3294=I$3,AND($A3294=I$3,$D3294<0),0)","v":0},0,{"$f":"IF($A3294=K$3,AND($A3294=K$3,$D3294<0),0)","v":0},0,{"$f":"IF($A3294=M$3,AND($A3294=M$3,$D3294<0),0)","v":0},0,{"$f":"IF($A3294=O$3,AND($A3294=O$3,$D3294<0),0)","v":0},0,0,0,0,0,0,0,{"$f":"IF($A3294=W$3,AND($A3294=W$3,$D3294<0),0)","v":0},0,{"$f":"IF($A3294=Y$3,AND($A3294=Y$3,$D3294<0),0)","v":0},0,{"$f":"IF($A3294=AA$3,AND($A3294=AA$3,$D3294<0),0)","v":0},0,{"$f":"IF($A3294=AC$3,AND($A3294=AC$3,$D3294<0),0)","v":0},0,0]
[{"$f":"IF(B3295=0,\"\",MONTH(B3295))","v":""},null,null,null,{"$f":"IF(D3295=\"\",\"\",IF(D3295<0,\"DEBITO\",\"CREDITO\"))","v":""},null,false,false,0,{"$f":"IF($A3295=I$3,AND($A3295=I$3,$D3295<0),0)","v":0},0,{"$f":"IF($A3295=K$3,AND($A3295=K$3,$D3295<0),0)","v":0},0,{"$f":"IF($A3295=M$3,AND($A3295=M$3,$D3295<0),0)","v":0},0,{"$f":"IF($A3295=O$3,AND($A3295=O$3,$D3295<0),0)","v":0},0,0,0,0,0,0,0,{"$f":"IF($A3295=W$3,AND($A3295=W$3,$D3295<0),0)","v":0},0,{"$f":"IF($A3295=Y$3,AND($A3295=Y$3,$D3295<0),0)","v":0},0,{"$f":"IF($A3295=AA$3,AND($A3295=AA$3,$D3295<0),0)","v":0},0,{"$f":"IF($A3295=AC$3,AND($A3295=AC$3,$D3295<0),0)","v":0},0,0]
[{"$f":"IF(B3296=0,\"\",MONTH(B3296))","v":""},null,null,null,{"$f":"IF(D3296=\"\",\"\",IF(D3296<0,\"DEBITO\",\"CREDITO\"))","v":""},null,false,false,0,{"$f":"IF($A3296=I$3,AND($A3296=I$3,$D3296<0),0)","v":0},0,{"$f":"IF($A3296=K$3,AND($A3296=K$3,$D3296<0),0)","v":0},0,{"$f":"IF($A3296=M$3,AND($A3296=M$3,$D3296<0),0)","v":0},0,{"$f":"IF($A3296=O$3,AND($A3296=O$3,$D3296<0),0)","v":0},0,0,0,0,0,0,0,{"$f":"IF($A3296=W$3,AND($A3296=W$3,$D3296<0),0)","v":0},0,{"$f":"IF($A3296=Y$3,AND($A3296=Y$3,$D3296<0),0)","v":0},0,{"$f":"IF($A3296=AA$3,AND($A3296=AA$3,$D3296<0),0)","v":0},0,{"$f":"IF($A3296=AC$3,AND($A3296=AC$3,$D3296<0),0)","v":0},0,0]
[{"$f":"IF(B3297=0,\"\",MONTH(B3297))","v":""},null,null,null,{"$f":"IF(D3297=\"\",\"\",IF(D3297<0,\"DEBITO\",\"CREDITO\"))","v":""},null,false,false,0,{"$f":"IF($A3297=I$3,AND($A3297=I$3,$D3297<0),0)","v":0},0,{"$f":"IF($A3297=K$3,AND($A3297=K$3,$D3297<0),0)","v":0},0,{"$f":"IF($A3297=M$3,AND($A3297=M$3,$D3297<0),0)","v":0},0,{"$f":"IF($A3297=O$3,AND($A3297=O$3,$D3297<0),0)","v":0},0,0,0,0,0,0,0,{"$f":"IF($A3297=W$3,AND($A3297=W$3,$D3297<0),0)","v":0},0,{"$f":"IF($A3297=Y$3,AND($A3297=Y$3,$D3297<0),0)","v":0},0,{"$f":"IF($A3297=AA$3,AND($A3297=AA$3,$D3297<0),0)","v":0},0,{"$f":"IF($A3297=AC$3,AND($A3297=AC$3,$D3297<0),0)","v":0},0,0]
[{"$f":"IF(B3298=0,\"\",MONTH(B3298))","v":""},null,null,null,{"$f":"IF(D3298=\"\",\"\",IF(D3298<0,\"DEBITO\",\"CREDITO\"))","v":""},null,false,false,0,{"$f":"IF($A3298=I$3,AND($A3298=I$3,$D3298<0),0)","v":0},0,{"$f":"IF($A3298=K$3,AND($A3298=K$3,$D3298<0),0)","v":0},0,{"$f":"IF($A3298=M$3,AND($A3298=M$3,$D3298<0),0)","v":0},0,{"$f":"IF($A3298=O$3,AND($A3298=O$3,$D3298<0),0)","v":0},0,0,0,0,0,0,0,{"$f":"IF($A3298=W$3,AND($A3298=W$3,$D3298<0),0)","v":0},0,{"$f":"IF($A3298=Y$3,AND($A3298=Y$3,$D3298<0),0)","v":0},0,{"$f":"IF($A3298=AA$3,AND($A3298=AA$3,$D3298<0),0)","v":0},0,{"$f":"IF($A3298=AC$3,AND($A3298=AC$3,$D3298<0),0)","v":0},0,0]
[{"$f":"IF(B3299=0,\"\",MONTH(B3299))","v":""},null,null,null,{"$f":"IF(D3299=\"\",\"\",IF(D3299<0,\"DEBITO\",\"CREDITO\"))","v":""},null,false,false,0,{"$f":"IF($A3299=I$3,AND($A3299=I$3,$D3299<0),0)","v":0},0,{"$f":"IF($A3299=K$3,AND($A3299=K$3,$D3299<0),0)","v":0},0,{"$f":"IF($A3299=M$3,AND($A3299=M$3,$D3299<0),0)","v":0},0,{"$f":"IF($A3299=O$3,AND($A3299=O$3,$D3299<0),0)","v":0},0,0,0,0,0,0,0,{"$f":"IF($A3299=W$3,AND($A3299=W$3,$D3299<0),0)","v":0},0,{"$f":"IF($A3299=Y$3,AND($A3299=Y$3,$D3299<0),0)","v":0},0,{"$f":"IF($A3299=AA$3,AND($A3299=AA$3,$D3299<0),0)","v":0},0,{"$f":"IF($A3299=AC$3,AND($A3299=AC$3,$D3299<0),0)","v":0},0,0]
[{"$f":"IF(B3300=0,\"\",MONTH(B3300))","v":""},null,null,null,{"$f":"IF(D3300=\"\",\"\",IF(D3300<0,\"DEBITO\",\"CREDITO\"))","v":""},null,false,false,0,{"$f":"IF($A3300=I$3,AND($A3300=I$3,$D3300<0),0)","v":0},0,{"$f":"IF($A3300=K$3,AND($A3300=K$3,$D3300<0),0)","v":0},0,{"$f":"IF($A3300=M$3,AND($A3300=M$3,$D3300<0),0)","v":0},0,{"$f":"IF($A3300=O$3,AND($A3300=O$3,$D3300<0),0)","v":0},0,0,0,0,0,0,0,{"$f":"IF($A3300=W$3,AND($A3300=W$3,$D3300<0),0)","v":0},0,{"$f":"IF($A3300=Y$3,AND($A3300=Y$3,$D3300<0),0)","v":0},0,{"$f":"IF($A3300=AA$3,AND($A3300=AA$3,$D3300<0),0)","v":0},0,{"$f":"IF($A3300=AC$3,AND($A3300=AC$3,$D3300<0),0)","v":0},0,0]
[{"$f":"IF(B3301=0,\"\",MONTH(B3301))","v":""},null,null,null,{"$f":"IF(D3301=\"\",\"\",IF(D3301<0,\"DEBITO\",\"CREDITO\"))","v":""},null,false,false,0,{"$f":"IF($A3301=I$3,AND($A3301=I$3,$D3301<0),0)","v":0},0,{"$f":"IF($A3301=K$3,AND($A3301=K$3,$D3301<0),0)","v":0},0,{"$f":"IF($A3301=M$3,AND($A3301=M$3,$D3301<0),0)","v":0},0,{"$f":"IF($A3301=O$3,AND($A3301=O$3,$D3301<0),0)","v":0},0,0,0,0,0,0,0,{"$f":"IF($A3301=W$3,AND($A3301=W$3,$D3301<0),0)","v":0},0,{"$f":"IF($A3301=Y$3,AND($A3301=Y$3,$D3301<0),0)","v":0},0,{"$f":"IF($A3301=AA$3,AND($A3301=AA$3,$D3301<0),0)","v":0},0,{"$f":"IF($A3301=AC$3,AND($A3301=AC$3,$D3301<0),0)","v":0},0,0]
[{"$f":"IF(B3302=0,\"\",MONTH(B3302))","v":""},null,null,null,{"$f":"IF(D3302=\"\",\"\",IF(D3302<0,\"DEBITO\",\"CREDITO\"))","v":""},null,false,false,0,{"$f":"IF($A3302=I$3,AND($A3302=I$3,$D3302<0),0)","v":0},0,{"$f":"IF($A3302=K$3,AND($A3302=K$3,$D3302<0),0)","v":0},0,{"$f":"IF($A3302=M$3,AND($A3302=M$3,$D3302<0),0)","v":0},0,{"$f":"IF($A3302=O$3,AND($A3302=O$3,$D3302<0),0)","v":0},0,0,0,0,0,0,0,{"$f":"IF($A3302=W$3,AND($A3302=W$3,$D3302<0),0)","v":0},0,{"$f":"IF($A3302=Y$3,AND($A3302=Y$3,$D3302<0),0)","v":0},0,{"$f":"IF($A3302=AA$3,AND($A3302=AA$3,$D3302<0),0)","v":0},0,{"$f":"IF($A3302=AC$3,AND($A3302=AC$3,$D3302<0),0)","v":0},0,0]
[{"$f":"IF(B3303=0,\"\",MONTH(B3303))","v":""},null,null,null,{"$f":"IF(D3303=\"\",\"\",IF(D3303<0,\"DEBITO\",\"CREDITO\"))","v":""},null,false,false,0,{"$f":"IF($A3303=I$3,AND($A3303=I$3,$D3303<0),0)","v":0},0,{"$f":"IF($A3303=K$3,AND($A3303=K$3,$D3303<0),0)","v":0},0,{"$f":"IF($A3303=M$3,AND($A3303=M$3,$D3303<0),0)","v":0},0,{"$f":"IF($A3303=O$3,AND($A3303=O$3,$D3303<0),0)","v":0},0,0,0,0,0,0,0,{"$f":"IF($A3303=W$3,AND($A3303=W$3,$D3303<0),0)","v":0},0,{"$f":"IF($A3303=Y$3,AND($A3303=Y$3,$D3303<0),0)","v":0},0,{"$f":"IF($A3303=AA$3,AND($A3303=AA$3,$D3303<0),0)","v":0},0,{"$f":"IF($A3303=AC$3,AND($A3303=AC$3,$D3303<0),0)","v":0},0,0]
[{"$f":"IF(B3304=0,\"\",MONTH(B3304))","v":""},null,null,null,{"$f":"IF(D3304=\"\",\"\",IF(D3304<0,\"DEBITO\",\"CREDITO\"))","v":""},null,false,false,0,{"$f":"IF($A3304=I$3,AND($A3304=I$3,$D3304<0),0)","v":0},0,{"$f":"IF($A3304=K$3,AND($A3304=K$3,$D3304<0),0)","v":0},0,{"$f":"IF($A3304=M$3,AND($A3304=M$3,$D3304<0),0)","v":0},0,{"$f":"IF($A3304=O$3,AND($A3304=O$3,$D3304<0),0)","v":0},0,0,0,0,0,0,0,{"$f":"IF($A3304=W$3,AND($A3304=W$3,$D3304<0),0)","v":0},0,{"$f":"IF($A3304=Y$3,AND($A3304=Y$3,$D3304<0),0)","v":0},0,{"$f":"IF($A3304=AA$3,AND($A3304=AA$3,$D3304<0),0)","v":0},0,{"$f":"IF($A3304=AC$3,AND($A3304=AC$3,$D3304<0),0)","v":0},0,0]
[{"$f":"IF(B3305=0,\"\",MONTH(B3305))","v":""},null,null,null,{"$f":"IF(D3305=\"\",\"\",IF(D3305<0,\"DEBITO\",\"CREDITO\"))","v":""},null,false,false,0,{"$f":"IF($A3305=I$3,AND($A3305=I$3,$D3305<0),0)","v":0},0,{"$f":"IF($A3305=K$3,AND($A3305=K$3,$D3305<0),0)","v":0},0,{"$f":"IF($A3305=M$3,AND($A3305=M$3,$D3305<0),0)","v":0},0,{"$f":"IF($A3305=O$3,AND($A3305=O$3,$D3305<0),0)","v":0},0,0,0,0,0,0,0,{"$f":"IF($A3305=W$3,AND($A3305=W$3,$D3305<0),0)","v":0},0,{"$f":"IF($A3305=Y$3,AND($A3305=Y$3,$D3305<0),0)","v":0},0,{"$f":"IF($A3305=AA$3,AND($A3305=AA$3,$D3305<0),0)","v":0},0,{"$f":"IF($A3305=AC$3,AND($A3305=AC$3,$D3305<0),0)","v":0},0,0]
[{"$f":"IF(B3306=0,\"\",MONTH(B3306))","v":""},null,null,null,{"$f":"IF(D3306=\"\",\"\",IF(D3306<0,\"DEBITO\",\"CREDITO\"))","v":""},null,false,false,0,{"$f":"IF($A3306=I$3,AND($A3306=I$3,$D3306<0),0)","v":0},0,{"$f":"IF($A3306=K$3,AND($A3306=K$3,$D3306<0),0)","v":0},0,{"$f":"IF($A3306=M$3,AND($A3306=M$3,$D3306<0),0)","v":0},0,{"$f":"IF($A3306=O$3,AND($A3306=O$3,$D3306<0),0)","v":0},0,0,0,0,0,0,0,{"$f":"IF($A3306=W$3,AND($A3306=W$3,$D3306<0),0)","v":0},0,{"$f":"IF($A3306=Y$3,AND($A3306=Y$3,$D3306<0),0)","v":0},0,{"$f":"IF($A3306=AA$3,AND($A3306=AA$3,$D3306<0),0)","v":0},0,{"$f":"IF($A3306=AC$3,AND($A3306=AC$3,$D3306<0),0)","v":0},0,0]
[{"$f":"IF(B3307=0,\"\",MONTH(B3307))","v":""},null,null,null,{"$f":"IF(D3307=\"\",\"\",IF(D3307<0,\"DEBITO\",\"CREDITO\"))","v":""},null,false,false,0,{"$f":"IF($A3307=I$3,AND($A3307=I$3,$D3307<0),0)","v":0},0,{"$f":"IF($A3307=K$3,AND($A3307=K$3,$D3307<0),0)","v":0},0,{"$f":"IF($A3307=M$3,AND($A3307=M$3,$D3307<0),0)","v":0},0,{"$f":"IF($A3307=O$3,AND($A3307=O$3,$D3307<0),0)","v":0},0,0,0,0,0,0,0,{"$f":"IF($A3307=W$3,AND($A3307=W$3,$D3307<0),0)","v":0},0,{"$f":"IF($A3307=Y$3,AND($A3307=Y$3,$D3307<0),0)","v":0},0,{"$f":"IF($A3307=AA$3,AND($A3307=AA$3,$D3307<0),0)","v":0},0,{"$f":"IF($A3307=AC$3,AND($A3307=AC$3,$D3307<0),0)","v":0},0,0]
[{"$f":"IF(B3308=0,\"\",MONTH(B3308))","v":""},null,null,null,{"$f":"IF(D3308=\"\",\"\",IF(D3308<0,\"DEBITO\",\"CREDITO\"))","v":""},null,false,false,0,{"$f":"IF($A3308=I$3,AND($A3308=I$3,$D3308<0),0)","v":0},0,{"$f":"IF($A3308=K$3,AND($A3308=K$3,$D3308<0),0)","v":0},0,{"$f":"IF($A3308=M$3,AND($A3308=M$3,$D3308<0),0)","v":0},0,{"$f":"IF($A3308=O$3,AND($A3308=O$3,$D3308<0),0)","v":0},0,0,0,0,0,0,0,{"$f":"IF($A3308=W$3,AND($A3308=W$3,$D3308<0),0)","v":0},0,{"$f":"IF($A3308=Y$3,AND($A3308=Y$3,$D3308<0),0)","v":0},0,{"$f":"IF($A3308=AA$3,AND($A3308=AA$3,$D3308<0),0)","v":0},0,{"$f":"IF($A3308=AC$3,AND($A3308=AC$3,$D3308<0),0)","v":0},0,0]
[{"$f":"IF(B3309=0,\"\",MONTH(B3309))","v":""},null,null,null,{"$f":"IF(D3309=\"\",\"\",IF(D3309<0,\"DEBITO\",\"CREDITO\"))","v":""},null,false,false,0,{"$f":"IF($A3309=I$3,AND($A3309=I$3,$D3309<0),0)","v":0},0,{"$f":"IF($A3309=K$3,AND($A3309=K$3,$D3309<0),0)","v":0},0,{"$f":"IF($A3309=M$3,AND($A3309=M$3,$D3309<0),0)","v":0},0,{"$f":"IF($A3309=O$3,AND($A3309=O$3,$D3309<0),0)","v":0},0,0,0,0,0,0,0,{"$f":"IF($A3309=W$3,AND($A3309=W$3,$D3309<0),0)","v":0},0,{"$f":"IF($A3309=Y$3,AND($A3309=Y$3,$D3309<0),0)","v":0},0,{"$f":"IF($A3309=AA$3,AND($A3309=AA$3,$D3309<0),0)","v":0},0,{"$f":"IF($A3309=AC$3,AND($A3309=AC$3,$D3309<0),0)","v":0},0,0]
[{"$f":"IF(B3310=0,\"\",MONTH(B3310))","v":""},null,null,null,{"$f":"IF(D3310=\"\",\"\",IF(D3310<0,\"DEBITO\",\"CREDITO\"))","v":""},null,false,false,0,{"$f":"IF($A3310=I$3,AND($A3310=I$3,$D3310<0),0)","v":0},0,{"$f":"IF($A3310=K$3,AND($A3310=K$3,$D3310<0),0)","v":0},0,{"$f":"IF($A3310=M$3,AND($A3310=M$3,$D3310<0),0)","v":0},0,{"$f":"IF($A3310=O$3,AND($A3310=O$3,$D3310<0),0)","v":0},0,0,0,0,0,0,0,{"$f":"IF($A3310=W$3,AND($A3310=W$3,$D3310<0),0)","v":0},0,{"$f":"IF($A3310=Y$3,AND($A3310=Y$3,$D3310<0),0)","v":0},0,{"$f":"IF($A3310=AA$3,AND($A3310=AA$3,$D3310<0),0)","v":0},0,{"$f":"IF($A3310=AC$3,AND($A3310=AC$3,$D3310<0),0)","v":0},0,0]
[{"$f":"IF(B3311=0,\"\",MONTH(B3311))","v":""},null,null,null,{"$f":"IF(D3311=\"\",\"\",IF(D3311<0,\"DEBITO\",\"CREDITO\"))","v":""},null,false,false,0,{"$f":"IF($A3311=I$3,AND($A3311=I$3,$D3311<0),0)","v":0},0,{"$f":"IF($A3311=K$3,AND($A3311=K$3,$D3311<0),0)","v":0},0,{"$f":"IF($A3311=M$3,AND($A3311=M$3,$D3311<0),0)","v":0},0,{"$f":"IF($A3311=O$3,AND($A3311=O$3,$D3311<0),0)","v":0},0,0,0,0,0,0,0,{"$f":"IF($A3311=W$3,AND($A3311=W$3,$D3311<0),0)","v":0},0,{"$f":"IF($A3311=Y$3,AND($A3311=Y$3,$D3311<0),0)","v":0},0,{"$f":"IF($A3311=AA$3,AND($A3311=AA$3,$D3311<0),0)","v":0},0,{"$f":"IF($A3311=AC$3,AND($A3311=AC$3,$D3311<0),0)","v":0},0,0]
[{"$f":"IF(B3312=0,\"\",MONTH(B3312))","v":""},null,null,null,{"$f":"IF(D3312=\"\",\"\",IF(D3312<0,\"DEBITO\",\"CREDITO\"))","v":""},null,false,false,0,{"$f":"IF($A3312=I$3,AND($A3312=I$3,$D3312<0),0)","v":0},0,{"$f":"IF($A3312=K$3,AND($A3312=K$3,$D3312<0),0)","v":0},0,{"$f":"IF($A3312=M$3,AND($A3312=M$3,$D3312<0),0)","v":0},0,{"$f":"IF($A3312=O$3,AND($A3312=O$3,$D3312<0),0)","v":0},0,0,0,0,0,0,0,{"$f":"IF($A3312=W$3,AND($A3312=W$3,$D3312<0),0)","v":0},0,{"$f":"IF($A3312=Y$3,AND($A3312=Y$3,$D3312<0),0)","v":0},0,{"$f":"IF($A3312=AA$3,AND($A3312=AA$3,$D3312<0),0)","v":0},0,{"$f":"IF($A3312=AC$3,AND($A3312=AC$3,$D3312<0),0)","v":0},0,0]
[{"$f":"IF(B3313=0,\"\",MONTH(B3313))","v":""},null,null,null,{"$f":"IF(D3313=\"\",\"\",IF(D3313<0,\"DEBITO\",\"CREDITO\"))","v":""},null,false,false,0,{"$f":"IF($A3313=I$3,AND($A3313=I$3,$D3313<0),0)","v":0},0,{"$f":"IF($A3313=K$3,AND($A3313=K$3,$D3313<0),0)","v":0},0,{"$f":"IF($A3313=M$3,AND($A3313=M$3,$D3313<0),0)","v":0},0,{"$f":"IF($A3313=O$3,AND($A3313=O$3,$D3313<0),0)","v":0},0,0,0,0,0,0,0,{"$f":"IF($A3313=W$3,AND($A3313=W$3,$D3313<0),0)","v":0},0,{"$f":"IF($A3313=Y$3,AND($A3313=Y$3,$D3313<0),0)","v":0},0,{"$f":"IF($A3313=AA$3,AND($A3313=AA$3,$D3313<0),0)","v":0},0,{"$f":"IF($A3313=AC$3,AND($A3313=AC$3,$D3313<0),0)","v":0},0,0]
[{"$f":"IF(B3314=0,\"\",MONTH(B3314))","v":""},null,null,null,{"$f":"IF(D3314=\"\",\"\",IF(D3314<0,\"DEBITO\",\"CREDITO\"))","v":""},null,false,false,0,{"$f":"IF($A3314=I$3,AND($A3314=I$3,$D3314<0),0)","v":0},0,{"$f":"IF($A3314=K$3,AND($A3314=K$3,$D3314<0),0)","v":0},0,{"$f":"IF($A3314=M$3,AND($A3314=M$3,$D3314<0),0)","v":0},0,{"$f":"IF($A3314=O$3,AND($A3314=O$3,$D3314<0),0)","v":0},0,0,0,0,0,0,0,{"$f":"IF($A3314=W$3,AND($A3314=W$3,$D3314<0),0)","v":0},0,{"$f":"IF($A3314=Y$3,AND($A3314=Y$3,$D3314<0),0)","v":0},0,{"$f":"IF($A3314=AA$3,AND($A3314=AA$3,$D3314<0),0)","v":0},0,{"$f":"IF($A3314=AC$3,AND($A3314=AC$3,$D3314<0),0)","v":0},0,0]
[{"$f":"IF(B3315=0,\"\",MONTH(B3315))","v":""},null,null,null,{"$f":"IF(D3315=\"\",\"\",IF(D3315<0,\"DEBITO\",\"CREDITO\"))","v":""},null,false,false,0,{"$f":"IF($A3315=I$3,AND($A3315=I$3,$D3315<0),0)","v":0},0,{"$f":"IF($A3315=K$3,AND($A3315=K$3,$D3315<0),0)","v":0},0,{"$f":"IF($A3315=M$3,AND($A3315=M$3,$D3315<0),0)","v":0},0,{"$f":"IF($A3315=O$3,AND($A3315=O$3,$D3315<0),0)","v":0},0,0,0,0,0,0,0,{"$f":"IF($A3315=W$3,AND($A3315=W$3,$D3315<0),0)","v":0},0,{"$f":"IF($A3315=Y$3,AND($A3315=Y$3,$D3315<0),0)","v":0},0,{"$f":"IF($A3315=AA$3,AND($A3315=AA$3,$D3315<0),0)","v":0},0,{"$f":"IF($A3315=AC$3,AND($A3315=AC$3,$D3315<0),0)","v":0},0,0]
[{"$f":"IF(B3316=0,\"\",MONTH(B3316))","v":""},null,null,null,{"$f":"IF(D3316=\"\",\"\",IF(D3316<0,\"DEBITO\",\"CREDITO\"))","v":""},null,false,false,0,{"$f":"IF($A3316=I$3,AND($A3316=I$3,$D3316<0),0)","v":0},0,{"$f":"IF($A3316=K$3,AND($A3316=K$3,$D3316<0),0)","v":0},0,{"$f":"IF($A3316=M$3,AND($A3316=M$3,$D3316<0),0)","v":0},0,{"$f":"IF($A3316=O$3,AND($A3316=O$3,$D3316<0),0)","v":0},0,0,0,0,0,0,0,{"$f":"IF($A3316=W$3,AND($A3316=W$3,$D3316<0),0)","v":0},0,{"$f":"IF($A3316=Y$3,AND($A3316=Y$3,$D3316<0),0)","v":0},0,{"$f":"IF($A3316=AA$3,AND($A3316=AA$3,$D3316<0),0)","v":0},0,{"$f":"IF($A3316=AC$3,AND($A3316=AC$3,$D3316<0),0)","v":0},0,0]
[{"$f":"IF(B3317=0,\"\",MONTH(B3317))","v":""},null,null,null,{"$f":"IF(D3317=\"\",\"\",IF(D3317<0,\"DEBITO\",\"CREDITO\"))","v":""},null,false,false,0,{"$f":"IF($A3317=I$3,AND($A3317=I$3,$D3317<0),0)","v":0},0,{"$f":"IF($A3317=K$3,AND($A3317=K$3,$D3317<0),0)","v":0},0,{"$f":"IF($A3317=M$3,AND($A3317=M$3,$D3317<0),0)","v":0},0,{"$f":"IF($A3317=O$3,AND($A3317=O$3,$D3317<0),0)","v":0},0,0,0,0,0,0,0,{"$f":"IF($A3317=W$3,AND($A3317=W$3,$D3317<0),0)","v":0},0,{"$f":"IF($A3317=Y$3,AND($A3317=Y$3,$D3317<0),0)","v":0},0,{"$f":"IF($A3317=AA$3,AND($A3317=AA$3,$D3317<0),0)","v":0},0,{"$f":"IF($A3317=AC$3,AND($A3317=AC$3,$D3317<0),0)","v":0},0,0]
[{"$f":"IF(B3318=0,\"\",MONTH(B3318))","v":""},null,null,null,{"$f":"IF(D3318=\"\",\"\",IF(D3318<0,\"DEBITO\",\"CREDITO\"))","v":""},null,false,false,0,{"$f":"IF($A3318=I$3,AND($A3318=I$3,$D3318<0),0)","v":0},0,{"$f":"IF($A3318=K$3,AND($A3318=K$3,$D3318<0),0)","v":0},0,{"$f":"IF($A3318=M$3,AND($A3318=M$3,$D3318<0),0)","v":0},0,{"$f":"IF($A3318=O$3,AND($A3318=O$3,$D3318<0),0)","v":0},0,0,0,0,0,0,0,{"$f":"IF($A3318=W$3,AND($A3318=W$3,$D3318<0),0)","v":0},0,{"$f":"IF($A3318=Y$3,AND($A3318=Y$3,$D3318<0),0)","v":0},0,{"$f":"IF($A3318=AA$3,AND($A3318=AA$3,$D3318<0),0)","v":0},0,{"$f":"IF($A3318=AC$3,AND($A3318=AC$3,$D3318<0),0)","v":0},0,0]
[{"$f":"IF(B3319=0,\"\",MONTH(B3319))","v":""},null,null,null,{"$f":"IF(D3319=\"\",\"\",IF(D3319<0,\"DEBITO\",\"CREDITO\"))","v":""},null,false,false,0,{"$f":"IF($A3319=I$3,AND($A3319=I$3,$D3319<0),0)","v":0},0,{"$f":"IF($A3319=K$3,AND($A3319=K$3,$D3319<0),0)","v":0},0,{"$f":"IF($A3319=M$3,AND($A3319=M$3,$D3319<0),0)","v":0},0,{"$f":"IF($A3319=O$3,AND($A3319=O$3,$D3319<0),0)","v":0},0,0,0,0,0,0,0,{"$f":"IF($A3319=W$3,AND($A3319=W$3,$D3319<0),0)","v":0},0,{"$f":"IF($A3319=Y$3,AND($A3319=Y$3,$D3319<0),0)","v":0},0,{"$f":"IF($A3319=AA$3,AND($A3319=AA$3,$D3319<0),0)","v":0},0,{"$f":"IF($A3319=AC$3,AND($A3319=AC$3,$D3319<0),0)","v":0},0,0]
[{"$f":"IF(B3320=0,\"\",MONTH(B3320))","v":""},null,null,null,{"$f":"IF(D3320=\"\",\"\",IF(D3320<0,\"DEBITO\",\"CREDITO\"))","v":""},null,false,false,0,{"$f":"IF($A3320=I$3,AND($A3320=I$3,$D3320<0),0)","v":0},0,{"$f":"IF($A3320=K$3,AND($A3320=K$3,$D3320<0),0)","v":0},0,{"$f":"IF($A3320=M$3,AND($A3320=M$3,$D3320<0),0)","v":0},0,{"$f":"IF($A3320=O$3,AND($A3320=O$3,$D3320<0),0)","v":0},0,0,0,0,0,0,0,{"$f":"IF($A3320=W$3,AND($A3320=W$3,$D3320<0),0)","v":0},0,{"$f":"IF($A3320=Y$3,AND($A3320=Y$3,$D3320<0),0)","v":0},0,{"$f":"IF($A3320=AA$3,AND($A3320=AA$3,$D3320<0),0)","v":0},0,{"$f":"IF($A3320=AC$3,AND($A3320=AC$3,$D3320<0),0)","v":0},0,0]
[{"$f":"IF(B3321=0,\"\",MONTH(B3321))","v":""},null,null,null,{"$f":"IF(D3321=\"\",\"\",IF(D3321<0,\"DEBITO\",\"CREDITO\"))","v":""},null,false,false,0,{"$f":"IF($A3321=I$3,AND($A3321=I$3,$D3321<0),0)","v":0},0,{"$f":"IF($A3321=K$3,AND($A3321=K$3,$D3321<0),0)","v":0},0,{"$f":"IF($A3321=M$3,AND($A3321=M$3,$D3321<0),0)","v":0},0,{"$f":"IF($A3321=O$3,AND($A3321=O$3,$D3321<0),0)","v":0},0,0,0,0,0,0,0,{"$f":"IF($A3321=W$3,AND($A3321=W$3,$D3321<0),0)","v":0},0,{"$f":"IF($A3321=Y$3,AND($A3321=Y$3,$D3321<0),0)","v":0},0,{"$f":"IF($A3321=AA$3,AND($A3321=AA$3,$D3321<0),0)","v":0},0,{"$f":"IF($A3321=AC$3,AND($A3321=AC$3,$D3321<0),0)","v":0},0,0]
[{"$f":"IF(B3322=0,\"\",MONTH(B3322))","v":""},null,null,null,{"$f":"IF(D3322=\"\",\"\",IF(D3322<0,\"DEBITO\",\"CREDITO\"))","v":""},null,false,false,0,{"$f":"IF($A3322=I$3,AND($A3322=I$3,$D3322<0),0)","v":0},0,{"$f":"IF($A3322=K$3,AND($A3322=K$3,$D3322<0),0)","v":0},0,{"$f":"IF($A3322=M$3,AND($A3322=M$3,$D3322<0),0)","v":0},0,{"$f":"IF($A3322=O$3,AND($A3322=O$3,$D3322<0),0)","v":0},0,0,0,0,0,0,0,{"$f":"IF($A3322=W$3,AND($A3322=W$3,$D3322<0),0)","v":0},0,{"$f":"IF($A3322=Y$3,AND($A3322=Y$3,$D3322<0),0)","v":0},0,{"$f":"IF($A3322=AA$3,AND($A3322=AA$3,$D3322<0),0)","v":0},0,{"$f":"IF($A3322=AC$3,AND($A3322=AC$3,$D3322<0),0)","v":0},0,0]
[{"$f":"IF(B3323=0,\"\",MONTH(B3323))","v":""},null,null,null,{"$f":"IF(D3323=\"\",\"\",IF(D3323<0,\"DEBITO\",\"CREDITO\"))","v":""},null,false,false,0,{"$f":"IF($A3323=I$3,AND($A3323=I$3,$D3323<0),0)","v":0},0,{"$f":"IF($A3323=K$3,AND($A3323=K$3,$D3323<0),0)","v":0},0,{"$f":"IF($A3323=M$3,AND($A3323=M$3,$D3323<0),0)","v":0},0,{"$f":"IF($A3323=O$3,AND($A3323=O$3,$D3323<0),0)","v":0},0,0,0,0,0,0,0,{"$f":"IF($A3323=W$3,AND($A3323=W$3,$D3323<0),0)","v":0},0,{"$f":"IF($A3323=Y$3,AND($A3323=Y$3,$D3323<0),0)","v":0},0,{"$f":"IF($A3323=AA$3,AND($A3323=AA$3,$D3323<0),0)","v":0},0,{"$f":"IF($A3323=AC$3,AND($A3323=AC$3,$D3323<0),0)","v":0},0,0]
[{"$f":"IF(B3324=0,\"\",MONTH(B3324))","v":""},null,null,null,{"$f":"IF(D3324=\"\",\"\",IF(D3324<0,\"DEBITO\",\"CREDITO\"))","v":""},null,false,false,0,{"$f":"IF($A3324=I$3,AND($A3324=I$3,$D3324<0),0)","v":0},0,{"$f":"IF($A3324=K$3,AND($A3324=K$3,$D3324<0),0)","v":0},0,{"$f":"IF($A3324=M$3,AND($A3324=M$3,$D3324<0),0)","v":0},0,{"$f":"IF($A3324=O$3,AND($A3324=O$3,$D3324<0),0)","v":0},0,0,0,0,0,0,0,{"$f":"IF($A3324=W$3,AND($A3324=W$3,$D3324<0),0)","v":0},0,{"$f":"IF($A3324=Y$3,AND($A3324=Y$3,$D3324<0),0)","v":0},0,{"$f":"IF($A3324=AA$3,AND($A3324=AA$3,$D3324<0),0)","v":0},0,{"$f":"IF($A3324=AC$3,AND($A3324=AC$3,$D3324<0),0)","v":0},0,0]
[{"$f":"IF(B3325=0,\"\",MONTH(B3325))","v":""},null,null,null,{"$f":"IF(D3325=\"\",\"\",IF(D3325<0,\"DEBITO\",\"CREDITO\"))","v":""},null,false,false,0,{"$f":"IF($A3325=I$3,AND($A3325=I$3,$D3325<0),0)","v":0},0,{"$f":"IF($A3325=K$3,AND($A3325=K$3,$D3325<0),0)","v":0},0,{"$f":"IF($A3325=M$3,AND($A3325=M$3,$D3325<0),0)","v":0},0,{"$f":"IF($A3325=O$3,AND($A3325=O$3,$D3325<0),0)","v":0},0,0,0,0,0,0,0,{"$f":"IF($A3325=W$3,AND($A3325=W$3,$D3325<0),0)","v":0},0,{"$f":"IF($A3325=Y$3,AND($A3325=Y$3,$D3325<0),0)","v":0},0,{"$f":"IF($A3325=AA$3,AND($A3325=AA$3,$D3325<0),0)","v":0},0,{"$f":"IF($A3325=AC$3,AND($A3325=AC$3,$D3325<0),0)","v":0},0,0]
[{"$f":"IF(B3326=0,\"\",MONTH(B3326))","v":""},null,null,null,{"$f":"IF(D3326=\"\",\"\",IF(D3326<0,\"DEBITO\",\"CREDITO\"))","v":""},null,false,false,0,{"$f":"IF($A3326=I$3,AND($A3326=I$3,$D3326<0),0)","v":0},0,{"$f":"IF($A3326=K$3,AND($A3326=K$3,$D3326<0),0)","v":0},0,{"$f":"IF($A3326=M$3,AND($A3326=M$3,$D3326<0),0)","v":0},0,{"$f":"IF($A3326=O$3,AND($A3326=O$3,$D3326<0),0)","v":0},0,0,0,0,0,0,0,{"$f":"IF($A3326=W$3,AND($A3326=W$3,$D3326<0),0)","v":0},0,{"$f":"IF($A3326=Y$3,AND($A3326=Y$3,$D3326<0),0)","v":0},0,{"$f":"IF($A3326=AA$3,AND($A3326=AA$3,$D3326<0),0)","v":0},0,{"$f":"IF($A3326=AC$3,AND($A3326=AC$3,$D3326<0),0)","v":0},0,0]
[{"$f":"IF(B3327=0,\"\",MONTH(B3327))","v":""},null,null,null,{"$f":"IF(D3327=\"\",\"\",IF(D3327<0,\"DEBITO\",\"CREDITO\"))","v":""},null,false,false,0,{"$f":"IF($A3327=I$3,AND($A3327=I$3,$D3327<0),0)","v":0},0,{"$f":"IF($A3327=K$3,AND($A3327=K$3,$D3327<0),0)","v":0},0,{"$f":"IF($A3327=M$3,AND($A3327=M$3,$D3327<0),0)","v":0},0,{"$f":"IF($A3327=O$3,AND($A3327=O$3,$D3327<0),0)","v":0},0,0,0,0,0,0,0,{"$f":"IF($A3327=W$3,AND($A3327=W$3,$D3327<0),0)","v":0},0,{"$f":"IF($A3327=Y$3,AND($A3327=Y$3,$D3327<0),0)","v":0},0,{"$f":"IF($A3327=AA$3,AND($A3327=AA$3,$D3327<0),0)","v":0},0,{"$f":"IF($A3327=AC$3,AND($A3327=AC$3,$D3327<0),0)","v":0},0,0]
[{"$f":"IF(B3328=0,\"\",MONTH(B3328))","v":""},null,null,null,{"$f":"IF(D3328=\"\",\"\",IF(D3328<0,\"DEBITO\",\"CREDITO\"))","v":""},null,false,false,0,{"$f":"IF($A3328=I$3,AND($A3328=I$3,$D3328<0),0)","v":0},0,{"$f":"IF($A3328=K$3,AND($A3328=K$3,$D3328<0),0)","v":0},0,{"$f":"IF($A3328=M$3,AND($A3328=M$3,$D3328<0),0)","v":0},0,{"$f":"IF($A3328=O$3,AND($A3328=O$3,$D3328<0),0)","v":0},0,0,0,0,0,0,0,{"$f":"IF($A3328=W$3,AND($A3328=W$3,$D3328<0),0)","v":0},0,{"$f":"IF($A3328=Y$3,AND($A3328=Y$3,$D3328<0),0)","v":0},0,{"$f":"IF($A3328=AA$3,AND($A3328=AA$3,$D3328<0),0)","v":0},0,{"$f":"IF($A3328=AC$3,AND($A3328=AC$3,$D3328<0),0)","v":0},0,0]
[{"$f":"IF(B3329=0,\"\",MONTH(B3329))","v":""},null,null,null,{"$f":"IF(D3329=\"\",\"\",IF(D3329<0,\"DEBITO\",\"CREDITO\"))","v":""},null,false,false,0,{"$f":"IF($A3329=I$3,AND($A3329=I$3,$D3329<0),0)","v":0},0,{"$f":"IF($A3329=K$3,AND($A3329=K$3,$D3329<0),0)","v":0},0,{"$f":"IF($A3329=M$3,AND($A3329=M$3,$D3329<0),0)","v":0},0,{"$f":"IF($A3329=O$3,AND($A3329=O$3,$D3329<0),0)","v":0},0,0,0,0,0,0,0,{"$f":"IF($A3329=W$3,AND($A3329=W$3,$D3329<0),0)","v":0},0,{"$f":"IF($A3329=Y$3,AND($A3329=Y$3,$D3329<0),0)","v":0},0,{"$f":"IF($A3329=AA$3,AND($A3329=AA$3,$D3329<0),0)","v":0},0,{"$f":"IF($A3329=AC$3,AND($A3329=AC$3,$D3329<0),0)","v":0},0,0]
[{"$f":"IF(B3330=0,\"\",MONTH(B3330))","v":""},null,null,null,{"$f":"IF(D3330=\"\",\"\",IF(D3330<0,\"DEBITO\",\"CREDITO\"))","v":""},null,false,false,0,{"$f":"IF($A3330=I$3,AND($A3330=I$3,$D3330<0),0)","v":0},0,{"$f":"IF($A3330=K$3,AND($A3330=K$3,$D3330<0),0)","v":0},0,{"$f":"IF($A3330=M$3,AND($A3330=M$3,$D3330<0),0)","v":0},0,{"$f":"IF($A3330=O$3,AND($A3330=O$3,$D3330<0),0)","v":0},0,0,0,0,0,0,0,{"$f":"IF($A3330=W$3,AND($A3330=W$3,$D3330<0),0)","v":0},0,{"$f":"IF($A3330=Y$3,AND($A3330=Y$3,$D3330<0),0)","v":0},0,{"$f":"IF($A3330=AA$3,AND($A3330=AA$3,$D3330<0),0)","v":0},0,{"$f":"IF($A3330=AC$3,AND($A3330=AC$3,$D3330<0),0)","v":0},0,0]
[{"$f":"IF(B3331=0,\"\",MONTH(B3331))","v":""},null,null,null,{"$f":"IF(D3331=\"\",\"\",IF(D3331<0,\"DEBITO\",\"CREDITO\"))","v":""},null,false,false,0,{"$f":"IF($A3331=I$3,AND($A3331=I$3,$D3331<0),0)","v":0},0,{"$f":"IF($A3331=K$3,AND($A3331=K$3,$D3331<0),0)","v":0},0,{"$f":"IF($A3331=M$3,AND($A3331=M$3,$D3331<0),0)","v":0},0,{"$f":"IF($A3331=O$3,AND($A3331=O$3,$D3331<0),0)","v":0},0,0,0,0,0,0,0,{"$f":"IF($A3331=W$3,AND($A3331=W$3,$D3331<0),0)","v":0},0,{"$f":"IF($A3331=Y$3,AND($A3331=Y$3,$D3331<0),0)","v":0},0,{"$f":"IF($A3331=AA$3,AND($A3331=AA$3,$D3331<0),0)","v":0},0,{"$f":"IF($A3331=AC$3,AND($A3331=AC$3,$D3331<0),0)","v":0},0,0]
[{"$f":"IF(B3332=0,\"\",MONTH(B3332))","v":""},null,null,null,{"$f":"IF(D3332=\"\",\"\",IF(D3332<0,\"DEBITO\",\"CREDITO\"))","v":""},null,false,false,0,{"$f":"IF($A3332=I$3,AND($A3332=I$3,$D3332<0),0)","v":0},0,{"$f":"IF($A3332=K$3,AND($A3332=K$3,$D3332<0),0)","v":0},0,{"$f":"IF($A3332=M$3,AND($A3332=M$3,$D3332<0),0)","v":0},0,{"$f":"IF($A3332=O$3,AND($A3332=O$3,$D3332<0),0)","v":0},0,0,0,0,0,0,0,{"$f":"IF($A3332=W$3,AND($A3332=W$3,$D3332<0),0)","v":0},0,{"$f":"IF($A3332=Y$3,AND($A3332=Y$3,$D3332<0),0)","v":0},0,{"$f":"IF($A3332=AA$3,AND($A3332=AA$3,$D3332<0),0)","v":0},0,{"$f":"IF($A3332=AC$3,AND($A3332=AC$3,$D3332<0),0)","v":0},0,0]
[{"$f":"IF(B3333=0,\"\",MONTH(B3333))","v":""},null,null,null,{"$f":"IF(D3333=\"\",\"\",IF(D3333<0,\"DEBITO\",\"CREDITO\"))","v":""},null,false,false,0,{"$f":"IF($A3333=I$3,AND($A3333=I$3,$D3333<0),0)","v":0},0,{"$f":"IF($A3333=K$3,AND($A3333=K$3,$D3333<0),0)","v":0},0,{"$f":"IF($A3333=M$3,AND($A3333=M$3,$D3333<0),0)","v":0},0,{"$f":"IF($A3333=O$3,AND($A3333=O$3,$D3333<0),0)","v":0},0,0,0,0,0,0,0,{"$f":"IF($A3333=W$3,AND($A3333=W$3,$D3333<0),0)","v":0},0,{"$f":"IF($A3333=Y$3,AND($A3333=Y$3,$D3333<0),0)","v":0},0,{"$f":"IF($A3333=AA$3,AND($A3333=AA$3,$D3333<0),0)","v":0},0,{"$f":"IF($A3333=AC$3,AND($A3333=AC$3,$D3333<0),0)","v":0},0,0]
[{"$f":"IF(B3334=0,\"\",MONTH(B3334))","v":""},null,null,null,{"$f":"IF(D3334=\"\",\"\",IF(D3334<0,\"DEBITO\",\"CREDITO\"))","v":""},null,false,false,0,{"$f":"IF($A3334=I$3,AND($A3334=I$3,$D3334<0),0)","v":0},0,{"$f":"IF($A3334=K$3,AND($A3334=K$3,$D3334<0),0)","v":0},0,{"$f":"IF($A3334=M$3,AND($A3334=M$3,$D3334<0),0)","v":0},0,{"$f":"IF($A3334=O$3,AND($A3334=O$3,$D3334<0),0)","v":0},0,0,0,0,0,0,0,{"$f":"IF($A3334=W$3,AND($A3334=W$3,$D3334<0),0)","v":0},0,{"$f":"IF($A3334=Y$3,AND($A3334=Y$3,$D3334<0),0)","v":0},0,{"$f":"IF($A3334=AA$3,AND($A3334=AA$3,$D3334<0),0)","v":0},0,{"$f":"IF($A3334=AC$3,AND($A3334=AC$3,$D3334<0),0)","v":0},0,0]
[{"$f":"IF(B3335=0,\"\",MONTH(B3335))","v":""},null,null,null,{"$f":"IF(D3335=\"\",\"\",IF(D3335<0,\"DEBITO\",\"CREDITO\"))","v":""},null,false,false,0,{"$f":"IF($A3335=I$3,AND($A3335=I$3,$D3335<0),0)","v":0},0,{"$f":"IF($A3335=K$3,AND($A3335=K$3,$D3335<0),0)","v":0},0,{"$f":"IF($A3335=M$3,AND($A3335=M$3,$D3335<0),0)","v":0},0,{"$f":"IF($A3335=O$3,AND($A3335=O$3,$D3335<0),0)","v":0},0,0,0,0,0,0,0,{"$f":"IF($A3335=W$3,AND($A3335=W$3,$D3335<0),0)","v":0},0,{"$f":"IF($A3335=Y$3,AND($A3335=Y$3,$D3335<0),0)","v":0},0,{"$f":"IF($A3335=AA$3,AND($A3335=AA$3,$D3335<0),0)","v":0},0,{"$f":"IF($A3335=AC$3,AND($A3335=AC$3,$D3335<0),0)","v":0},0,0]
[{"$f":"IF(B3336=0,\"\",MONTH(B3336))","v":""},null,null,null,{"$f":"IF(D3336=\"\",\"\",IF(D3336<0,\"DEBITO\",\"CREDITO\"))","v":""},null,false,false,0,{"$f":"IF($A3336=I$3,AND($A3336=I$3,$D3336<0),0)","v":0},0,{"$f":"IF($A3336=K$3,AND($A3336=K$3,$D3336<0),0)","v":0},0,{"$f":"IF($A3336=M$3,AND($A3336=M$3,$D3336<0),0)","v":0},0,{"$f":"IF($A3336=O$3,AND($A3336=O$3,$D3336<0),0)","v":0},0,0,0,0,0,0,0,{"$f":"IF($A3336=W$3,AND($A3336=W$3,$D3336<0),0)","v":0},0,{"$f":"IF($A3336=Y$3,AND($A3336=Y$3,$D3336<0),0)","v":0},0,{"$f":"IF($A3336=AA$3,AND($A3336=AA$3,$D3336<0),0)","v":0},0,{"$f":"IF($A3336=AC$3,AND($A3336=AC$3,$D3336<0),0)","v":0},0,0]
[{"$f":"IF(B3337=0,\"\",MONTH(B3337))","v":""},null,null,null,{"$f":"IF(D3337=\"\",\"\",IF(D3337<0,\"DEBITO\",\"CREDITO\"))","v":""},null,{"$f":"AND(A3337=$E$3,D3337>0)","v":false},{"$f":"AND(A3337=$E$3,D3337<0)","v":false},0,{"$f":"IF($A3337=I$3,AND($A3337=I$3,$D3337<0),0)","v":0},0,{"$f":"IF($A3337=K$3,AND($A3337=K$3,$D3337<0),0)","v":0},0,{"$f":"IF($A3337=M$3,AND($A3337=M$3,$D3337<0),0)","v":0},0,{"$f":"IF($A3337=O$3,AND($A3337=O$3,$D3337<0),0)","v":0},0,{"$f":"IF($A3337=Q$3,AND($A3337=Q$3,$D3337<0),0)","v":0},0,0,0,0,0,{"$f":"IF($A3337=W$3,AND($A3337=W$3,$D3337<0),0)","v":0},0,{"$f":"IF($A3337=Y$3,AND($A3337=Y$3,$D3337<0),0)","v":0},0,{"$f":"IF($A3337=AA$3,AND($A3337=AA$3,$D3337<0),0)","v":0},0,{"$f":"IF($A3337=AC$3,AND($A3337=AC$3,$D3337<0),0)","v":0},0,{"$f":"IF($A3337=AE$3,AND($A3337=AE$3,$D3337<0),0)","v":0}]
[{"$f":"IF(B3338=0,\"\",MONTH(B3338))","v":""},null,null,null,{"$f":"IF(D3338=\"\",\"\",IF(D3338<0,\"DEBITO\",\"CREDITO\"))","v":""},null,false,false,0,{"$f":"IF($A3338=I$3,AND($A3338=I$3,$D3338<0),0)","v":0},0,{"$f":"IF($A3338=K$3,AND($A3338=K$3,$D3338<0),0)","v":0},0,{"$f":"IF($A3338=M$3,AND($A3338=M$3,$D3338<0),0)","v":0},0,{"$f":"IF($A3338=O$3,AND($A3338=O$3,$D3338<0),0)","v":0},0,0,{"$f":"IF($A3338=S$3,AND($A3338=S$3,$D3338>0),0)","v":0},{"$f":"IF($A3338=S$3,AND($A3338=S$3,$D3338<0),0)","v":0},{"$f":"IF($A3338=U$3,AND($A3338=U$3,$D3338>0),0)","v":0},{"$f":"IF($A3338=U$3,AND($A3338=U$3,$D3338<0),0)","v":0},0,{"$f":"IF($A3338=W$3,AND($A3338=W$3,$D3338<0),0)","v":0},0,{"$f":"IF($A3338=Y$3,AND($A3338=Y$3,$D3338<0),0)","v":0},0,{"$f":"IF($A3338=AA$3,AND($A3338=AA$3,$D3338<0),0)","v":0},0,{"$f":"IF($A3338=AC$3,AND($A3338=AC$3,$D3338<0),0)","v":0},0,0]
[{"$f":"IF(B3339=0,\"\",MONTH(B3339))","v":""},null,null,null,{"$f":"IF(D3339=\"\",\"\",IF(D3339<0,\"DEBITO\",\"CREDITO\"))","v":""},null,false,false,0,{"$f":"IF($A3339=I$3,AND($A3339=I$3,$D3339<0),0)","v":0},0,{"$f":"IF($A3339=K$3,AND($A3339=K$3,$D3339<0),0)","v":0},0,{"$f":"IF($A3339=M$3,AND($A3339=M$3,$D3339<0),0)","v":0},0,{"$f":"IF($A3339=O$3,AND($A3339=O$3,$D3339<0),0)","v":0},0,0,0,0,0,0,0,{"$f":"IF($A3339=W$3,AND($A3339=W$3,$D3339<0),0)","v":0},0,{"$f":"IF($A3339=Y$3,AND($A3339=Y$3,$D3339<0),0)","v":0},0,{"$f":"IF($A3339=AA$3,AND($A3339=AA$3,$D3339<0),0)","v":0},0,{"$f":"IF($A3339=AC$3,AND($A3339=AC$3,$D3339<0),0)","v":0},0,0]
[{"$f":"IF(B3340=0,\"\",MONTH(B3340))","v":""},null,null,null,{"$f":"IF(D3340=\"\",\"\",IF(D3340<0,\"DEBITO\",\"CREDITO\"))","v":""},null,false,false,0,{"$f":"IF($A3340=I$3,AND($A3340=I$3,$D3340<0),0)","v":0},0,{"$f":"IF($A3340=K$3,AND($A3340=K$3,$D3340<0),0)","v":0},0,{"$f":"IF($A3340=M$3,AND($A3340=M$3,$D3340<0),0)","v":0},0,{"$f":"IF($A3340=O$3,AND($A3340=O$3,$D3340<0),0)","v":0},0,0,0,0,0,0,0,{"$f":"IF($A3340=W$3,AND($A3340=W$3,$D3340<0),0)","v":0},0,{"$f":"IF($A3340=Y$3,AND($A3340=Y$3,$D3340<0),0)","v":0},0,{"$f":"IF($A3340=AA$3,AND($A3340=AA$3,$D3340<0),0)","v":0},0,{"$f":"IF($A3340=AC$3,AND($A3340=AC$3,$D3340<0),0)","v":0},0,0]
[{"$f":"IF(B3341=0,\"\",MONTH(B3341))","v":""},null,null,null,{"$f":"IF(D3341=\"\",\"\",IF(D3341<0,\"DEBITO\",\"CREDITO\"))","v":""},null,false,false,0,{"$f":"IF($A3341=I$3,AND($A3341=I$3,$D3341<0),0)","v":0},0,{"$f":"IF($A3341=K$3,AND($A3341=K$3,$D3341<0),0)","v":0},0,{"$f":"IF($A3341=M$3,AND($A3341=M$3,$D3341<0),0)","v":0},0,{"$f":"IF($A3341=O$3,AND($A3341=O$3,$D3341<0),0)","v":0},0,0,0,0,0,0,0,{"$f":"IF($A3341=W$3,AND($A3341=W$3,$D3341<0),0)","v":0},0,{"$f":"IF($A3341=Y$3,AND($A3341=Y$3,$D3341<0),0)","v":0},0,{"$f":"IF($A3341=AA$3,AND($A3341=AA$3,$D3341<0),0)","v":0},0,{"$f":"IF($A3341=AC$3,AND($A3341=AC$3,$D3341<0),0)","v":0},0,0]
[{"$f":"IF(B3342=0,\"\",MONTH(B3342))","v":""},null,null,null,{"$f":"IF(D3342=\"\",\"\",IF(D3342<0,\"DEBITO\",\"CREDITO\"))","v":""},null,false,false,0,{"$f":"IF($A3342=I$3,AND($A3342=I$3,$D3342<0),0)","v":0},0,{"$f":"IF($A3342=K$3,AND($A3342=K$3,$D3342<0),0)","v":0},0,{"$f":"IF($A3342=M$3,AND($A3342=M$3,$D3342<0),0)","v":0},0,{"$f":"IF($A3342=O$3,AND($A3342=O$3,$D3342<0),0)","v":0},0,0,0,0,0,0,0,{"$f":"IF($A3342=W$3,AND($A3342=W$3,$D3342<0),0)","v":0},0,{"$f":"IF($A3342=Y$3,AND($A3342=Y$3,$D3342<0),0)","v":0},0,{"$f":"IF($A3342=AA$3,AND($A3342=AA$3,$D3342<0),0)","v":0},0,{"$f":"IF($A3342=AC$3,AND($A3342=AC$3,$D3342<0),0)","v":0},0,0]
[{"$f":"IF(B3343=0,\"\",MONTH(B3343))","v":""},null,null,null,{"$f":"IF(D3343=\"\",\"\",IF(D3343<0,\"DEBITO\",\"CREDITO\"))","v":""},null,false,false,0,{"$f":"IF($A3343=I$3,AND($A3343=I$3,$D3343<0),0)","v":0},0,{"$f":"IF($A3343=K$3,AND($A3343=K$3,$D3343<0),0)","v":0},0,{"$f":"IF($A3343=M$3,AND($A3343=M$3,$D3343<0),0)","v":0},0,{"$f":"IF($A3343=O$3,AND($A3343=O$3,$D3343<0),0)","v":0},0,0,0,0,0,0,0,{"$f":"IF($A3343=W$3,AND($A3343=W$3,$D3343<0),0)","v":0},0,{"$f":"IF($A3343=Y$3,AND($A3343=Y$3,$D3343<0),0)","v":0},0,{"$f":"IF($A3343=AA$3,AND($A3343=AA$3,$D3343<0),0)","v":0},0,{"$f":"IF($A3343=AC$3,AND($A3343=AC$3,$D3343<0),0)","v":0},0,0]
[{"$f":"IF(B3344=0,\"\",MONTH(B3344))","v":""},null,null,null,{"$f":"IF(D3344=\"\",\"\",IF(D3344<0,\"DEBITO\",\"CREDITO\"))","v":""},null,false,false,0,{"$f":"IF($A3344=I$3,AND($A3344=I$3,$D3344<0),0)","v":0},0,{"$f":"IF($A3344=K$3,AND($A3344=K$3,$D3344<0),0)","v":0},0,{"$f":"IF($A3344=M$3,AND($A3344=M$3,$D3344<0),0)","v":0},0,{"$f":"IF($A3344=O$3,AND($A3344=O$3,$D3344<0),0)","v":0},0,0,0,0,0,0,0,{"$f":"IF($A3344=W$3,AND($A3344=W$3,$D3344<0),0)","v":0},0,{"$f":"IF($A3344=Y$3,AND($A3344=Y$3,$D3344<0),0)","v":0},0,{"$f":"IF($A3344=AA$3,AND($A3344=AA$3,$D3344<0),0)","v":0},0,{"$f":"IF($A3344=AC$3,AND($A3344=AC$3,$D3344<0),0)","v":0},0,0]
[{"$f":"IF(B3345=0,\"\",MONTH(B3345))","v":""},null,null,null,{"$f":"IF(D3345=\"\",\"\",IF(D3345<0,\"DEBITO\",\"CREDITO\"))","v":""},null,false,false,0,{"$f":"IF($A3345=I$3,AND($A3345=I$3,$D3345<0),0)","v":0},0,{"$f":"IF($A3345=K$3,AND($A3345=K$3,$D3345<0),0)","v":0},0,{"$f":"IF($A3345=M$3,AND($A3345=M$3,$D3345<0),0)","v":0},0,{"$f":"IF($A3345=O$3,AND($A3345=O$3,$D3345<0),0)","v":0},0,0,0,0,0,0,0,{"$f":"IF($A3345=W$3,AND($A3345=W$3,$D3345<0),0)","v":0},0,{"$f":"IF($A3345=Y$3,AND($A3345=Y$3,$D3345<0),0)","v":0},0,{"$f":"IF($A3345=AA$3,AND($A3345=AA$3,$D3345<0),0)","v":0},0,{"$f":"IF($A3345=AC$3,AND($A3345=AC$3,$D3345<0),0)","v":0},0,0]
[{"$f":"IF(B3346=0,\"\",MONTH(B3346))","v":""},null,null,null,{"$f":"IF(D3346=\"\",\"\",IF(D3346<0,\"DEBITO\",\"CREDITO\"))","v":""},null,false,false,0,{"$f":"IF($A3346=I$3,AND($A3346=I$3,$D3346<0),0)","v":0},0,{"$f":"IF($A3346=K$3,AND($A3346=K$3,$D3346<0),0)","v":0},0,{"$f":"IF($A3346=M$3,AND($A3346=M$3,$D3346<0),0)","v":0},0,{"$f":"IF($A3346=O$3,AND($A3346=O$3,$D3346<0),0)","v":0},0,0,0,0,0,0,0,{"$f":"IF($A3346=W$3,AND($A3346=W$3,$D3346<0),0)","v":0},0,{"$f":"IF($A3346=Y$3,AND($A3346=Y$3,$D3346<0),0)","v":0},0,{"$f":"IF($A3346=AA$3,AND($A3346=AA$3,$D3346<0),0)","v":0},0,{"$f":"IF($A3346=AC$3,AND($A3346=AC$3,$D3346<0),0)","v":0},0,0]

{"sheet":"CARTÃO1","index":1,"n_rows":300,"n_cols":18,"rows_kept":300,"cut":false,"hidden":false,"merged":[[0,0,0,4],[2,2,2,4],[2,6,2,17],[4,2,4,4],[6,5,299,5]]}
["LANÇAMENTOS DO CARTÃO DE CRÉDITO"]
[null,null,null,null,null,null,null,null,null,null,null,";=SE((MÊS($A8))<=G$5;SE((MÊS($A8)+$E8)>G$5;($D8/$E8);\"\");\"\")"]
[null,null,"LANÇAMENTOS",null,null,null,"MESES (TOTAIS)"]
[null,null,"DIA DE MELHOR COMPRA",10,null,null,{"$f":"SUM(G7:G30)","v":100},{"$f":"SUM(H7:H30)","v":100},{"$f":"SUM(I7:I300)","v":246.70999999999998},{"$f":"SUM(J7:J300)","v":216.7},{"$f":"SUM(K7:K300)","v":216.7},100,100,100,100,100,0,0]
[null,null,null,null,null,null,1,2,3,4,5,6,7,8,9,10,11,12]
["MÊS","DATA","DESCRIÇÃO","VALOR","PARC."]
[{"$f":"IF(B7=\"\",\"\",IF(DAY(B7)>=$D$4,IF(MONTH(B7)+1=13,1,MONTH(B7)+1),MONTH(B7)))","v":1},"2016-01-01","MI COM B2W",1000,10,null,{"$f":"IF((($A7))<=G$5,IF((($A7)+$E7)>G$5,($D7/$E7),\"\"),\"\")","v":100},100,100,100,100,100,100,100,100,100,"",""]
[3,"2016-03-01","ITAPUA CALÇADOS",30.01,1,null,"","",30.01,"","","","","","","","",""]
[3,"2016-03-01","CENTRO VISÃO",{"$f":"116.7*3","v":350.1},3,null,"","",116.7,116.7,116.7,"","","","","","",""]
["",null,null,null,null,null,"","","","","","","","","","","",""]
["",null,null,null,null,null,"","","","","","","","","","","",""]
["",null,null,null,null,null,"","","","","","","","","","","",""]
["",null,null,null,null,null,"","","","","","","","","","","",""]
["",null,null,null,null,null,"","","","","","","","","","","",""]
["",null,null,null,null,null,"","","","","","","","","","","",""]
["",null,null,null,null,null,"","","","","","","","","","","",""]
["",null,null,null,null,null,"","","","","","","","","","","",""]
["",null,null,null,null,null,"","","","","","","","","","","",""]
["",null,null,null,null,null,"","","","","","","","","","","",""]
["",null,null,null,null,null,"","","","","","","","","","","",""]
["",null,null,null,null,null,"","","","","","","","","","","",""]
["",null,null,null,null,null,"","","","","","","","","","","",""]
["",null,null,null,null,null,{"$f":"IF((($A23))<=G$5,IF((($A23)+$E23)>G$5,($D23/$E23),\"\"),\"\")","v":""},"","","","","","","","","","",""]
["",null,null,null,null,null,"","","","","","","","","","","",""]
["",null,null,null,null,null,"","","","","","","","","","","",""]
["",null,null,null,null,null,"","","","","","","","","","","",""]
["",null,null,null,null,null,"","","","","","","","","","","",""]
["",null,null,null,null,null,"","","","","","","","","","","",""]
["",null,null,null,null,null,"","","","","","","","","","","",""]
["",null,null,null,null,null,"","","","","","","","","","","",""]
["",null,null,null,null,null,"","","","","","","","","","","",""]
["",null,null,null,null,null,"","","","","","","","","","","",""]
["",null,null,null,null,null,"","","","","","","","","","","",""]
["",null,null,null,null,null,"","","","","","","","","","","",""]
["",null,null,null,null,null,"","","","","","","","","","","",""]
["",null,null,null,null,null,"","","","","","","","","","","",""]
["",null,null,null,null,null,"","","","","","","","","","","",""]
["",null,null,null,null,null,"","","","","","","","","","","",""]
["",null,null,null,null,null,{"$f":"IF((($A39))<=G$5,IF((($A39)+$E39)>G$5,($D39/$E39),\"\"),\"\")","v":""},"","","","","","","","","","",""]
["",null,null,null,null,null,"","","","","","","","","","","",""]
["",null,null,null,null,null,"","","","","","","","","","","",""]
["",null,null,null,null,null,"","","","","","","","","","","",""]
["",null,null,null,null,null,"","","","","","","","","","","",""]
["",null,null,null,null,null,"","","","","","","","","","","",""]
["",null,null,null,null,null,"","","","","","","","","","","",""]
["",null,null,null,null,null,"","","","","","","","","","","",""]
["",null,null,null,null,null,"","","","","","","","","","","",""]
["",null,null,null,null,null,"","","","","","","","","","","",""]
["",null,null,null,null,null,"","","","","","","","","","","",""]
["",null,null,null,null,null,"","","","","","","","","","","",""]
["",null,null,null,null,null,"","","","","","","","","","","",""]
["",null,null,null,null,null,"","","","","","","","","","","",""]
["",null,null,null,null,null,"","","","","","","","","","","",""]
["",null,null,null,null,null,"","","","","","","","","","","",""]
["",null,null,null,null,null,{"$f":"IF((($A55))<=G$5,IF((($A55)+$E55)>G$5,($D55/$E55),\"\"),\"\")","v":""},"","","","","","","","","","",""]
["",null,null,null,null,null,"","","","","","","","","","","",""]
["",null,null,null,null,null,"","","","","","","","","","","",""]
["",null,null,null,null,null,"","","","","","","","","","","",""]
["",null,null,null,null,null,"","","","","","","","","","","",""]
["",null,null,null,null,null,"","","","","","","","","","","",""]
["",null,null,null,null,null,"","","","","","","","","","","",""]
["",null,null,null,null,null,"","","","","","","","","","","",""]
["",null,null,null,null,null,"","","","","","","","","","","",""]
["",null,null,null,null,null,"","","","","","","","","","","",""]
["",null,null,null,null,null,"","","","","","","","","","","",""]
["",null,null,null,null,null,"","","","","","","","","","","",""]
["",null,null,null,null,null,"","","","","","","","","","","",""]
["",null,null,null,null,null,"","","","","","","","","","","",""]
["",null,null,null,null,null,"","","","","","","","","","","",""]
["",null,null,null,null,null,"","","","","","","","","","","",""]
["",null,null,null,null,null,{"$f":"IF((($A71))<=G$5,IF((($A71)+$E71)>G$5,($D71/$E71),\"\"),\"\")","v":""},"","","","","","","","","","",""]
["",null,null,null,null,null,"","","","","","","","","","","",""]
["",null,null,null,null,null,"","","","","","","","","","","",""]
[{"$f":"IF(B74=\"\",\"\",IF(DAY(B74)>=$D$4,IF(MONTH(B74)+1=13,1,MONTH(B74)+1),MONTH(B74)))","v":""},null,null,null,null,null,"","","","","","","","","","","",""]
["",null,null,null,null,null,"","","","","","","","","","","",""]
["",null,null,null,null,null,"","","","","","","","","","","",""]
["",null,null,null,null,null,"","","","","","","","","","","",""]
["",null,null,null,null,null,"","","","","","","","","","","",""]
["",null,null,null,null,null,"","","","","","","","","","","",""]
["",null,null,null,null,null,"","","","","","","","","","","",""]
["",null,null,null,null,null,"","","","","","","","","","","",""]
["",null,null,null,null,null,"","","","","","","","","","","",""]
["",null,null,null,null,null,"","","","","","","","","","","",""]
["",null,null,null,null,null,"","","","","","","","","","","",""]
["",null,null,null,null,null,"","","","","","","","","","","",""]
["",null,null,null,null,null,"","","","","","","","","","","",""]
["",null,null,null,null,null,{"$f":"IF((($A87))<=G$5,IF((($A87)+$E87)>G$5,($D87/$E87),\"\"),\"\")","v":""},"","","","","","","","","","",""]
["",null,null,null,null,null,"","","","","","","","","","","",""]
["",null,null,null,null,null,"","","","","","","","","","","",""]
["",null,null,null,null,null,"","","","","","","","","","","",""]
["",null,null,null,null,null,"","","","","","","","","","","",""]
["",null,null,null,null,null,"","","","","","","","","","","",""]
["",null,null,null,null,null,"","","","","","","","","","","",""]
["",null,null,null,null,null,"","","","","","","","","","","",""]
["",null,null,null,null,null,"","","","","","","","","","","",""]
["",null,null,null,null,null,"","","","","","","","","","","",""]
["",null,null,null,null,null,"","","","","","","","","","","",""]
["",null,null,null,null,null,"","","","","","","","","","","",""]
["",null,null,null,null,null,"","","","","","","","","","","",""]
["",null,null,null,null,null,"","","","","","","","","","","",""]
["",null,null,null,null,null,"","","","","","","","","","","",""]
["",null,null,null,null,null,"","","","","","","","","","","",""]
["",null,null,null,null,null,{"$f":"IF((($A103))<=G$5,IF((($A103)+$E103)>G$5,($D103/$E103),\"\"),\"\")","v":""},"","","","","","","","","","",""]
["",null,null,null,null,null,"","","","","","","","","","","",""]
["",null,null,null,null,null,"","","","","","","","","","","",""]
["",null,null,null,null,null,"","","","","","","","","","","",""]
["",null,null,null,null,null,"","","","","","","","","","","",""]
["",null,null,null,null,null,"","","","","","","","","","","",""]
["",null,null,null,null,null,"","","","","","","","","","","",""]
["",null,null,null,null,null,"","","","","","","","","","","",""]
["",null,null,null,null,null,"","","","","","","","","","","",""]
["",null,null,null,null,null,"","","","","","","","","","","",""]
["",null,null,null,null,null,"","","","","","","","","","","",""]
["",null,null,null,null,null,"","","","","","","","","","","",""]
["",null,null,null,null,null,"","","","","","","","","","","",""]
["",null,null,null,null,null,"","","","","","","","","","","",""]
["",null,null,null,null,null,"","","","","","","","","","","",""]
["",null,null,null,null,null,"","","","","","","","","","","",""]
["",null,null,null,null,null,{"$f":"IF((($A119))<=G$5,IF((($A119)+$E119)>G$5,($D119/$E119),\"\"),\"\")","v":""},"","","","","","","","","","",""]
["",null,null,null,null,null,"","","","","","","","","","","",""]
["",null,null,null,null,null,"","","","","","","","","","","",""]
["",null,null,null,null,null,"","","","","","","","","","","",""]
["",null,null,null,null,null,"","","","","","","","","","","",""]
["",null,null,null,null,null,"","","","","","","","","","","",""]
["",null,null,null,null,null,"","","","","","","","","","","",""]
["",null,null,null,null,null,"","","","","","","","","","","",""]
["",null,null,null,null,null,"","","","","","","","","","","",""]
["",null,null,null,null,null,"","","","","","","","","","","",""]
["",null,null,null,null,null,"","","","","","","","","","","",""]
["",null,null,null,null,null,"","","","","","","","","","","",""]
["",null,null,null,null,null,"","","","","","","","","","","",""]
["",null,null,null,null,null,"","","","","","","","","","","",""]
["",null,null,null,null,null,"","","","","","","","","","","",""]
["",null,null,null,null,null,"","","","","","","","","","","",""]
["",null,null,null,null,null,{"$f":"IF((($A135))<=G$5,IF((($A135)+$E135)>G$5,($D135/$E135),\"\"),\"\")","v":""},"","","","","","","","","","",""]
["",null,null,null,null,null,"","","","","","","","","","","",""]
["",null,null,null,null,null,"","","","","","","","","","","",""]
[{"$f":"IF(B138=\"\",\"\",IF(DAY(B138)>=$D$4,IF(MONTH(B138)+1=13,1,MONTH(B138)+1),MONTH(B138)))","v":""},null,null,null,null,null,"","","","","","","","","","","",""]
["",null,null,null,null,null,"","","","","","","","","","","",""]
["",null,null,null,null,null,"","","","","","","","","","","",""]
["",null,null,null,null,null,"","","","","","","","","","","",""]
["",null,null,null,null,null,"","","","","","","","","","","",""]
["",null,null,null,null,null,"","","","","","","","","","","",""]
["",null,null,null,null,null,"","","","","","","","","","","",""]
["",null,null,null,null,null,"","","","","","","","","","","",""]
["",null,null,null,null,null,"","","","","","","","","","","",""]
["",null,null,null,null,null,"","","","","","","","","","","",""]
["",null,null,null,null,null,"","","","","","","","","","","",""]
["",null,null,null,null,null,"","","","","","","","","","","",""]
["",null,null,null,null,null,"","","","","","","","","","","",""]
["",null,null,null,null,null,{"$f":"IF((($A151))<=G$5,IF((($A151)+$E151)>G$5,($D151/$E151),\"\"),\"\")","v":""},"","","","","","","","","","",""]
["",null,null,null,null,null,"","","","","","","","","","","",""]
["",null,null,null,null,null,"","","","","","","","","","","",""]
["",null,null,null,null,null,"","","","","","","","","","","",""]
["",null,null,null,null,null,"","","","","","","","","","","",""]
["",null,null,null,null,null,"","","","","","","","","","","",""]
["",null,null,null,null,null,"","","","","","","","","","","",""]
["",null,null,null,null,null,"","","","","","","","","","","",""]
["",null,null,null,null,null,"","","","","","","","","","","",""]
["",null,null,null,null,null,"","","","","","","","","","","",""]
["",null,null,null,null,null,"","","","","","","","","","","",""]
["",null,null,null,null,null,"","","","","","","","","","","",""]
["",null,null,null,null,null,"","","","","","","","","","","",""]
["",null,null,null,null,null,"","","","","","","","","","","",""]
["",null,null,null,null,null,"","","","","","","","","","","",""]
["",null,null,null,null,null,"","","","","","","","","","","",""]
["",null,null,null,null,null,{"$f":"IF((($A167))<=G$5,IF((($A167)+$E167)>G$5,($D167/$E167),\"\"),\"\")","v":""},"","","","","","","","","","",""]
["",null,null,null,null,null,"","","","","","","","","","","",""]
["",null,null,null,null,null,"","","","","","","","","","","",""]
["",null,null,null,null,null,"","","","","","","","","","","",""]
["",null,null,null,null,null,"","","","","","","","","","","",""]
["",null,null,null,null,null,"","","","","","","","","","","",""]
["",null,null,null,null,null,"","","","","","","","","","","",""]
["",null,null,null,null,null,"","","","","","","","","","","",""]
["",null,null,null,null,null,"","","","","","","","","","","",""]
["",null,null,null,null,null,"","","","","","","","","","","",""]
["",null,null,null,null,null,"","","","","","","","","","","",""]
["",null,null,null,null,null,"","","","","","","","","","","",""]
["",null,null,null,null,null,"","","","","","","","","","","",""]
["",null,null,null,null,null,"","","","","","","","","","","",""]
["",null,null,null,null,null,"","","","","","","","","","","",""]
["",null,null,null,null,null,"","","","","","","","","","","",""]
["",null,null,null,null,null,{"$f":"IF((($A183))<=G$5,IF((($A183)+$E183)>G$5,($D183/$E183),\"\"),\"\")","v":""},"","","","","","","","","","",""]
["",null,null,null,null,null,"","","","","","","","","","","",""]
["",null,null,null,null,null,"","","","","","","","","","","",""]
["",null,null,null,null,null,"","","","","","","","","","","",""]
["",null,null,null,null,null,"","","","","","","","","","","",""]
["",null,null,null,null,null,"","","","","","","","","","","",""]
["",null,null,null,null,null,"","","","","","","","","","","",""]
["",null,null,null,null,null,"","","","","","","","","","","",""]
["",null,null,null,null,null,"","","","","","","","","","","",""]
["",null,null,null,null,null,"","","","","","","","","","","",""]
["",null,null,null,null,null,"","","","","","","","","","","",""]
["",null,null,null,null,null,"","","","","","","","","","","",""]
["",null,null,null,null,null,"","","","","","","","","","","",""]
["",null,null,null,null,null,"","","","","","","","","","","",""]
["",null,null,null,null,null,"","","","","","","","","","","",""]
["",null,null,null,null,null,"","","","","","","","","","","",""]
["",null,null,null,null,null,{"$f":"IF((($A199))<=G$5,IF((($A199)+$E199)>G$5,($D199/$E199),\"\"),\"\")","v":""},"","","","","","","","","","",""]
["",null,null,null,null,null,"","","","","","","","","","","",""]
["",null,null,null,null,null,"","","","","","","","","","","",""]
[{"$f":"IF(B202=\"\",\"\",IF(DAY(B202)>=$D$4,IF(MONTH(B202)+1=13,1,MONTH(B202)+1),MONTH(B202)))","v":""},null,null,null,null,null,"","","","","","","","","","","",""]
["",null,null,null,null,null,"","","","","","","","","","","",""]
["",null,null,null,null,null,"","","","","","","","","","","",""]
["",null,null,null,null,null,"","","","","","","","","","","",""]
["",null,null,null,null,null,"","","","","","","","","","","",""]
["",null,null,null,null,null,"","","","","","","","","","","",""]
["",null,null,null,null,null,"","","","","","","","","","","",""]
["",null,null,null,null,null,"","","","","","","","","","","",""]
["",null,null,null,null,null,"","","","","","","","","","","",""]
["",null,null,null,null,null,"","","","","","","","","","","",""]
["",null,null,null,null,null,"","","","","","","","","","","",""]
["",null,null,null,null,null,"","","","","","","","","","","",""]
["",null,null,null,null,null,"","","","","","","","","","","",""]
["",null,null,null,null,null,{"$f":"IF((($A215))<=G$5,IF((($A215)+$E215)>G$5,($D215/$E215),\"\"),\"\")","v":""},"","","","","","","","","","",""]
["",null,null,null,null,null,"","","","","","","","","","","",""]
["",null,null,null,null,null,"","","","","","","","","","","",""]
["",null,null,null,null,null,"","","","","","","","","","","",""]
["",null,null,null,null,null,"","","","","","","","","","","",""]
["",null,null,null,null,null,"","","","","","","","","","","",""]
["",null,null,null,null,null,"","","","","","","","","","","",""]
["",null,null,null,null,null,"","","","","","","","","","","",""]
["",null,null,null,null,null,"","","","","","","","","","","",""]
["",null,null,null,null,null,"","","","","","","","","","","",""]
["",null,null,null,null,null,"","","","","","","","","","","",""]
["",null,null,null,null,null,"","","","","","","","","","","",""]
["",null,null,null,null,null,"","","","","","","","","","","",""]
["",null,null,null,null,null,"","","","","","","","","","","",""]
["",null,null,null,null,null,"","","","","","","","","","","",""]
["",null,null,null,null,null,"","","","","","","","","","","",""]
["",null,null,null,null,null,{"$f":"IF((($A231))<=G$5,IF((($A231)+$E231)>G$5,($D231/$E231),\"\"),\"\")","v":""},"","","","","","","","","","",""]
["",null,null,null,null,null,"","","","","","","","","","","",""]
["",null,null,null,null,null,"","","","","","","","","","","",""]
["",null,null,null,null,null,"","","","","","","","","","","",""]
["",null,null,null,null,null,"","","","","","","","","","","",""]
["",null,null,null,null,null,"","","","","","","","","","","",""]
["",null,null,null,null,null,"","","","","","","","","","","",""]
["",null,null,null,null,null,"","","","","","","","","","","",""]
["",null,null,null,null,null,"","","","","","","","","","","",""]
["",null,null,null,null,null,"","","","","","","","","","","",""]
["",null,null,null,null,null,"","","","","","","","","","","",""]
["",null,null,null,null,null,"","","","","","","","","","","",""]
["",null,null,null,null,null,"","","","","","","","","","","",""]
["",null,null,null,null,null,"","","","","","","","","","","",""]
["",null,null,null,null,null,"","","","","","","","","","","",""]
["",null,null,null,null,null,"","","","","","","","","","","",""]
["",null,null,null,null,null,{"$f":"IF((($A247))<=G$5,IF((($A247)+$E247)>G$5,($D247/$E247),\"\"),\"\")","v":""},"","","","","","","","","","",""]
["",null,null,null,null,null,"","","","","","","","","","","",""]
["",null,null,null,null,null,"","","","","","","","","","","",""]
["",null,null,null,null,null,"","","","","","","","","","","",""]
["",null,null,null,null,null,"","","","","","","","","","","",""]
["",null,null,null,null,null,"","","","","","","","","","","",""]
["",null,null,null,null,null,"","","","","","","","","","","",""]
["",null,null,null,null,null,"","","","","","","","","","","",""]
["",null,null,null,null,null,"","","","","","","","","","","",""]
["",null,null,null,null,null,"","","","","","","","","","","",""]
["",null,null,null,null,null,"","","","","","","","","","","",""]
["",null,null,null,null,null,"","","","","","","","","","","",""]
["",null,null,null,null,null,"","","","","","","","","","","",""]
["",null,null,null,null,null,"","","","","","","","","","","",""]
["",null,null,null,null,null,"","","","","","","","","","","",""]
["",null,null,null,null,null,"","","","","","","","","","","",""]
["",null,null,null,null,null,{"$f":"IF((($A263))<=G$5,IF((($A263)+$E263)>G$5,($D263/$E263),\"\"),\"\")","v":""},"","","","","","","","","","",""]
["",null,null,null,null,null,"","","","","","","","","","","",""]
["",null,null,null,null,null,"","","","","","","","","","","",""]
[{"$f":"IF(B266=\"\",\"\",IF(DAY(B266)>=$D$4,IF(MONTH(B266)+1=13,1,MONTH(B266)+1),MONTH(B266)))","v":""},null,null,null,null,null,"","","","","","","","","","","",""]
["",null,null,null,null,null,"","","","","","","","","","","",""]
["",null,null,null,null,null,"","","","","","","","","","","",""]
["",null,null,null,null,null,"","","","","","","","","","","",""]
["",null,null,null,null,null,"","","","","","","","","","","",""]
["",null,null,null,null,null,"","","","","","","","","","","",""]
["",null,null,null,null,null,"","","","","","","","","","","",""]
["",null,null,null,null,null,"","","","","","","","","","","",""]
["",null,null,null,null,null,"","","","","","","","","","","",""]
["",null,null,null,null,null,"","","","","","","","","","","",""]
["",null,null,null,null,null,"","","","","","","","","","","",""]
["",null,null,null,null,null,"","","","","","","","","","","",""]
["",null,null,null,null,null,"","","","","","","","","","","",""]
["",null,null,null,null,null,{"$f":"IF((($A279))<=G$5,IF((($A279)+$E279)>G$5,($D279/$E279),\"\"),\"\")","v":""},"","","","","","","","","","",""]
["",null,null,null,null,null,"","","","","","","","","","","",""]
["",null,null,null,null,null,"","","","","","","","","","","",""]
["",null,null,null,null,null,"","","","","","","","","","","",""]
["",null,null,null,null,null,"","","","","","","","","","","",""]
["",null,null,null,null,null,"","","","","","","","","","","",""]
["",null,null,null,null,null,"","","","","","","","","","","",""]
["",null,null,null,null,null,"","","","","","","","","","","",""]
["",null,null,null,null,null,"","","","","","","","","","","",""]
["",null,null,null,null,null,"","","","","","","","","","","",""]
["",null,null,null,null,null,"","","","","","","","","","","",""]
["",null,null,null,null,null,"","","","","","","","","","","",""]
["",null,null,null,null,null,"","","","","","","","","","","",""]
["",null,null,null,null,null,"","","","","","","","","","","",""]
["",null,null,null,null,null,"","","","","","","","","","","",""]
["",null,null,null,null,null,"","","","","","","","","","","",""]
["",null,null,null,null,null,{"$f":"IF((($A295))<=G$5,IF((($A295)+$E295)>G$5,($D295/$E295),\"\"),\"\")","v":""},"","","","","","","","","","",""]
["",null,null,null,null,null,"","","","","","","","","","","",""]
["",null,null,null,null,null,"","","","","","","","","","","",""]
["",null,null,null,null,null,"","","","","","","","","","","",""]
["",null,null,null,null,null,"","","","","","","","","","","",""]
["",null,null,null,null,null,"","","","","","","","","","","",""]

{"sheet":"Plan1","index":2,"n_rows":15,"n_cols":2,"rows_kept":15,"cut":false,"hidden":false,"merged":[]}
[]
[]
["Tipo","DEBITO"]
[]
["Rótulos de Linha","Soma de Movimentação"]
[1,-650]
["ALUGUEL",-400]
["CARTÃO",-100]
["FARMACIA",-150]
[2,-1720]
["ALUGUEL",-400]
["CARTÃO",-100]
["FARMACIA",-20]
["MERCADO",-1200]
["Total Geral",-2370]

{"sheet":"SOBRE","index":3,"n_rows":17,"n_cols":1,"rows_kept":17,"cut":false,"hidden":false,"merged":[]}
["Planilha de Controle Financeiro"]
[]
["Autor: Waldri dos Santos Oliveira"]
["Uso: Esta planilha é de uso pessoal, totalmente gratuito, e ilimitado, possui trechos proibidas de edição, para apenas proteger a sua integridade, sinta-se a vontade para editar, assumindo seu próprio risco de danificar ou perda de dados, não é oferecido nenhum tipo de suporte. Espero que seja muito útil no seu dia a dia. Obrigado."]
[]
["Caso necessite de outra cópia, ou atualização, visite:"]
["http://www.waldri.eng.br/"]
[]
["Ajuda"]
["Movimentos"]
["Onde são lançados os créditos e débitos (usando sinal negativo), apenas é preciso lançar data, descrição e valor. Possui dois gráficos um para previsçoes mês a mês, outra para acompanhamento dos tipos de lançamento, por mês ou mêses, assim saber a intensidade dos tipos de gastos. Possui vários filtros para falicitar a leitura. O Botão ORGANIZAR, organiza os lançamentos em data crescente, e SALVA automaticamente, o botão ATUALIZAR, atualiza os graficos."]
["Plan 1"]
["Planilha de formulas para gráficos"]
[]
["CARTÃO1"]
["Planilha para simulação de parcelamento e gastos com cartão de crédito, (ainda só é possível para um cartão). Deve escolher o melhor dia de compra (Fechamento da Fatura), lançar, data, descrição, valor e parcela. Esta planilha faz lançamentos automáticamente na ABA Movimentos"]
["IMPORTATNTE: HABILITE OS MARCOS EM SEU EXCEL"]